{"text_format":"1","workbook":"xlsx","n_sheets":4,"sheets":["MICASH","ExportSheet","ColumnWidths","Export"],"not_rendered":{"charts":0,"images":0,"macros":1,"external_links":0,"defined_names":0,"comments":0,"pivot_tables":0},"unopened":[],"bounds":{"document_bytes":16777216,"sheet_cells":100000,"rows_first":2000,"rows_last":500,"rows_between":2000,"halvings":0,"cell_chars":16384,"cell_head_chars":4096},"cells_cut":0,"cells_raw":0,"read":"whole","date_system":"1900"}

{"sheet":"MICASH","index":0,"n_rows":1,"n_cols":13,"rows_kept":1,"cut":false,"hidden":false,"merged":[]}
["Constant value = C","Bank Number","Filler - Zeroes","Account Number","Filler - Blanks","Transaction Type V=Void, R=Register","Action Indicator: A=Add ","Filler - Blanks","Check Serial Number","Check Amount","Date","User Information-Payee Name (Optional, if not using Payee Positive Pay)","Filler - Blanks"]

{"sheet":"ExportSheet","index":1,"n_rows":2000,"n_cols":12,"rows_kept":2000,"cut":false,"hidden":true,"merged":[]}
[]
["C",288,"00",{"$f":"TEXT(MICASH!D2,\"0000000000\")","v":"0000000000"}," ",{"$f":"UPPER(MICASH!F2)","v":""},{"$f":"UPPER(MICASH!G2)","v":""}," ",{"$f":"TEXT(MICASH!I2,\"0000000000\")","v":"0000000000"},{"$f":"TEXT(MICASH!J2*100,\"0000000000\")","v":"0000000000"},{"$f":"TEXT(MONTH(MICASH!K2),\"00\") & TEXT(DAY(MICASH!K2),\"00\") & RIGHT(TEXT(YEAR(MICASH!K2),\"00\"),2)","v":"010000"},{"$f":"UPPER(LEFT(MICASH!L2,96))","v":""}]
["C",288,"00",{"$f":"TEXT(MICASH!D3,\"0000000000\")","v":"0000000000"}," ",{"$f":"UPPER(MICASH!F3)","v":""},{"$f":"UPPER(MICASH!G3)","v":""}," ",{"$f":"TEXT(MICASH!I3,\"0000000000\")","v":"0000000000"},{"$f":"TEXT(MICASH!J3*100,\"0000000000\")","v":"0000000000"},{"$f":"TEXT(MONTH(MICASH!K3),\"00\") & TEXT(DAY(MICASH!K3),\"00\") & RIGHT(TEXT(YEAR(MICASH!K3),\"00\"),2)","v":"010000"},{"$f":"UPPER(LEFT(MICASH!L3,96))","v":""}]
["C",288,"00",{"$f":"TEXT(MICASH!D4,\"0000000000\")","v":"0000000000"}," ",{"$f":"UPPER(MICASH!F4)","v":""},{"$f":"UPPER(MICASH!G4)","v":""}," ",{"$f":"TEXT(MICASH!I4,\"0000000000\")","v":"0000000000"},{"$f":"TEXT(MICASH!J4*100,\"0000000000\")","v":"0000000000"},{"$f":"TEXT(MONTH(MICASH!K4),\"00\") & TEXT(DAY(MICASH!K4),\"00\") & RIGHT(TEXT(YEAR(MICASH!K4),\"00\"),2)","v":"010000"},{"$f":"UPPER(LEFT(MICASH!L4,96))","v":""}]
["C",288,"00",{"$f":"TEXT(MICASH!D5,\"0000000000\")","v":"0000000000"}," ",{"$f":"UPPER(MICASH!F5)","v":""},{"$f":"UPPER(MICASH!G5)","v":""}," ",{"$f":"TEXT(MICASH!I5,\"0000000000\")","v":"0000000000"},{"$f":"TEXT(MICASH!J5*100,\"0000000000\")","v":"0000000000"},{"$f":"TEXT(MONTH(MICASH!K5),\"00\") & TEXT(DAY(MICASH!K5),\"00\") & RIGHT(TEXT(YEAR(MICASH!K5),\"00\"),2)","v":"010000"},{"$f":"UPPER(LEFT(MICASH!L5,96))","v":""}]
["C",288,"00",{"$f":"TEXT(MICASH!D6,\"0000000000\")","v":"0000000000"}," ",{"$f":"UPPER(MICASH!F6)","v":""},{"$f":"UPPER(MICASH!G6)","v":""}," ",{"$f":"TEXT(MICASH!I6,\"0000000000\")","v":"0000000000"},{"$f":"TEXT(MICASH!J6*100,\"0000000000\")","v":"0000000000"},{"$f":"TEXT(MONTH(MICASH!K6),\"00\") & TEXT(DAY(MICASH!K6),\"00\") & RIGHT(TEXT(YEAR(MICASH!K6),\"00\"),2)","v":"010000"},{"$f":"UPPER(LEFT(MICASH!L6,96))","v":""}]
["C",288,"00",{"$f":"TEXT(MICASH!D7,\"0000000000\")","v":"0000000000"}," ",{"$f":"UPPER(MICASH!F7)","v":""},{"$f":"UPPER(MICASH!G7)","v":""}," ",{"$f":"TEXT(MICASH!I7,\"0000000000\")","v":"0000000000"},{"$f":"TEXT(MICASH!J7*100,\"0000000000\")","v":"0000000000"},{"$f":"TEXT(MONTH(MICASH!K7),\"00\") & TEXT(DAY(MICASH!K7),\"00\") & RIGHT(TEXT(YEAR(MICASH!K7),\"00\"),2)","v":"010000"},{"$f":"UPPER(LEFT(MICASH!L7,96))","v":""}]
["C",288,"00",{"$f":"TEXT(MICASH!D8,\"0000000000\")","v":"0000000000"}," ",{"$f":"UPPER(MICASH!F8)","v":""},{"$f":"UPPER(MICASH!G8)","v":""}," ",{"$f":"TEXT(MICASH!I8,\"0000000000\")","v":"0000000000"},{"$f":"TEXT(MICASH!J8*100,\"0000000000\")","v":"0000000000"},{"$f":"TEXT(MONTH(MICASH!K8),\"00\") & TEXT(DAY(MICASH!K8),\"00\") & RIGHT(TEXT(YEAR(MICASH!K8),\"00\"),2)","v":"010000"},{"$f":"UPPER(LEFT(MICASH!L8,96))","v":""}]
["C",288,"00",{"$f":"TEXT(MICASH!D9,\"0000000000\")","v":"0000000000"}," ",{"$f":"UPPER(MICASH!F9)","v":""},{"$f":"UPPER(MICASH!G9)","v":""}," ",{"$f":"TEXT(MICASH!I9,\"0000000000\")","v":"0000000000"},{"$f":"TEXT(MICASH!J9*100,\"0000000000\")","v":"0000000000"},{"$f":"TEXT(MONTH(MICASH!K9),\"00\") & TEXT(DAY(MICASH!K9),\"00\") & RIGHT(TEXT(YEAR(MICASH!K9),\"00\"),2)","v":"010000"},{"$f":"UPPER(LEFT(MICASH!L9,96))","v":""}]
["C",288,"00",{"$f":"TEXT(MICASH!D10,\"0000000000\")","v":"0000000000"}," ",{"$f":"UPPER(MICASH!F10)","v":""},{"$f":"UPPER(MICASH!G10)","v":""}," ",{"$f":"TEXT(MICASH!I10,\"0000000000\")","v":"0000000000"},{"$f":"TEXT(MICASH!J10*100,\"0000000000\")","v":"0000000000"},{"$f":"TEXT(MONTH(MICASH!K10),\"00\") & TEXT(DAY(MICASH!K10),\"00\") & RIGHT(TEXT(YEAR(MICASH!K10),\"00\"),2)","v":"010000"},{"$f":"UPPER(LEFT(MICASH!L10,96))","v":""}]
["C",288,"00",{"$f":"TEXT(MICASH!D11,\"0000000000\")","v":"0000000000"}," ",{"$f":"UPPER(MICASH!F11)","v":""},{"$f":"UPPER(MICASH!G11)","v":""}," ",{"$f":"TEXT(MICASH!I11,\"0000000000\")","v":"0000000000"},{"$f":"TEXT(MICASH!J11*100,\"0000000000\")","v":"0000000000"},{"$f":"TEXT(MONTH(MICASH!K11),\"00\") & TEXT(DAY(MICASH!K11),\"00\") & RIGHT(TEXT(YEAR(MICASH!K11),\"00\"),2)","v":"010000"},{"$f":"UPPER(LEFT(MICASH!L11,96))","v":""}]
["C",288,"00",{"$f":"TEXT(MICASH!D12,\"0000000000\")","v":"0000000000"}," ",{"$f":"UPPER(MICASH!F12)","v":""},{"$f":"UPPER(MICASH!G12)","v":""}," ",{"$f":"TEXT(MICASH!I12,\"0000000000\")","v":"0000000000"},{"$f":"TEXT(MICASH!J12*100,\"0000000000\")","v":"0000000000"},{"$f":"TEXT(MONTH(MICASH!K12),\"00\") & TEXT(DAY(MICASH!K12),\"00\") & RIGHT(TEXT(YEAR(MICASH!K12),\"00\"),2)","v":"010000"},{"$f":"UPPER(LEFT(MICASH!L12,96))","v":""}]
["C",288,"00",{"$f":"TEXT(MICASH!D13,\"0000000000\")","v":"0000000000"}," ",{"$f":"UPPER(MICASH!F13)","v":""},{"$f":"UPPER(MICASH!G13)","v":""}," ",{"$f":"TEXT(MICASH!I13,\"0000000000\")","v":"0000000000"},{"$f":"TEXT(MICASH!J13*100,\"0000000000\")","v":"0000000000"},{"$f":"TEXT(MONTH(MICASH!K13),\"00\") & TEXT(DAY(MICASH!K13),\"00\") & RIGHT(TEXT(YEAR(MICASH!K13),\"00\"),2)","v":"010000"},{"$f":"UPPER(LEFT(MICASH!L13,96))","v":""}]
["C",288,"00",{"$f":"TEXT(MICASH!D14,\"0000000000\")","v":"0000000000"}," ",{"$f":"UPPER(MICASH!F14)","v":""},{"$f":"UPPER(MICASH!G14)","v":""}," ",{"$f":"TEXT(MICASH!I14,\"0000000000\")","v":"0000000000"},{"$f":"TEXT(MICASH!J14*100,\"0000000000\")","v":"0000000000"},{"$f":"TEXT(MONTH(MICASH!K14),\"00\") & TEXT(DAY(MICASH!K14),\"00\") & RIGHT(TEXT(YEAR(MICASH!K14),\"00\"),2)","v":"010000"},{"$f":"UPPER(LEFT(MICASH!L14,96))","v":""}]
["C",288,"00",{"$f":"TEXT(MICASH!D15,\"0000000000\")","v":"0000000000"}," ",{"$f":"UPPER(MICASH!F15)","v":""},{"$f":"UPPER(MICASH!G15)","v":""}," ",{"$f":"TEXT(MICASH!I15,\"0000000000\")","v":"0000000000"},{"$f":"TEXT(MICASH!J15*100,\"0000000000\")","v":"0000000000"},{"$f":"TEXT(MONTH(MICASH!K15),\"00\") & TEXT(DAY(MICASH!K15),\"00\") & RIGHT(TEXT(YEAR(MICASH!K15),\"00\"),2)","v":"010000"},{"$f":"UPPER(LEFT(MICASH!L15,96))","v":""}]
["C",288,"00",{"$f":"TEXT(MICASH!D16,\"0000000000\")","v":"0000000000"}," ",{"$f":"UPPER(MICASH!F16)","v":""},{"$f":"UPPER(MICASH!G16)","v":""}," ",{"$f":"TEXT(MICASH!I16,\"0000000000\")","v":"0000000000"},{"$f":"TEXT(MICASH!J16*100,\"0000000000\")","v":"0000000000"},{"$f":"TEXT(MONTH(MICASH!K16),\"00\") & TEXT(DAY(MICASH!K16),\"00\") & RIGHT(TEXT(YEAR(MICASH!K16),\"00\"),2)","v":"010000"},{"$f":"UPPER(LEFT(MICASH!L16,96))","v":""}]
["C",288,"00",{"$f":"TEXT(MICASH!D17,\"0000000000\")","v":"0000000000"}," ",{"$f":"UPPER(MICASH!F17)","v":""},{"$f":"UPPER(MICASH!G17)","v":""}," ",{"$f":"TEXT(MICASH!I17,\"0000000000\")","v":"0000000000"},{"$f":"TEXT(MICASH!J17*100,\"0000000000\")","v":"0000000000"},{"$f":"TEXT(MONTH(MICASH!K17),\"00\") & TEXT(DAY(MICASH!K17),\"00\") & RIGHT(TEXT(YEAR(MICASH!K17),\"00\"),2)","v":"010000"},{"$f":"UPPER(LEFT(MICASH!L17,96))","v":""}]
["C",288,"00",{"$f":"TEXT(MICASH!D18,\"0000000000\")","v":"0000000000"}," ",{"$f":"UPPER(MICASH!F18)","v":""},{"$f":"UPPER(MICASH!G18)","v":""}," ",{"$f":"TEXT(MICASH!I18,\"0000000000\")","v":"0000000000"},{"$f":"TEXT(MICASH!J18*100,\"0000000000\")","v":"0000000000"},{"$f":"TEXT(MONTH(MICASH!K18),\"00\") & TEXT(DAY(MICASH!K18),\"00\") & RIGHT(TEXT(YEAR(MICASH!K18),\"00\"),2)","v":"010000"},{"$f":"UPPER(LEFT(MICASH!L18,96))","v":""}]
["C",288,"00",{"$f":"TEXT(MICASH!D19,\"0000000000\")","v":"0000000000"}," ",{"$f":"UPPER(MICASH!F19)","v":""},{"$f":"UPPER(MICASH!G19)","v":""}," ",{"$f":"TEXT(MICASH!I19,\"0000000000\")","v":"0000000000"},{"$f":"TEXT(MICASH!J19*100,\"0000000000\")","v":"0000000000"},{"$f":"TEXT(MONTH(MICASH!K19),\"00\") & TEXT(DAY(MICASH!K19),\"00\") & RIGHT(TEXT(YEAR(MICASH!K19),\"00\"),2)","v":"010000"},{"$f":"UPPER(LEFT(MICASH!L19,96))","v":""}]
["C",288,"00",{"$f":"TEXT(MICASH!D20,\"0000000000\")","v":"0000000000"}," ",{"$f":"UPPER(MICASH!F20)","v":""},{"$f":"UPPER(MICASH!G20)","v":""}," ",{"$f":"TEXT(MICASH!I20,\"0000000000\")","v":"0000000000"},{"$f":"TEXT(MICASH!J20*100,\"0000000000\")","v":"0000000000"},{"$f":"TEXT(MONTH(MICASH!K20),\"00\") & TEXT(DAY(MICASH!K20),\"00\") & RIGHT(TEXT(YEAR(MICASH!K20),\"00\"),2)","v":"010000"},{"$f":"UPPER(LEFT(MICASH!L20,96))","v":""}]
["C",288,"00",{"$f":"TEXT(MICASH!D21,\"0000000000\")","v":"0000000000"}," ",{"$f":"UPPER(MICASH!F21)","v":""},{"$f":"UPPER(MICASH!G21)","v":""}," ",{"$f":"TEXT(MICASH!I21,\"0000000000\")","v":"0000000000"},{"$f":"TEXT(MICASH!J21*100,\"0000000000\")","v":"0000000000"},{"$f":"TEXT(MONTH(MICASH!K21),\"00\") & TEXT(DAY(MICASH!K21),\"00\") & RIGHT(TEXT(YEAR(MICASH!K21),\"00\"),2)","v":"010000"},{"$f":"UPPER(LEFT(MICASH!L21,96))","v":""}]
["C",288,"00",{"$f":"TEXT(MICASH!D22,\"0000000000\")","v":"0000000000"}," ",{"$f":"UPPER(MICASH!F22)","v":""},{"$f":"UPPER(MICASH!G22)","v":""}," ",{"$f":"TEXT(MICASH!I22,\"0000000000\")","v":"0000000000"},{"$f":"TEXT(MICASH!J22*100,\"0000000000\")","v":"0000000000"},{"$f":"TEXT(MONTH(MICASH!K22),\"00\") & TEXT(DAY(MICASH!K22),\"00\") & RIGHT(TEXT(YEAR(MICASH!K22),\"00\"),2)","v":"010000"},{"$f":"UPPER(LEFT(MICASH!L22,96))","v":""}]
["C",288,"00",{"$f":"TEXT(MICASH!D23,\"0000000000\")","v":"0000000000"}," ",{"$f":"UPPER(MICASH!F23)","v":""},{"$f":"UPPER(MICASH!G23)","v":""}," ",{"$f":"TEXT(MICASH!I23,\"0000000000\")","v":"0000000000"},{"$f":"TEXT(MICASH!J23*100,\"0000000000\")","v":"0000000000"},{"$f":"TEXT(MONTH(MICASH!K23),\"00\") & TEXT(DAY(MICASH!K23),\"00\") & RIGHT(TEXT(YEAR(MICASH!K23),\"00\"),2)","v":"010000"},{"$f":"UPPER(LEFT(MICASH!L23,96))","v":""}]
["C",288,"00",{"$f":"TEXT(MICASH!D24,\"0000000000\")","v":"0000000000"}," ",{"$f":"UPPER(MICASH!F24)","v":""},{"$f":"UPPER(MICASH!G24)","v":""}," ",{"$f":"TEXT(MICASH!I24,\"0000000000\")","v":"0000000000"},{"$f":"TEXT(MICASH!J24*100,\"0000000000\")","v":"0000000000"},{"$f":"TEXT(MONTH(MICASH!K24),\"00\") & TEXT(DAY(MICASH!K24),\"00\") & RIGHT(TEXT(YEAR(MICASH!K24),\"00\"),2)","v":"010000"},{"$f":"UPPER(LEFT(MICASH!L24,96))","v":""}]
["C",288,"00",{"$f":"TEXT(MICASH!D25,\"0000000000\")","v":"0000000000"}," ",{"$f":"UPPER(MICASH!F25)","v":""},{"$f":"UPPER(MICASH!G25)","v":""}," ",{"$f":"TEXT(MICASH!I25,\"0000000000\")","v":"0000000000"},{"$f":"TEXT(MICASH!J25*100,\"0000000000\")","v":"0000000000"},{"$f":"TEXT(MONTH(MICASH!K25),\"00\") & TEXT(DAY(MICASH!K25),\"00\") & RIGHT(TEXT(YEAR(MICASH!K25),\"00\"),2)","v":"010000"},{"$f":"UPPER(LEFT(MICASH!L25,96))","v":""}]
["C",288,"00",{"$f":"TEXT(MICASH!D26,\"0000000000\")","v":"0000000000"}," ",{"$f":"UPPER(MICASH!F26)","v":""},{"$f":"UPPER(MICASH!G26)","v":""}," ",{"$f":"TEXT(MICASH!I26,\"0000000000\")","v":"0000000000"},{"$f":"TEXT(MICASH!J26*100,\"0000000000\")","v":"0000000000"},{"$f":"TEXT(MONTH(MICASH!K26),\"00\") & TEXT(DAY(MICASH!K26),\"00\") & RIGHT(TEXT(YEAR(MICASH!K26),\"00\"),2)","v":"010000"},{"$f":"UPPER(LEFT(MICASH!L26,96))","v":""}]
["C",288,"00",{"$f":"TEXT(MICASH!D27,\"0000000000\")","v":"0000000000"}," ",{"$f":"UPPER(MICASH!F27)","v":""},{"$f":"UPPER(MICASH!G27)","v":""}," ",{"$f":"TEXT(MICASH!I27,\"0000000000\")","v":"0000000000"},{"$f":"TEXT(MICASH!J27*100,\"0000000000\")","v":"0000000000"},{"$f":"TEXT(MONTH(MICASH!K27),\"00\") & TEXT(DAY(MICASH!K27),\"00\") & RIGHT(TEXT(YEAR(MICASH!K27),\"00\"),2)","v":"010000"},{"$f":"UPPER(LEFT(MICASH!L27,96))","v":""}]
["C",288,"00",{"$f":"TEXT(MICASH!D28,\"0000000000\")","v":"0000000000"}," ",{"$f":"UPPER(MICASH!F28)","v":""},{"$f":"UPPER(MICASH!G28)","v":""}," ",{"$f":"TEXT(MICASH!I28,\"0000000000\")","v":"0000000000"},{"$f":"TEXT(MICASH!J28*100,\"0000000000\")","v":"0000000000"},{"$f":"TEXT(MONTH(MICASH!K28),\"00\") & TEXT(DAY(MICASH!K28),\"00\") & RIGHT(TEXT(YEAR(MICASH!K28),\"00\"),2)","v":"010000"},{"$f":"UPPER(LEFT(MICASH!L28,96))","v":""}]
["C",288,"00",{"$f":"TEXT(MICASH!D29,\"0000000000\")","v":"0000000000"}," ",{"$f":"UPPER(MICASH!F29)","v":""},{"$f":"UPPER(MICASH!G29)","v":""}," ",{"$f":"TEXT(MICASH!I29,\"0000000000\")","v":"0000000000"},{"$f":"TEXT(MICASH!J29*100,\"0000000000\")","v":"0000000000"},{"$f":"TEXT(MONTH(MICASH!K29),\"00\") & TEXT(DAY(MICASH!K29),\"00\") & RIGHT(TEXT(YEAR(MICASH!K29),\"00\"),2)","v":"010000"},{"$f":"UPPER(LEFT(MICASH!L29,96))","v":""}]
["C",288,"00",{"$f":"TEXT(MICASH!D30,\"0000000000\")","v":"0000000000"}," ",{"$f":"UPPER(MICASH!F30)","v":""},{"$f":"UPPER(MICASH!G30)","v":""}," ",{"$f":"TEXT(MICASH!I30,\"0000000000\")","v":"0000000000"},{"$f":"TEXT(MICASH!J30*100,\"0000000000\")","v":"0000000000"},{"$f":"TEXT(MONTH(MICASH!K30),\"00\") & TEXT(DAY(MICASH!K30),\"00\") & RIGHT(TEXT(YEAR(MICASH!K30),\"00\"),2)","v":"010000"},{"$f":"UPPER(LEFT(MICASH!L30,96))","v":""}]
["C",288,"00",{"$f":"TEXT(MICASH!D31,\"0000000000\")","v":"0000000000"}," ",{"$f":"UPPER(MICASH!F31)","v":""},{"$f":"UPPER(MICASH!G31)","v":""}," ",{"$f":"TEXT(MICASH!I31,\"0000000000\")","v":"0000000000"},{"$f":"TEXT(MICASH!J31*100,\"0000000000\")","v":"0000000000"},{"$f":"TEXT(MONTH(MICASH!K31),\"00\") & TEXT(DAY(MICASH!K31),\"00\") & RIGHT(TEXT(YEAR(MICASH!K31),\"00\"),2)","v":"010000"},{"$f":"UPPER(LEFT(MICASH!L31,96))","v":""}]
["C",288,"00",{"$f":"TEXT(MICASH!D32,\"0000000000\")","v":"0000000000"}," ",{"$f":"UPPER(MICASH!F32)","v":""},{"$f":"UPPER(MICASH!G32)","v":""}," ",{"$f":"TEXT(MICASH!I32,\"0000000000\")","v":"0000000000"},{"$f":"TEXT(MICASH!J32*100,\"0000000000\")","v":"0000000000"},{"$f":"TEXT(MONTH(MICASH!K32),\"00\") & TEXT(DAY(MICASH!K32),\"00\") & RIGHT(TEXT(YEAR(MICASH!K32),\"00\"),2)","v":"010000"},{"$f":"UPPER(LEFT(MICASH!L32,96))","v":""}]
["C",288,"00",{"$f":"TEXT(MICASH!D33,\"0000000000\")","v":"0000000000"}," ",{"$f":"UPPER(MICASH!F33)","v":""},{"$f":"UPPER(MICASH!G33)","v":""}," ",{"$f":"TEXT(MICASH!I33,\"0000000000\")","v":"0000000000"},{"$f":"TEXT(MICASH!J33*100,\"0000000000\")","v":"0000000000"},{"$f":"TEXT(MONTH(MICASH!K33),\"00\") & TEXT(DAY(MICASH!K33),\"00\") & RIGHT(TEXT(YEAR(MICASH!K33),\"00\"),2)","v":"010000"},{"$f":"UPPER(LEFT(MICASH!L33,96))","v":""}]
["C",288,"00",{"$f":"TEXT(MICASH!D34,\"0000000000\")","v":"0000000000"}," ",{"$f":"UPPER(MICASH!F34)","v":""},{"$f":"UPPER(MICASH!G34)","v":""}," ",{"$f":"TEXT(MICASH!I34,\"0000000000\")","v":"0000000000"},{"$f":"TEXT(MICASH!J34*100,\"0000000000\")","v":"0000000000"},{"$f":"TEXT(MONTH(MICASH!K34),\"00\") & TEXT(DAY(MICASH!K34),\"00\") & RIGHT(TEXT(YEAR(MICASH!K34),\"00\"),2)","v":"010000"},{"$f":"UPPER(LEFT(MICASH!L34,96))","v":""}]
["C",288,"00",{"$f":"TEXT(MICASH!D35,\"0000000000\")","v":"0000000000"}," ",{"$f":"UPPER(MICASH!F35)","v":""},{"$f":"UPPER(MICASH!G35)","v":""}," ",{"$f":"TEXT(MICASH!I35,\"0000000000\")","v":"0000000000"},{"$f":"TEXT(MICASH!J35*100,\"0000000000\")","v":"0000000000"},{"$f":"TEXT(MONTH(MICASH!K35),\"00\") & TEXT(DAY(MICASH!K35),\"00\") & RIGHT(TEXT(YEAR(MICASH!K35),\"00\"),2)","v":"010000"},{"$f":"UPPER(LEFT(MICASH!L35,96))","v":""}]
["C",288,"00",{"$f":"TEXT(MICASH!D36,\"0000000000\")","v":"0000000000"}," ",{"$f":"UPPER(MICASH!F36)","v":""},{"$f":"UPPER(MICASH!G36)","v":""}," ",{"$f":"TEXT(MICASH!I36,\"0000000000\")","v":"0000000000"},{"$f":"TEXT(MICASH!J36*100,\"0000000000\")","v":"0000000000"},{"$f":"TEXT(MONTH(MICASH!K36),\"00\") & TEXT(DAY(MICASH!K36),\"00\") & RIGHT(TEXT(YEAR(MICASH!K36),\"00\"),2)","v":"010000"},{"$f":"UPPER(LEFT(MICASH!L36,96))","v":""}]
["C",288,"00",{"$f":"TEXT(MICASH!D37,\"0000000000\")","v":"0000000000"}," ",{"$f":"UPPER(MICASH!F37)","v":""},{"$f":"UPPER(MICASH!G37)","v":""}," ",{"$f":"TEXT(MICASH!I37,\"0000000000\")","v":"0000000000"},{"$f":"TEXT(MICASH!J37*100,\"0000000000\")","v":"0000000000"},{"$f":"TEXT(MONTH(MICASH!K37),\"00\") & TEXT(DAY(MICASH!K37),\"00\") & RIGHT(TEXT(YEAR(MICASH!K37),\"00\"),2)","v":"010000"},{"$f":"UPPER(LEFT(MICASH!L37,96))","v":""}]
["C",288,"00",{"$f":"TEXT(MICASH!D38,\"0000000000\")","v":"0000000000"}," ",{"$f":"UPPER(MICASH!F38)","v":""},{"$f":"UPPER(MICASH!G38)","v":""}," ",{"$f":"TEXT(MICASH!I38,\"0000000000\")","v":"0000000000"},{"$f":"TEXT(MICASH!J38*100,\"0000000000\")","v":"0000000000"},{"$f":"TEXT(MONTH(MICASH!K38),\"00\") & TEXT(DAY(MICASH!K38),\"00\") & RIGHT(TEXT(YEAR(MICASH!K38),\"00\"),2)","v":"010000"},{"$f":"UPPER(LEFT(MICASH!L38,96))","v":""}]
["C",288,"00",{"$f":"TEXT(MICASH!D39,\"0000000000\")","v":"0000000000"}," ",{"$f":"UPPER(MICASH!F39)","v":""},{"$f":"UPPER(MICASH!G39)","v":""}," ",{"$f":"TEXT(MICASH!I39,\"0000000000\")","v":"0000000000"},{"$f":"TEXT(MICASH!J39*100,\"0000000000\")","v":"0000000000"},{"$f":"TEXT(MONTH(MICASH!K39),\"00\") & TEXT(DAY(MICASH!K39),\"00\") & RIGHT(TEXT(YEAR(MICASH!K39),\"00\"),2)","v":"010000"},{"$f":"UPPER(LEFT(MICASH!L39,96))","v":""}]
["C",288,"00",{"$f":"TEXT(MICASH!D40,\"0000000000\")","v":"0000000000"}," ",{"$f":"UPPER(MICASH!F40)","v":""},{"$f":"UPPER(MICASH!G40)","v":""}," ",{"$f":"TEXT(MICASH!I40,\"0000000000\")","v":"0000000000"},{"$f":"TEXT(MICASH!J40*100,\"0000000000\")","v":"0000000000"},{"$f":"TEXT(MONTH(MICASH!K40),\"00\") & TEXT(DAY(MICASH!K40),\"00\") & RIGHT(TEXT(YEAR(MICASH!K40),\"00\"),2)","v":"010000"},{"$f":"UPPER(LEFT(MICASH!L40,96))","v":""}]
["C",288,"00",{"$f":"TEXT(MICASH!D41,\"0000000000\")","v":"0000000000"}," ",{"$f":"UPPER(MICASH!F41)","v":""},{"$f":"UPPER(MICASH!G41)","v":""}," ",{"$f":"TEXT(MICASH!I41,\"0000000000\")","v":"0000000000"},{"$f":"TEXT(MICASH!J41*100,\"0000000000\")","v":"0000000000"},{"$f":"TEXT(MONTH(MICASH!K41),\"00\") & TEXT(DAY(MICASH!K41),\"00\") & RIGHT(TEXT(YEAR(MICASH!K41),\"00\"),2)","v":"010000"},{"$f":"UPPER(LEFT(MICASH!L41,96))","v":""}]
["C",288,"00",{"$f":"TEXT(MICASH!D42,\"0000000000\")","v":"0000000000"}," ",{"$f":"UPPER(MICASH!F42)","v":""},{"$f":"UPPER(MICASH!G42)","v":""}," ",{"$f":"TEXT(MICASH!I42,\"0000000000\")","v":"0000000000"},{"$f":"TEXT(MICASH!J42*100,\"0000000000\")","v":"0000000000"},{"$f":"TEXT(MONTH(MICASH!K42),\"00\") & TEXT(DAY(MICASH!K42),\"00\") & RIGHT(TEXT(YEAR(MICASH!K42),\"00\"),2)","v":"010000"},{"$f":"UPPER(LEFT(MICASH!L42,96))","v":""}]
["C",288,"00",{"$f":"TEXT(MICASH!D43,\"0000000000\")","v":"0000000000"}," ",{"$f":"UPPER(MICASH!F43)","v":""},{"$f":"UPPER(MICASH!G43)","v":""}," ",{"$f":"TEXT(MICASH!I43,\"0000000000\")","v":"0000000000"},{"$f":"TEXT(MICASH!J43*100,\"0000000000\")","v":"0000000000"},{"$f":"TEXT(MONTH(MICASH!K43),\"00\") & TEXT(DAY(MICASH!K43),\"00\") & RIGHT(TEXT(YEAR(MICASH!K43),\"00\"),2)","v":"010000"},{"$f":"UPPER(LEFT(MICASH!L43,96))","v":""}]
["C",288,"00",{"$f":"TEXT(MICASH!D44,\"0000000000\")","v":"0000000000"}," ",{"$f":"UPPER(MICASH!F44)","v":""},{"$f":"UPPER(MICASH!G44)","v":""}," ",{"$f":"TEXT(MICASH!I44,\"0000000000\")","v":"0000000000"},{"$f":"TEXT(MICASH!J44*100,\"0000000000\")","v":"0000000000"},{"$f":"TEXT(MONTH(MICASH!K44),\"00\") & TEXT(DAY(MICASH!K44),\"00\") & RIGHT(TEXT(YEAR(MICASH!K44),\"00\"),2)","v":"010000"},{"$f":"UPPER(LEFT(MICASH!L44,96))","v":""}]
["C",288,"00",{"$f":"TEXT(MICASH!D45,\"0000000000\")","v":"0000000000"}," ",{"$f":"UPPER(MICASH!F45)","v":""},{"$f":"UPPER(MICASH!G45)","v":""}," ",{"$f":"TEXT(MICASH!I45,\"0000000000\")","v":"0000000000"},{"$f":"TEXT(MICASH!J45*100,\"0000000000\")","v":"0000000000"},{"$f":"TEXT(MONTH(MICASH!K45),\"00\") & TEXT(DAY(MICASH!K45),\"00\") & RIGHT(TEXT(YEAR(MICASH!K45),\"00\"),2)","v":"010000"},{"$f":"UPPER(LEFT(MICASH!L45,96))","v":""}]
["C",288,"00",{"$f":"TEXT(MICASH!D46,\"0000000000\")","v":"0000000000"}," ",{"$f":"UPPER(MICASH!F46)","v":""},{"$f":"UPPER(MICASH!G46)","v":""}," ",{"$f":"TEXT(MICASH!I46,\"0000000000\")","v":"0000000000"},{"$f":"TEXT(MICASH!J46*100,\"0000000000\")","v":"0000000000"},{"$f":"TEXT(MONTH(MICASH!K46),\"00\") & TEXT(DAY(MICASH!K46),\"00\") & RIGHT(TEXT(YEAR(MICASH!K46),\"00\"),2)","v":"010000"},{"$f":"UPPER(LEFT(MICASH!L46,96))","v":""}]
["C",288,"00",{"$f":"TEXT(MICASH!D47,\"0000000000\")","v":"0000000000"}," ",{"$f":"UPPER(MICASH!F47)","v":""},{"$f":"UPPER(MICASH!G47)","v":""}," ",{"$f":"TEXT(MICASH!I47,\"0000000000\")","v":"0000000000"},{"$f":"TEXT(MICASH!J47*100,\"0000000000\")","v":"0000000000"},{"$f":"TEXT(MONTH(MICASH!K47),\"00\") & TEXT(DAY(MICASH!K47),\"00\") & RIGHT(TEXT(YEAR(MICASH!K47),\"00\"),2)","v":"010000"},{"$f":"UPPER(LEFT(MICASH!L47,96))","v":""}]
["C",288,"00",{"$f":"TEXT(MICASH!D48,\"0000000000\")","v":"0000000000"}," ",{"$f":"UPPER(MICASH!F48)","v":""},{"$f":"UPPER(MICASH!G48)","v":""}," ",{"$f":"TEXT(MICASH!I48,\"0000000000\")","v":"0000000000"},{"$f":"TEXT(MICASH!J48*100,\"0000000000\")","v":"0000000000"},{"$f":"TEXT(MONTH(MICASH!K48),\"00\") & TEXT(DAY(MICASH!K48),\"00\") & RIGHT(TEXT(YEAR(MICASH!K48),\"00\"),2)","v":"010000"},{"$f":"UPPER(LEFT(MICASH!L48,96))","v":""}]
["C",288,"00",{"$f":"TEXT(MICASH!D49,\"0000000000\")","v":"0000000000"}," ",{"$f":"UPPER(MICASH!F49)","v":""},{"$f":"UPPER(MICASH!G49)","v":""}," ",{"$f":"TEXT(MICASH!I49,\"0000000000\")","v":"0000000000"},{"$f":"TEXT(MICASH!J49*100,\"0000000000\")","v":"0000000000"},{"$f":"TEXT(MONTH(MICASH!K49),\"00\") & TEXT(DAY(MICASH!K49),\"00\") & RIGHT(TEXT(YEAR(MICASH!K49),\"00\"),2)","v":"010000"},{"$f":"UPPER(LEFT(MICASH!L49,96))","v":""}]
["C",288,"00",{"$f":"TEXT(MICASH!D50,\"0000000000\")","v":"0000000000"}," ",{"$f":"UPPER(MICASH!F50)","v":""},{"$f":"UPPER(MICASH!G50)","v":""}," ",{"$f":"TEXT(MICASH!I50,\"0000000000\")","v":"0000000000"},{"$f":"TEXT(MICASH!J50*100,\"0000000000\")","v":"0000000000"},{"$f":"TEXT(MONTH(MICASH!K50),\"00\") & TEXT(DAY(MICASH!K50),\"00\") & RIGHT(TEXT(YEAR(MICASH!K50),\"00\"),2)","v":"010000"},{"$f":"UPPER(LEFT(MICASH!L50,96))","v":""}]
["C",288,"00",{"$f":"TEXT(MICASH!D51,\"0000000000\")","v":"0000000000"}," ",{"$f":"UPPER(MICASH!F51)","v":""},{"$f":"UPPER(MICASH!G51)","v":""}," ",{"$f":"TEXT(MICASH!I51,\"0000000000\")","v":"0000000000"},{"$f":"TEXT(MICASH!J51*100,\"0000000000\")","v":"0000000000"},{"$f":"TEXT(MONTH(MICASH!K51),\"00\") & TEXT(DAY(MICASH!K51),\"00\") & RIGHT(TEXT(YEAR(MICASH!K51),\"00\"),2)","v":"010000"},{"$f":"UPPER(LEFT(MICASH!L51,96))","v":""}]
["C",288,"00",{"$f":"TEXT(MICASH!D52,\"0000000000\")","v":"0000000000"}," ",{"$f":"UPPER(MICASH!F52)","v":""},{"$f":"UPPER(MICASH!G52)","v":""}," ",{"$f":"TEXT(MICASH!I52,\"0000000000\")","v":"0000000000"},{"$f":"TEXT(MICASH!J52*100,\"0000000000\")","v":"0000000000"},{"$f":"TEXT(MONTH(MICASH!K52),\"00\") & TEXT(DAY(MICASH!K52),\"00\") & RIGHT(TEXT(YEAR(MICASH!K52),\"00\"),2)","v":"010000"},{"$f":"UPPER(LEFT(MICASH!L52,96))","v":""}]
["C",288,"00",{"$f":"TEXT(MICASH!D53,\"0000000000\")","v":"0000000000"}," ",{"$f":"UPPER(MICASH!F53)","v":""},{"$f":"UPPER(MICASH!G53)","v":""}," ",{"$f":"TEXT(MICASH!I53,\"0000000000\")","v":"0000000000"},{"$f":"TEXT(MICASH!J53*100,\"0000000000\")","v":"0000000000"},{"$f":"TEXT(MONTH(MICASH!K53),\"00\") & TEXT(DAY(MICASH!K53),\"00\") & RIGHT(TEXT(YEAR(MICASH!K53),\"00\"),2)","v":"010000"},{"$f":"UPPER(LEFT(MICASH!L53,96))","v":""}]
["C",288,"00",{"$f":"TEXT(MICASH!D54,\"0000000000\")","v":"0000000000"}," ",{"$f":"UPPER(MICASH!F54)","v":""},{"$f":"UPPER(MICASH!G54)","v":""}," ",{"$f":"TEXT(MICASH!I54,\"0000000000\")","v":"0000000000"},{"$f":"TEXT(MICASH!J54*100,\"0000000000\")","v":"0000000000"},{"$f":"TEXT(MONTH(MICASH!K54),\"00\") & TEXT(DAY(MICASH!K54),\"00\") & RIGHT(TEXT(YEAR(MICASH!K54),\"00\"),2)","v":"010000"},{"$f":"UPPER(LEFT(MICASH!L54,96))","v":""}]
["C",288,"00",{"$f":"TEXT(MICASH!D55,\"0000000000\")","v":"0000000000"}," ",{"$f":"UPPER(MICASH!F55)","v":""},{"$f":"UPPER(MICASH!G55)","v":""}," ",{"$f":"TEXT(MICASH!I55,\"0000000000\")","v":"0000000000"},{"$f":"TEXT(MICASH!J55*100,\"0000000000\")","v":"0000000000"},{"$f":"TEXT(MONTH(MICASH!K55),\"00\") & TEXT(DAY(MICASH!K55),\"00\") & RIGHT(TEXT(YEAR(MICASH!K55),\"00\"),2)","v":"010000"},{"$f":"UPPER(LEFT(MICASH!L55,96))","v":""}]
["C",288,"00",{"$f":"TEXT(MICASH!D56,\"0000000000\")","v":"0000000000"}," ",{"$f":"UPPER(MICASH!F56)","v":""},{"$f":"UPPER(MICASH!G56)","v":""}," ",{"$f":"TEXT(MICASH!I56,\"0000000000\")","v":"0000000000"},{"$f":"TEXT(MICASH!J56*100,\"0000000000\")","v":"0000000000"},{"$f":"TEXT(MONTH(MICASH!K56),\"00\") & TEXT(DAY(MICASH!K56),\"00\") & RIGHT(TEXT(YEAR(MICASH!K56),\"00\"),2)","v":"010000"},{"$f":"UPPER(LEFT(MICASH!L56,96))","v":""}]
["C",288,"00",{"$f":"TEXT(MICASH!D57,\"0000000000\")","v":"0000000000"}," ",{"$f":"UPPER(MICASH!F57)","v":""},{"$f":"UPPER(MICASH!G57)","v":""}," ",{"$f":"TEXT(MICASH!I57,\"0000000000\")","v":"0000000000"},{"$f":"TEXT(MICASH!J57*100,\"0000000000\")","v":"0000000000"},{"$f":"TEXT(MONTH(MICASH!K57),\"00\") & TEXT(DAY(MICASH!K57),\"00\") & RIGHT(TEXT(YEAR(MICASH!K57),\"00\"),2)","v":"010000"},{"$f":"UPPER(LEFT(MICASH!L57,96))","v":""}]
["C",288,"00",{"$f":"TEXT(MICASH!D58,\"0000000000\")","v":"0000000000"}," ",{"$f":"UPPER(MICASH!F58)","v":""},{"$f":"UPPER(MICASH!G58)","v":""}," ",{"$f":"TEXT(MICASH!I58,\"0000000000\")","v":"0000000000"},{"$f":"TEXT(MICASH!J58*100,\"0000000000\")","v":"0000000000"},{"$f":"TEXT(MONTH(MICASH!K58),\"00\") & TEXT(DAY(MICASH!K58),\"00\") & RIGHT(TEXT(YEAR(MICASH!K58),\"00\"),2)","v":"010000"},{"$f":"UPPER(LEFT(MICASH!L58,96))","v":""}]
["C",288,"00",{"$f":"TEXT(MICASH!D59,\"0000000000\")","v":"0000000000"}," ",{"$f":"UPPER(MICASH!F59)","v":""},{"$f":"UPPER(MICASH!G59)","v":""}," ",{"$f":"TEXT(MICASH!I59,\"0000000000\")","v":"0000000000"},{"$f":"TEXT(MICASH!J59*100,\"0000000000\")","v":"0000000000"},{"$f":"TEXT(MONTH(MICASH!K59),\"00\") & TEXT(DAY(MICASH!K59),\"00\") & RIGHT(TEXT(YEAR(MICASH!K59),\"00\"),2)","v":"010000"},{"$f":"UPPER(LEFT(MICASH!L59,96))","v":""}]
["C",288,"00",{"$f":"TEXT(MICASH!D60,\"0000000000\")","v":"0000000000"}," ",{"$f":"UPPER(MICASH!F60)","v":""},{"$f":"UPPER(MICASH!G60)","v":""}," ",{"$f":"TEXT(MICASH!I60,\"0000000000\")","v":"0000000000"},{"$f":"TEXT(MICASH!J60*100,\"0000000000\")","v":"0000000000"},{"$f":"TEXT(MONTH(MICASH!K60),\"00\") & TEXT(DAY(MICASH!K60),\"00\") & RIGHT(TEXT(YEAR(MICASH!K60),\"00\"),2)","v":"010000"},{"$f":"UPPER(LEFT(MICASH!L60,96))","v":""}]
["C",288,"00",{"$f":"TEXT(MICASH!D61,\"0000000000\")","v":"0000000000"}," ",{"$f":"UPPER(MICASH!F61)","v":""},{"$f":"UPPER(MICASH!G61)","v":""}," ",{"$f":"TEXT(MICASH!I61,\"0000000000\")","v":"0000000000"},{"$f":"TEXT(MICASH!J61*100,\"0000000000\")","v":"0000000000"},{"$f":"TEXT(MONTH(MICASH!K61),\"00\") & TEXT(DAY(MICASH!K61),\"00\") & RIGHT(TEXT(YEAR(MICASH!K61),\"00\"),2)","v":"010000"},{"$f":"UPPER(LEFT(MICASH!L61,96))","v":""}]
["C",288,"00",{"$f":"TEXT(MICASH!D62,\"0000000000\")","v":"0000000000"}," ",{"$f":"UPPER(MICASH!F62)","v":""},{"$f":"UPPER(MICASH!G62)","v":""}," ",{"$f":"TEXT(MICASH!I62,\"0000000000\")","v":"0000000000"},{"$f":"TEXT(MICASH!J62*100,\"0000000000\")","v":"0000000000"},{"$f":"TEXT(MONTH(MICASH!K62),\"00\") & TEXT(DAY(MICASH!K62),\"00\") & RIGHT(TEXT(YEAR(MICASH!K62),\"00\"),2)","v":"010000"},{"$f":"UPPER(LEFT(MICASH!L62,96))","v":""}]
["C",288,"00",{"$f":"TEXT(MICASH!D63,\"0000000000\")","v":"0000000000"}," ",{"$f":"UPPER(MICASH!F63)","v":""},{"$f":"UPPER(MICASH!G63)","v":""}," ",{"$f":"TEXT(MICASH!I63,\"0000000000\")","v":"0000000000"},{"$f":"TEXT(MICASH!J63*100,\"0000000000\")","v":"0000000000"},{"$f":"TEXT(MONTH(MICASH!K63),\"00\") & TEXT(DAY(MICASH!K63),\"00\") & RIGHT(TEXT(YEAR(MICASH!K63),\"00\"),2)","v":"010000"},{"$f":"UPPER(LEFT(MICASH!L63,96))","v":""}]
["C",288,"00",{"$f":"TEXT(MICASH!D64,\"0000000000\")","v":"0000000000"}," ",{"$f":"UPPER(MICASH!F64)","v":""},{"$f":"UPPER(MICASH!G64)","v":""}," ",{"$f":"TEXT(MICASH!I64,\"0000000000\")","v":"0000000000"},{"$f":"TEXT(MICASH!J64*100,\"0000000000\")","v":"0000000000"},{"$f":"TEXT(MONTH(MICASH!K64),\"00\") & TEXT(DAY(MICASH!K64),\"00\") & RIGHT(TEXT(YEAR(MICASH!K64),\"00\"),2)","v":"010000"},{"$f":"UPPER(LEFT(MICASH!L64,96))","v":""}]
["C",288,"00",{"$f":"TEXT(MICASH!D65,\"0000000000\")","v":"0000000000"}," ",{"$f":"UPPER(MICASH!F65)","v":""},{"$f":"UPPER(MICASH!G65)","v":""}," ",{"$f":"TEXT(MICASH!I65,\"0000000000\")","v":"0000000000"},{"$f":"TEXT(MICASH!J65*100,\"0000000000\")","v":"0000000000"},{"$f":"TEXT(MONTH(MICASH!K65),\"00\") & TEXT(DAY(MICASH!K65),\"00\") & RIGHT(TEXT(YEAR(MICASH!K65),\"00\"),2)","v":"010000"},{"$f":"UPPER(LEFT(MICASH!L65,96))","v":""}]
["C",288,"00",{"$f":"TEXT(MICASH!D66,\"0000000000\")","v":"0000000000"}," ",{"$f":"UPPER(MICASH!F66)","v":""},{"$f":"UPPER(MICASH!G66)","v":""}," ",{"$f":"TEXT(MICASH!I66,\"0000000000\")","v":"0000000000"},{"$f":"TEXT(MICASH!J66*100,\"0000000000\")","v":"0000000000"},{"$f":"TEXT(MONTH(MICASH!K66),\"00\") & TEXT(DAY(MICASH!K66),\"00\") & RIGHT(TEXT(YEAR(MICASH!K66),\"00\"),2)","v":"010000"},{"$f":"UPPER(LEFT(MICASH!L66,96))","v":""}]
["C",288,"00",{"$f":"TEXT(MICASH!D67,\"0000000000\")","v":"0000000000"}," ",{"$f":"UPPER(MICASH!F67)","v":""},{"$f":"UPPER(MICASH!G67)","v":""}," ",{"$f":"TEXT(MICASH!I67,\"0000000000\")","v":"0000000000"},{"$f":"TEXT(MICASH!J67*100,\"0000000000\")","v":"0000000000"},{"$f":"TEXT(MONTH(MICASH!K67),\"00\") & TEXT(DAY(MICASH!K67),\"00\") & RIGHT(TEXT(YEAR(MICASH!K67),\"00\"),2)","v":"010000"},{"$f":"UPPER(LEFT(MICASH!L67,96))","v":""}]
["C",288,"00",{"$f":"TEXT(MICASH!D68,\"0000000000\")","v":"0000000000"}," ",{"$f":"UPPER(MICASH!F68)","v":""},{"$f":"UPPER(MICASH!G68)","v":""}," ",{"$f":"TEXT(MICASH!I68,\"0000000000\")","v":"0000000000"},{"$f":"TEXT(MICASH!J68*100,\"0000000000\")","v":"0000000000"},{"$f":"TEXT(MONTH(MICASH!K68),\"00\") & TEXT(DAY(MICASH!K68),\"00\") & RIGHT(TEXT(YEAR(MICASH!K68),\"00\"),2)","v":"010000"},{"$f":"UPPER(LEFT(MICASH!L68,96))","v":""}]
["C",288,"00",{"$f":"TEXT(MICASH!D69,\"0000000000\")","v":"0000000000"}," ",{"$f":"UPPER(MICASH!F69)","v":""},{"$f":"UPPER(MICASH!G69)","v":""}," ",{"$f":"TEXT(MICASH!I69,\"0000000000\")","v":"0000000000"},{"$f":"TEXT(MICASH!J69*100,\"0000000000\")","v":"0000000000"},{"$f":"TEXT(MONTH(MICASH!K69),\"00\") & TEXT(DAY(MICASH!K69),\"00\") & RIGHT(TEXT(YEAR(MICASH!K69),\"00\"),2)","v":"010000"},{"$f":"UPPER(LEFT(MICASH!L69,96))","v":""}]
["C",288,"00",{"$f":"TEXT(MICASH!D70,\"0000000000\")","v":"0000000000"}," ",{"$f":"UPPER(MICASH!F70)","v":""},{"$f":"UPPER(MICASH!G70)","v":""}," ",{"$f":"TEXT(MICASH!I70,\"0000000000\")","v":"0000000000"},{"$f":"TEXT(MICASH!J70*100,\"0000000000\")","v":"0000000000"},{"$f":"TEXT(MONTH(MICASH!K70),\"00\") & TEXT(DAY(MICASH!K70),\"00\") & RIGHT(TEXT(YEAR(MICASH!K70),\"00\"),2)","v":"010000"},{"$f":"UPPER(LEFT(MICASH!L70,96))","v":""}]
["C",288,"00",{"$f":"TEXT(MICASH!D71,\"0000000000\")","v":"0000000000"}," ",{"$f":"UPPER(MICASH!F71)","v":""},{"$f":"UPPER(MICASH!G71)","v":""}," ",{"$f":"TEXT(MICASH!I71,\"0000000000\")","v":"0000000000"},{"$f":"TEXT(MICASH!J71*100,\"0000000000\")","v":"0000000000"},{"$f":"TEXT(MONTH(MICASH!K71),\"00\") & TEXT(DAY(MICASH!K71),\"00\") & RIGHT(TEXT(YEAR(MICASH!K71),\"00\"),2)","v":"010000"},{"$f":"UPPER(LEFT(MICASH!L71,96))","v":""}]
["C",288,"00",{"$f":"TEXT(MICASH!D72,\"0000000000\")","v":"0000000000"}," ",{"$f":"UPPER(MICASH!F72)","v":""},{"$f":"UPPER(MICASH!G72)","v":""}," ",{"$f":"TEXT(MICASH!I72,\"0000000000\")","v":"0000000000"},{"$f":"TEXT(MICASH!J72*100,\"0000000000\")","v":"0000000000"},{"$f":"TEXT(MONTH(MICASH!K72),\"00\") & TEXT(DAY(MICASH!K72),\"00\") & RIGHT(TEXT(YEAR(MICASH!K72),\"00\"),2)","v":"010000"},{"$f":"UPPER(LEFT(MICASH!L72,96))","v":""}]
["C",288,"00",{"$f":"TEXT(MICASH!D73,\"0000000000\")","v":"0000000000"}," ",{"$f":"UPPER(MICASH!F73)","v":""},{"$f":"UPPER(MICASH!G73)","v":""}," ",{"$f":"TEXT(MICASH!I73,\"0000000000\")","v":"0000000000"},{"$f":"TEXT(MICASH!J73*100,\"0000000000\")","v":"0000000000"},{"$f":"TEXT(MONTH(MICASH!K73),\"00\") & TEXT(DAY(MICASH!K73),\"00\") & RIGHT(TEXT(YEAR(MICASH!K73),\"00\"),2)","v":"010000"},{"$f":"UPPER(LEFT(MICASH!L73,96))","v":""}]
["C",288,"00",{"$f":"TEXT(MICASH!D74,\"0000000000\")","v":"0000000000"}," ",{"$f":"UPPER(MICASH!F74)","v":""},{"$f":"UPPER(MICASH!G74)","v":""}," ",{"$f":"TEXT(MICASH!I74,\"0000000000\")","v":"0000000000"},{"$f":"TEXT(MICASH!J74*100,\"0000000000\")","v":"0000000000"},{"$f":"TEXT(MONTH(MICASH!K74),\"00\") & TEXT(DAY(MICASH!K74),\"00\") & RIGHT(TEXT(YEAR(MICASH!K74),\"00\"),2)","v":"010000"},{"$f":"UPPER(LEFT(MICASH!L74,96))","v":""}]
["C",288,"00",{"$f":"TEXT(MICASH!D75,\"0000000000\")","v":"0000000000"}," ",{"$f":"UPPER(MICASH!F75)","v":""},{"$f":"UPPER(MICASH!G75)","v":""}," ",{"$f":"TEXT(MICASH!I75,\"0000000000\")","v":"0000000000"},{"$f":"TEXT(MICASH!J75*100,\"0000000000\")","v":"0000000000"},{"$f":"TEXT(MONTH(MICASH!K75),\"00\") & TEXT(DAY(MICASH!K75),\"00\") & RIGHT(TEXT(YEAR(MICASH!K75),\"00\"),2)","v":"010000"},{"$f":"UPPER(LEFT(MICASH!L75,96))","v":""}]
["C",288,"00",{"$f":"TEXT(MICASH!D76,\"0000000000\")","v":"0000000000"}," ",{"$f":"UPPER(MICASH!F76)","v":""},{"$f":"UPPER(MICASH!G76)","v":""}," ",{"$f":"TEXT(MICASH!I76,\"0000000000\")","v":"0000000000"},{"$f":"TEXT(MICASH!J76*100,\"0000000000\")","v":"0000000000"},{"$f":"TEXT(MONTH(MICASH!K76),\"00\") & TEXT(DAY(MICASH!K76),\"00\") & RIGHT(TEXT(YEAR(MICASH!K76),\"00\"),2)","v":"010000"},{"$f":"UPPER(LEFT(MICASH!L76,96))","v":""}]
["C",288,"00",{"$f":"TEXT(MICASH!D77,\"0000000000\")","v":"0000000000"}," ",{"$f":"UPPER(MICASH!F77)","v":""},{"$f":"UPPER(MICASH!G77)","v":""}," ",{"$f":"TEXT(MICASH!I77,\"0000000000\")","v":"0000000000"},{"$f":"TEXT(MICASH!J77*100,\"0000000000\")","v":"0000000000"},{"$f":"TEXT(MONTH(MICASH!K77),\"00\") & TEXT(DAY(MICASH!K77),\"00\") & RIGHT(TEXT(YEAR(MICASH!K77),\"00\"),2)","v":"010000"},{"$f":"UPPER(LEFT(MICASH!L77,96))","v":""}]
["C",288,"00",{"$f":"TEXT(MICASH!D78,\"0000000000\")","v":"0000000000"}," ",{"$f":"UPPER(MICASH!F78)","v":""},{"$f":"UPPER(MICASH!G78)","v":""}," ",{"$f":"TEXT(MICASH!I78,\"0000000000\")","v":"0000000000"},{"$f":"TEXT(MICASH!J78*100,\"0000000000\")","v":"0000000000"},{"$f":"TEXT(MONTH(MICASH!K78),\"00\") & TEXT(DAY(MICASH!K78),\"00\") & RIGHT(TEXT(YEAR(MICASH!K78),\"00\"),2)","v":"010000"},{"$f":"UPPER(LEFT(MICASH!L78,96))","v":""}]
["C",288,"00",{"$f":"TEXT(MICASH!D79,\"0000000000\")","v":"0000000000"}," ",{"$f":"UPPER(MICASH!F79)","v":""},{"$f":"UPPER(MICASH!G79)","v":""}," ",{"$f":"TEXT(MICASH!I79,\"0000000000\")","v":"0000000000"},{"$f":"TEXT(MICASH!J79*100,\"0000000000\")","v":"0000000000"},{"$f":"TEXT(MONTH(MICASH!K79),\"00\") & TEXT(DAY(MICASH!K79),\"00\") & RIGHT(TEXT(YEAR(MICASH!K79),\"00\"),2)","v":"010000"},{"$f":"UPPER(LEFT(MICASH!L79,96))","v":""}]
["C",288,"00",{"$f":"TEXT(MICASH!D80,\"0000000000\")","v":"0000000000"}," ",{"$f":"UPPER(MICASH!F80)","v":""},{"$f":"UPPER(MICASH!G80)","v":""}," ",{"$f":"TEXT(MICASH!I80,\"0000000000\")","v":"0000000000"},{"$f":"TEXT(MICASH!J80*100,\"0000000000\")","v":"0000000000"},{"$f":"TEXT(MONTH(MICASH!K80),\"00\") & TEXT(DAY(MICASH!K80),\"00\") & RIGHT(TEXT(YEAR(MICASH!K80),\"00\"),2)","v":"010000"},{"$f":"UPPER(LEFT(MICASH!L80,96))","v":""}]
["C",288,"00",{"$f":"TEXT(MICASH!D81,\"0000000000\")","v":"0000000000"}," ",{"$f":"UPPER(MICASH!F81)","v":""},{"$f":"UPPER(MICASH!G81)","v":""}," ",{"$f":"TEXT(MICASH!I81,\"0000000000\")","v":"0000000000"},{"$f":"TEXT(MICASH!J81*100,\"0000000000\")","v":"0000000000"},{"$f":"TEXT(MONTH(MICASH!K81),\"00\") & TEXT(DAY(MICASH!K81),\"00\") & RIGHT(TEXT(YEAR(MICASH!K81),\"00\"),2)","v":"010000"},{"$f":"UPPER(LEFT(MICASH!L81,96))","v":""}]
["C",288,"00",{"$f":"TEXT(MICASH!D82,\"0000000000\")","v":"0000000000"}," ",{"$f":"UPPER(MICASH!F82)","v":""},{"$f":"UPPER(MICASH!G82)","v":""}," ",{"$f":"TEXT(MICASH!I82,\"0000000000\")","v":"0000000000"},{"$f":"TEXT(MICASH!J82*100,\"0000000000\")","v":"0000000000"},{"$f":"TEXT(MONTH(MICASH!K82),\"00\") & TEXT(DAY(MICASH!K82),\"00\") & RIGHT(TEXT(YEAR(MICASH!K82),\"00\"),2)","v":"010000"},{"$f":"UPPER(LEFT(MICASH!L82,96))","v":""}]
["C",288,"00",{"$f":"TEXT(MICASH!D83,\"0000000000\")","v":"0000000000"}," ",{"$f":"UPPER(MICASH!F83)","v":""},{"$f":"UPPER(MICASH!G83)","v":""}," ",{"$f":"TEXT(MICASH!I83,\"0000000000\")","v":"0000000000"},{"$f":"TEXT(MICASH!J83*100,\"0000000000\")","v":"0000000000"},{"$f":"TEXT(MONTH(MICASH!K83),\"00\") & TEXT(DAY(MICASH!K83),\"00\") & RIGHT(TEXT(YEAR(MICASH!K83),\"00\"),2)","v":"010000"},{"$f":"UPPER(LEFT(MICASH!L83,96))","v":""}]
["C",288,"00",{"$f":"TEXT(MICASH!D84,\"0000000000\")","v":"0000000000"}," ",{"$f":"UPPER(MICASH!F84)","v":""},{"$f":"UPPER(MICASH!G84)","v":""}," ",{"$f":"TEXT(MICASH!I84,\"0000000000\")","v":"0000000000"},{"$f":"TEXT(MICASH!J84*100,\"0000000000\")","v":"0000000000"},{"$f":"TEXT(MONTH(MICASH!K84),\"00\") & TEXT(DAY(MICASH!K84),\"00\") & RIGHT(TEXT(YEAR(MICASH!K84),\"00\"),2)","v":"010000"},{"$f":"UPPER(LEFT(MICASH!L84,96))","v":""}]
["C",288,"00",{"$f":"TEXT(MICASH!D85,\"0000000000\")","v":"0000000000"}," ",{"$f":"UPPER(MICASH!F85)","v":""},{"$f":"UPPER(MICASH!G85)","v":""}," ",{"$f":"TEXT(MICASH!I85,\"0000000000\")","v":"0000000000"},{"$f":"TEXT(MICASH!J85*100,\"0000000000\")","v":"0000000000"},{"$f":"TEXT(MONTH(MICASH!K85),\"00\") & TEXT(DAY(MICASH!K85),\"00\") & RIGHT(TEXT(YEAR(MICASH!K85),\"00\"),2)","v":"010000"},{"$f":"UPPER(LEFT(MICASH!L85,96))","v":""}]
["C",288,"00",{"$f":"TEXT(MICASH!D86,\"0000000000\")","v":"0000000000"}," ",{"$f":"UPPER(MICASH!F86)","v":""},{"$f":"UPPER(MICASH!G86)","v":""}," ",{"$f":"TEXT(MICASH!I86,\"0000000000\")","v":"0000000000"},{"$f":"TEXT(MICASH!J86*100,\"0000000000\")","v":"0000000000"},{"$f":"TEXT(MONTH(MICASH!K86),\"00\") & TEXT(DAY(MICASH!K86),\"00\") & RIGHT(TEXT(YEAR(MICASH!K86),\"00\"),2)","v":"010000"},{"$f":"UPPER(LEFT(MICASH!L86,96))","v":""}]
["C",288,"00",{"$f":"TEXT(MICASH!D87,\"0000000000\")","v":"0000000000"}," ",{"$f":"UPPER(MICASH!F87)","v":""},{"$f":"UPPER(MICASH!G87)","v":""}," ",{"$f":"TEXT(MICASH!I87,\"0000000000\")","v":"0000000000"},{"$f":"TEXT(MICASH!J87*100,\"0000000000\")","v":"0000000000"},{"$f":"TEXT(MONTH(MICASH!K87),\"00\") & TEXT(DAY(MICASH!K87),\"00\") & RIGHT(TEXT(YEAR(MICASH!K87),\"00\"),2)","v":"010000"},{"$f":"UPPER(LEFT(MICASH!L87,96))","v":""}]
["C",288,"00",{"$f":"TEXT(MICASH!D88,\"0000000000\")","v":"0000000000"}," ",{"$f":"UPPER(MICASH!F88)","v":""},{"$f":"UPPER(MICASH!G88)","v":""}," ",{"$f":"TEXT(MICASH!I88,\"0000000000\")","v":"0000000000"},{"$f":"TEXT(MICASH!J88*100,\"0000000000\")","v":"0000000000"},{"$f":"TEXT(MONTH(MICASH!K88),\"00\") & TEXT(DAY(MICASH!K88),\"00\") & RIGHT(TEXT(YEAR(MICASH!K88),\"00\"),2)","v":"010000"},{"$f":"UPPER(LEFT(MICASH!L88,96))","v":""}]
["C",288,"00",{"$f":"TEXT(MICASH!D89,\"0000000000\")","v":"0000000000"}," ",{"$f":"UPPER(MICASH!F89)","v":""},{"$f":"UPPER(MICASH!G89)","v":""}," ",{"$f":"TEXT(MICASH!I89,\"0000000000\")","v":"0000000000"},{"$f":"TEXT(MICASH!J89*100,\"0000000000\")","v":"0000000000"},{"$f":"TEXT(MONTH(MICASH!K89),\"00\") & TEXT(DAY(MICASH!K89),\"00\") & RIGHT(TEXT(YEAR(MICASH!K89),\"00\"),2)","v":"010000"},{"$f":"UPPER(LEFT(MICASH!L89,96))","v":""}]
["C",288,"00",{"$f":"TEXT(MICASH!D90,\"0000000000\")","v":"0000000000"}," ",{"$f":"UPPER(MICASH!F90)","v":""},{"$f":"UPPER(MICASH!G90)","v":""}," ",{"$f":"TEXT(MICASH!I90,\"0000000000\")","v":"0000000000"},{"$f":"TEXT(MICASH!J90*100,\"0000000000\")","v":"0000000000"},{"$f":"TEXT(MONTH(MICASH!K90),\"00\") & TEXT(DAY(MICASH!K90),\"00\") & RIGHT(TEXT(YEAR(MICASH!K90),\"00\"),2)","v":"010000"},{"$f":"UPPER(LEFT(MICASH!L90,96))","v":""}]
["C",288,"00",{"$f":"TEXT(MICASH!D91,\"0000000000\")","v":"0000000000"}," ",{"$f":"UPPER(MICASH!F91)","v":""},{"$f":"UPPER(MICASH!G91)","v":""}," ",{"$f":"TEXT(MICASH!I91,\"0000000000\")","v":"0000000000"},{"$f":"TEXT(MICASH!J91*100,\"0000000000\")","v":"0000000000"},{"$f":"TEXT(MONTH(MICASH!K91),\"00\") & TEXT(DAY(MICASH!K91),\"00\") & RIGHT(TEXT(YEAR(MICASH!K91),\"00\"),2)","v":"010000"},{"$f":"UPPER(LEFT(MICASH!L91,96))","v":""}]
["C",288,"00",{"$f":"TEXT(MICASH!D92,\"0000000000\")","v":"0000000000"}," ",{"$f":"UPPER(MICASH!F92)","v":""},{"$f":"UPPER(MICASH!G92)","v":""}," ",{"$f":"TEXT(MICASH!I92,\"0000000000\")","v":"0000000000"},{"$f":"TEXT(MICASH!J92*100,\"0000000000\")","v":"0000000000"},{"$f":"TEXT(MONTH(MICASH!K92),\"00\") & TEXT(DAY(MICASH!K92),\"00\") & RIGHT(TEXT(YEAR(MICASH!K92),\"00\"),2)","v":"010000"},{"$f":"UPPER(LEFT(MICASH!L92,96))","v":""}]
["C",288,"00",{"$f":"TEXT(MICASH!D93,\"0000000000\")","v":"0000000000"}," ",{"$f":"UPPER(MICASH!F93)","v":""},{"$f":"UPPER(MICASH!G93)","v":""}," ",{"$f":"TEXT(MICASH!I93,\"0000000000\")","v":"0000000000"},{"$f":"TEXT(MICASH!J93*100,\"0000000000\")","v":"0000000000"},{"$f":"TEXT(MONTH(MICASH!K93),\"00\") & TEXT(DAY(MICASH!K93),\"00\") & RIGHT(TEXT(YEAR(MICASH!K93),\"00\"),2)","v":"010000"},{"$f":"UPPER(LEFT(MICASH!L93,96))","v":""}]
["C",288,"00",{"$f":"TEXT(MICASH!D94,\"0000000000\")","v":"0000000000"}," ",{"$f":"UPPER(MICASH!F94)","v":""},{"$f":"UPPER(MICASH!G94)","v":""}," ",{"$f":"TEXT(MICASH!I94,\"0000000000\")","v":"0000000000"},{"$f":"TEXT(MICASH!J94*100,\"0000000000\")","v":"0000000000"},{"$f":"TEXT(MONTH(MICASH!K94),\"00\") & TEXT(DAY(MICASH!K94),\"00\") & RIGHT(TEXT(YEAR(MICASH!K94),\"00\"),2)","v":"010000"},{"$f":"UPPER(LEFT(MICASH!L94,96))","v":""}]
["C",288,"00",{"$f":"TEXT(MICASH!D95,\"0000000000\")","v":"0000000000"}," ",{"$f":"UPPER(MICASH!F95)","v":""},{"$f":"UPPER(MICASH!G95)","v":""}," ",{"$f":"TEXT(MICASH!I95,\"0000000000\")","v":"0000000000"},{"$f":"TEXT(MICASH!J95*100,\"0000000000\")","v":"0000000000"},{"$f":"TEXT(MONTH(MICASH!K95),\"00\") & TEXT(DAY(MICASH!K95),\"00\") & RIGHT(TEXT(YEAR(MICASH!K95),\"00\"),2)","v":"010000"},{"$f":"UPPER(LEFT(MICASH!L95,96))","v":""}]
["C",288,"00",{"$f":"TEXT(MICASH!D96,\"0000000000\")","v":"0000000000"}," ",{"$f":"UPPER(MICASH!F96)","v":""},{"$f":"UPPER(MICASH!G96)","v":""}," ",{"$f":"TEXT(MICASH!I96,\"0000000000\")","v":"0000000000"},{"$f":"TEXT(MICASH!J96*100,\"0000000000\")","v":"0000000000"},{"$f":"TEXT(MONTH(MICASH!K96),\"00\") & TEXT(DAY(MICASH!K96),\"00\") & RIGHT(TEXT(YEAR(MICASH!K96),\"00\"),2)","v":"010000"},{"$f":"UPPER(LEFT(MICASH!L96,96))","v":""}]
["C",288,"00",{"$f":"TEXT(MICASH!D97,\"0000000000\")","v":"0000000000"}," ",{"$f":"UPPER(MICASH!F97)","v":""},{"$f":"UPPER(MICASH!G97)","v":""}," ",{"$f":"TEXT(MICASH!I97,\"0000000000\")","v":"0000000000"},{"$f":"TEXT(MICASH!J97*100,\"0000000000\")","v":"0000000000"},{"$f":"TEXT(MONTH(MICASH!K97),\"00\") & TEXT(DAY(MICASH!K97),\"00\") & RIGHT(TEXT(YEAR(MICASH!K97),\"00\"),2)","v":"010000"},{"$f":"UPPER(LEFT(MICASH!L97,96))","v":""}]
["C",288,"00",{"$f":"TEXT(MICASH!D98,\"0000000000\")","v":"0000000000"}," ",{"$f":"UPPER(MICASH!F98)","v":""},{"$f":"UPPER(MICASH!G98)","v":""}," ",{"$f":"TEXT(MICASH!I98,\"0000000000\")","v":"0000000000"},{"$f":"TEXT(MICASH!J98*100,\"0000000000\")","v":"0000000000"},{"$f":"TEXT(MONTH(MICASH!K98),\"00\") & TEXT(DAY(MICASH!K98),\"00\") & RIGHT(TEXT(YEAR(MICASH!K98),\"00\"),2)","v":"010000"},{"$f":"UPPER(LEFT(MICASH!L98,96))","v":""}]
["C",288,"00",{"$f":"TEXT(MICASH!D99,\"0000000000\")","v":"0000000000"}," ",{"$f":"UPPER(MICASH!F99)","v":""},{"$f":"UPPER(MICASH!G99)","v":""}," ",{"$f":"TEXT(MICASH!I99,\"0000000000\")","v":"0000000000"},{"$f":"TEXT(MICASH!J99*100,\"0000000000\")","v":"0000000000"},{"$f":"TEXT(MONTH(MICASH!K99),\"00\") & TEXT(DAY(MICASH!K99),\"00\") & RIGHT(TEXT(YEAR(MICASH!K99),\"00\"),2)","v":"010000"},{"$f":"UPPER(LEFT(MICASH!L99,96))","v":""}]
["C",288,"00",{"$f":"TEXT(MICASH!D100,\"0000000000\")","v":"0000000000"}," ",{"$f":"UPPER(MICASH!F100)","v":""},{"$f":"UPPER(MICASH!G100)","v":""}," ",{"$f":"TEXT(MICASH!I100,\"0000000000\")","v":"0000000000"},{"$f":"TEXT(MICASH!J100*100,\"0000000000\")","v":"0000000000"},{"$f":"TEXT(MONTH(MICASH!K100),\"00\") & TEXT(DAY(MICASH!K100),\"00\") & RIGHT(TEXT(YEAR(MICASH!K100),\"00\"),2)","v":"010000"},{"$f":"UPPER(LEFT(MICASH!L100,96))","v":""}]
["C",288,"00",{"$f":"TEXT(MICASH!D101,\"0000000000\")","v":"0000000000"}," ",{"$f":"UPPER(MICASH!F101)","v":""},{"$f":"UPPER(MICASH!G101)","v":""}," ",{"$f":"TEXT(MICASH!I101,\"0000000000\")","v":"0000000000"},{"$f":"TEXT(MICASH!J101*100,\"0000000000\")","v":"0000000000"},{"$f":"TEXT(MONTH(MICASH!K101),\"00\") & TEXT(DAY(MICASH!K101),\"00\") & RIGHT(TEXT(YEAR(MICASH!K101),\"00\"),2)","v":"010000"},{"$f":"UPPER(LEFT(MICASH!L101,96))","v":""}]
["C",288,"00",{"$f":"TEXT(MICASH!D102,\"0000000000\")","v":"0000000000"}," ",{"$f":"UPPER(MICASH!F102)","v":""},{"$f":"UPPER(MICASH!G102)","v":""}," ",{"$f":"TEXT(MICASH!I102,\"0000000000\")","v":"0000000000"},{"$f":"TEXT(MICASH!J102*100,\"0000000000\")","v":"0000000000"},{"$f":"TEXT(MONTH(MICASH!K102),\"00\") & TEXT(DAY(MICASH!K102),\"00\") & RIGHT(TEXT(YEAR(MICASH!K102),\"00\"),2)","v":"010000"},{"$f":"UPPER(LEFT(MICASH!L102,96))","v":""}]
["C",288,"00",{"$f":"TEXT(MICASH!D103,\"0000000000\")","v":"0000000000"}," ",{"$f":"UPPER(MICASH!F103)","v":""},{"$f":"UPPER(MICASH!G103)","v":""}," ",{"$f":"TEXT(MICASH!I103,\"0000000000\")","v":"0000000000"},{"$f":"TEXT(MICASH!J103*100,\"0000000000\")","v":"0000000000"},{"$f":"TEXT(MONTH(MICASH!K103),\"00\") & TEXT(DAY(MICASH!K103),\"00\") & RIGHT(TEXT(YEAR(MICASH!K103),\"00\"),2)","v":"010000"},{"$f":"UPPER(LEFT(MICASH!L103,96))","v":""}]
["C",288,"00",{"$f":"TEXT(MICASH!D104,\"0000000000\")","v":"0000000000"}," ",{"$f":"UPPER(MICASH!F104)","v":""},{"$f":"UPPER(MICASH!G104)","v":""}," ",{"$f":"TEXT(MICASH!I104,\"0000000000\")","v":"0000000000"},{"$f":"TEXT(MICASH!J104*100,\"0000000000\")","v":"0000000000"},{"$f":"TEXT(MONTH(MICASH!K104),\"00\") & TEXT(DAY(MICASH!K104),\"00\") & RIGHT(TEXT(YEAR(MICASH!K104),\"00\"),2)","v":"010000"},{"$f":"UPPER(LEFT(MICASH!L104,96))","v":""}]
["C",288,"00",{"$f":"TEXT(MICASH!D105,\"0000000000\")","v":"0000000000"}," ",{"$f":"UPPER(MICASH!F105)","v":""},{"$f":"UPPER(MICASH!G105)","v":""}," ",{"$f":"TEXT(MICASH!I105,\"0000000000\")","v":"0000000000"},{"$f":"TEXT(MICASH!J105*100,\"0000000000\")","v":"0000000000"},{"$f":"TEXT(MONTH(MICASH!K105),\"00\") & TEXT(DAY(MICASH!K105),\"00\") & RIGHT(TEXT(YEAR(MICASH!K105),\"00\"),2)","v":"010000"},{"$f":"UPPER(LEFT(MICASH!L105,96))","v":""}]
["C",288,"00",{"$f":"TEXT(MICASH!D106,\"0000000000\")","v":"0000000000"}," ",{"$f":"UPPER(MICASH!F106)","v":""},{"$f":"UPPER(MICASH!G106)","v":""}," ",{"$f":"TEXT(MICASH!I106,\"0000000000\")","v":"0000000000"},{"$f":"TEXT(MICASH!J106*100,\"0000000000\")","v":"0000000000"},{"$f":"TEXT(MONTH(MICASH!K106),\"00\") & TEXT(DAY(MICASH!K106),\"00\") & RIGHT(TEXT(YEAR(MICASH!K106),\"00\"),2)","v":"010000"},{"$f":"UPPER(LEFT(MICASH!L106,96))","v":""}]
["C",288,"00",{"$f":"TEXT(MICASH!D107,\"0000000000\")","v":"0000000000"}," ",{"$f":"UPPER(MICASH!F107)","v":""},{"$f":"UPPER(MICASH!G107)","v":""}," ",{"$f":"TEXT(MICASH!I107,\"0000000000\")","v":"0000000000"},{"$f":"TEXT(MICASH!J107*100,\"0000000000\")","v":"0000000000"},{"$f":"TEXT(MONTH(MICASH!K107),\"00\") & TEXT(DAY(MICASH!K107),\"00\") & RIGHT(TEXT(YEAR(MICASH!K107),\"00\"),2)","v":"010000"},{"$f":"UPPER(LEFT(MICASH!L107,96))","v":""}]
["C",288,"00",{"$f":"TEXT(MICASH!D108,\"0000000000\")","v":"0000000000"}," ",{"$f":"UPPER(MICASH!F108)","v":""},{"$f":"UPPER(MICASH!G108)","v":""}," ",{"$f":"TEXT(MICASH!I108,\"0000000000\")","v":"0000000000"},{"$f":"TEXT(MICASH!J108*100,\"0000000000\")","v":"0000000000"},{"$f":"TEXT(MONTH(MICASH!K108),\"00\") & TEXT(DAY(MICASH!K108),\"00\") & RIGHT(TEXT(YEAR(MICASH!K108),\"00\"),2)","v":"010000"},{"$f":"UPPER(LEFT(MICASH!L108,96))","v":""}]
["C",288,"00",{"$f":"TEXT(MICASH!D109,\"0000000000\")","v":"0000000000"}," ",{"$f":"UPPER(MICASH!F109)","v":""},{"$f":"UPPER(MICASH!G109)","v":""}," ",{"$f":"TEXT(MICASH!I109,\"0000000000\")","v":"0000000000"},{"$f":"TEXT(MICASH!J109*100,\"0000000000\")","v":"0000000000"},{"$f":"TEXT(MONTH(MICASH!K109),\"00\") & TEXT(DAY(MICASH!K109),\"00\") & RIGHT(TEXT(YEAR(MICASH!K109),\"00\"),2)","v":"010000"},{"$f":"UPPER(LEFT(MICASH!L109,96))","v":""}]
["C",288,"00",{"$f":"TEXT(MICASH!D110,\"0000000000\")","v":"0000000000"}," ",{"$f":"UPPER(MICASH!F110)","v":""},{"$f":"UPPER(MICASH!G110)","v":""}," ",{"$f":"TEXT(MICASH!I110,\"0000000000\")","v":"0000000000"},{"$f":"TEXT(MICASH!J110*100,\"0000000000\")","v":"0000000000"},{"$f":"TEXT(MONTH(MICASH!K110),\"00\") & TEXT(DAY(MICASH!K110),\"00\") & RIGHT(TEXT(YEAR(MICASH!K110),\"00\"),2)","v":"010000"},{"$f":"UPPER(LEFT(MICASH!L110,96))","v":""}]
["C",288,"00",{"$f":"TEXT(MICASH!D111,\"0000000000\")","v":"0000000000"}," ",{"$f":"UPPER(MICASH!F111)","v":""},{"$f":"UPPER(MICASH!G111)","v":""}," ",{"$f":"TEXT(MICASH!I111,\"0000000000\")","v":"0000000000"},{"$f":"TEXT(MICASH!J111*100,\"0000000000\")","v":"0000000000"},{"$f":"TEXT(MONTH(MICASH!K111),\"00\") & TEXT(DAY(MICASH!K111),\"00\") & RIGHT(TEXT(YEAR(MICASH!K111),\"00\"),2)","v":"010000"},{"$f":"UPPER(LEFT(MICASH!L111,96))","v":""}]
["C",288,"00",{"$f":"TEXT(MICASH!D112,\"0000000000\")","v":"0000000000"}," ",{"$f":"UPPER(MICASH!F112)","v":""},{"$f":"UPPER(MICASH!G112)","v":""}," ",{"$f":"TEXT(MICASH!I112,\"0000000000\")","v":"0000000000"},{"$f":"TEXT(MICASH!J112*100,\"0000000000\")","v":"0000000000"},{"$f":"TEXT(MONTH(MICASH!K112),\"00\") & TEXT(DAY(MICASH!K112),\"00\") & RIGHT(TEXT(YEAR(MICASH!K112),\"00\"),2)","v":"010000"},{"$f":"UPPER(LEFT(MICASH!L112,96))","v":""}]
["C",288,"00",{"$f":"TEXT(MICASH!D113,\"0000000000\")","v":"0000000000"}," ",{"$f":"UPPER(MICASH!F113)","v":""},{"$f":"UPPER(MICASH!G113)","v":""}," ",{"$f":"TEXT(MICASH!I113,\"0000000000\")","v":"0000000000"},{"$f":"TEXT(MICASH!J113*100,\"0000000000\")","v":"0000000000"},{"$f":"TEXT(MONTH(MICASH!K113),\"00\") & TEXT(DAY(MICASH!K113),\"00\") & RIGHT(TEXT(YEAR(MICASH!K113),\"00\"),2)","v":"010000"},{"$f":"UPPER(LEFT(MICASH!L113,96))","v":""}]
["C",288,"00",{"$f":"TEXT(MICASH!D114,\"0000000000\")","v":"0000000000"}," ",{"$f":"UPPER(MICASH!F114)","v":""},{"$f":"UPPER(MICASH!G114)","v":""}," ",{"$f":"TEXT(MICASH!I114,\"0000000000\")","v":"0000000000"},{"$f":"TEXT(MICASH!J114*100,\"0000000000\")","v":"0000000000"},{"$f":"TEXT(MONTH(MICASH!K114),\"00\") & TEXT(DAY(MICASH!K114),\"00\") & RIGHT(TEXT(YEAR(MICASH!K114),\"00\"),2)","v":"010000"},{"$f":"UPPER(LEFT(MICASH!L114,96))","v":""}]
["C",288,"00",{"$f":"TEXT(MICASH!D115,\"0000000000\")","v":"0000000000"}," ",{"$f":"UPPER(MICASH!F115)","v":""},{"$f":"UPPER(MICASH!G115)","v":""}," ",{"$f":"TEXT(MICASH!I115,\"0000000000\")","v":"0000000000"},{"$f":"TEXT(MICASH!J115*100,\"0000000000\")","v":"0000000000"},{"$f":"TEXT(MONTH(MICASH!K115),\"00\") & TEXT(DAY(MICASH!K115),\"00\") & RIGHT(TEXT(YEAR(MICASH!K115),\"00\"),2)","v":"010000"},{"$f":"UPPER(LEFT(MICASH!L115,96))","v":""}]
["C",288,"00",{"$f":"TEXT(MICASH!D116,\"0000000000\")","v":"0000000000"}," ",{"$f":"UPPER(MICASH!F116)","v":""},{"$f":"UPPER(MICASH!G116)","v":""}," ",{"$f":"TEXT(MICASH!I116,\"0000000000\")","v":"0000000000"},{"$f":"TEXT(MICASH!J116*100,\"0000000000\")","v":"0000000000"},{"$f":"TEXT(MONTH(MICASH!K116),\"00\") & TEXT(DAY(MICASH!K116),\"00\") & RIGHT(TEXT(YEAR(MICASH!K116),\"00\"),2)","v":"010000"},{"$f":"UPPER(LEFT(MICASH!L116,96))","v":""}]
["C",288,"00",{"$f":"TEXT(MICASH!D117,\"0000000000\")","v":"0000000000"}," ",{"$f":"UPPER(MICASH!F117)","v":""},{"$f":"UPPER(MICASH!G117)","v":""}," ",{"$f":"TEXT(MICASH!I117,\"0000000000\")","v":"0000000000"},{"$f":"TEXT(MICASH!J117*100,\"0000000000\")","v":"0000000000"},{"$f":"TEXT(MONTH(MICASH!K117),\"00\") & TEXT(DAY(MICASH!K117),\"00\") & RIGHT(TEXT(YEAR(MICASH!K117),\"00\"),2)","v":"010000"},{"$f":"UPPER(LEFT(MICASH!L117,96))","v":""}]
["C",288,"00",{"$f":"TEXT(MICASH!D118,\"0000000000\")","v":"0000000000"}," ",{"$f":"UPPER(MICASH!F118)","v":""},{"$f":"UPPER(MICASH!G118)","v":""}," ",{"$f":"TEXT(MICASH!I118,\"0000000000\")","v":"0000000000"},{"$f":"TEXT(MICASH!J118*100,\"0000000000\")","v":"0000000000"},{"$f":"TEXT(MONTH(MICASH!K118),\"00\") & TEXT(DAY(MICASH!K118),\"00\") & RIGHT(TEXT(YEAR(MICASH!K118),\"00\"),2)","v":"010000"},{"$f":"UPPER(LEFT(MICASH!L118,96))","v":""}]
["C",288,"00",{"$f":"TEXT(MICASH!D119,\"0000000000\")","v":"0000000000"}," ",{"$f":"UPPER(MICASH!F119)","v":""},{"$f":"UPPER(MICASH!G119)","v":""}," ",{"$f":"TEXT(MICASH!I119,\"0000000000\")","v":"0000000000"},{"$f":"TEXT(MICASH!J119*100,\"0000000000\")","v":"0000000000"},{"$f":"TEXT(MONTH(MICASH!K119),\"00\") & TEXT(DAY(MICASH!K119),\"00\") & RIGHT(TEXT(YEAR(MICASH!K119),\"00\"),2)","v":"010000"},{"$f":"UPPER(LEFT(MICASH!L119,96))","v":""}]
["C",288,"00",{"$f":"TEXT(MICASH!D120,\"0000000000\")","v":"0000000000"}," ",{"$f":"UPPER(MICASH!F120)","v":""},{"$f":"UPPER(MICASH!G120)","v":""}," ",{"$f":"TEXT(MICASH!I120,\"0000000000\")","v":"0000000000"},{"$f":"TEXT(MICASH!J120*100,\"0000000000\")","v":"0000000000"},{"$f":"TEXT(MONTH(MICASH!K120),\"00\") & TEXT(DAY(MICASH!K120),\"00\") & RIGHT(TEXT(YEAR(MICASH!K120),\"00\"),2)","v":"010000"},{"$f":"UPPER(LEFT(MICASH!L120,96))","v":""}]
["C",288,"00",{"$f":"TEXT(MICASH!D121,\"0000000000\")","v":"0000000000"}," ",{"$f":"UPPER(MICASH!F121)","v":""},{"$f":"UPPER(MICASH!G121)","v":""}," ",{"$f":"TEXT(MICASH!I121,\"0000000000\")","v":"0000000000"},{"$f":"TEXT(MICASH!J121*100,\"0000000000\")","v":"0000000000"},{"$f":"TEXT(MONTH(MICASH!K121),\"00\") & TEXT(DAY(MICASH!K121),\"00\") & RIGHT(TEXT(YEAR(MICASH!K121),\"00\"),2)","v":"010000"},{"$f":"UPPER(LEFT(MICASH!L121,96))","v":""}]
["C",288,"00",{"$f":"TEXT(MICASH!D122,\"0000000000\")","v":"0000000000"}," ",{"$f":"UPPER(MICASH!F122)","v":""},{"$f":"UPPER(MICASH!G122)","v":""}," ",{"$f":"TEXT(MICASH!I122,\"0000000000\")","v":"0000000000"},{"$f":"TEXT(MICASH!J122*100,\"0000000000\")","v":"0000000000"},{"$f":"TEXT(MONTH(MICASH!K122),\"00\") & TEXT(DAY(MICASH!K122),\"00\") & RIGHT(TEXT(YEAR(MICASH!K122),\"00\"),2)","v":"010000"},{"$f":"UPPER(LEFT(MICASH!L122,96))","v":""}]
["C",288,"00",{"$f":"TEXT(MICASH!D123,\"0000000000\")","v":"0000000000"}," ",{"$f":"UPPER(MICASH!F123)","v":""},{"$f":"UPPER(MICASH!G123)","v":""}," ",{"$f":"TEXT(MICASH!I123,\"0000000000\")","v":"0000000000"},{"$f":"TEXT(MICASH!J123*100,\"0000000000\")","v":"0000000000"},{"$f":"TEXT(MONTH(MICASH!K123),\"00\") & TEXT(DAY(MICASH!K123),\"00\") & RIGHT(TEXT(YEAR(MICASH!K123),\"00\"),2)","v":"010000"},{"$f":"UPPER(LEFT(MICASH!L123,96))","v":""}]
["C",288,"00",{"$f":"TEXT(MICASH!D124,\"0000000000\")","v":"0000000000"}," ",{"$f":"UPPER(MICASH!F124)","v":""},{"$f":"UPPER(MICASH!G124)","v":""}," ",{"$f":"TEXT(MICASH!I124,\"0000000000\")","v":"0000000000"},{"$f":"TEXT(MICASH!J124*100,\"0000000000\")","v":"0000000000"},{"$f":"TEXT(MONTH(MICASH!K124),\"00\") & TEXT(DAY(MICASH!K124),\"00\") & RIGHT(TEXT(YEAR(MICASH!K124),\"00\"),2)","v":"010000"},{"$f":"UPPER(LEFT(MICASH!L124,96))","v":""}]
["C",288,"00",{"$f":"TEXT(MICASH!D125,\"0000000000\")","v":"0000000000"}," ",{"$f":"UPPER(MICASH!F125)","v":""},{"$f":"UPPER(MICASH!G125)","v":""}," ",{"$f":"TEXT(MICASH!I125,\"0000000000\")","v":"0000000000"},{"$f":"TEXT(MICASH!J125*100,\"0000000000\")","v":"0000000000"},{"$f":"TEXT(MONTH(MICASH!K125),\"00\") & TEXT(DAY(MICASH!K125),\"00\") & RIGHT(TEXT(YEAR(MICASH!K125),\"00\"),2)","v":"010000"},{"$f":"UPPER(LEFT(MICASH!L125,96))","v":""}]
["C",288,"00",{"$f":"TEXT(MICASH!D126,\"0000000000\")","v":"0000000000"}," ",{"$f":"UPPER(MICASH!F126)","v":""},{"$f":"UPPER(MICASH!G126)","v":""}," ",{"$f":"TEXT(MICASH!I126,\"0000000000\")","v":"0000000000"},{"$f":"TEXT(MICASH!J126*100,\"0000000000\")","v":"0000000000"},{"$f":"TEXT(MONTH(MICASH!K126),\"00\") & TEXT(DAY(MICASH!K126),\"00\") & RIGHT(TEXT(YEAR(MICASH!K126),\"00\"),2)","v":"010000"},{"$f":"UPPER(LEFT(MICASH!L126,96))","v":""}]
["C",288,"00",{"$f":"TEXT(MICASH!D127,\"0000000000\")","v":"0000000000"}," ",{"$f":"UPPER(MICASH!F127)","v":""},{"$f":"UPPER(MICASH!G127)","v":""}," ",{"$f":"TEXT(MICASH!I127,\"0000000000\")","v":"0000000000"},{"$f":"TEXT(MICASH!J127*100,\"0000000000\")","v":"0000000000"},{"$f":"TEXT(MONTH(MICASH!K127),\"00\") & TEXT(DAY(MICASH!K127),\"00\") & RIGHT(TEXT(YEAR(MICASH!K127),\"00\"),2)","v":"010000"},{"$f":"UPPER(LEFT(MICASH!L127,96))","v":""}]
["C",288,"00",{"$f":"TEXT(MICASH!D128,\"0000000000\")","v":"0000000000"}," ",{"$f":"UPPER(MICASH!F128)","v":""},{"$f":"UPPER(MICASH!G128)","v":""}," ",{"$f":"TEXT(MICASH!I128,\"0000000000\")","v":"0000000000"},{"$f":"TEXT(MICASH!J128*100,\"0000000000\")","v":"0000000000"},{"$f":"TEXT(MONTH(MICASH!K128),\"00\") & TEXT(DAY(MICASH!K128),\"00\") & RIGHT(TEXT(YEAR(MICASH!K128),\"00\"),2)","v":"010000"},{"$f":"UPPER(LEFT(MICASH!L128,96))","v":""}]
["C",288,"00",{"$f":"TEXT(MICASH!D129,\"0000000000\")","v":"0000000000"}," ",{"$f":"UPPER(MICASH!F129)","v":""},{"$f":"UPPER(MICASH!G129)","v":""}," ",{"$f":"TEXT(MICASH!I129,\"0000000000\")","v":"0000000000"},{"$f":"TEXT(MICASH!J129*100,\"0000000000\")","v":"0000000000"},{"$f":"TEXT(MONTH(MICASH!K129),\"00\") & TEXT(DAY(MICASH!K129),\"00\") & RIGHT(TEXT(YEAR(MICASH!K129),\"00\"),2)","v":"010000"},{"$f":"UPPER(LEFT(MICASH!L129,96))","v":""}]
["C",288,"00",{"$f":"TEXT(MICASH!D130,\"0000000000\")","v":"0000000000"}," ",{"$f":"UPPER(MICASH!F130)","v":""},{"$f":"UPPER(MICASH!G130)","v":""}," ",{"$f":"TEXT(MICASH!I130,\"0000000000\")","v":"0000000000"},{"$f":"TEXT(MICASH!J130*100,\"0000000000\")","v":"0000000000"},{"$f":"TEXT(MONTH(MICASH!K130),\"00\") & TEXT(DAY(MICASH!K130),\"00\") & RIGHT(TEXT(YEAR(MICASH!K130),\"00\"),2)","v":"010000"},{"$f":"UPPER(LEFT(MICASH!L130,96))","v":""}]
["C",288,"00",{"$f":"TEXT(MICASH!D131,\"0000000000\")","v":"0000000000"}," ",{"$f":"UPPER(MICASH!F131)","v":""},{"$f":"UPPER(MICASH!G131)","v":""}," ",{"$f":"TEXT(MICASH!I131,\"0000000000\")","v":"0000000000"},{"$f":"TEXT(MICASH!J131*100,\"0000000000\")","v":"0000000000"},{"$f":"TEXT(MONTH(MICASH!K131),\"00\") & TEXT(DAY(MICASH!K131),\"00\") & RIGHT(TEXT(YEAR(MICASH!K131),\"00\"),2)","v":"010000"},{"$f":"UPPER(LEFT(MICASH!L131,96))","v":""}]
["C",288,"00",{"$f":"TEXT(MICASH!D132,\"0000000000\")","v":"0000000000"}," ",{"$f":"UPPER(MICASH!F132)","v":""},{"$f":"UPPER(MICASH!G132)","v":""}," ",{"$f":"TEXT(MICASH!I132,\"0000000000\")","v":"0000000000"},{"$f":"TEXT(MICASH!J132*100,\"0000000000\")","v":"0000000000"},{"$f":"TEXT(MONTH(MICASH!K132),\"00\") & TEXT(DAY(MICASH!K132),\"00\") & RIGHT(TEXT(YEAR(MICASH!K132),\"00\"),2)","v":"010000"},{"$f":"UPPER(LEFT(MICASH!L132,96))","v":""}]
["C",288,"00",{"$f":"TEXT(MICASH!D133,\"0000000000\")","v":"0000000000"}," ",{"$f":"UPPER(MICASH!F133)","v":""},{"$f":"UPPER(MICASH!G133)","v":""}," ",{"$f":"TEXT(MICASH!I133,\"0000000000\")","v":"0000000000"},{"$f":"TEXT(MICASH!J133*100,\"0000000000\")","v":"0000000000"},{"$f":"TEXT(MONTH(MICASH!K133),\"00\") & TEXT(DAY(MICASH!K133),\"00\") & RIGHT(TEXT(YEAR(MICASH!K133),\"00\"),2)","v":"010000"},{"$f":"UPPER(LEFT(MICASH!L133,96))","v":""}]
["C",288,"00",{"$f":"TEXT(MICASH!D134,\"0000000000\")","v":"0000000000"}," ",{"$f":"UPPER(MICASH!F134)","v":""},{"$f":"UPPER(MICASH!G134)","v":""}," ",{"$f":"TEXT(MICASH!I134,\"0000000000\")","v":"0000000000"},{"$f":"TEXT(MICASH!J134*100,\"0000000000\")","v":"0000000000"},{"$f":"TEXT(MONTH(MICASH!K134),\"00\") & TEXT(DAY(MICASH!K134),\"00\") & RIGHT(TEXT(YEAR(MICASH!K134),\"00\"),2)","v":"010000"},{"$f":"UPPER(LEFT(MICASH!L134,96))","v":""}]
["C",288,"00",{"$f":"TEXT(MICASH!D135,\"0000000000\")","v":"0000000000"}," ",{"$f":"UPPER(MICASH!F135)","v":""},{"$f":"UPPER(MICASH!G135)","v":""}," ",{"$f":"TEXT(MICASH!I135,\"0000000000\")","v":"0000000000"},{"$f":"TEXT(MICASH!J135*100,\"0000000000\")","v":"0000000000"},{"$f":"TEXT(MONTH(MICASH!K135),\"00\") & TEXT(DAY(MICASH!K135),\"00\") & RIGHT(TEXT(YEAR(MICASH!K135),\"00\"),2)","v":"010000"},{"$f":"UPPER(LEFT(MICASH!L135,96))","v":""}]
["C",288,"00",{"$f":"TEXT(MICASH!D136,\"0000000000\")","v":"0000000000"}," ",{"$f":"UPPER(MICASH!F136)","v":""},{"$f":"UPPER(MICASH!G136)","v":""}," ",{"$f":"TEXT(MICASH!I136,\"0000000000\")","v":"0000000000"},{"$f":"TEXT(MICASH!J136*100,\"0000000000\")","v":"0000000000"},{"$f":"TEXT(MONTH(MICASH!K136),\"00\") & TEXT(DAY(MICASH!K136),\"00\") & RIGHT(TEXT(YEAR(MICASH!K136),\"00\"),2)","v":"010000"},{"$f":"UPPER(LEFT(MICASH!L136,96))","v":""}]
["C",288,"00",{"$f":"TEXT(MICASH!D137,\"0000000000\")","v":"0000000000"}," ",{"$f":"UPPER(MICASH!F137)","v":""},{"$f":"UPPER(MICASH!G137)","v":""}," ",{"$f":"TEXT(MICASH!I137,\"0000000000\")","v":"0000000000"},{"$f":"TEXT(MICASH!J137*100,\"0000000000\")","v":"0000000000"},{"$f":"TEXT(MONTH(MICASH!K137),\"00\") & TEXT(DAY(MICASH!K137),\"00\") & RIGHT(TEXT(YEAR(MICASH!K137),\"00\"),2)","v":"010000"},{"$f":"UPPER(LEFT(MICASH!L137,96))","v":""}]
["C",288,"00",{"$f":"TEXT(MICASH!D138,\"0000000000\")","v":"0000000000"}," ",{"$f":"UPPER(MICASH!F138)","v":""},{"$f":"UPPER(MICASH!G138)","v":""}," ",{"$f":"TEXT(MICASH!I138,\"0000000000\")","v":"0000000000"},{"$f":"TEXT(MICASH!J138*100,\"0000000000\")","v":"0000000000"},{"$f":"TEXT(MONTH(MICASH!K138),\"00\") & TEXT(DAY(MICASH!K138),\"00\") & RIGHT(TEXT(YEAR(MICASH!K138),\"00\"),2)","v":"010000"},{"$f":"UPPER(LEFT(MICASH!L138,96))","v":""}]
["C",288,"00",{"$f":"TEXT(MICASH!D139,\"0000000000\")","v":"0000000000"}," ",{"$f":"UPPER(MICASH!F139)","v":""},{"$f":"UPPER(MICASH!G139)","v":""}," ",{"$f":"TEXT(MICASH!I139,\"0000000000\")","v":"0000000000"},{"$f":"TEXT(MICASH!J139*100,\"0000000000\")","v":"0000000000"},{"$f":"TEXT(MONTH(MICASH!K139),\"00\") & TEXT(DAY(MICASH!K139),\"00\") & RIGHT(TEXT(YEAR(MICASH!K139),\"00\"),2)","v":"010000"},{"$f":"UPPER(LEFT(MICASH!L139,96))","v":""}]
["C",288,"00",{"$f":"TEXT(MICASH!D140,\"0000000000\")","v":"0000000000"}," ",{"$f":"UPPER(MICASH!F140)","v":""},{"$f":"UPPER(MICASH!G140)","v":""}," ",{"$f":"TEXT(MICASH!I140,\"0000000000\")","v":"0000000000"},{"$f":"TEXT(MICASH!J140*100,\"0000000000\")","v":"0000000000"},{"$f":"TEXT(MONTH(MICASH!K140),\"00\") & TEXT(DAY(MICASH!K140),\"00\") & RIGHT(TEXT(YEAR(MICASH!K140),\"00\"),2)","v":"010000"},{"$f":"UPPER(LEFT(MICASH!L140,96))","v":""}]
["C",288,"00",{"$f":"TEXT(MICASH!D141,\"0000000000\")","v":"0000000000"}," ",{"$f":"UPPER(MICASH!F141)","v":""},{"$f":"UPPER(MICASH!G141)","v":""}," ",{"$f":"TEXT(MICASH!I141,\"0000000000\")","v":"0000000000"},{"$f":"TEXT(MICASH!J141*100,\"0000000000\")","v":"0000000000"},{"$f":"TEXT(MONTH(MICASH!K141),\"00\") & TEXT(DAY(MICASH!K141),\"00\") & RIGHT(TEXT(YEAR(MICASH!K141),\"00\"),2)","v":"010000"},{"$f":"UPPER(LEFT(MICASH!L141,96))","v":""}]
["C",288,"00",{"$f":"TEXT(MICASH!D142,\"0000000000\")","v":"0000000000"}," ",{"$f":"UPPER(MICASH!F142)","v":""},{"$f":"UPPER(MICASH!G142)","v":""}," ",{"$f":"TEXT(MICASH!I142,\"0000000000\")","v":"0000000000"},{"$f":"TEXT(MICASH!J142*100,\"0000000000\")","v":"0000000000"},{"$f":"TEXT(MONTH(MICASH!K142),\"00\") & TEXT(DAY(MICASH!K142),\"00\") & RIGHT(TEXT(YEAR(MICASH!K142),\"00\"),2)","v":"010000"},{"$f":"UPPER(LEFT(MICASH!L142,96))","v":""}]
["C",288,"00",{"$f":"TEXT(MICASH!D143,\"0000000000\")","v":"0000000000"}," ",{"$f":"UPPER(MICASH!F143)","v":""},{"$f":"UPPER(MICASH!G143)","v":""}," ",{"$f":"TEXT(MICASH!I143,\"0000000000\")","v":"0000000000"},{"$f":"TEXT(MICASH!J143*100,\"0000000000\")","v":"0000000000"},{"$f":"TEXT(MONTH(MICASH!K143),\"00\") & TEXT(DAY(MICASH!K143),\"00\") & RIGHT(TEXT(YEAR(MICASH!K143),\"00\"),2)","v":"010000"},{"$f":"UPPER(LEFT(MICASH!L143,96))","v":""}]
["C",288,"00",{"$f":"TEXT(MICASH!D144,\"0000000000\")","v":"0000000000"}," ",{"$f":"UPPER(MICASH!F144)","v":""},{"$f":"UPPER(MICASH!G144)","v":""}," ",{"$f":"TEXT(MICASH!I144,\"0000000000\")","v":"0000000000"},{"$f":"TEXT(MICASH!J144*100,\"0000000000\")","v":"0000000000"},{"$f":"TEXT(MONTH(MICASH!K144),\"00\") & TEXT(DAY(MICASH!K144),\"00\") & RIGHT(TEXT(YEAR(MICASH!K144),\"00\"),2)","v":"010000"},{"$f":"UPPER(LEFT(MICASH!L144,96))","v":""}]
["C",288,"00",{"$f":"TEXT(MICASH!D145,\"0000000000\")","v":"0000000000"}," ",{"$f":"UPPER(MICASH!F145)","v":""},{"$f":"UPPER(MICASH!G145)","v":""}," ",{"$f":"TEXT(MICASH!I145,\"0000000000\")","v":"0000000000"},{"$f":"TEXT(MICASH!J145*100,\"0000000000\")","v":"0000000000"},{"$f":"TEXT(MONTH(MICASH!K145),\"00\") & TEXT(DAY(MICASH!K145),\"00\") & RIGHT(TEXT(YEAR(MICASH!K145),\"00\"),2)","v":"010000"},{"$f":"UPPER(LEFT(MICASH!L145,96))","v":""}]
["C",288,"00",{"$f":"TEXT(MICASH!D146,\"0000000000\")","v":"0000000000"}," ",{"$f":"UPPER(MICASH!F146)","v":""},{"$f":"UPPER(MICASH!G146)","v":""}," ",{"$f":"TEXT(MICASH!I146,\"0000000000\")","v":"0000000000"},{"$f":"TEXT(MICASH!J146*100,\"0000000000\")","v":"0000000000"},{"$f":"TEXT(MONTH(MICASH!K146),\"00\") & TEXT(DAY(MICASH!K146),\"00\") & RIGHT(TEXT(YEAR(MICASH!K146),\"00\"),2)","v":"010000"},{"$f":"UPPER(LEFT(MICASH!L146,96))","v":""}]
["C",288,"00",{"$f":"TEXT(MICASH!D147,\"0000000000\")","v":"0000000000"}," ",{"$f":"UPPER(MICASH!F147)","v":""},{"$f":"UPPER(MICASH!G147)","v":""}," ",{"$f":"TEXT(MICASH!I147,\"0000000000\")","v":"0000000000"},{"$f":"TEXT(MICASH!J147*100,\"0000000000\")","v":"0000000000"},{"$f":"TEXT(MONTH(MICASH!K147),\"00\") & TEXT(DAY(MICASH!K147),\"00\") & RIGHT(TEXT(YEAR(MICASH!K147),\"00\"),2)","v":"010000"},{"$f":"UPPER(LEFT(MICASH!L147,96))","v":""}]
["C",288,"00",{"$f":"TEXT(MICASH!D148,\"0000000000\")","v":"0000000000"}," ",{"$f":"UPPER(MICASH!F148)","v":""},{"$f":"UPPER(MICASH!G148)","v":""}," ",{"$f":"TEXT(MICASH!I148,\"0000000000\")","v":"0000000000"},{"$f":"TEXT(MICASH!J148*100,\"0000000000\")","v":"0000000000"},{"$f":"TEXT(MONTH(MICASH!K148),\"00\") & TEXT(DAY(MICASH!K148),\"00\") & RIGHT(TEXT(YEAR(MICASH!K148),\"00\"),2)","v":"010000"},{"$f":"UPPER(LEFT(MICASH!L148,96))","v":""}]
["C",288,"00",{"$f":"TEXT(MICASH!D149,\"0000000000\")","v":"0000000000"}," ",{"$f":"UPPER(MICASH!F149)","v":""},{"$f":"UPPER(MICASH!G149)","v":""}," ",{"$f":"TEXT(MICASH!I149,\"0000000000\")","v":"0000000000"},{"$f":"TEXT(MICASH!J149*100,\"0000000000\")","v":"0000000000"},{"$f":"TEXT(MONTH(MICASH!K149),\"00\") & TEXT(DAY(MICASH!K149),\"00\") & RIGHT(TEXT(YEAR(MICASH!K149),\"00\"),2)","v":"010000"},{"$f":"UPPER(LEFT(MICASH!L149,96))","v":""}]
["C",288,"00",{"$f":"TEXT(MICASH!D150,\"0000000000\")","v":"0000000000"}," ",{"$f":"UPPER(MICASH!F150)","v":""},{"$f":"UPPER(MICASH!G150)","v":""}," ",{"$f":"TEXT(MICASH!I150,\"0000000000\")","v":"0000000000"},{"$f":"TEXT(MICASH!J150*100,\"0000000000\")","v":"0000000000"},{"$f":"TEXT(MONTH(MICASH!K150),\"00\") & TEXT(DAY(MICASH!K150),\"00\") & RIGHT(TEXT(YEAR(MICASH!K150),\"00\"),2)","v":"010000"},{"$f":"UPPER(LEFT(MICASH!L150,96))","v":""}]
["C",288,"00",{"$f":"TEXT(MICASH!D151,\"0000000000\")","v":"0000000000"}," ",{"$f":"UPPER(MICASH!F151)","v":""},{"$f":"UPPER(MICASH!G151)","v":""}," ",{"$f":"TEXT(MICASH!I151,\"0000000000\")","v":"0000000000"},{"$f":"TEXT(MICASH!J151*100,\"0000000000\")","v":"0000000000"},{"$f":"TEXT(MONTH(MICASH!K151),\"00\") & TEXT(DAY(MICASH!K151),\"00\") & RIGHT(TEXT(YEAR(MICASH!K151),\"00\"),2)","v":"010000"},{"$f":"UPPER(LEFT(MICASH!L151,96))","v":""}]
["C",288,"00",{"$f":"TEXT(MICASH!D152,\"0000000000\")","v":"0000000000"}," ",{"$f":"UPPER(MICASH!F152)","v":""},{"$f":"UPPER(MICASH!G152)","v":""}," ",{"$f":"TEXT(MICASH!I152,\"0000000000\")","v":"0000000000"},{"$f":"TEXT(MICASH!J152*100,\"0000000000\")","v":"0000000000"},{"$f":"TEXT(MONTH(MICASH!K152),\"00\") & TEXT(DAY(MICASH!K152),\"00\") & RIGHT(TEXT(YEAR(MICASH!K152),\"00\"),2)","v":"010000"},{"$f":"UPPER(LEFT(MICASH!L152,96))","v":""}]
["C",288,"00",{"$f":"TEXT(MICASH!D153,\"0000000000\")","v":"0000000000"}," ",{"$f":"UPPER(MICASH!F153)","v":""},{"$f":"UPPER(MICASH!G153)","v":""}," ",{"$f":"TEXT(MICASH!I153,\"0000000000\")","v":"0000000000"},{"$f":"TEXT(MICASH!J153*100,\"0000000000\")","v":"0000000000"},{"$f":"TEXT(MONTH(MICASH!K153),\"00\") & TEXT(DAY(MICASH!K153),\"00\") & RIGHT(TEXT(YEAR(MICASH!K153),\"00\"),2)","v":"010000"},{"$f":"UPPER(LEFT(MICASH!L153,96))","v":""}]
["C",288,"00",{"$f":"TEXT(MICASH!D154,\"0000000000\")","v":"0000000000"}," ",{"$f":"UPPER(MICASH!F154)","v":""},{"$f":"UPPER(MICASH!G154)","v":""}," ",{"$f":"TEXT(MICASH!I154,\"0000000000\")","v":"0000000000"},{"$f":"TEXT(MICASH!J154*100,\"0000000000\")","v":"0000000000"},{"$f":"TEXT(MONTH(MICASH!K154),\"00\") & TEXT(DAY(MICASH!K154),\"00\") & RIGHT(TEXT(YEAR(MICASH!K154),\"00\"),2)","v":"010000"},{"$f":"UPPER(LEFT(MICASH!L154,96))","v":""}]
["C",288,"00",{"$f":"TEXT(MICASH!D155,\"0000000000\")","v":"0000000000"}," ",{"$f":"UPPER(MICASH!F155)","v":""},{"$f":"UPPER(MICASH!G155)","v":""}," ",{"$f":"TEXT(MICASH!I155,\"0000000000\")","v":"0000000000"},{"$f":"TEXT(MICASH!J155*100,\"0000000000\")","v":"0000000000"},{"$f":"TEXT(MONTH(MICASH!K155),\"00\") & TEXT(DAY(MICASH!K155),\"00\") & RIGHT(TEXT(YEAR(MICASH!K155),\"00\"),2)","v":"010000"},{"$f":"UPPER(LEFT(MICASH!L155,96))","v":""}]
["C",288,"00",{"$f":"TEXT(MICASH!D156,\"0000000000\")","v":"0000000000"}," ",{"$f":"UPPER(MICASH!F156)","v":""},{"$f":"UPPER(MICASH!G156)","v":""}," ",{"$f":"TEXT(MICASH!I156,\"0000000000\")","v":"0000000000"},{"$f":"TEXT(MICASH!J156*100,\"0000000000\")","v":"0000000000"},{"$f":"TEXT(MONTH(MICASH!K156),\"00\") & TEXT(DAY(MICASH!K156),\"00\") & RIGHT(TEXT(YEAR(MICASH!K156),\"00\"),2)","v":"010000"},{"$f":"UPPER(LEFT(MICASH!L156,96))","v":""}]
["C",288,"00",{"$f":"TEXT(MICASH!D157,\"0000000000\")","v":"0000000000"}," ",{"$f":"UPPER(MICASH!F157)","v":""},{"$f":"UPPER(MICASH!G157)","v":""}," ",{"$f":"TEXT(MICASH!I157,\"0000000000\")","v":"0000000000"},{"$f":"TEXT(MICASH!J157*100,\"0000000000\")","v":"0000000000"},{"$f":"TEXT(MONTH(MICASH!K157),\"00\") & TEXT(DAY(MICASH!K157),\"00\") & RIGHT(TEXT(YEAR(MICASH!K157),\"00\"),2)","v":"010000"},{"$f":"UPPER(LEFT(MICASH!L157,96))","v":""}]
["C",288,"00",{"$f":"TEXT(MICASH!D158,\"0000000000\")","v":"0000000000"}," ",{"$f":"UPPER(MICASH!F158)","v":""},{"$f":"UPPER(MICASH!G158)","v":""}," ",{"$f":"TEXT(MICASH!I158,\"0000000000\")","v":"0000000000"},{"$f":"TEXT(MICASH!J158*100,\"0000000000\")","v":"0000000000"},{"$f":"TEXT(MONTH(MICASH!K158),\"00\") & TEXT(DAY(MICASH!K158),\"00\") & RIGHT(TEXT(YEAR(MICASH!K158),\"00\"),2)","v":"010000"},{"$f":"UPPER(LEFT(MICASH!L158,96))","v":""}]
["C",288,"00",{"$f":"TEXT(MICASH!D159,\"0000000000\")","v":"0000000000"}," ",{"$f":"UPPER(MICASH!F159)","v":""},{"$f":"UPPER(MICASH!G159)","v":""}," ",{"$f":"TEXT(MICASH!I159,\"0000000000\")","v":"0000000000"},{"$f":"TEXT(MICASH!J159*100,\"0000000000\")","v":"0000000000"},{"$f":"TEXT(MONTH(MICASH!K159),\"00\") & TEXT(DAY(MICASH!K159),\"00\") & RIGHT(TEXT(YEAR(MICASH!K159),\"00\"),2)","v":"010000"},{"$f":"UPPER(LEFT(MICASH!L159,96))","v":""}]
["C",288,"00",{"$f":"TEXT(MICASH!D160,\"0000000000\")","v":"0000000000"}," ",{"$f":"UPPER(MICASH!F160)","v":""},{"$f":"UPPER(MICASH!G160)","v":""}," ",{"$f":"TEXT(MICASH!I160,\"0000000000\")","v":"0000000000"},{"$f":"TEXT(MICASH!J160*100,\"0000000000\")","v":"0000000000"},{"$f":"TEXT(MONTH(MICASH!K160),\"00\") & TEXT(DAY(MICASH!K160),\"00\") & RIGHT(TEXT(YEAR(MICASH!K160),\"00\"),2)","v":"010000"},{"$f":"UPPER(LEFT(MICASH!L160,96))","v":""}]
["C",288,"00",{"$f":"TEXT(MICASH!D161,\"0000000000\")","v":"0000000000"}," ",{"$f":"UPPER(MICASH!F161)","v":""},{"$f":"UPPER(MICASH!G161)","v":""}," ",{"$f":"TEXT(MICASH!I161,\"0000000000\")","v":"0000000000"},{"$f":"TEXT(MICASH!J161*100,\"0000000000\")","v":"0000000000"},{"$f":"TEXT(MONTH(MICASH!K161),\"00\") & TEXT(DAY(MICASH!K161),\"00\") & RIGHT(TEXT(YEAR(MICASH!K161),\"00\"),2)","v":"010000"},{"$f":"UPPER(LEFT(MICASH!L161,96))","v":""}]
["C",288,"00",{"$f":"TEXT(MICASH!D162,\"0000000000\")","v":"0000000000"}," ",{"$f":"UPPER(MICASH!F162)","v":""},{"$f":"UPPER(MICASH!G162)","v":""}," ",{"$f":"TEXT(MICASH!I162,\"0000000000\")","v":"0000000000"},{"$f":"TEXT(MICASH!J162*100,\"0000000000\")","v":"0000000000"},{"$f":"TEXT(MONTH(MICASH!K162),\"00\") & TEXT(DAY(MICASH!K162),\"00\") & RIGHT(TEXT(YEAR(MICASH!K162),\"00\"),2)","v":"010000"},{"$f":"UPPER(LEFT(MICASH!L162,96))","v":""}]
["C",288,"00",{"$f":"TEXT(MICASH!D163,\"0000000000\")","v":"0000000000"}," ",{"$f":"UPPER(MICASH!F163)","v":""},{"$f":"UPPER(MICASH!G163)","v":""}," ",{"$f":"TEXT(MICASH!I163,\"0000000000\")","v":"0000000000"},{"$f":"TEXT(MICASH!J163*100,\"0000000000\")","v":"0000000000"},{"$f":"TEXT(MONTH(MICASH!K163),\"00\") & TEXT(DAY(MICASH!K163),\"00\") & RIGHT(TEXT(YEAR(MICASH!K163),\"00\"),2)","v":"010000"},{"$f":"UPPER(LEFT(MICASH!L163,96))","v":""}]
["C",288,"00",{"$f":"TEXT(MICASH!D164,\"0000000000\")","v":"0000000000"}," ",{"$f":"UPPER(MICASH!F164)","v":""},{"$f":"UPPER(MICASH!G164)","v":""}," ",{"$f":"TEXT(MICASH!I164,\"0000000000\")","v":"0000000000"},{"$f":"TEXT(MICASH!J164*100,\"0000000000\")","v":"0000000000"},{"$f":"TEXT(MONTH(MICASH!K164),\"00\") & TEXT(DAY(MICASH!K164),\"00\") & RIGHT(TEXT(YEAR(MICASH!K164),\"00\"),2)","v":"010000"},{"$f":"UPPER(LEFT(MICASH!L164,96))","v":""}]
["C",288,"00",{"$f":"TEXT(MICASH!D165,\"0000000000\")","v":"0000000000"}," ",{"$f":"UPPER(MICASH!F165)","v":""},{"$f":"UPPER(MICASH!G165)","v":""}," ",{"$f":"TEXT(MICASH!I165,\"0000000000\")","v":"0000000000"},{"$f":"TEXT(MICASH!J165*100,\"0000000000\")","v":"0000000000"},{"$f":"TEXT(MONTH(MICASH!K165),\"00\") & TEXT(DAY(MICASH!K165),\"00\") & RIGHT(TEXT(YEAR(MICASH!K165),\"00\"),2)","v":"010000"},{"$f":"UPPER(LEFT(MICASH!L165,96))","v":""}]
["C",288,"00",{"$f":"TEXT(MICASH!D166,\"0000000000\")","v":"0000000000"}," ",{"$f":"UPPER(MICASH!F166)","v":""},{"$f":"UPPER(MICASH!G166)","v":""}," ",{"$f":"TEXT(MICASH!I166,\"0000000000\")","v":"0000000000"},{"$f":"TEXT(MICASH!J166*100,\"0000000000\")","v":"0000000000"},{"$f":"TEXT(MONTH(MICASH!K166),\"00\") & TEXT(DAY(MICASH!K166),\"00\") & RIGHT(TEXT(YEAR(MICASH!K166),\"00\"),2)","v":"010000"},{"$f":"UPPER(LEFT(MICASH!L166,96))","v":""}]
["C",288,"00",{"$f":"TEXT(MICASH!D167,\"0000000000\")","v":"0000000000"}," ",{"$f":"UPPER(MICASH!F167)","v":""},{"$f":"UPPER(MICASH!G167)","v":""}," ",{"$f":"TEXT(MICASH!I167,\"0000000000\")","v":"0000000000"},{"$f":"TEXT(MICASH!J167*100,\"0000000000\")","v":"0000000000"},{"$f":"TEXT(MONTH(MICASH!K167),\"00\") & TEXT(DAY(MICASH!K167),\"00\") & RIGHT(TEXT(YEAR(MICASH!K167),\"00\"),2)","v":"010000"},{"$f":"UPPER(LEFT(MICASH!L167,96))","v":""}]
["C",288,"00",{"$f":"TEXT(MICASH!D168,\"0000000000\")","v":"0000000000"}," ",{"$f":"UPPER(MICASH!F168)","v":""},{"$f":"UPPER(MICASH!G168)","v":""}," ",{"$f":"TEXT(MICASH!I168,\"0000000000\")","v":"0000000000"},{"$f":"TEXT(MICASH!J168*100,\"0000000000\")","v":"0000000000"},{"$f":"TEXT(MONTH(MICASH!K168),\"00\") & TEXT(DAY(MICASH!K168),\"00\") & RIGHT(TEXT(YEAR(MICASH!K168),\"00\"),2)","v":"010000"},{"$f":"UPPER(LEFT(MICASH!L168,96))","v":""}]
["C",288,"00",{"$f":"TEXT(MICASH!D169,\"0000000000\")","v":"0000000000"}," ",{"$f":"UPPER(MICASH!F169)","v":""},{"$f":"UPPER(MICASH!G169)","v":""}," ",{"$f":"TEXT(MICASH!I169,\"0000000000\")","v":"0000000000"},{"$f":"TEXT(MICASH!J169*100,\"0000000000\")","v":"0000000000"},{"$f":"TEXT(MONTH(MICASH!K169),\"00\") & TEXT(DAY(MICASH!K169),\"00\") & RIGHT(TEXT(YEAR(MICASH!K169),\"00\"),2)","v":"010000"},{"$f":"UPPER(LEFT(MICASH!L169,96))","v":""}]
["C",288,"00",{"$f":"TEXT(MICASH!D170,\"0000000000\")","v":"0000000000"}," ",{"$f":"UPPER(MICASH!F170)","v":""},{"$f":"UPPER(MICASH!G170)","v":""}," ",{"$f":"TEXT(MICASH!I170,\"0000000000\")","v":"0000000000"},{"$f":"TEXT(MICASH!J170*100,\"0000000000\")","v":"0000000000"},{"$f":"TEXT(MONTH(MICASH!K170),\"00\") & TEXT(DAY(MICASH!K170),\"00\") & RIGHT(TEXT(YEAR(MICASH!K170),\"00\"),2)","v":"010000"},{"$f":"UPPER(LEFT(MICASH!L170,96))","v":""}]
["C",288,"00",{"$f":"TEXT(MICASH!D171,\"0000000000\")","v":"0000000000"}," ",{"$f":"UPPER(MICASH!F171)","v":""},{"$f":"UPPER(MICASH!G171)","v":""}," ",{"$f":"TEXT(MICASH!I171,\"0000000000\")","v":"0000000000"},{"$f":"TEXT(MICASH!J171*100,\"0000000000\")","v":"0000000000"},{"$f":"TEXT(MONTH(MICASH!K171),\"00\") & TEXT(DAY(MICASH!K171),\"00\") & RIGHT(TEXT(YEAR(MICASH!K171),\"00\"),2)","v":"010000"},{"$f":"UPPER(LEFT(MICASH!L171,96))","v":""}]
["C",288,"00",{"$f":"TEXT(MICASH!D172,\"0000000000\")","v":"0000000000"}," ",{"$f":"UPPER(MICASH!F172)","v":""},{"$f":"UPPER(MICASH!G172)","v":""}," ",{"$f":"TEXT(MICASH!I172,\"0000000000\")","v":"0000000000"},{"$f":"TEXT(MICASH!J172*100,\"0000000000\")","v":"0000000000"},{"$f":"TEXT(MONTH(MICASH!K172),\"00\") & TEXT(DAY(MICASH!K172),\"00\") & RIGHT(TEXT(YEAR(MICASH!K172),\"00\"),2)","v":"010000"},{"$f":"UPPER(LEFT(MICASH!L172,96))","v":""}]
["C",288,"00",{"$f":"TEXT(MICASH!D173,\"0000000000\")","v":"0000000000"}," ",{"$f":"UPPER(MICASH!F173)","v":""},{"$f":"UPPER(MICASH!G173)","v":""}," ",{"$f":"TEXT(MICASH!I173,\"0000000000\")","v":"0000000000"},{"$f":"TEXT(MICASH!J173*100,\"0000000000\")","v":"0000000000"},{"$f":"TEXT(MONTH(MICASH!K173),\"00\") & TEXT(DAY(MICASH!K173),\"00\") & RIGHT(TEXT(YEAR(MICASH!K173),\"00\"),2)","v":"010000"},{"$f":"UPPER(LEFT(MICASH!L173,96))","v":""}]
["C",288,"00",{"$f":"TEXT(MICASH!D174,\"0000000000\")","v":"0000000000"}," ",{"$f":"UPPER(MICASH!F174)","v":""},{"$f":"UPPER(MICASH!G174)","v":""}," ",{"$f":"TEXT(MICASH!I174,\"0000000000\")","v":"0000000000"},{"$f":"TEXT(MICASH!J174*100,\"0000000000\")","v":"0000000000"},{"$f":"TEXT(MONTH(MICASH!K174),\"00\") & TEXT(DAY(MICASH!K174),\"00\") & RIGHT(TEXT(YEAR(MICASH!K174),\"00\"),2)","v":"010000"},{"$f":"UPPER(LEFT(MICASH!L174,96))","v":""}]
["C",288,"00",{"$f":"TEXT(MICASH!D175,\"0000000000\")","v":"0000000000"}," ",{"$f":"UPPER(MICASH!F175)","v":""},{"$f":"UPPER(MICASH!G175)","v":""}," ",{"$f":"TEXT(MICASH!I175,\"0000000000\")","v":"0000000000"},{"$f":"TEXT(MICASH!J175*100,\"0000000000\")","v":"0000000000"},{"$f":"TEXT(MONTH(MICASH!K175),\"00\") & TEXT(DAY(MICASH!K175),\"00\") & RIGHT(TEXT(YEAR(MICASH!K175),\"00\"),2)","v":"010000"},{"$f":"UPPER(LEFT(MICASH!L175,96))","v":""}]
["C",288,"00",{"$f":"TEXT(MICASH!D176,\"0000000000\")","v":"0000000000"}," ",{"$f":"UPPER(MICASH!F176)","v":""},{"$f":"UPPER(MICASH!G176)","v":""}," ",{"$f":"TEXT(MICASH!I176,\"0000000000\")","v":"0000000000"},{"$f":"TEXT(MICASH!J176*100,\"0000000000\")","v":"0000000000"},{"$f":"TEXT(MONTH(MICASH!K176),\"00\") & TEXT(DAY(MICASH!K176),\"00\") & RIGHT(TEXT(YEAR(MICASH!K176),\"00\"),2)","v":"010000"},{"$f":"UPPER(LEFT(MICASH!L176,96))","v":""}]
["C",288,"00",{"$f":"TEXT(MICASH!D177,\"0000000000\")","v":"0000000000"}," ",{"$f":"UPPER(MICASH!F177)","v":""},{"$f":"UPPER(MICASH!G177)","v":""}," ",{"$f":"TEXT(MICASH!I177,\"0000000000\")","v":"0000000000"},{"$f":"TEXT(MICASH!J177*100,\"0000000000\")","v":"0000000000"},{"$f":"TEXT(MONTH(MICASH!K177),\"00\") & TEXT(DAY(MICASH!K177),\"00\") & RIGHT(TEXT(YEAR(MICASH!K177),\"00\"),2)","v":"010000"},{"$f":"UPPER(LEFT(MICASH!L177,96))","v":""}]
["C",288,"00",{"$f":"TEXT(MICASH!D178,\"0000000000\")","v":"0000000000"}," ",{"$f":"UPPER(MICASH!F178)","v":""},{"$f":"UPPER(MICASH!G178)","v":""}," ",{"$f":"TEXT(MICASH!I178,\"0000000000\")","v":"0000000000"},{"$f":"TEXT(MICASH!J178*100,\"0000000000\")","v":"0000000000"},{"$f":"TEXT(MONTH(MICASH!K178),\"00\") & TEXT(DAY(MICASH!K178),\"00\") & RIGHT(TEXT(YEAR(MICASH!K178),\"00\"),2)","v":"010000"},{"$f":"UPPER(LEFT(MICASH!L178,96))","v":""}]
["C",288,"00",{"$f":"TEXT(MICASH!D179,\"0000000000\")","v":"0000000000"}," ",{"$f":"UPPER(MICASH!F179)","v":""},{"$f":"UPPER(MICASH!G179)","v":""}," ",{"$f":"TEXT(MICASH!I179,\"0000000000\")","v":"0000000000"},{"$f":"TEXT(MICASH!J179*100,\"0000000000\")","v":"0000000000"},{"$f":"TEXT(MONTH(MICASH!K179),\"00\") & TEXT(DAY(MICASH!K179),\"00\") & RIGHT(TEXT(YEAR(MICASH!K179),\"00\"),2)","v":"010000"},{"$f":"UPPER(LEFT(MICASH!L179,96))","v":""}]
["C",288,"00",{"$f":"TEXT(MICASH!D180,\"0000000000\")","v":"0000000000"}," ",{"$f":"UPPER(MICASH!F180)","v":""},{"$f":"UPPER(MICASH!G180)","v":""}," ",{"$f":"TEXT(MICASH!I180,\"0000000000\")","v":"0000000000"},{"$f":"TEXT(MICASH!J180*100,\"0000000000\")","v":"0000000000"},{"$f":"TEXT(MONTH(MICASH!K180),\"00\") & TEXT(DAY(MICASH!K180),\"00\") & RIGHT(TEXT(YEAR(MICASH!K180),\"00\"),2)","v":"010000"},{"$f":"UPPER(LEFT(MICASH!L180,96))","v":""}]
["C",288,"00",{"$f":"TEXT(MICASH!D181,\"0000000000\")","v":"0000000000"}," ",{"$f":"UPPER(MICASH!F181)","v":""},{"$f":"UPPER(MICASH!G181)","v":""}," ",{"$f":"TEXT(MICASH!I181,\"0000000000\")","v":"0000000000"},{"$f":"TEXT(MICASH!J181*100,\"0000000000\")","v":"0000000000"},{"$f":"TEXT(MONTH(MICASH!K181),\"00\") & TEXT(DAY(MICASH!K181),\"00\") & RIGHT(TEXT(YEAR(MICASH!K181),\"00\"),2)","v":"010000"},{"$f":"UPPER(LEFT(MICASH!L181,96))","v":""}]
["C",288,"00",{"$f":"TEXT(MICASH!D182,\"0000000000\")","v":"0000000000"}," ",{"$f":"UPPER(MICASH!F182)","v":""},{"$f":"UPPER(MICASH!G182)","v":""}," ",{"$f":"TEXT(MICASH!I182,\"0000000000\")","v":"0000000000"},{"$f":"TEXT(MICASH!J182*100,\"0000000000\")","v":"0000000000"},{"$f":"TEXT(MONTH(MICASH!K182),\"00\") & TEXT(DAY(MICASH!K182),\"00\") & RIGHT(TEXT(YEAR(MICASH!K182),\"00\"),2)","v":"010000"},{"$f":"UPPER(LEFT(MICASH!L182,96))","v":""}]
["C",288,"00",{"$f":"TEXT(MICASH!D183,\"0000000000\")","v":"0000000000"}," ",{"$f":"UPPER(MICASH!F183)","v":""},{"$f":"UPPER(MICASH!G183)","v":""}," ",{"$f":"TEXT(MICASH!I183,\"0000000000\")","v":"0000000000"},{"$f":"TEXT(MICASH!J183*100,\"0000000000\")","v":"0000000000"},{"$f":"TEXT(MONTH(MICASH!K183),\"00\") & TEXT(DAY(MICASH!K183),\"00\") & RIGHT(TEXT(YEAR(MICASH!K183),\"00\"),2)","v":"010000"},{"$f":"UPPER(LEFT(MICASH!L183,96))","v":""}]
["C",288,"00",{"$f":"TEXT(MICASH!D184,\"0000000000\")","v":"0000000000"}," ",{"$f":"UPPER(MICASH!F184)","v":""},{"$f":"UPPER(MICASH!G184)","v":""}," ",{"$f":"TEXT(MICASH!I184,\"0000000000\")","v":"0000000000"},{"$f":"TEXT(MICASH!J184*100,\"0000000000\")","v":"0000000000"},{"$f":"TEXT(MONTH(MICASH!K184),\"00\") & TEXT(DAY(MICASH!K184),\"00\") & RIGHT(TEXT(YEAR(MICASH!K184),\"00\"),2)","v":"010000"},{"$f":"UPPER(LEFT(MICASH!L184,96))","v":""}]
["C",288,"00",{"$f":"TEXT(MICASH!D185,\"0000000000\")","v":"0000000000"}," ",{"$f":"UPPER(MICASH!F185)","v":""},{"$f":"UPPER(MICASH!G185)","v":""}," ",{"$f":"TEXT(MICASH!I185,\"0000000000\")","v":"0000000000"},{"$f":"TEXT(MICASH!J185*100,\"0000000000\")","v":"0000000000"},{"$f":"TEXT(MONTH(MICASH!K185),\"00\") & TEXT(DAY(MICASH!K185),\"00\") & RIGHT(TEXT(YEAR(MICASH!K185),\"00\"),2)","v":"010000"},{"$f":"UPPER(LEFT(MICASH!L185,96))","v":""}]
["C",288,"00",{"$f":"TEXT(MICASH!D186,\"0000000000\")","v":"0000000000"}," ",{"$f":"UPPER(MICASH!F186)","v":""},{"$f":"UPPER(MICASH!G186)","v":""}," ",{"$f":"TEXT(MICASH!I186,\"0000000000\")","v":"0000000000"},{"$f":"TEXT(MICASH!J186*100,\"0000000000\")","v":"0000000000"},{"$f":"TEXT(MONTH(MICASH!K186),\"00\") & TEXT(DAY(MICASH!K186),\"00\") & RIGHT(TEXT(YEAR(MICASH!K186),\"00\"),2)","v":"010000"},{"$f":"UPPER(LEFT(MICASH!L186,96))","v":""}]
["C",288,"00",{"$f":"TEXT(MICASH!D187,\"0000000000\")","v":"0000000000"}," ",{"$f":"UPPER(MICASH!F187)","v":""},{"$f":"UPPER(MICASH!G187)","v":""}," ",{"$f":"TEXT(MICASH!I187,\"0000000000\")","v":"0000000000"},{"$f":"TEXT(MICASH!J187*100,\"0000000000\")","v":"0000000000"},{"$f":"TEXT(MONTH(MICASH!K187),\"00\") & TEXT(DAY(MICASH!K187),\"00\") & RIGHT(TEXT(YEAR(MICASH!K187),\"00\"),2)","v":"010000"},{"$f":"UPPER(LEFT(MICASH!L187,96))","v":""}]
["C",288,"00",{"$f":"TEXT(MICASH!D188,\"0000000000\")","v":"0000000000"}," ",{"$f":"UPPER(MICASH!F188)","v":""},{"$f":"UPPER(MICASH!G188)","v":""}," ",{"$f":"TEXT(MICASH!I188,\"0000000000\")","v":"0000000000"},{"$f":"TEXT(MICASH!J188*100,\"0000000000\")","v":"0000000000"},{"$f":"TEXT(MONTH(MICASH!K188),\"00\") & TEXT(DAY(MICASH!K188),\"00\") & RIGHT(TEXT(YEAR(MICASH!K188),\"00\"),2)","v":"010000"},{"$f":"UPPER(LEFT(MICASH!L188,96))","v":""}]
["C",288,"00",{"$f":"TEXT(MICASH!D189,\"0000000000\")","v":"0000000000"}," ",{"$f":"UPPER(MICASH!F189)","v":""},{"$f":"UPPER(MICASH!G189)","v":""}," ",{"$f":"TEXT(MICASH!I189,\"0000000000\")","v":"0000000000"},{"$f":"TEXT(MICASH!J189*100,\"0000000000\")","v":"0000000000"},{"$f":"TEXT(MONTH(MICASH!K189),\"00\") & TEXT(DAY(MICASH!K189),\"00\") & RIGHT(TEXT(YEAR(MICASH!K189),\"00\"),2)","v":"010000"},{"$f":"UPPER(LEFT(MICASH!L189,96))","v":""}]
["C",288,"00",{"$f":"TEXT(MICASH!D190,\"0000000000\")","v":"0000000000"}," ",{"$f":"UPPER(MICASH!F190)","v":""},{"$f":"UPPER(MICASH!G190)","v":""}," ",{"$f":"TEXT(MICASH!I190,\"0000000000\")","v":"0000000000"},{"$f":"TEXT(MICASH!J190*100,\"0000000000\")","v":"0000000000"},{"$f":"TEXT(MONTH(MICASH!K190),\"00\") & TEXT(DAY(MICASH!K190),\"00\") & RIGHT(TEXT(YEAR(MICASH!K190),\"00\"),2)","v":"010000"},{"$f":"UPPER(LEFT(MICASH!L190,96))","v":""}]
["C",288,"00",{"$f":"TEXT(MICASH!D191,\"0000000000\")","v":"0000000000"}," ",{"$f":"UPPER(MICASH!F191)","v":""},{"$f":"UPPER(MICASH!G191)","v":""}," ",{"$f":"TEXT(MICASH!I191,\"0000000000\")","v":"0000000000"},{"$f":"TEXT(MICASH!J191*100,\"0000000000\")","v":"0000000000"},{"$f":"TEXT(MONTH(MICASH!K191),\"00\") & TEXT(DAY(MICASH!K191),\"00\") & RIGHT(TEXT(YEAR(MICASH!K191),\"00\"),2)","v":"010000"},{"$f":"UPPER(LEFT(MICASH!L191,96))","v":""}]
["C",288,"00",{"$f":"TEXT(MICASH!D192,\"0000000000\")","v":"0000000000"}," ",{"$f":"UPPER(MICASH!F192)","v":""},{"$f":"UPPER(MICASH!G192)","v":""}," ",{"$f":"TEXT(MICASH!I192,\"0000000000\")","v":"0000000000"},{"$f":"TEXT(MICASH!J192*100,\"0000000000\")","v":"0000000000"},{"$f":"TEXT(MONTH(MICASH!K192),\"00\") & TEXT(DAY(MICASH!K192),\"00\") & RIGHT(TEXT(YEAR(MICASH!K192),\"00\"),2)","v":"010000"},{"$f":"UPPER(LEFT(MICASH!L192,96))","v":""}]
["C",288,"00",{"$f":"TEXT(MICASH!D193,\"0000000000\")","v":"0000000000"}," ",{"$f":"UPPER(MICASH!F193)","v":""},{"$f":"UPPER(MICASH!G193)","v":""}," ",{"$f":"TEXT(MICASH!I193,\"0000000000\")","v":"0000000000"},{"$f":"TEXT(MICASH!J193*100,\"0000000000\")","v":"0000000000"},{"$f":"TEXT(MONTH(MICASH!K193),\"00\") & TEXT(DAY(MICASH!K193),\"00\") & RIGHT(TEXT(YEAR(MICASH!K193),\"00\"),2)","v":"010000"},{"$f":"UPPER(LEFT(MICASH!L193,96))","v":""}]
["C",288,"00",{"$f":"TEXT(MICASH!D194,\"0000000000\")","v":"0000000000"}," ",{"$f":"UPPER(MICASH!F194)","v":""},{"$f":"UPPER(MICASH!G194)","v":""}," ",{"$f":"TEXT(MICASH!I194,\"0000000000\")","v":"0000000000"},{"$f":"TEXT(MICASH!J194*100,\"0000000000\")","v":"0000000000"},{"$f":"TEXT(MONTH(MICASH!K194),\"00\") & TEXT(DAY(MICASH!K194),\"00\") & RIGHT(TEXT(YEAR(MICASH!K194),\"00\"),2)","v":"010000"},{"$f":"UPPER(LEFT(MICASH!L194,96))","v":""}]
["C",288,"00",{"$f":"TEXT(MICASH!D195,\"0000000000\")","v":"0000000000"}," ",{"$f":"UPPER(MICASH!F195)","v":""},{"$f":"UPPER(MICASH!G195)","v":""}," ",{"$f":"TEXT(MICASH!I195,\"0000000000\")","v":"0000000000"},{"$f":"TEXT(MICASH!J195*100,\"0000000000\")","v":"0000000000"},{"$f":"TEXT(MONTH(MICASH!K195),\"00\") & TEXT(DAY(MICASH!K195),\"00\") & RIGHT(TEXT(YEAR(MICASH!K195),\"00\"),2)","v":"010000"},{"$f":"UPPER(LEFT(MICASH!L195,96))","v":""}]
["C",288,"00",{"$f":"TEXT(MICASH!D196,\"0000000000\")","v":"0000000000"}," ",{"$f":"UPPER(MICASH!F196)","v":""},{"$f":"UPPER(MICASH!G196)","v":""}," ",{"$f":"TEXT(MICASH!I196,\"0000000000\")","v":"0000000000"},{"$f":"TEXT(MICASH!J196*100,\"0000000000\")","v":"0000000000"},{"$f":"TEXT(MONTH(MICASH!K196),\"00\") & TEXT(DAY(MICASH!K196),\"00\") & RIGHT(TEXT(YEAR(MICASH!K196),\"00\"),2)","v":"010000"},{"$f":"UPPER(LEFT(MICASH!L196,96))","v":""}]
["C",288,"00",{"$f":"TEXT(MICASH!D197,\"0000000000\")","v":"0000000000"}," ",{"$f":"UPPER(MICASH!F197)","v":""},{"$f":"UPPER(MICASH!G197)","v":""}," ",{"$f":"TEXT(MICASH!I197,\"0000000000\")","v":"0000000000"},{"$f":"TEXT(MICASH!J197*100,\"0000000000\")","v":"0000000000"},{"$f":"TEXT(MONTH(MICASH!K197),\"00\") & TEXT(DAY(MICASH!K197),\"00\") & RIGHT(TEXT(YEAR(MICASH!K197),\"00\"),2)","v":"010000"},{"$f":"UPPER(LEFT(MICASH!L197,96))","v":""}]
["C",288,"00",{"$f":"TEXT(MICASH!D198,\"0000000000\")","v":"0000000000"}," ",{"$f":"UPPER(MICASH!F198)","v":""},{"$f":"UPPER(MICASH!G198)","v":""}," ",{"$f":"TEXT(MICASH!I198,\"0000000000\")","v":"0000000000"},{"$f":"TEXT(MICASH!J198*100,\"0000000000\")","v":"0000000000"},{"$f":"TEXT(MONTH(MICASH!K198),\"00\") & TEXT(DAY(MICASH!K198),\"00\") & RIGHT(TEXT(YEAR(MICASH!K198),\"00\"),2)","v":"010000"},{"$f":"UPPER(LEFT(MICASH!L198,96))","v":""}]
["C",288,"00",{"$f":"TEXT(MICASH!D199,\"0000000000\")","v":"0000000000"}," ",{"$f":"UPPER(MICASH!F199)","v":""},{"$f":"UPPER(MICASH!G199)","v":""}," ",{"$f":"TEXT(MICASH!I199,\"0000000000\")","v":"0000000000"},{"$f":"TEXT(MICASH!J199*100,\"0000000000\")","v":"0000000000"},{"$f":"TEXT(MONTH(MICASH!K199),\"00\") & TEXT(DAY(MICASH!K199),\"00\") & RIGHT(TEXT(YEAR(MICASH!K199),\"00\"),2)","v":"010000"},{"$f":"UPPER(LEFT(MICASH!L199,96))","v":""}]
["C",288,"00",{"$f":"TEXT(MICASH!D200,\"0000000000\")","v":"0000000000"}," ",{"$f":"UPPER(MICASH!F200)","v":""},{"$f":"UPPER(MICASH!G200)","v":""}," ",{"$f":"TEXT(MICASH!I200,\"0000000000\")","v":"0000000000"},{"$f":"TEXT(MICASH!J200*100,\"0000000000\")","v":"0000000000"},{"$f":"TEXT(MONTH(MICASH!K200),\"00\") & TEXT(DAY(MICASH!K200),\"00\") & RIGHT(TEXT(YEAR(MICASH!K200),\"00\"),2)","v":"010000"},{"$f":"UPPER(LEFT(MICASH!L200,96))","v":""}]
["C",288,"00",{"$f":"TEXT(MICASH!D201,\"0000000000\")","v":"0000000000"}," ",{"$f":"UPPER(MICASH!F201)","v":""},{"$f":"UPPER(MICASH!G201)","v":""}," ",{"$f":"TEXT(MICASH!I201,\"0000000000\")","v":"0000000000"},{"$f":"TEXT(MICASH!J201*100,\"0000000000\")","v":"0000000000"},{"$f":"TEXT(MONTH(MICASH!K201),\"00\") & TEXT(DAY(MICASH!K201),\"00\") & RIGHT(TEXT(YEAR(MICASH!K201),\"00\"),2)","v":"010000"},{"$f":"UPPER(LEFT(MICASH!L201,96))","v":""}]
["C",288,"00",{"$f":"TEXT(MICASH!D202,\"0000000000\")","v":"0000000000"}," ",{"$f":"UPPER(MICASH!F202)","v":""},{"$f":"UPPER(MICASH!G202)","v":""}," ",{"$f":"TEXT(MICASH!I202,\"0000000000\")","v":"0000000000"},{"$f":"TEXT(MICASH!J202*100,\"0000000000\")","v":"0000000000"},{"$f":"TEXT(MONTH(MICASH!K202),\"00\") & TEXT(DAY(MICASH!K202),\"00\") & RIGHT(TEXT(YEAR(MICASH!K202),\"00\"),2)","v":"010000"},{"$f":"UPPER(LEFT(MICASH!L202,96))","v":""}]
["C",288,"00",{"$f":"TEXT(MICASH!D203,\"0000000000\")","v":"0000000000"}," ",{"$f":"UPPER(MICASH!F203)","v":""},{"$f":"UPPER(MICASH!G203)","v":""}," ",{"$f":"TEXT(MICASH!I203,\"0000000000\")","v":"0000000000"},{"$f":"TEXT(MICASH!J203*100,\"0000000000\")","v":"0000000000"},{"$f":"TEXT(MONTH(MICASH!K203),\"00\") & TEXT(DAY(MICASH!K203),\"00\") & RIGHT(TEXT(YEAR(MICASH!K203),\"00\"),2)","v":"010000"},{"$f":"UPPER(LEFT(MICASH!L203,96))","v":""}]
["C",288,"00",{"$f":"TEXT(MICASH!D204,\"0000000000\")","v":"0000000000"}," ",{"$f":"UPPER(MICASH!F204)","v":""},{"$f":"UPPER(MICASH!G204)","v":""}," ",{"$f":"TEXT(MICASH!I204,\"0000000000\")","v":"0000000000"},{"$f":"TEXT(MICASH!J204*100,\"0000000000\")","v":"0000000000"},{"$f":"TEXT(MONTH(MICASH!K204),\"00\") & TEXT(DAY(MICASH!K204),\"00\") & RIGHT(TEXT(YEAR(MICASH!K204),\"00\"),2)","v":"010000"},{"$f":"UPPER(LEFT(MICASH!L204,96))","v":""}]
["C",288,"00",{"$f":"TEXT(MICASH!D205,\"0000000000\")","v":"0000000000"}," ",{"$f":"UPPER(MICASH!F205)","v":""},{"$f":"UPPER(MICASH!G205)","v":""}," ",{"$f":"TEXT(MICASH!I205,\"0000000000\")","v":"0000000000"},{"$f":"TEXT(MICASH!J205*100,\"0000000000\")","v":"0000000000"},{"$f":"TEXT(MONTH(MICASH!K205),\"00\") & TEXT(DAY(MICASH!K205),\"00\") & RIGHT(TEXT(YEAR(MICASH!K205),\"00\"),2)","v":"010000"},{"$f":"UPPER(LEFT(MICASH!L205,96))","v":""}]
["C",288,"00",{"$f":"TEXT(MICASH!D206,\"0000000000\")","v":"0000000000"}," ",{"$f":"UPPER(MICASH!F206)","v":""},{"$f":"UPPER(MICASH!G206)","v":""}," ",{"$f":"TEXT(MICASH!I206,\"0000000000\")","v":"0000000000"},{"$f":"TEXT(MICASH!J206*100,\"0000000000\")","v":"0000000000"},{"$f":"TEXT(MONTH(MICASH!K206),\"00\") & TEXT(DAY(MICASH!K206),\"00\") & RIGHT(TEXT(YEAR(MICASH!K206),\"00\"),2)","v":"010000"},{"$f":"UPPER(LEFT(MICASH!L206,96))","v":""}]
["C",288,"00",{"$f":"TEXT(MICASH!D207,\"0000000000\")","v":"0000000000"}," ",{"$f":"UPPER(MICASH!F207)","v":""},{"$f":"UPPER(MICASH!G207)","v":""}," ",{"$f":"TEXT(MICASH!I207,\"0000000000\")","v":"0000000000"},{"$f":"TEXT(MICASH!J207*100,\"0000000000\")","v":"0000000000"},{"$f":"TEXT(MONTH(MICASH!K207),\"00\") & TEXT(DAY(MICASH!K207),\"00\") & RIGHT(TEXT(YEAR(MICASH!K207),\"00\"),2)","v":"010000"},{"$f":"UPPER(LEFT(MICASH!L207,96))","v":""}]
["C",288,"00",{"$f":"TEXT(MICASH!D208,\"0000000000\")","v":"0000000000"}," ",{"$f":"UPPER(MICASH!F208)","v":""},{"$f":"UPPER(MICASH!G208)","v":""}," ",{"$f":"TEXT(MICASH!I208,\"0000000000\")","v":"0000000000"},{"$f":"TEXT(MICASH!J208*100,\"0000000000\")","v":"0000000000"},{"$f":"TEXT(MONTH(MICASH!K208),\"00\") & TEXT(DAY(MICASH!K208),\"00\") & RIGHT(TEXT(YEAR(MICASH!K208),\"00\"),2)","v":"010000"},{"$f":"UPPER(LEFT(MICASH!L208,96))","v":""}]
["C",288,"00",{"$f":"TEXT(MICASH!D209,\"0000000000\")","v":"0000000000"}," ",{"$f":"UPPER(MICASH!F209)","v":""},{"$f":"UPPER(MICASH!G209)","v":""}," ",{"$f":"TEXT(MICASH!I209,\"0000000000\")","v":"0000000000"},{"$f":"TEXT(MICASH!J209*100,\"0000000000\")","v":"0000000000"},{"$f":"TEXT(MONTH(MICASH!K209),\"00\") & TEXT(DAY(MICASH!K209),\"00\") & RIGHT(TEXT(YEAR(MICASH!K209),\"00\"),2)","v":"010000"},{"$f":"UPPER(LEFT(MICASH!L209,96))","v":""}]
["C",288,"00",{"$f":"TEXT(MICASH!D210,\"0000000000\")","v":"0000000000"}," ",{"$f":"UPPER(MICASH!F210)","v":""},{"$f":"UPPER(MICASH!G210)","v":""}," ",{"$f":"TEXT(MICASH!I210,\"0000000000\")","v":"0000000000"},{"$f":"TEXT(MICASH!J210*100,\"0000000000\")","v":"0000000000"},{"$f":"TEXT(MONTH(MICASH!K210),\"00\") & TEXT(DAY(MICASH!K210),\"00\") & RIGHT(TEXT(YEAR(MICASH!K210),\"00\"),2)","v":"010000"},{"$f":"UPPER(LEFT(MICASH!L210,96))","v":""}]
["C",288,"00",{"$f":"TEXT(MICASH!D211,\"0000000000\")","v":"0000000000"}," ",{"$f":"UPPER(MICASH!F211)","v":""},{"$f":"UPPER(MICASH!G211)","v":""}," ",{"$f":"TEXT(MICASH!I211,\"0000000000\")","v":"0000000000"},{"$f":"TEXT(MICASH!J211*100,\"0000000000\")","v":"0000000000"},{"$f":"TEXT(MONTH(MICASH!K211),\"00\") & TEXT(DAY(MICASH!K211),\"00\") & RIGHT(TEXT(YEAR(MICASH!K211),\"00\"),2)","v":"010000"},{"$f":"UPPER(LEFT(MICASH!L211,96))","v":""}]
["C",288,"00",{"$f":"TEXT(MICASH!D212,\"0000000000\")","v":"0000000000"}," ",{"$f":"UPPER(MICASH!F212)","v":""},{"$f":"UPPER(MICASH!G212)","v":""}," ",{"$f":"TEXT(MICASH!I212,\"0000000000\")","v":"0000000000"},{"$f":"TEXT(MICASH!J212*100,\"0000000000\")","v":"0000000000"},{"$f":"TEXT(MONTH(MICASH!K212),\"00\") & TEXT(DAY(MICASH!K212),\"00\") & RIGHT(TEXT(YEAR(MICASH!K212),\"00\"),2)","v":"010000"},{"$f":"UPPER(LEFT(MICASH!L212,96))","v":""}]
["C",288,"00",{"$f":"TEXT(MICASH!D213,\"0000000000\")","v":"0000000000"}," ",{"$f":"UPPER(MICASH!F213)","v":""},{"$f":"UPPER(MICASH!G213)","v":""}," ",{"$f":"TEXT(MICASH!I213,\"0000000000\")","v":"0000000000"},{"$f":"TEXT(MICASH!J213*100,\"0000000000\")","v":"0000000000"},{"$f":"TEXT(MONTH(MICASH!K213),\"00\") & TEXT(DAY(MICASH!K213),\"00\") & RIGHT(TEXT(YEAR(MICASH!K213),\"00\"),2)","v":"010000"},{"$f":"UPPER(LEFT(MICASH!L213,96))","v":""}]
["C",288,"00",{"$f":"TEXT(MICASH!D214,\"0000000000\")","v":"0000000000"}," ",{"$f":"UPPER(MICASH!F214)","v":""},{"$f":"UPPER(MICASH!G214)","v":""}," ",{"$f":"TEXT(MICASH!I214,\"0000000000\")","v":"0000000000"},{"$f":"TEXT(MICASH!J214*100,\"0000000000\")","v":"0000000000"},{"$f":"TEXT(MONTH(MICASH!K214),\"00\") & TEXT(DAY(MICASH!K214),\"00\") & RIGHT(TEXT(YEAR(MICASH!K214),\"00\"),2)","v":"010000"},{"$f":"UPPER(LEFT(MICASH!L214,96))","v":""}]
["C",288,"00",{"$f":"TEXT(MICASH!D215,\"0000000000\")","v":"0000000000"}," ",{"$f":"UPPER(MICASH!F215)","v":""},{"$f":"UPPER(MICASH!G215)","v":""}," ",{"$f":"TEXT(MICASH!I215,\"0000000000\")","v":"0000000000"},{"$f":"TEXT(MICASH!J215*100,\"0000000000\")","v":"0000000000"},{"$f":"TEXT(MONTH(MICASH!K215),\"00\") & TEXT(DAY(MICASH!K215),\"00\") & RIGHT(TEXT(YEAR(MICASH!K215),\"00\"),2)","v":"010000"},{"$f":"UPPER(LEFT(MICASH!L215,96))","v":""}]
["C",288,"00",{"$f":"TEXT(MICASH!D216,\"0000000000\")","v":"0000000000"}," ",{"$f":"UPPER(MICASH!F216)","v":""},{"$f":"UPPER(MICASH!G216)","v":""}," ",{"$f":"TEXT(MICASH!I216,\"0000000000\")","v":"0000000000"},{"$f":"TEXT(MICASH!J216*100,\"0000000000\")","v":"0000000000"},{"$f":"TEXT(MONTH(MICASH!K216),\"00\") & TEXT(DAY(MICASH!K216),\"00\") & RIGHT(TEXT(YEAR(MICASH!K216),\"00\"),2)","v":"010000"},{"$f":"UPPER(LEFT(MICASH!L216,96))","v":""}]
["C",288,"00",{"$f":"TEXT(MICASH!D217,\"0000000000\")","v":"0000000000"}," ",{"$f":"UPPER(MICASH!F217)","v":""},{"$f":"UPPER(MICASH!G217)","v":""}," ",{"$f":"TEXT(MICASH!I217,\"0000000000\")","v":"0000000000"},{"$f":"TEXT(MICASH!J217*100,\"0000000000\")","v":"0000000000"},{"$f":"TEXT(MONTH(MICASH!K217),\"00\") & TEXT(DAY(MICASH!K217),\"00\") & RIGHT(TEXT(YEAR(MICASH!K217),\"00\"),2)","v":"010000"},{"$f":"UPPER(LEFT(MICASH!L217,96))","v":""}]
["C",288,"00",{"$f":"TEXT(MICASH!D218,\"0000000000\")","v":"0000000000"}," ",{"$f":"UPPER(MICASH!F218)","v":""},{"$f":"UPPER(MICASH!G218)","v":""}," ",{"$f":"TEXT(MICASH!I218,\"0000000000\")","v":"0000000000"},{"$f":"TEXT(MICASH!J218*100,\"0000000000\")","v":"0000000000"},{"$f":"TEXT(MONTH(MICASH!K218),\"00\") & TEXT(DAY(MICASH!K218),\"00\") & RIGHT(TEXT(YEAR(MICASH!K218),\"00\"),2)","v":"010000"},{"$f":"UPPER(LEFT(MICASH!L218,96))","v":""}]
["C",288,"00",{"$f":"TEXT(MICASH!D219,\"0000000000\")","v":"0000000000"}," ",{"$f":"UPPER(MICASH!F219)","v":""},{"$f":"UPPER(MICASH!G219)","v":""}," ",{"$f":"TEXT(MICASH!I219,\"0000000000\")","v":"0000000000"},{"$f":"TEXT(MICASH!J219*100,\"0000000000\")","v":"0000000000"},{"$f":"TEXT(MONTH(MICASH!K219),\"00\") & TEXT(DAY(MICASH!K219),\"00\") & RIGHT(TEXT(YEAR(MICASH!K219),\"00\"),2)","v":"010000"},{"$f":"UPPER(LEFT(MICASH!L219,96))","v":""}]
["C",288,"00",{"$f":"TEXT(MICASH!D220,\"0000000000\")","v":"0000000000"}," ",{"$f":"UPPER(MICASH!F220)","v":""},{"$f":"UPPER(MICASH!G220)","v":""}," ",{"$f":"TEXT(MICASH!I220,\"0000000000\")","v":"0000000000"},{"$f":"TEXT(MICASH!J220*100,\"0000000000\")","v":"0000000000"},{"$f":"TEXT(MONTH(MICASH!K220),\"00\") & TEXT(DAY(MICASH!K220),\"00\") & RIGHT(TEXT(YEAR(MICASH!K220),\"00\"),2)","v":"010000"},{"$f":"UPPER(LEFT(MICASH!L220,96))","v":""}]
["C",288,"00",{"$f":"TEXT(MICASH!D221,\"0000000000\")","v":"0000000000"}," ",{"$f":"UPPER(MICASH!F221)","v":""},{"$f":"UPPER(MICASH!G221)","v":""}," ",{"$f":"TEXT(MICASH!I221,\"0000000000\")","v":"0000000000"},{"$f":"TEXT(MICASH!J221*100,\"0000000000\")","v":"0000000000"},{"$f":"TEXT(MONTH(MICASH!K221),\"00\") & TEXT(DAY(MICASH!K221),\"00\") & RIGHT(TEXT(YEAR(MICASH!K221),\"00\"),2)","v":"010000"},{"$f":"UPPER(LEFT(MICASH!L221,96))","v":""}]
["C",288,"00",{"$f":"TEXT(MICASH!D222,\"0000000000\")","v":"0000000000"}," ",{"$f":"UPPER(MICASH!F222)","v":""},{"$f":"UPPER(MICASH!G222)","v":""}," ",{"$f":"TEXT(MICASH!I222,\"0000000000\")","v":"0000000000"},{"$f":"TEXT(MICASH!J222*100,\"0000000000\")","v":"0000000000"},{"$f":"TEXT(MONTH(MICASH!K222),\"00\") & TEXT(DAY(MICASH!K222),\"00\") & RIGHT(TEXT(YEAR(MICASH!K222),\"00\"),2)","v":"010000"},{"$f":"UPPER(LEFT(MICASH!L222,96))","v":""}]
["C",288,"00",{"$f":"TEXT(MICASH!D223,\"0000000000\")","v":"0000000000"}," ",{"$f":"UPPER(MICASH!F223)","v":""},{"$f":"UPPER(MICASH!G223)","v":""}," ",{"$f":"TEXT(MICASH!I223,\"0000000000\")","v":"0000000000"},{"$f":"TEXT(MICASH!J223*100,\"0000000000\")","v":"0000000000"},{"$f":"TEXT(MONTH(MICASH!K223),\"00\") & TEXT(DAY(MICASH!K223),\"00\") & RIGHT(TEXT(YEAR(MICASH!K223),\"00\"),2)","v":"010000"},{"$f":"UPPER(LEFT(MICASH!L223,96))","v":""}]
["C",288,"00",{"$f":"TEXT(MICASH!D224,\"0000000000\")","v":"0000000000"}," ",{"$f":"UPPER(MICASH!F224)","v":""},{"$f":"UPPER(MICASH!G224)","v":""}," ",{"$f":"TEXT(MICASH!I224,\"0000000000\")","v":"0000000000"},{"$f":"TEXT(MICASH!J224*100,\"0000000000\")","v":"0000000000"},{"$f":"TEXT(MONTH(MICASH!K224),\"00\") & TEXT(DAY(MICASH!K224),\"00\") & RIGHT(TEXT(YEAR(MICASH!K224),\"00\"),2)","v":"010000"},{"$f":"UPPER(LEFT(MICASH!L224,96))","v":""}]
["C",288,"00",{"$f":"TEXT(MICASH!D225,\"0000000000\")","v":"0000000000"}," ",{"$f":"UPPER(MICASH!F225)","v":""},{"$f":"UPPER(MICASH!G225)","v":""}," ",{"$f":"TEXT(MICASH!I225,\"0000000000\")","v":"0000000000"},{"$f":"TEXT(MICASH!J225*100,\"0000000000\")","v":"0000000000"},{"$f":"TEXT(MONTH(MICASH!K225),\"00\") & TEXT(DAY(MICASH!K225),\"00\") & RIGHT(TEXT(YEAR(MICASH!K225),\"00\"),2)","v":"010000"},{"$f":"UPPER(LEFT(MICASH!L225,96))","v":""}]
["C",288,"00",{"$f":"TEXT(MICASH!D226,\"0000000000\")","v":"0000000000"}," ",{"$f":"UPPER(MICASH!F226)","v":""},{"$f":"UPPER(MICASH!G226)","v":""}," ",{"$f":"TEXT(MICASH!I226,\"0000000000\")","v":"0000000000"},{"$f":"TEXT(MICASH!J226*100,\"0000000000\")","v":"0000000000"},{"$f":"TEXT(MONTH(MICASH!K226),\"00\") & TEXT(DAY(MICASH!K226),\"00\") & RIGHT(TEXT(YEAR(MICASH!K226),\"00\"),2)","v":"010000"},{"$f":"UPPER(LEFT(MICASH!L226,96))","v":""}]
["C",288,"00",{"$f":"TEXT(MICASH!D227,\"0000000000\")","v":"0000000000"}," ",{"$f":"UPPER(MICASH!F227)","v":""},{"$f":"UPPER(MICASH!G227)","v":""}," ",{"$f":"TEXT(MICASH!I227,\"0000000000\")","v":"0000000000"},{"$f":"TEXT(MICASH!J227*100,\"0000000000\")","v":"0000000000"},{"$f":"TEXT(MONTH(MICASH!K227),\"00\") & TEXT(DAY(MICASH!K227),\"00\") & RIGHT(TEXT(YEAR(MICASH!K227),\"00\"),2)","v":"010000"},{"$f":"UPPER(LEFT(MICASH!L227,96))","v":""}]
["C",288,"00",{"$f":"TEXT(MICASH!D228,\"0000000000\")","v":"0000000000"}," ",{"$f":"UPPER(MICASH!F228)","v":""},{"$f":"UPPER(MICASH!G228)","v":""}," ",{"$f":"TEXT(MICASH!I228,\"0000000000\")","v":"0000000000"},{"$f":"TEXT(MICASH!J228*100,\"0000000000\")","v":"0000000000"},{"$f":"TEXT(MONTH(MICASH!K228),\"00\") & TEXT(DAY(MICASH!K228),\"00\") & RIGHT(TEXT(YEAR(MICASH!K228),\"00\"),2)","v":"010000"},{"$f":"UPPER(LEFT(MICASH!L228,96))","v":""}]
["C",288,"00",{"$f":"TEXT(MICASH!D229,\"0000000000\")","v":"0000000000"}," ",{"$f":"UPPER(MICASH!F229)","v":""},{"$f":"UPPER(MICASH!G229)","v":""}," ",{"$f":"TEXT(MICASH!I229,\"0000000000\")","v":"0000000000"},{"$f":"TEXT(MICASH!J229*100,\"0000000000\")","v":"0000000000"},{"$f":"TEXT(MONTH(MICASH!K229),\"00\") & TEXT(DAY(MICASH!K229),\"00\") & RIGHT(TEXT(YEAR(MICASH!K229),\"00\"),2)","v":"010000"},{"$f":"UPPER(LEFT(MICASH!L229,96))","v":""}]
["C",288,"00",{"$f":"TEXT(MICASH!D230,\"0000000000\")","v":"0000000000"}," ",{"$f":"UPPER(MICASH!F230)","v":""},{"$f":"UPPER(MICASH!G230)","v":""}," ",{"$f":"TEXT(MICASH!I230,\"0000000000\")","v":"0000000000"},{"$f":"TEXT(MICASH!J230*100,\"0000000000\")","v":"0000000000"},{"$f":"TEXT(MONTH(MICASH!K230),\"00\") & TEXT(DAY(MICASH!K230),\"00\") & RIGHT(TEXT(YEAR(MICASH!K230),\"00\"),2)","v":"010000"},{"$f":"UPPER(LEFT(MICASH!L230,96))","v":""}]
["C",288,"00",{"$f":"TEXT(MICASH!D231,\"0000000000\")","v":"0000000000"}," ",{"$f":"UPPER(MICASH!F231)","v":""},{"$f":"UPPER(MICASH!G231)","v":""}," ",{"$f":"TEXT(MICASH!I231,\"0000000000\")","v":"0000000000"},{"$f":"TEXT(MICASH!J231*100,\"0000000000\")","v":"0000000000"},{"$f":"TEXT(MONTH(MICASH!K231),\"00\") & TEXT(DAY(MICASH!K231),\"00\") & RIGHT(TEXT(YEAR(MICASH!K231),\"00\"),2)","v":"010000"},{"$f":"UPPER(LEFT(MICASH!L231,96))","v":""}]
["C",288,"00",{"$f":"TEXT(MICASH!D232,\"0000000000\")","v":"0000000000"}," ",{"$f":"UPPER(MICASH!F232)","v":""},{"$f":"UPPER(MICASH!G232)","v":""}," ",{"$f":"TEXT(MICASH!I232,\"0000000000\")","v":"0000000000"},{"$f":"TEXT(MICASH!J232*100,\"0000000000\")","v":"0000000000"},{"$f":"TEXT(MONTH(MICASH!K232),\"00\") & TEXT(DAY(MICASH!K232),\"00\") & RIGHT(TEXT(YEAR(MICASH!K232),\"00\"),2)","v":"010000"},{"$f":"UPPER(LEFT(MICASH!L232,96))","v":""}]
["C",288,"00",{"$f":"TEXT(MICASH!D233,\"0000000000\")","v":"0000000000"}," ",{"$f":"UPPER(MICASH!F233)","v":""},{"$f":"UPPER(MICASH!G233)","v":""}," ",{"$f":"TEXT(MICASH!I233,\"0000000000\")","v":"0000000000"},{"$f":"TEXT(MICASH!J233*100,\"0000000000\")","v":"0000000000"},{"$f":"TEXT(MONTH(MICASH!K233),\"00\") & TEXT(DAY(MICASH!K233),\"00\") & RIGHT(TEXT(YEAR(MICASH!K233),\"00\"),2)","v":"010000"},{"$f":"UPPER(LEFT(MICASH!L233,96))","v":""}]
["C",288,"00",{"$f":"TEXT(MICASH!D234,\"0000000000\")","v":"0000000000"}," ",{"$f":"UPPER(MICASH!F234)","v":""},{"$f":"UPPER(MICASH!G234)","v":""}," ",{"$f":"TEXT(MICASH!I234,\"0000000000\")","v":"0000000000"},{"$f":"TEXT(MICASH!J234*100,\"0000000000\")","v":"0000000000"},{"$f":"TEXT(MONTH(MICASH!K234),\"00\") & TEXT(DAY(MICASH!K234),\"00\") & RIGHT(TEXT(YEAR(MICASH!K234),\"00\"),2)","v":"010000"},{"$f":"UPPER(LEFT(MICASH!L234,96))","v":""}]
["C",288,"00",{"$f":"TEXT(MICASH!D235,\"0000000000\")","v":"0000000000"}," ",{"$f":"UPPER(MICASH!F235)","v":""},{"$f":"UPPER(MICASH!G235)","v":""}," ",{"$f":"TEXT(MICASH!I235,\"0000000000\")","v":"0000000000"},{"$f":"TEXT(MICASH!J235*100,\"0000000000\")","v":"0000000000"},{"$f":"TEXT(MONTH(MICASH!K235),\"00\") & TEXT(DAY(MICASH!K235),\"00\") & RIGHT(TEXT(YEAR(MICASH!K235),\"00\"),2)","v":"010000"},{"$f":"UPPER(LEFT(MICASH!L235,96))","v":""}]
["C",288,"00",{"$f":"TEXT(MICASH!D236,\"0000000000\")","v":"0000000000"}," ",{"$f":"UPPER(MICASH!F236)","v":""},{"$f":"UPPER(MICASH!G236)","v":""}," ",{"$f":"TEXT(MICASH!I236,\"0000000000\")","v":"0000000000"},{"$f":"TEXT(MICASH!J236*100,\"0000000000\")","v":"0000000000"},{"$f":"TEXT(MONTH(MICASH!K236),\"00\") & TEXT(DAY(MICASH!K236),\"00\") & RIGHT(TEXT(YEAR(MICASH!K236),\"00\"),2)","v":"010000"},{"$f":"UPPER(LEFT(MICASH!L236,96))","v":""}]
["C",288,"00",{"$f":"TEXT(MICASH!D237,\"0000000000\")","v":"0000000000"}," ",{"$f":"UPPER(MICASH!F237)","v":""},{"$f":"UPPER(MICASH!G237)","v":""}," ",{"$f":"TEXT(MICASH!I237,\"0000000000\")","v":"0000000000"},{"$f":"TEXT(MICASH!J237*100,\"0000000000\")","v":"0000000000"},{"$f":"TEXT(MONTH(MICASH!K237),\"00\") & TEXT(DAY(MICASH!K237),\"00\") & RIGHT(TEXT(YEAR(MICASH!K237),\"00\"),2)","v":"010000"},{"$f":"UPPER(LEFT(MICASH!L237,96))","v":""}]
["C",288,"00",{"$f":"TEXT(MICASH!D238,\"0000000000\")","v":"0000000000"}," ",{"$f":"UPPER(MICASH!F238)","v":""},{"$f":"UPPER(MICASH!G238)","v":""}," ",{"$f":"TEXT(MICASH!I238,\"0000000000\")","v":"0000000000"},{"$f":"TEXT(MICASH!J238*100,\"0000000000\")","v":"0000000000"},{"$f":"TEXT(MONTH(MICASH!K238),\"00\") & TEXT(DAY(MICASH!K238),\"00\") & RIGHT(TEXT(YEAR(MICASH!K238),\"00\"),2)","v":"010000"},{"$f":"UPPER(LEFT(MICASH!L238,96))","v":""}]
["C",288,"00",{"$f":"TEXT(MICASH!D239,\"0000000000\")","v":"0000000000"}," ",{"$f":"UPPER(MICASH!F239)","v":""},{"$f":"UPPER(MICASH!G239)","v":""}," ",{"$f":"TEXT(MICASH!I239,\"0000000000\")","v":"0000000000"},{"$f":"TEXT(MICASH!J239*100,\"0000000000\")","v":"0000000000"},{"$f":"TEXT(MONTH(MICASH!K239),\"00\") & TEXT(DAY(MICASH!K239),\"00\") & RIGHT(TEXT(YEAR(MICASH!K239),\"00\"),2)","v":"010000"},{"$f":"UPPER(LEFT(MICASH!L239,96))","v":""}]
["C",288,"00",{"$f":"TEXT(MICASH!D240,\"0000000000\")","v":"0000000000"}," ",{"$f":"UPPER(MICASH!F240)","v":""},{"$f":"UPPER(MICASH!G240)","v":""}," ",{"$f":"TEXT(MICASH!I240,\"0000000000\")","v":"0000000000"},{"$f":"TEXT(MICASH!J240*100,\"0000000000\")","v":"0000000000"},{"$f":"TEXT(MONTH(MICASH!K240),\"00\") & TEXT(DAY(MICASH!K240),\"00\") & RIGHT(TEXT(YEAR(MICASH!K240),\"00\"),2)","v":"010000"},{"$f":"UPPER(LEFT(MICASH!L240,96))","v":""}]
["C",288,"00",{"$f":"TEXT(MICASH!D241,\"0000000000\")","v":"0000000000"}," ",{"$f":"UPPER(MICASH!F241)","v":""},{"$f":"UPPER(MICASH!G241)","v":""}," ",{"$f":"TEXT(MICASH!I241,\"0000000000\")","v":"0000000000"},{"$f":"TEXT(MICASH!J241*100,\"0000000000\")","v":"0000000000"},{"$f":"TEXT(MONTH(MICASH!K241),\"00\") & TEXT(DAY(MICASH!K241),\"00\") & RIGHT(TEXT(YEAR(MICASH!K241),\"00\"),2)","v":"010000"},{"$f":"UPPER(LEFT(MICASH!L241,96))","v":""}]
["C",288,"00",{"$f":"TEXT(MICASH!D242,\"0000000000\")","v":"0000000000"}," ",{"$f":"UPPER(MICASH!F242)","v":""},{"$f":"UPPER(MICASH!G242)","v":""}," ",{"$f":"TEXT(MICASH!I242,\"0000000000\")","v":"0000000000"},{"$f":"TEXT(MICASH!J242*100,\"0000000000\")","v":"0000000000"},{"$f":"TEXT(MONTH(MICASH!K242),\"00\") & TEXT(DAY(MICASH!K242),\"00\") & RIGHT(TEXT(YEAR(MICASH!K242),\"00\"),2)","v":"010000"},{"$f":"UPPER(LEFT(MICASH!L242,96))","v":""}]
["C",288,"00",{"$f":"TEXT(MICASH!D243,\"0000000000\")","v":"0000000000"}," ",{"$f":"UPPER(MICASH!F243)","v":""},{"$f":"UPPER(MICASH!G243)","v":""}," ",{"$f":"TEXT(MICASH!I243,\"0000000000\")","v":"0000000000"},{"$f":"TEXT(MICASH!J243*100,\"0000000000\")","v":"0000000000"},{"$f":"TEXT(MONTH(MICASH!K243),\"00\") & TEXT(DAY(MICASH!K243),\"00\") & RIGHT(TEXT(YEAR(MICASH!K243),\"00\"),2)","v":"010000"},{"$f":"UPPER(LEFT(MICASH!L243,96))","v":""}]
["C",288,"00",{"$f":"TEXT(MICASH!D244,\"0000000000\")","v":"0000000000"}," ",{"$f":"UPPER(MICASH!F244)","v":""},{"$f":"UPPER(MICASH!G244)","v":""}," ",{"$f":"TEXT(MICASH!I244,\"0000000000\")","v":"0000000000"},{"$f":"TEXT(MICASH!J244*100,\"0000000000\")","v":"0000000000"},{"$f":"TEXT(MONTH(MICASH!K244),\"00\") & TEXT(DAY(MICASH!K244),\"00\") & RIGHT(TEXT(YEAR(MICASH!K244),\"00\"),2)","v":"010000"},{"$f":"UPPER(LEFT(MICASH!L244,96))","v":""}]
["C",288,"00",{"$f":"TEXT(MICASH!D245,\"0000000000\")","v":"0000000000"}," ",{"$f":"UPPER(MICASH!F245)","v":""},{"$f":"UPPER(MICASH!G245)","v":""}," ",{"$f":"TEXT(MICASH!I245,\"0000000000\")","v":"0000000000"},{"$f":"TEXT(MICASH!J245*100,\"0000000000\")","v":"0000000000"},{"$f":"TEXT(MONTH(MICASH!K245),\"00\") & TEXT(DAY(MICASH!K245),\"00\") & RIGHT(TEXT(YEAR(MICASH!K245),\"00\"),2)","v":"010000"},{"$f":"UPPER(LEFT(MICASH!L245,96))","v":""}]
["C",288,"00",{"$f":"TEXT(MICASH!D246,\"0000000000\")","v":"0000000000"}," ",{"$f":"UPPER(MICASH!F246)","v":""},{"$f":"UPPER(MICASH!G246)","v":""}," ",{"$f":"TEXT(MICASH!I246,\"0000000000\")","v":"0000000000"},{"$f":"TEXT(MICASH!J246*100,\"0000000000\")","v":"0000000000"},{"$f":"TEXT(MONTH(MICASH!K246),\"00\") & TEXT(DAY(MICASH!K246),\"00\") & RIGHT(TEXT(YEAR(MICASH!K246),\"00\"),2)","v":"010000"},{"$f":"UPPER(LEFT(MICASH!L246,96))","v":""}]
["C",288,"00",{"$f":"TEXT(MICASH!D247,\"0000000000\")","v":"0000000000"}," ",{"$f":"UPPER(MICASH!F247)","v":""},{"$f":"UPPER(MICASH!G247)","v":""}," ",{"$f":"TEXT(MICASH!I247,\"0000000000\")","v":"0000000000"},{"$f":"TEXT(MICASH!J247*100,\"0000000000\")","v":"0000000000"},{"$f":"TEXT(MONTH(MICASH!K247),\"00\") & TEXT(DAY(MICASH!K247),\"00\") & RIGHT(TEXT(YEAR(MICASH!K247),\"00\"),2)","v":"010000"},{"$f":"UPPER(LEFT(MICASH!L247,96))","v":""}]
["C",288,"00",{"$f":"TEXT(MICASH!D248,\"0000000000\")","v":"0000000000"}," ",{"$f":"UPPER(MICASH!F248)","v":""},{"$f":"UPPER(MICASH!G248)","v":""}," ",{"$f":"TEXT(MICASH!I248,\"0000000000\")","v":"0000000000"},{"$f":"TEXT(MICASH!J248*100,\"0000000000\")","v":"0000000000"},{"$f":"TEXT(MONTH(MICASH!K248),\"00\") & TEXT(DAY(MICASH!K248),\"00\") & RIGHT(TEXT(YEAR(MICASH!K248),\"00\"),2)","v":"010000"},{"$f":"UPPER(LEFT(MICASH!L248,96))","v":""}]
["C",288,"00",{"$f":"TEXT(MICASH!D249,\"0000000000\")","v":"0000000000"}," ",{"$f":"UPPER(MICASH!F249)","v":""},{"$f":"UPPER(MICASH!G249)","v":""}," ",{"$f":"TEXT(MICASH!I249,\"0000000000\")","v":"0000000000"},{"$f":"TEXT(MICASH!J249*100,\"0000000000\")","v":"0000000000"},{"$f":"TEXT(MONTH(MICASH!K249),\"00\") & TEXT(DAY(MICASH!K249),\"00\") & RIGHT(TEXT(YEAR(MICASH!K249),\"00\"),2)","v":"010000"},{"$f":"UPPER(LEFT(MICASH!L249,96))","v":""}]
["C",288,"00",{"$f":"TEXT(MICASH!D250,\"0000000000\")","v":"0000000000"}," ",{"$f":"UPPER(MICASH!F250)","v":""},{"$f":"UPPER(MICASH!G250)","v":""}," ",{"$f":"TEXT(MICASH!I250,\"0000000000\")","v":"0000000000"},{"$f":"TEXT(MICASH!J250*100,\"0000000000\")","v":"0000000000"},{"$f":"TEXT(MONTH(MICASH!K250),\"00\") & TEXT(DAY(MICASH!K250),\"00\") & RIGHT(TEXT(YEAR(MICASH!K250),\"00\"),2)","v":"010000"},{"$f":"UPPER(LEFT(MICASH!L250,96))","v":""}]
["C",288,"00",{"$f":"TEXT(MICASH!D251,\"0000000000\")","v":"0000000000"}," ",{"$f":"UPPER(MICASH!F251)","v":""},{"$f":"UPPER(MICASH!G251)","v":""}," ",{"$f":"TEXT(MICASH!I251,\"0000000000\")","v":"0000000000"},{"$f":"TEXT(MICASH!J251*100,\"0000000000\")","v":"0000000000"},{"$f":"TEXT(MONTH(MICASH!K251),\"00\") & TEXT(DAY(MICASH!K251),\"00\") & RIGHT(TEXT(YEAR(MICASH!K251),\"00\"),2)","v":"010000"},{"$f":"UPPER(LEFT(MICASH!L251,96))","v":""}]
["C",288,"00",{"$f":"TEXT(MICASH!D252,\"0000000000\")","v":"0000000000"}," ",{"$f":"UPPER(MICASH!F252)","v":""},{"$f":"UPPER(MICASH!G252)","v":""}," ",{"$f":"TEXT(MICASH!I252,\"0000000000\")","v":"0000000000"},{"$f":"TEXT(MICASH!J252*100,\"0000000000\")","v":"0000000000"},{"$f":"TEXT(MONTH(MICASH!K252),\"00\") & TEXT(DAY(MICASH!K252),\"00\") & RIGHT(TEXT(YEAR(MICASH!K252),\"00\"),2)","v":"010000"},{"$f":"UPPER(LEFT(MICASH!L252,96))","v":""}]
["C",288,"00",{"$f":"TEXT(MICASH!D253,\"0000000000\")","v":"0000000000"}," ",{"$f":"UPPER(MICASH!F253)","v":""},{"$f":"UPPER(MICASH!G253)","v":""}," ",{"$f":"TEXT(MICASH!I253,\"0000000000\")","v":"0000000000"},{"$f":"TEXT(MICASH!J253*100,\"0000000000\")","v":"0000000000"},{"$f":"TEXT(MONTH(MICASH!K253),\"00\") & TEXT(DAY(MICASH!K253),\"00\") & RIGHT(TEXT(YEAR(MICASH!K253),\"00\"),2)","v":"010000"},{"$f":"UPPER(LEFT(MICASH!L253,96))","v":""}]
["C",288,"00",{"$f":"TEXT(MICASH!D254,\"0000000000\")","v":"0000000000"}," ",{"$f":"UPPER(MICASH!F254)","v":""},{"$f":"UPPER(MICASH!G254)","v":""}," ",{"$f":"TEXT(MICASH!I254,\"0000000000\")","v":"0000000000"},{"$f":"TEXT(MICASH!J254*100,\"0000000000\")","v":"0000000000"},{"$f":"TEXT(MONTH(MICASH!K254),\"00\") & TEXT(DAY(MICASH!K254),\"00\") & RIGHT(TEXT(YEAR(MICASH!K254),\"00\"),2)","v":"010000"},{"$f":"UPPER(LEFT(MICASH!L254,96))","v":""}]
["C",288,"00",{"$f":"TEXT(MICASH!D255,\"0000000000\")","v":"0000000000"}," ",{"$f":"UPPER(MICASH!F255)","v":""},{"$f":"UPPER(MICASH!G255)","v":""}," ",{"$f":"TEXT(MICASH!I255,\"0000000000\")","v":"0000000000"},{"$f":"TEXT(MICASH!J255*100,\"0000000000\")","v":"0000000000"},{"$f":"TEXT(MONTH(MICASH!K255),\"00\") & TEXT(DAY(MICASH!K255),\"00\") & RIGHT(TEXT(YEAR(MICASH!K255),\"00\"),2)","v":"010000"},{"$f":"UPPER(LEFT(MICASH!L255,96))","v":""}]
["C",288,"00",{"$f":"TEXT(MICASH!D256,\"0000000000\")","v":"0000000000"}," ",{"$f":"UPPER(MICASH!F256)","v":""},{"$f":"UPPER(MICASH!G256)","v":""}," ",{"$f":"TEXT(MICASH!I256,\"0000000000\")","v":"0000000000"},{"$f":"TEXT(MICASH!J256*100,\"0000000000\")","v":"0000000000"},{"$f":"TEXT(MONTH(MICASH!K256),\"00\") & TEXT(DAY(MICASH!K256),\"00\") & RIGHT(TEXT(YEAR(MICASH!K256),\"00\"),2)","v":"010000"},{"$f":"UPPER(LEFT(MICASH!L256,96))","v":""}]
["C",288,"00",{"$f":"TEXT(MICASH!D257,\"0000000000\")","v":"0000000000"}," ",{"$f":"UPPER(MICASH!F257)","v":""},{"$f":"UPPER(MICASH!G257)","v":""}," ",{"$f":"TEXT(MICASH!I257,\"0000000000\")","v":"0000000000"},{"$f":"TEXT(MICASH!J257*100,\"0000000000\")","v":"0000000000"},{"$f":"TEXT(MONTH(MICASH!K257),\"00\") & TEXT(DAY(MICASH!K257),\"00\") & RIGHT(TEXT(YEAR(MICASH!K257),\"00\"),2)","v":"010000"},{"$f":"UPPER(LEFT(MICASH!L257,96))","v":""}]
["C",288,"00",{"$f":"TEXT(MICASH!D258,\"0000000000\")","v":"0000000000"}," ",{"$f":"UPPER(MICASH!F258)","v":""},{"$f":"UPPER(MICASH!G258)","v":""}," ",{"$f":"TEXT(MICASH!I258,\"0000000000\")","v":"0000000000"},{"$f":"TEXT(MICASH!J258*100,\"0000000000\")","v":"0000000000"},{"$f":"TEXT(MONTH(MICASH!K258),\"00\") & TEXT(DAY(MICASH!K258),\"00\") & RIGHT(TEXT(YEAR(MICASH!K258),\"00\"),2)","v":"010000"},{"$f":"UPPER(LEFT(MICASH!L258,96))","v":""}]
["C",288,"00",{"$f":"TEXT(MICASH!D259,\"0000000000\")","v":"0000000000"}," ",{"$f":"UPPER(MICASH!F259)","v":""},{"$f":"UPPER(MICASH!G259)","v":""}," ",{"$f":"TEXT(MICASH!I259,\"0000000000\")","v":"0000000000"},{"$f":"TEXT(MICASH!J259*100,\"0000000000\")","v":"0000000000"},{"$f":"TEXT(MONTH(MICASH!K259),\"00\") & TEXT(DAY(MICASH!K259),\"00\") & RIGHT(TEXT(YEAR(MICASH!K259),\"00\"),2)","v":"010000"},{"$f":"UPPER(LEFT(MICASH!L259,96))","v":""}]
["C",288,"00",{"$f":"TEXT(MICASH!D260,\"0000000000\")","v":"0000000000"}," ",{"$f":"UPPER(MICASH!F260)","v":""},{"$f":"UPPER(MICASH!G260)","v":""}," ",{"$f":"TEXT(MICASH!I260,\"0000000000\")","v":"0000000000"},{"$f":"TEXT(MICASH!J260*100,\"0000000000\")","v":"0000000000"},{"$f":"TEXT(MONTH(MICASH!K260),\"00\") & TEXT(DAY(MICASH!K260),\"00\") & RIGHT(TEXT(YEAR(MICASH!K260),\"00\"),2)","v":"010000"},{"$f":"UPPER(LEFT(MICASH!L260,96))","v":""}]
["C",288,"00",{"$f":"TEXT(MICASH!D261,\"0000000000\")","v":"0000000000"}," ",{"$f":"UPPER(MICASH!F261)","v":""},{"$f":"UPPER(MICASH!G261)","v":""}," ",{"$f":"TEXT(MICASH!I261,\"0000000000\")","v":"0000000000"},{"$f":"TEXT(MICASH!J261*100,\"0000000000\")","v":"0000000000"},{"$f":"TEXT(MONTH(MICASH!K261),\"00\") & TEXT(DAY(MICASH!K261),\"00\") & RIGHT(TEXT(YEAR(MICASH!K261),\"00\"),2)","v":"010000"},{"$f":"UPPER(LEFT(MICASH!L261,96))","v":""}]
["C",288,"00",{"$f":"TEXT(MICASH!D262,\"0000000000\")","v":"0000000000"}," ",{"$f":"UPPER(MICASH!F262)","v":""},{"$f":"UPPER(MICASH!G262)","v":""}," ",{"$f":"TEXT(MICASH!I262,\"0000000000\")","v":"0000000000"},{"$f":"TEXT(MICASH!J262*100,\"0000000000\")","v":"0000000000"},{"$f":"TEXT(MONTH(MICASH!K262),\"00\") & TEXT(DAY(MICASH!K262),\"00\") & RIGHT(TEXT(YEAR(MICASH!K262),\"00\"),2)","v":"010000"},{"$f":"UPPER(LEFT(MICASH!L262,96))","v":""}]
["C",288,"00",{"$f":"TEXT(MICASH!D263,\"0000000000\")","v":"0000000000"}," ",{"$f":"UPPER(MICASH!F263)","v":""},{"$f":"UPPER(MICASH!G263)","v":""}," ",{"$f":"TEXT(MICASH!I263,\"0000000000\")","v":"0000000000"},{"$f":"TEXT(MICASH!J263*100,\"0000000000\")","v":"0000000000"},{"$f":"TEXT(MONTH(MICASH!K263),\"00\") & TEXT(DAY(MICASH!K263),\"00\") & RIGHT(TEXT(YEAR(MICASH!K263),\"00\"),2)","v":"010000"},{"$f":"UPPER(LEFT(MICASH!L263,96))","v":""}]
["C",288,"00",{"$f":"TEXT(MICASH!D264,\"0000000000\")","v":"0000000000"}," ",{"$f":"UPPER(MICASH!F264)","v":""},{"$f":"UPPER(MICASH!G264)","v":""}," ",{"$f":"TEXT(MICASH!I264,\"0000000000\")","v":"0000000000"},{"$f":"TEXT(MICASH!J264*100,\"0000000000\")","v":"0000000000"},{"$f":"TEXT(MONTH(MICASH!K264),\"00\") & TEXT(DAY(MICASH!K264),\"00\") & RIGHT(TEXT(YEAR(MICASH!K264),\"00\"),2)","v":"010000"},{"$f":"UPPER(LEFT(MICASH!L264,96))","v":""}]
["C",288,"00",{"$f":"TEXT(MICASH!D265,\"0000000000\")","v":"0000000000"}," ",{"$f":"UPPER(MICASH!F265)","v":""},{"$f":"UPPER(MICASH!G265)","v":""}," ",{"$f":"TEXT(MICASH!I265,\"0000000000\")","v":"0000000000"},{"$f":"TEXT(MICASH!J265*100,\"0000000000\")","v":"0000000000"},{"$f":"TEXT(MONTH(MICASH!K265),\"00\") & TEXT(DAY(MICASH!K265),\"00\") & RIGHT(TEXT(YEAR(MICASH!K265),\"00\"),2)","v":"010000"},{"$f":"UPPER(LEFT(MICASH!L265,96))","v":""}]
["C",288,"00",{"$f":"TEXT(MICASH!D266,\"0000000000\")","v":"0000000000"}," ",{"$f":"UPPER(MICASH!F266)","v":""},{"$f":"UPPER(MICASH!G266)","v":""}," ",{"$f":"TEXT(MICASH!I266,\"0000000000\")","v":"0000000000"},{"$f":"TEXT(MICASH!J266*100,\"0000000000\")","v":"0000000000"},{"$f":"TEXT(MONTH(MICASH!K266),\"00\") & TEXT(DAY(MICASH!K266),\"00\") & RIGHT(TEXT(YEAR(MICASH!K266),\"00\"),2)","v":"010000"},{"$f":"UPPER(LEFT(MICASH!L266,96))","v":""}]
["C",288,"00",{"$f":"TEXT(MICASH!D267,\"0000000000\")","v":"0000000000"}," ",{"$f":"UPPER(MICASH!F267)","v":""},{"$f":"UPPER(MICASH!G267)","v":""}," ",{"$f":"TEXT(MICASH!I267,\"0000000000\")","v":"0000000000"},{"$f":"TEXT(MICASH!J267*100,\"0000000000\")","v":"0000000000"},{"$f":"TEXT(MONTH(MICASH!K267),\"00\") & TEXT(DAY(MICASH!K267),\"00\") & RIGHT(TEXT(YEAR(MICASH!K267),\"00\"),2)","v":"010000"},{"$f":"UPPER(LEFT(MICASH!L267,96))","v":""}]
["C",288,"00",{"$f":"TEXT(MICASH!D268,\"0000000000\")","v":"0000000000"}," ",{"$f":"UPPER(MICASH!F268)","v":""},{"$f":"UPPER(MICASH!G268)","v":""}," ",{"$f":"TEXT(MICASH!I268,\"0000000000\")","v":"0000000000"},{"$f":"TEXT(MICASH!J268*100,\"0000000000\")","v":"0000000000"},{"$f":"TEXT(MONTH(MICASH!K268),\"00\") & TEXT(DAY(MICASH!K268),\"00\") & RIGHT(TEXT(YEAR(MICASH!K268),\"00\"),2)","v":"010000"},{"$f":"UPPER(LEFT(MICASH!L268,96))","v":""}]
["C",288,"00",{"$f":"TEXT(MICASH!D269,\"0000000000\")","v":"0000000000"}," ",{"$f":"UPPER(MICASH!F269)","v":""},{"$f":"UPPER(MICASH!G269)","v":""}," ",{"$f":"TEXT(MICASH!I269,\"0000000000\")","v":"0000000000"},{"$f":"TEXT(MICASH!J269*100,\"0000000000\")","v":"0000000000"},{"$f":"TEXT(MONTH(MICASH!K269),\"00\") & TEXT(DAY(MICASH!K269),\"00\") & RIGHT(TEXT(YEAR(MICASH!K269),\"00\"),2)","v":"010000"},{"$f":"UPPER(LEFT(MICASH!L269,96))","v":""}]
["C",288,"00",{"$f":"TEXT(MICASH!D270,\"0000000000\")","v":"0000000000"}," ",{"$f":"UPPER(MICASH!F270)","v":""},{"$f":"UPPER(MICASH!G270)","v":""}," ",{"$f":"TEXT(MICASH!I270,\"0000000000\")","v":"0000000000"},{"$f":"TEXT(MICASH!J270*100,\"0000000000\")","v":"0000000000"},{"$f":"TEXT(MONTH(MICASH!K270),\"00\") & TEXT(DAY(MICASH!K270),\"00\") & RIGHT(TEXT(YEAR(MICASH!K270),\"00\"),2)","v":"010000"},{"$f":"UPPER(LEFT(MICASH!L270,96))","v":""}]
["C",288,"00",{"$f":"TEXT(MICASH!D271,\"0000000000\")","v":"0000000000"}," ",{"$f":"UPPER(MICASH!F271)","v":""},{"$f":"UPPER(MICASH!G271)","v":""}," ",{"$f":"TEXT(MICASH!I271,\"0000000000\")","v":"0000000000"},{"$f":"TEXT(MICASH!J271*100,\"0000000000\")","v":"0000000000"},{"$f":"TEXT(MONTH(MICASH!K271),\"00\") & TEXT(DAY(MICASH!K271),\"00\") & RIGHT(TEXT(YEAR(MICASH!K271),\"00\"),2)","v":"010000"},{"$f":"UPPER(LEFT(MICASH!L271,96))","v":""}]
["C",288,"00",{"$f":"TEXT(MICASH!D272,\"0000000000\")","v":"0000000000"}," ",{"$f":"UPPER(MICASH!F272)","v":""},{"$f":"UPPER(MICASH!G272)","v":""}," ",{"$f":"TEXT(MICASH!I272,\"0000000000\")","v":"0000000000"},{"$f":"TEXT(MICASH!J272*100,\"0000000000\")","v":"0000000000"},{"$f":"TEXT(MONTH(MICASH!K272),\"00\") & TEXT(DAY(MICASH!K272),\"00\") & RIGHT(TEXT(YEAR(MICASH!K272),\"00\"),2)","v":"010000"},{"$f":"UPPER(LEFT(MICASH!L272,96))","v":""}]
["C",288,"00",{"$f":"TEXT(MICASH!D273,\"0000000000\")","v":"0000000000"}," ",{"$f":"UPPER(MICASH!F273)","v":""},{"$f":"UPPER(MICASH!G273)","v":""}," ",{"$f":"TEXT(MICASH!I273,\"0000000000\")","v":"0000000000"},{"$f":"TEXT(MICASH!J273*100,\"0000000000\")","v":"0000000000"},{"$f":"TEXT(MONTH(MICASH!K273),\"00\") & TEXT(DAY(MICASH!K273),\"00\") & RIGHT(TEXT(YEAR(MICASH!K273),\"00\"),2)","v":"010000"},{"$f":"UPPER(LEFT(MICASH!L273,96))","v":""}]
["C",288,"00",{"$f":"TEXT(MICASH!D274,\"0000000000\")","v":"0000000000"}," ",{"$f":"UPPER(MICASH!F274)","v":""},{"$f":"UPPER(MICASH!G274)","v":""}," ",{"$f":"TEXT(MICASH!I274,\"0000000000\")","v":"0000000000"},{"$f":"TEXT(MICASH!J274*100,\"0000000000\")","v":"0000000000"},{"$f":"TEXT(MONTH(MICASH!K274),\"00\") & TEXT(DAY(MICASH!K274),\"00\") & RIGHT(TEXT(YEAR(MICASH!K274),\"00\"),2)","v":"010000"},{"$f":"UPPER(LEFT(MICASH!L274,96))","v":""}]
["C",288,"00",{"$f":"TEXT(MICASH!D275,\"0000000000\")","v":"0000000000"}," ",{"$f":"UPPER(MICASH!F275)","v":""},{"$f":"UPPER(MICASH!G275)","v":""}," ",{"$f":"TEXT(MICASH!I275,\"0000000000\")","v":"0000000000"},{"$f":"TEXT(MICASH!J275*100,\"0000000000\")","v":"0000000000"},{"$f":"TEXT(MONTH(MICASH!K275),\"00\") & TEXT(DAY(MICASH!K275),\"00\") & RIGHT(TEXT(YEAR(MICASH!K275),\"00\"),2)","v":"010000"},{"$f":"UPPER(LEFT(MICASH!L275,96))","v":""}]
["C",288,"00",{"$f":"TEXT(MICASH!D276,\"0000000000\")","v":"0000000000"}," ",{"$f":"UPPER(MICASH!F276)","v":""},{"$f":"UPPER(MICASH!G276)","v":""}," ",{"$f":"TEXT(MICASH!I276,\"0000000000\")","v":"0000000000"},{"$f":"TEXT(MICASH!J276*100,\"0000000000\")","v":"0000000000"},{"$f":"TEXT(MONTH(MICASH!K276),\"00\") & TEXT(DAY(MICASH!K276),\"00\") & RIGHT(TEXT(YEAR(MICASH!K276),\"00\"),2)","v":"010000"},{"$f":"UPPER(LEFT(MICASH!L276,96))","v":""}]
["C",288,"00",{"$f":"TEXT(MICASH!D277,\"0000000000\")","v":"0000000000"}," ",{"$f":"UPPER(MICASH!F277)","v":""},{"$f":"UPPER(MICASH!G277)","v":""}," ",{"$f":"TEXT(MICASH!I277,\"0000000000\")","v":"0000000000"},{"$f":"TEXT(MICASH!J277*100,\"0000000000\")","v":"0000000000"},{"$f":"TEXT(MONTH(MICASH!K277),\"00\") & TEXT(DAY(MICASH!K277),\"00\") & RIGHT(TEXT(YEAR(MICASH!K277),\"00\"),2)","v":"010000"},{"$f":"UPPER(LEFT(MICASH!L277,96))","v":""}]
["C",288,"00",{"$f":"TEXT(MICASH!D278,\"0000000000\")","v":"0000000000"}," ",{"$f":"UPPER(MICASH!F278)","v":""},{"$f":"UPPER(MICASH!G278)","v":""}," ",{"$f":"TEXT(MICASH!I278,\"0000000000\")","v":"0000000000"},{"$f":"TEXT(MICASH!J278*100,\"0000000000\")","v":"0000000000"},{"$f":"TEXT(MONTH(MICASH!K278),\"00\") & TEXT(DAY(MICASH!K278),\"00\") & RIGHT(TEXT(YEAR(MICASH!K278),\"00\"),2)","v":"010000"},{"$f":"UPPER(LEFT(MICASH!L278,96))","v":""}]
["C",288,"00",{"$f":"TEXT(MICASH!D279,\"0000000000\")","v":"0000000000"}," ",{"$f":"UPPER(MICASH!F279)","v":""},{"$f":"UPPER(MICASH!G279)","v":""}," ",{"$f":"TEXT(MICASH!I279,\"0000000000\")","v":"0000000000"},{"$f":"TEXT(MICASH!J279*100,\"0000000000\")","v":"0000000000"},{"$f":"TEXT(MONTH(MICASH!K279),\"00\") & TEXT(DAY(MICASH!K279),\"00\") & RIGHT(TEXT(YEAR(MICASH!K279),\"00\"),2)","v":"010000"},{"$f":"UPPER(LEFT(MICASH!L279,96))","v":""}]
["C",288,"00",{"$f":"TEXT(MICASH!D280,\"0000000000\")","v":"0000000000"}," ",{"$f":"UPPER(MICASH!F280)","v":""},{"$f":"UPPER(MICASH!G280)","v":""}," ",{"$f":"TEXT(MICASH!I280,\"0000000000\")","v":"0000000000"},{"$f":"TEXT(MICASH!J280*100,\"0000000000\")","v":"0000000000"},{"$f":"TEXT(MONTH(MICASH!K280),\"00\") & TEXT(DAY(MICASH!K280),\"00\") & RIGHT(TEXT(YEAR(MICASH!K280),\"00\"),2)","v":"010000"},{"$f":"UPPER(LEFT(MICASH!L280,96))","v":""}]
["C",288,"00",{"$f":"TEXT(MICASH!D281,\"0000000000\")","v":"0000000000"}," ",{"$f":"UPPER(MICASH!F281)","v":""},{"$f":"UPPER(MICASH!G281)","v":""}," ",{"$f":"TEXT(MICASH!I281,\"0000000000\")","v":"0000000000"},{"$f":"TEXT(MICASH!J281*100,\"0000000000\")","v":"0000000000"},{"$f":"TEXT(MONTH(MICASH!K281),\"00\") & TEXT(DAY(MICASH!K281),\"00\") & RIGHT(TEXT(YEAR(MICASH!K281),\"00\"),2)","v":"010000"},{"$f":"UPPER(LEFT(MICASH!L281,96))","v":""}]
["C",288,"00",{"$f":"TEXT(MICASH!D282,\"0000000000\")","v":"0000000000"}," ",{"$f":"UPPER(MICASH!F282)","v":""},{"$f":"UPPER(MICASH!G282)","v":""}," ",{"$f":"TEXT(MICASH!I282,\"0000000000\")","v":"0000000000"},{"$f":"TEXT(MICASH!J282*100,\"0000000000\")","v":"0000000000"},{"$f":"TEXT(MONTH(MICASH!K282),\"00\") & TEXT(DAY(MICASH!K282),\"00\") & RIGHT(TEXT(YEAR(MICASH!K282),\"00\"),2)","v":"010000"},{"$f":"UPPER(LEFT(MICASH!L282,96))","v":""}]
["C",288,"00",{"$f":"TEXT(MICASH!D283,\"0000000000\")","v":"0000000000"}," ",{"$f":"UPPER(MICASH!F283)","v":""},{"$f":"UPPER(MICASH!G283)","v":""}," ",{"$f":"TEXT(MICASH!I283,\"0000000000\")","v":"0000000000"},{"$f":"TEXT(MICASH!J283*100,\"0000000000\")","v":"0000000000"},{"$f":"TEXT(MONTH(MICASH!K283),\"00\") & TEXT(DAY(MICASH!K283),\"00\") & RIGHT(TEXT(YEAR(MICASH!K283),\"00\"),2)","v":"010000"},{"$f":"UPPER(LEFT(MICASH!L283,96))","v":""}]
["C",288,"00",{"$f":"TEXT(MICASH!D284,\"0000000000\")","v":"0000000000"}," ",{"$f":"UPPER(MICASH!F284)","v":""},{"$f":"UPPER(MICASH!G284)","v":""}," ",{"$f":"TEXT(MICASH!I284,\"0000000000\")","v":"0000000000"},{"$f":"TEXT(MICASH!J284*100,\"0000000000\")","v":"0000000000"},{"$f":"TEXT(MONTH(MICASH!K284),\"00\") & TEXT(DAY(MICASH!K284),\"00\") & RIGHT(TEXT(YEAR(MICASH!K284),\"00\"),2)","v":"010000"},{"$f":"UPPER(LEFT(MICASH!L284,96))","v":""}]
["C",288,"00",{"$f":"TEXT(MICASH!D285,\"0000000000\")","v":"0000000000"}," ",{"$f":"UPPER(MICASH!F285)","v":""},{"$f":"UPPER(MICASH!G285)","v":""}," ",{"$f":"TEXT(MICASH!I285,\"0000000000\")","v":"0000000000"},{"$f":"TEXT(MICASH!J285*100,\"0000000000\")","v":"0000000000"},{"$f":"TEXT(MONTH(MICASH!K285),\"00\") & TEXT(DAY(MICASH!K285),\"00\") & RIGHT(TEXT(YEAR(MICASH!K285),\"00\"),2)","v":"010000"},{"$f":"UPPER(LEFT(MICASH!L285,96))","v":""}]
["C",288,"00",{"$f":"TEXT(MICASH!D286,\"0000000000\")","v":"0000000000"}," ",{"$f":"UPPER(MICASH!F286)","v":""},{"$f":"UPPER(MICASH!G286)","v":""}," ",{"$f":"TEXT(MICASH!I286,\"0000000000\")","v":"0000000000"},{"$f":"TEXT(MICASH!J286*100,\"0000000000\")","v":"0000000000"},{"$f":"TEXT(MONTH(MICASH!K286),\"00\") & TEXT(DAY(MICASH!K286),\"00\") & RIGHT(TEXT(YEAR(MICASH!K286),\"00\"),2)","v":"010000"},{"$f":"UPPER(LEFT(MICASH!L286,96))","v":""}]
["C",288,"00",{"$f":"TEXT(MICASH!D287,\"0000000000\")","v":"0000000000"}," ",{"$f":"UPPER(MICASH!F287)","v":""},{"$f":"UPPER(MICASH!G287)","v":""}," ",{"$f":"TEXT(MICASH!I287,\"0000000000\")","v":"0000000000"},{"$f":"TEXT(MICASH!J287*100,\"0000000000\")","v":"0000000000"},{"$f":"TEXT(MONTH(MICASH!K287),\"00\") & TEXT(DAY(MICASH!K287),\"00\") & RIGHT(TEXT(YEAR(MICASH!K287),\"00\"),2)","v":"010000"},{"$f":"UPPER(LEFT(MICASH!L287,96))","v":""}]
["C",288,"00",{"$f":"TEXT(MICASH!D288,\"0000000000\")","v":"0000000000"}," ",{"$f":"UPPER(MICASH!F288)","v":""},{"$f":"UPPER(MICASH!G288)","v":""}," ",{"$f":"TEXT(MICASH!I288,\"0000000000\")","v":"0000000000"},{"$f":"TEXT(MICASH!J288*100,\"0000000000\")","v":"0000000000"},{"$f":"TEXT(MONTH(MICASH!K288),\"00\") & TEXT(DAY(MICASH!K288),\"00\") & RIGHT(TEXT(YEAR(MICASH!K288),\"00\"),2)","v":"010000"},{"$f":"UPPER(LEFT(MICASH!L288,96))","v":""}]
["C",288,"00",{"$f":"TEXT(MICASH!D289,\"0000000000\")","v":"0000000000"}," ",{"$f":"UPPER(MICASH!F289)","v":""},{"$f":"UPPER(MICASH!G289)","v":""}," ",{"$f":"TEXT(MICASH!I289,\"0000000000\")","v":"0000000000"},{"$f":"TEXT(MICASH!J289*100,\"0000000000\")","v":"0000000000"},{"$f":"TEXT(MONTH(MICASH!K289),\"00\") & TEXT(DAY(MICASH!K289),\"00\") & RIGHT(TEXT(YEAR(MICASH!K289),\"00\"),2)","v":"010000"},{"$f":"UPPER(LEFT(MICASH!L289,96))","v":""}]
["C",288,"00",{"$f":"TEXT(MICASH!D290,\"0000000000\")","v":"0000000000"}," ",{"$f":"UPPER(MICASH!F290)","v":""},{"$f":"UPPER(MICASH!G290)","v":""}," ",{"$f":"TEXT(MICASH!I290,\"0000000000\")","v":"0000000000"},{"$f":"TEXT(MICASH!J290*100,\"0000000000\")","v":"0000000000"},{"$f":"TEXT(MONTH(MICASH!K290),\"00\") & TEXT(DAY(MICASH!K290),\"00\") & RIGHT(TEXT(YEAR(MICASH!K290),\"00\"),2)","v":"010000"},{"$f":"UPPER(LEFT(MICASH!L290,96))","v":""}]
["C",288,"00",{"$f":"TEXT(MICASH!D291,\"0000000000\")","v":"0000000000"}," ",{"$f":"UPPER(MICASH!F291)","v":""},{"$f":"UPPER(MICASH!G291)","v":""}," ",{"$f":"TEXT(MICASH!I291,\"0000000000\")","v":"0000000000"},{"$f":"TEXT(MICASH!J291*100,\"0000000000\")","v":"0000000000"},{"$f":"TEXT(MONTH(MICASH!K291),\"00\") & TEXT(DAY(MICASH!K291),\"00\") & RIGHT(TEXT(YEAR(MICASH!K291),\"00\"),2)","v":"010000"},{"$f":"UPPER(LEFT(MICASH!L291,96))","v":""}]
["C",288,"00",{"$f":"TEXT(MICASH!D292,\"0000000000\")","v":"0000000000"}," ",{"$f":"UPPER(MICASH!F292)","v":""},{"$f":"UPPER(MICASH!G292)","v":""}," ",{"$f":"TEXT(MICASH!I292,\"0000000000\")","v":"0000000000"},{"$f":"TEXT(MICASH!J292*100,\"0000000000\")","v":"0000000000"},{"$f":"TEXT(MONTH(MICASH!K292),\"00\") & TEXT(DAY(MICASH!K292),\"00\") & RIGHT(TEXT(YEAR(MICASH!K292),\"00\"),2)","v":"010000"},{"$f":"UPPER(LEFT(MICASH!L292,96))","v":""}]
["C",288,"00",{"$f":"TEXT(MICASH!D293,\"0000000000\")","v":"0000000000"}," ",{"$f":"UPPER(MICASH!F293)","v":""},{"$f":"UPPER(MICASH!G293)","v":""}," ",{"$f":"TEXT(MICASH!I293,\"0000000000\")","v":"0000000000"},{"$f":"TEXT(MICASH!J293*100,\"0000000000\")","v":"0000000000"},{"$f":"TEXT(MONTH(MICASH!K293),\"00\") & TEXT(DAY(MICASH!K293),\"00\") & RIGHT(TEXT(YEAR(MICASH!K293),\"00\"),2)","v":"010000"},{"$f":"UPPER(LEFT(MICASH!L293,96))","v":""}]
["C",288,"00",{"$f":"TEXT(MICASH!D294,\"0000000000\")","v":"0000000000"}," ",{"$f":"UPPER(MICASH!F294)","v":""},{"$f":"UPPER(MICASH!G294)","v":""}," ",{"$f":"TEXT(MICASH!I294,\"0000000000\")","v":"0000000000"},{"$f":"TEXT(MICASH!J294*100,\"0000000000\")","v":"0000000000"},{"$f":"TEXT(MONTH(MICASH!K294),\"00\") & TEXT(DAY(MICASH!K294),\"00\") & RIGHT(TEXT(YEAR(MICASH!K294),\"00\"),2)","v":"010000"},{"$f":"UPPER(LEFT(MICASH!L294,96))","v":""}]
["C",288,"00",{"$f":"TEXT(MICASH!D295,\"0000000000\")","v":"0000000000"}," ",{"$f":"UPPER(MICASH!F295)","v":""},{"$f":"UPPER(MICASH!G295)","v":""}," ",{"$f":"TEXT(MICASH!I295,\"0000000000\")","v":"0000000000"},{"$f":"TEXT(MICASH!J295*100,\"0000000000\")","v":"0000000000"},{"$f":"TEXT(MONTH(MICASH!K295),\"00\") & TEXT(DAY(MICASH!K295),\"00\") & RIGHT(TEXT(YEAR(MICASH!K295),\"00\"),2)","v":"010000"},{"$f":"UPPER(LEFT(MICASH!L295,96))","v":""}]
["C",288,"00",{"$f":"TEXT(MICASH!D296,\"0000000000\")","v":"0000000000"}," ",{"$f":"UPPER(MICASH!F296)","v":""},{"$f":"UPPER(MICASH!G296)","v":""}," ",{"$f":"TEXT(MICASH!I296,\"0000000000\")","v":"0000000000"},{"$f":"TEXT(MICASH!J296*100,\"0000000000\")","v":"0000000000"},{"$f":"TEXT(MONTH(MICASH!K296),\"00\") & TEXT(DAY(MICASH!K296),\"00\") & RIGHT(TEXT(YEAR(MICASH!K296),\"00\"),2)","v":"010000"},{"$f":"UPPER(LEFT(MICASH!L296,96))","v":""}]
["C",288,"00",{"$f":"TEXT(MICASH!D297,\"0000000000\")","v":"0000000000"}," ",{"$f":"UPPER(MICASH!F297)","v":""},{"$f":"UPPER(MICASH!G297)","v":""}," ",{"$f":"TEXT(MICASH!I297,\"0000000000\")","v":"0000000000"},{"$f":"TEXT(MICASH!J297*100,\"0000000000\")","v":"0000000000"},{"$f":"TEXT(MONTH(MICASH!K297),\"00\") & TEXT(DAY(MICASH!K297),\"00\") & RIGHT(TEXT(YEAR(MICASH!K297),\"00\"),2)","v":"010000"},{"$f":"UPPER(LEFT(MICASH!L297,96))","v":""}]
["C",288,"00",{"$f":"TEXT(MICASH!D298,\"0000000000\")","v":"0000000000"}," ",{"$f":"UPPER(MICASH!F298)","v":""},{"$f":"UPPER(MICASH!G298)","v":""}," ",{"$f":"TEXT(MICASH!I298,\"0000000000\")","v":"0000000000"},{"$f":"TEXT(MICASH!J298*100,\"0000000000\")","v":"0000000000"},{"$f":"TEXT(MONTH(MICASH!K298),\"00\") & TEXT(DAY(MICASH!K298),\"00\") & RIGHT(TEXT(YEAR(MICASH!K298),\"00\"),2)","v":"010000"},{"$f":"UPPER(LEFT(MICASH!L298,96))","v":""}]
["C",288,"00",{"$f":"TEXT(MICASH!D299,\"0000000000\")","v":"0000000000"}," ",{"$f":"UPPER(MICASH!F299)","v":""},{"$f":"UPPER(MICASH!G299)","v":""}," ",{"$f":"TEXT(MICASH!I299,\"0000000000\")","v":"0000000000"},{"$f":"TEXT(MICASH!J299*100,\"0000000000\")","v":"0000000000"},{"$f":"TEXT(MONTH(MICASH!K299),\"00\") & TEXT(DAY(MICASH!K299),\"00\") & RIGHT(TEXT(YEAR(MICASH!K299),\"00\"),2)","v":"010000"},{"$f":"UPPER(LEFT(MICASH!L299,96))","v":""}]
["C",288,"00",{"$f":"TEXT(MICASH!D300,\"0000000000\")","v":"0000000000"}," ",{"$f":"UPPER(MICASH!F300)","v":""},{"$f":"UPPER(MICASH!G300)","v":""}," ",{"$f":"TEXT(MICASH!I300,\"0000000000\")","v":"0000000000"},{"$f":"TEXT(MICASH!J300*100,\"0000000000\")","v":"0000000000"},{"$f":"TEXT(MONTH(MICASH!K300),\"00\") & TEXT(DAY(MICASH!K300),\"00\") & RIGHT(TEXT(YEAR(MICASH!K300),\"00\"),2)","v":"010000"},{"$f":"UPPER(LEFT(MICASH!L300,96))","v":""}]
["C",288,"00",{"$f":"TEXT(MICASH!D301,\"0000000000\")","v":"0000000000"}," ",{"$f":"UPPER(MICASH!F301)","v":""},{"$f":"UPPER(MICASH!G301)","v":""}," ",{"$f":"TEXT(MICASH!I301,\"0000000000\")","v":"0000000000"},{"$f":"TEXT(MICASH!J301*100,\"0000000000\")","v":"0000000000"},{"$f":"TEXT(MONTH(MICASH!K301),\"00\") & TEXT(DAY(MICASH!K301),\"00\") & RIGHT(TEXT(YEAR(MICASH!K301),\"00\"),2)","v":"010000"},{"$f":"UPPER(LEFT(MICASH!L301,96))","v":""}]
["C",288,"00",{"$f":"TEXT(MICASH!D302,\"0000000000\")","v":"0000000000"}," ",{"$f":"UPPER(MICASH!F302)","v":""},{"$f":"UPPER(MICASH!G302)","v":""}," ",{"$f":"TEXT(MICASH!I302,\"0000000000\")","v":"0000000000"},{"$f":"TEXT(MICASH!J302*100,\"0000000000\")","v":"0000000000"},{"$f":"TEXT(MONTH(MICASH!K302),\"00\") & TEXT(DAY(MICASH!K302),\"00\") & RIGHT(TEXT(YEAR(MICASH!K302),\"00\"),2)","v":"010000"},{"$f":"UPPER(LEFT(MICASH!L302,96))","v":""}]
["C",288,"00",{"$f":"TEXT(MICASH!D303,\"0000000000\")","v":"0000000000"}," ",{"$f":"UPPER(MICASH!F303)","v":""},{"$f":"UPPER(MICASH!G303)","v":""}," ",{"$f":"TEXT(MICASH!I303,\"0000000000\")","v":"0000000000"},{"$f":"TEXT(MICASH!J303*100,\"0000000000\")","v":"0000000000"},{"$f":"TEXT(MONTH(MICASH!K303),\"00\") & TEXT(DAY(MICASH!K303),\"00\") & RIGHT(TEXT(YEAR(MICASH!K303),\"00\"),2)","v":"010000"},{"$f":"UPPER(LEFT(MICASH!L303,96))","v":""}]
["C",288,"00",{"$f":"TEXT(MICASH!D304,\"0000000000\")","v":"0000000000"}," ",{"$f":"UPPER(MICASH!F304)","v":""},{"$f":"UPPER(MICASH!G304)","v":""}," ",{"$f":"TEXT(MICASH!I304,\"0000000000\")","v":"0000000000"},{"$f":"TEXT(MICASH!J304*100,\"0000000000\")","v":"0000000000"},{"$f":"TEXT(MONTH(MICASH!K304),\"00\") & TEXT(DAY(MICASH!K304),\"00\") & RIGHT(TEXT(YEAR(MICASH!K304),\"00\"),2)","v":"010000"},{"$f":"UPPER(LEFT(MICASH!L304,96))","v":""}]
["C",288,"00",{"$f":"TEXT(MICASH!D305,\"0000000000\")","v":"0000000000"}," ",{"$f":"UPPER(MICASH!F305)","v":""},{"$f":"UPPER(MICASH!G305)","v":""}," ",{"$f":"TEXT(MICASH!I305,\"0000000000\")","v":"0000000000"},{"$f":"TEXT(MICASH!J305*100,\"0000000000\")","v":"0000000000"},{"$f":"TEXT(MONTH(MICASH!K305),\"00\") & TEXT(DAY(MICASH!K305),\"00\") & RIGHT(TEXT(YEAR(MICASH!K305),\"00\"),2)","v":"010000"},{"$f":"UPPER(LEFT(MICASH!L305,96))","v":""}]
["C",288,"00",{"$f":"TEXT(MICASH!D306,\"0000000000\")","v":"0000000000"}," ",{"$f":"UPPER(MICASH!F306)","v":""},{"$f":"UPPER(MICASH!G306)","v":""}," ",{"$f":"TEXT(MICASH!I306,\"0000000000\")","v":"0000000000"},{"$f":"TEXT(MICASH!J306*100,\"0000000000\")","v":"0000000000"},{"$f":"TEXT(MONTH(MICASH!K306),\"00\") & TEXT(DAY(MICASH!K306),\"00\") & RIGHT(TEXT(YEAR(MICASH!K306),\"00\"),2)","v":"010000"},{"$f":"UPPER(LEFT(MICASH!L306,96))","v":""}]
["C",288,"00",{"$f":"TEXT(MICASH!D307,\"0000000000\")","v":"0000000000"}," ",{"$f":"UPPER(MICASH!F307)","v":""},{"$f":"UPPER(MICASH!G307)","v":""}," ",{"$f":"TEXT(MICASH!I307,\"0000000000\")","v":"0000000000"},{"$f":"TEXT(MICASH!J307*100,\"0000000000\")","v":"0000000000"},{"$f":"TEXT(MONTH(MICASH!K307),\"00\") & TEXT(DAY(MICASH!K307),\"00\") & RIGHT(TEXT(YEAR(MICASH!K307),\"00\"),2)","v":"010000"},{"$f":"UPPER(LEFT(MICASH!L307,96))","v":""}]
["C",288,"00",{"$f":"TEXT(MICASH!D308,\"0000000000\")","v":"0000000000"}," ",{"$f":"UPPER(MICASH!F308)","v":""},{"$f":"UPPER(MICASH!G308)","v":""}," ",{"$f":"TEXT(MICASH!I308,\"0000000000\")","v":"0000000000"},{"$f":"TEXT(MICASH!J308*100,\"0000000000\")","v":"0000000000"},{"$f":"TEXT(MONTH(MICASH!K308),\"00\") & TEXT(DAY(MICASH!K308),\"00\") & RIGHT(TEXT(YEAR(MICASH!K308),\"00\"),2)","v":"010000"},{"$f":"UPPER(LEFT(MICASH!L308,96))","v":""}]
["C",288,"00",{"$f":"TEXT(MICASH!D309,\"0000000000\")","v":"0000000000"}," ",{"$f":"UPPER(MICASH!F309)","v":""},{"$f":"UPPER(MICASH!G309)","v":""}," ",{"$f":"TEXT(MICASH!I309,\"0000000000\")","v":"0000000000"},{"$f":"TEXT(MICASH!J309*100,\"0000000000\")","v":"0000000000"},{"$f":"TEXT(MONTH(MICASH!K309),\"00\") & TEXT(DAY(MICASH!K309),\"00\") & RIGHT(TEXT(YEAR(MICASH!K309),\"00\"),2)","v":"010000"},{"$f":"UPPER(LEFT(MICASH!L309,96))","v":""}]
["C",288,"00",{"$f":"TEXT(MICASH!D310,\"0000000000\")","v":"0000000000"}," ",{"$f":"UPPER(MICASH!F310)","v":""},{"$f":"UPPER(MICASH!G310)","v":""}," ",{"$f":"TEXT(MICASH!I310,\"0000000000\")","v":"0000000000"},{"$f":"TEXT(MICASH!J310*100,\"0000000000\")","v":"0000000000"},{"$f":"TEXT(MONTH(MICASH!K310),\"00\") & TEXT(DAY(MICASH!K310),\"00\") & RIGHT(TEXT(YEAR(MICASH!K310),\"00\"),2)","v":"010000"},{"$f":"UPPER(LEFT(MICASH!L310,96))","v":""}]
["C",288,"00",{"$f":"TEXT(MICASH!D311,\"0000000000\")","v":"0000000000"}," ",{"$f":"UPPER(MICASH!F311)","v":""},{"$f":"UPPER(MICASH!G311)","v":""}," ",{"$f":"TEXT(MICASH!I311,\"0000000000\")","v":"0000000000"},{"$f":"TEXT(MICASH!J311*100,\"0000000000\")","v":"0000000000"},{"$f":"TEXT(MONTH(MICASH!K311),\"00\") & TEXT(DAY(MICASH!K311),\"00\") & RIGHT(TEXT(YEAR(MICASH!K311),\"00\"),2)","v":"010000"},{"$f":"UPPER(LEFT(MICASH!L311,96))","v":""}]
["C",288,"00",{"$f":"TEXT(MICASH!D312,\"0000000000\")","v":"0000000000"}," ",{"$f":"UPPER(MICASH!F312)","v":""},{"$f":"UPPER(MICASH!G312)","v":""}," ",{"$f":"TEXT(MICASH!I312,\"0000000000\")","v":"0000000000"},{"$f":"TEXT(MICASH!J312*100,\"0000000000\")","v":"0000000000"},{"$f":"TEXT(MONTH(MICASH!K312),\"00\") & TEXT(DAY(MICASH!K312),\"00\") & RIGHT(TEXT(YEAR(MICASH!K312),\"00\"),2)","v":"010000"},{"$f":"UPPER(LEFT(MICASH!L312,96))","v":""}]
["C",288,"00",{"$f":"TEXT(MICASH!D313,\"0000000000\")","v":"0000000000"}," ",{"$f":"UPPER(MICASH!F313)","v":""},{"$f":"UPPER(MICASH!G313)","v":""}," ",{"$f":"TEXT(MICASH!I313,\"0000000000\")","v":"0000000000"},{"$f":"TEXT(MICASH!J313*100,\"0000000000\")","v":"0000000000"},{"$f":"TEXT(MONTH(MICASH!K313),\"00\") & TEXT(DAY(MICASH!K313),\"00\") & RIGHT(TEXT(YEAR(MICASH!K313),\"00\"),2)","v":"010000"},{"$f":"UPPER(LEFT(MICASH!L313,96))","v":""}]
["C",288,"00",{"$f":"TEXT(MICASH!D314,\"0000000000\")","v":"0000000000"}," ",{"$f":"UPPER(MICASH!F314)","v":""},{"$f":"UPPER(MICASH!G314)","v":""}," ",{"$f":"TEXT(MICASH!I314,\"0000000000\")","v":"0000000000"},{"$f":"TEXT(MICASH!J314*100,\"0000000000\")","v":"0000000000"},{"$f":"TEXT(MONTH(MICASH!K314),\"00\") & TEXT(DAY(MICASH!K314),\"00\") & RIGHT(TEXT(YEAR(MICASH!K314),\"00\"),2)","v":"010000"},{"$f":"UPPER(LEFT(MICASH!L314,96))","v":""}]
["C",288,"00",{"$f":"TEXT(MICASH!D315,\"0000000000\")","v":"0000000000"}," ",{"$f":"UPPER(MICASH!F315)","v":""},{"$f":"UPPER(MICASH!G315)","v":""}," ",{"$f":"TEXT(MICASH!I315,\"0000000000\")","v":"0000000000"},{"$f":"TEXT(MICASH!J315*100,\"0000000000\")","v":"0000000000"},{"$f":"TEXT(MONTH(MICASH!K315),\"00\") & TEXT(DAY(MICASH!K315),\"00\") & RIGHT(TEXT(YEAR(MICASH!K315),\"00\"),2)","v":"010000"},{"$f":"UPPER(LEFT(MICASH!L315,96))","v":""}]
["C",288,"00",{"$f":"TEXT(MICASH!D316,\"0000000000\")","v":"0000000000"}," ",{"$f":"UPPER(MICASH!F316)","v":""},{"$f":"UPPER(MICASH!G316)","v":""}," ",{"$f":"TEXT(MICASH!I316,\"0000000000\")","v":"0000000000"},{"$f":"TEXT(MICASH!J316*100,\"0000000000\")","v":"0000000000"},{"$f":"TEXT(MONTH(MICASH!K316),\"00\") & TEXT(DAY(MICASH!K316),\"00\") & RIGHT(TEXT(YEAR(MICASH!K316),\"00\"),2)","v":"010000"},{"$f":"UPPER(LEFT(MICASH!L316,96))","v":""}]
["C",288,"00",{"$f":"TEXT(MICASH!D317,\"0000000000\")","v":"0000000000"}," ",{"$f":"UPPER(MICASH!F317)","v":""},{"$f":"UPPER(MICASH!G317)","v":""}," ",{"$f":"TEXT(MICASH!I317,\"0000000000\")","v":"0000000000"},{"$f":"TEXT(MICASH!J317*100,\"0000000000\")","v":"0000000000"},{"$f":"TEXT(MONTH(MICASH!K317),\"00\") & TEXT(DAY(MICASH!K317),\"00\") & RIGHT(TEXT(YEAR(MICASH!K317),\"00\"),2)","v":"010000"},{"$f":"UPPER(LEFT(MICASH!L317,96))","v":""}]
["C",288,"00",{"$f":"TEXT(MICASH!D318,\"0000000000\")","v":"0000000000"}," ",{"$f":"UPPER(MICASH!F318)","v":""},{"$f":"UPPER(MICASH!G318)","v":""}," ",{"$f":"TEXT(MICASH!I318,\"0000000000\")","v":"0000000000"},{"$f":"TEXT(MICASH!J318*100,\"0000000000\")","v":"0000000000"},{"$f":"TEXT(MONTH(MICASH!K318),\"00\") & TEXT(DAY(MICASH!K318),\"00\") & RIGHT(TEXT(YEAR(MICASH!K318),\"00\"),2)","v":"010000"},{"$f":"UPPER(LEFT(MICASH!L318,96))","v":""}]
["C",288,"00",{"$f":"TEXT(MICASH!D319,\"0000000000\")","v":"0000000000"}," ",{"$f":"UPPER(MICASH!F319)","v":""},{"$f":"UPPER(MICASH!G319)","v":""}," ",{"$f":"TEXT(MICASH!I319,\"0000000000\")","v":"0000000000"},{"$f":"TEXT(MICASH!J319*100,\"0000000000\")","v":"0000000000"},{"$f":"TEXT(MONTH(MICASH!K319),\"00\") & TEXT(DAY(MICASH!K319),\"00\") & RIGHT(TEXT(YEAR(MICASH!K319),\"00\"),2)","v":"010000"},{"$f":"UPPER(LEFT(MICASH!L319,96))","v":""}]
["C",288,"00",{"$f":"TEXT(MICASH!D320,\"0000000000\")","v":"0000000000"}," ",{"$f":"UPPER(MICASH!F320)","v":""},{"$f":"UPPER(MICASH!G320)","v":""}," ",{"$f":"TEXT(MICASH!I320,\"0000000000\")","v":"0000000000"},{"$f":"TEXT(MICASH!J320*100,\"0000000000\")","v":"0000000000"},{"$f":"TEXT(MONTH(MICASH!K320),\"00\") & TEXT(DAY(MICASH!K320),\"00\") & RIGHT(TEXT(YEAR(MICASH!K320),\"00\"),2)","v":"010000"},{"$f":"UPPER(LEFT(MICASH!L320,96))","v":""}]
["C",288,"00",{"$f":"TEXT(MICASH!D321,\"0000000000\")","v":"0000000000"}," ",{"$f":"UPPER(MICASH!F321)","v":""},{"$f":"UPPER(MICASH!G321)","v":""}," ",{"$f":"TEXT(MICASH!I321,\"0000000000\")","v":"0000000000"},{"$f":"TEXT(MICASH!J321*100,\"0000000000\")","v":"0000000000"},{"$f":"TEXT(MONTH(MICASH!K321),\"00\") & TEXT(DAY(MICASH!K321),\"00\") & RIGHT(TEXT(YEAR(MICASH!K321),\"00\"),2)","v":"010000"},{"$f":"UPPER(LEFT(MICASH!L321,96))","v":""}]
["C",288,"00",{"$f":"TEXT(MICASH!D322,\"0000000000\")","v":"0000000000"}," ",{"$f":"UPPER(MICASH!F322)","v":""},{"$f":"UPPER(MICASH!G322)","v":""}," ",{"$f":"TEXT(MICASH!I322,\"0000000000\")","v":"0000000000"},{"$f":"TEXT(MICASH!J322*100,\"0000000000\")","v":"0000000000"},{"$f":"TEXT(MONTH(MICASH!K322),\"00\") & TEXT(DAY(MICASH!K322),\"00\") & RIGHT(TEXT(YEAR(MICASH!K322),\"00\"),2)","v":"010000"},{"$f":"UPPER(LEFT(MICASH!L322,96))","v":""}]
["C",288,"00",{"$f":"TEXT(MICASH!D323,\"0000000000\")","v":"0000000000"}," ",{"$f":"UPPER(MICASH!F323)","v":""},{"$f":"UPPER(MICASH!G323)","v":""}," ",{"$f":"TEXT(MICASH!I323,\"0000000000\")","v":"0000000000"},{"$f":"TEXT(MICASH!J323*100,\"0000000000\")","v":"0000000000"},{"$f":"TEXT(MONTH(MICASH!K323),\"00\") & TEXT(DAY(MICASH!K323),\"00\") & RIGHT(TEXT(YEAR(MICASH!K323),\"00\"),2)","v":"010000"},{"$f":"UPPER(LEFT(MICASH!L323,96))","v":""}]
["C",288,"00",{"$f":"TEXT(MICASH!D324,\"0000000000\")","v":"0000000000"}," ",{"$f":"UPPER(MICASH!F324)","v":""},{"$f":"UPPER(MICASH!G324)","v":""}," ",{"$f":"TEXT(MICASH!I324,\"0000000000\")","v":"0000000000"},{"$f":"TEXT(MICASH!J324*100,\"0000000000\")","v":"0000000000"},{"$f":"TEXT(MONTH(MICASH!K324),\"00\") & TEXT(DAY(MICASH!K324),\"00\") & RIGHT(TEXT(YEAR(MICASH!K324),\"00\"),2)","v":"010000"},{"$f":"UPPER(LEFT(MICASH!L324,96))","v":""}]
["C",288,"00",{"$f":"TEXT(MICASH!D325,\"0000000000\")","v":"0000000000"}," ",{"$f":"UPPER(MICASH!F325)","v":""},{"$f":"UPPER(MICASH!G325)","v":""}," ",{"$f":"TEXT(MICASH!I325,\"0000000000\")","v":"0000000000"},{"$f":"TEXT(MICASH!J325*100,\"0000000000\")","v":"0000000000"},{"$f":"TEXT(MONTH(MICASH!K325),\"00\") & TEXT(DAY(MICASH!K325),\"00\") & RIGHT(TEXT(YEAR(MICASH!K325),\"00\"),2)","v":"010000"},{"$f":"UPPER(LEFT(MICASH!L325,96))","v":""}]
["C",288,"00",{"$f":"TEXT(MICASH!D326,\"0000000000\")","v":"0000000000"}," ",{"$f":"UPPER(MICASH!F326)","v":""},{"$f":"UPPER(MICASH!G326)","v":""}," ",{"$f":"TEXT(MICASH!I326,\"0000000000\")","v":"0000000000"},{"$f":"TEXT(MICASH!J326*100,\"0000000000\")","v":"0000000000"},{"$f":"TEXT(MONTH(MICASH!K326),\"00\") & TEXT(DAY(MICASH!K326),\"00\") & RIGHT(TEXT(YEAR(MICASH!K326),\"00\"),2)","v":"010000"},{"$f":"UPPER(LEFT(MICASH!L326,96))","v":""}]
["C",288,"00",{"$f":"TEXT(MICASH!D327,\"0000000000\")","v":"0000000000"}," ",{"$f":"UPPER(MICASH!F327)","v":""},{"$f":"UPPER(MICASH!G327)","v":""}," ",{"$f":"TEXT(MICASH!I327,\"0000000000\")","v":"0000000000"},{"$f":"TEXT(MICASH!J327*100,\"0000000000\")","v":"0000000000"},{"$f":"TEXT(MONTH(MICASH!K327),\"00\") & TEXT(DAY(MICASH!K327),\"00\") & RIGHT(TEXT(YEAR(MICASH!K327),\"00\"),2)","v":"010000"},{"$f":"UPPER(LEFT(MICASH!L327,96))","v":""}]
["C",288,"00",{"$f":"TEXT(MICASH!D328,\"0000000000\")","v":"0000000000"}," ",{"$f":"UPPER(MICASH!F328)","v":""},{"$f":"UPPER(MICASH!G328)","v":""}," ",{"$f":"TEXT(MICASH!I328,\"0000000000\")","v":"0000000000"},{"$f":"TEXT(MICASH!J328*100,\"0000000000\")","v":"0000000000"},{"$f":"TEXT(MONTH(MICASH!K328),\"00\") & TEXT(DAY(MICASH!K328),\"00\") & RIGHT(TEXT(YEAR(MICASH!K328),\"00\"),2)","v":"010000"},{"$f":"UPPER(LEFT(MICASH!L328,96))","v":""}]
["C",288,"00",{"$f":"TEXT(MICASH!D329,\"0000000000\")","v":"0000000000"}," ",{"$f":"UPPER(MICASH!F329)","v":""},{"$f":"UPPER(MICASH!G329)","v":""}," ",{"$f":"TEXT(MICASH!I329,\"0000000000\")","v":"0000000000"},{"$f":"TEXT(MICASH!J329*100,\"0000000000\")","v":"0000000000"},{"$f":"TEXT(MONTH(MICASH!K329),\"00\") & TEXT(DAY(MICASH!K329),\"00\") & RIGHT(TEXT(YEAR(MICASH!K329),\"00\"),2)","v":"010000"},{"$f":"UPPER(LEFT(MICASH!L329,96))","v":""}]
["C",288,"00",{"$f":"TEXT(MICASH!D330,\"0000000000\")","v":"0000000000"}," ",{"$f":"UPPER(MICASH!F330)","v":""},{"$f":"UPPER(MICASH!G330)","v":""}," ",{"$f":"TEXT(MICASH!I330,\"0000000000\")","v":"0000000000"},{"$f":"TEXT(MICASH!J330*100,\"0000000000\")","v":"0000000000"},{"$f":"TEXT(MONTH(MICASH!K330),\"00\") & TEXT(DAY(MICASH!K330),\"00\") & RIGHT(TEXT(YEAR(MICASH!K330),\"00\"),2)","v":"010000"},{"$f":"UPPER(LEFT(MICASH!L330,96))","v":""}]
["C",288,"00",{"$f":"TEXT(MICASH!D331,\"0000000000\")","v":"0000000000"}," ",{"$f":"UPPER(MICASH!F331)","v":""},{"$f":"UPPER(MICASH!G331)","v":""}," ",{"$f":"TEXT(MICASH!I331,\"0000000000\")","v":"0000000000"},{"$f":"TEXT(MICASH!J331*100,\"0000000000\")","v":"0000000000"},{"$f":"TEXT(MONTH(MICASH!K331),\"00\") & TEXT(DAY(MICASH!K331),\"00\") & RIGHT(TEXT(YEAR(MICASH!K331),\"00\"),2)","v":"010000"},{"$f":"UPPER(LEFT(MICASH!L331,96))","v":""}]
["C",288,"00",{"$f":"TEXT(MICASH!D332,\"0000000000\")","v":"0000000000"}," ",{"$f":"UPPER(MICASH!F332)","v":""},{"$f":"UPPER(MICASH!G332)","v":""}," ",{"$f":"TEXT(MICASH!I332,\"0000000000\")","v":"0000000000"},{"$f":"TEXT(MICASH!J332*100,\"0000000000\")","v":"0000000000"},{"$f":"TEXT(MONTH(MICASH!K332),\"00\") & TEXT(DAY(MICASH!K332),\"00\") & RIGHT(TEXT(YEAR(MICASH!K332),\"00\"),2)","v":"010000"},{"$f":"UPPER(LEFT(MICASH!L332,96))","v":""}]
["C",288,"00",{"$f":"TEXT(MICASH!D333,\"0000000000\")","v":"0000000000"}," ",{"$f":"UPPER(MICASH!F333)","v":""},{"$f":"UPPER(MICASH!G333)","v":""}," ",{"$f":"TEXT(MICASH!I333,\"0000000000\")","v":"0000000000"},{"$f":"TEXT(MICASH!J333*100,\"0000000000\")","v":"0000000000"},{"$f":"TEXT(MONTH(MICASH!K333),\"00\") & TEXT(DAY(MICASH!K333),\"00\") & RIGHT(TEXT(YEAR(MICASH!K333),\"00\"),2)","v":"010000"},{"$f":"UPPER(LEFT(MICASH!L333,96))","v":""}]
["C",288,"00",{"$f":"TEXT(MICASH!D334,\"0000000000\")","v":"0000000000"}," ",{"$f":"UPPER(MICASH!F334)","v":""},{"$f":"UPPER(MICASH!G334)","v":""}," ",{"$f":"TEXT(MICASH!I334,\"0000000000\")","v":"0000000000"},{"$f":"TEXT(MICASH!J334*100,\"0000000000\")","v":"0000000000"},{"$f":"TEXT(MONTH(MICASH!K334),\"00\") & TEXT(DAY(MICASH!K334),\"00\") & RIGHT(TEXT(YEAR(MICASH!K334),\"00\"),2)","v":"010000"},{"$f":"UPPER(LEFT(MICASH!L334,96))","v":""}]
["C",288,"00",{"$f":"TEXT(MICASH!D335,\"0000000000\")","v":"0000000000"}," ",{"$f":"UPPER(MICASH!F335)","v":""},{"$f":"UPPER(MICASH!G335)","v":""}," ",{"$f":"TEXT(MICASH!I335,\"0000000000\")","v":"0000000000"},{"$f":"TEXT(MICASH!J335*100,\"0000000000\")","v":"0000000000"},{"$f":"TEXT(MONTH(MICASH!K335),\"00\") & TEXT(DAY(MICASH!K335),\"00\") & RIGHT(TEXT(YEAR(MICASH!K335),\"00\"),2)","v":"010000"},{"$f":"UPPER(LEFT(MICASH!L335,96))","v":""}]
["C",288,"00",{"$f":"TEXT(MICASH!D336,\"0000000000\")","v":"0000000000"}," ",{"$f":"UPPER(MICASH!F336)","v":""},{"$f":"UPPER(MICASH!G336)","v":""}," ",{"$f":"TEXT(MICASH!I336,\"0000000000\")","v":"0000000000"},{"$f":"TEXT(MICASH!J336*100,\"0000000000\")","v":"0000000000"},{"$f":"TEXT(MONTH(MICASH!K336),\"00\") & TEXT(DAY(MICASH!K336),\"00\") & RIGHT(TEXT(YEAR(MICASH!K336),\"00\"),2)","v":"010000"},{"$f":"UPPER(LEFT(MICASH!L336,96))","v":""}]
["C",288,"00",{"$f":"TEXT(MICASH!D337,\"0000000000\")","v":"0000000000"}," ",{"$f":"UPPER(MICASH!F337)","v":""},{"$f":"UPPER(MICASH!G337)","v":""}," ",{"$f":"TEXT(MICASH!I337,\"0000000000\")","v":"0000000000"},{"$f":"TEXT(MICASH!J337*100,\"0000000000\")","v":"0000000000"},{"$f":"TEXT(MONTH(MICASH!K337),\"00\") & TEXT(DAY(MICASH!K337),\"00\") & RIGHT(TEXT(YEAR(MICASH!K337),\"00\"),2)","v":"010000"},{"$f":"UPPER(LEFT(MICASH!L337,96))","v":""}]
["C",288,"00",{"$f":"TEXT(MICASH!D338,\"0000000000\")","v":"0000000000"}," ",{"$f":"UPPER(MICASH!F338)","v":""},{"$f":"UPPER(MICASH!G338)","v":""}," ",{"$f":"TEXT(MICASH!I338,\"0000000000\")","v":"0000000000"},{"$f":"TEXT(MICASH!J338*100,\"0000000000\")","v":"0000000000"},{"$f":"TEXT(MONTH(MICASH!K338),\"00\") & TEXT(DAY(MICASH!K338),\"00\") & RIGHT(TEXT(YEAR(MICASH!K338),\"00\"),2)","v":"010000"},{"$f":"UPPER(LEFT(MICASH!L338,96))","v":""}]
["C",288,"00",{"$f":"TEXT(MICASH!D339,\"0000000000\")","v":"0000000000"}," ",{"$f":"UPPER(MICASH!F339)","v":""},{"$f":"UPPER(MICASH!G339)","v":""}," ",{"$f":"TEXT(MICASH!I339,\"0000000000\")","v":"0000000000"},{"$f":"TEXT(MICASH!J339*100,\"0000000000\")","v":"0000000000"},{"$f":"TEXT(MONTH(MICASH!K339),\"00\") & TEXT(DAY(MICASH!K339),\"00\") & RIGHT(TEXT(YEAR(MICASH!K339),\"00\"),2)","v":"010000"},{"$f":"UPPER(LEFT(MICASH!L339,96))","v":""}]
["C",288,"00",{"$f":"TEXT(MICASH!D340,\"0000000000\")","v":"0000000000"}," ",{"$f":"UPPER(MICASH!F340)","v":""},{"$f":"UPPER(MICASH!G340)","v":""}," ",{"$f":"TEXT(MICASH!I340,\"0000000000\")","v":"0000000000"},{"$f":"TEXT(MICASH!J340*100,\"0000000000\")","v":"0000000000"},{"$f":"TEXT(MONTH(MICASH!K340),\"00\") & TEXT(DAY(MICASH!K340),\"00\") & RIGHT(TEXT(YEAR(MICASH!K340),\"00\"),2)","v":"010000"},{"$f":"UPPER(LEFT(MICASH!L340,96))","v":""}]
["C",288,"00",{"$f":"TEXT(MICASH!D341,\"0000000000\")","v":"0000000000"}," ",{"$f":"UPPER(MICASH!F341)","v":""},{"$f":"UPPER(MICASH!G341)","v":""}," ",{"$f":"TEXT(MICASH!I341,\"0000000000\")","v":"0000000000"},{"$f":"TEXT(MICASH!J341*100,\"0000000000\")","v":"0000000000"},{"$f":"TEXT(MONTH(MICASH!K341),\"00\") & TEXT(DAY(MICASH!K341),\"00\") & RIGHT(TEXT(YEAR(MICASH!K341),\"00\"),2)","v":"010000"},{"$f":"UPPER(LEFT(MICASH!L341,96))","v":""}]
["C",288,"00",{"$f":"TEXT(MICASH!D342,\"0000000000\")","v":"0000000000"}," ",{"$f":"UPPER(MICASH!F342)","v":""},{"$f":"UPPER(MICASH!G342)","v":""}," ",{"$f":"TEXT(MICASH!I342,\"0000000000\")","v":"0000000000"},{"$f":"TEXT(MICASH!J342*100,\"0000000000\")","v":"0000000000"},{"$f":"TEXT(MONTH(MICASH!K342),\"00\") & TEXT(DAY(MICASH!K342),\"00\") & RIGHT(TEXT(YEAR(MICASH!K342),\"00\"),2)","v":"010000"},{"$f":"UPPER(LEFT(MICASH!L342,96))","v":""}]
["C",288,"00",{"$f":"TEXT(MICASH!D343,\"0000000000\")","v":"0000000000"}," ",{"$f":"UPPER(MICASH!F343)","v":""},{"$f":"UPPER(MICASH!G343)","v":""}," ",{"$f":"TEXT(MICASH!I343,\"0000000000\")","v":"0000000000"},{"$f":"TEXT(MICASH!J343*100,\"0000000000\")","v":"0000000000"},{"$f":"TEXT(MONTH(MICASH!K343),\"00\") & TEXT(DAY(MICASH!K343),\"00\") & RIGHT(TEXT(YEAR(MICASH!K343),\"00\"),2)","v":"010000"},{"$f":"UPPER(LEFT(MICASH!L343,96))","v":""}]
["C",288,"00",{"$f":"TEXT(MICASH!D344,\"0000000000\")","v":"0000000000"}," ",{"$f":"UPPER(MICASH!F344)","v":""},{"$f":"UPPER(MICASH!G344)","v":""}," ",{"$f":"TEXT(MICASH!I344,\"0000000000\")","v":"0000000000"},{"$f":"TEXT(MICASH!J344*100,\"0000000000\")","v":"0000000000"},{"$f":"TEXT(MONTH(MICASH!K344),\"00\") & TEXT(DAY(MICASH!K344),\"00\") & RIGHT(TEXT(YEAR(MICASH!K344),\"00\"),2)","v":"010000"},{"$f":"UPPER(LEFT(MICASH!L344,96))","v":""}]
["C",288,"00",{"$f":"TEXT(MICASH!D345,\"0000000000\")","v":"0000000000"}," ",{"$f":"UPPER(MICASH!F345)","v":""},{"$f":"UPPER(MICASH!G345)","v":""}," ",{"$f":"TEXT(MICASH!I345,\"0000000000\")","v":"0000000000"},{"$f":"TEXT(MICASH!J345*100,\"0000000000\")","v":"0000000000"},{"$f":"TEXT(MONTH(MICASH!K345),\"00\") & TEXT(DAY(MICASH!K345),\"00\") & RIGHT(TEXT(YEAR(MICASH!K345),\"00\"),2)","v":"010000"},{"$f":"UPPER(LEFT(MICASH!L345,96))","v":""}]
["C",288,"00",{"$f":"TEXT(MICASH!D346,\"0000000000\")","v":"0000000000"}," ",{"$f":"UPPER(MICASH!F346)","v":""},{"$f":"UPPER(MICASH!G346)","v":""}," ",{"$f":"TEXT(MICASH!I346,\"0000000000\")","v":"0000000000"},{"$f":"TEXT(MICASH!J346*100,\"0000000000\")","v":"0000000000"},{"$f":"TEXT(MONTH(MICASH!K346),\"00\") & TEXT(DAY(MICASH!K346),\"00\") & RIGHT(TEXT(YEAR(MICASH!K346),\"00\"),2)","v":"010000"},{"$f":"UPPER(LEFT(MICASH!L346,96))","v":""}]
["C",288,"00",{"$f":"TEXT(MICASH!D347,\"0000000000\")","v":"0000000000"}," ",{"$f":"UPPER(MICASH!F347)","v":""},{"$f":"UPPER(MICASH!G347)","v":""}," ",{"$f":"TEXT(MICASH!I347,\"0000000000\")","v":"0000000000"},{"$f":"TEXT(MICASH!J347*100,\"0000000000\")","v":"0000000000"},{"$f":"TEXT(MONTH(MICASH!K347),\"00\") & TEXT(DAY(MICASH!K347),\"00\") & RIGHT(TEXT(YEAR(MICASH!K347),\"00\"),2)","v":"010000"},{"$f":"UPPER(LEFT(MICASH!L347,96))","v":""}]
["C",288,"00",{"$f":"TEXT(MICASH!D348,\"0000000000\")","v":"0000000000"}," ",{"$f":"UPPER(MICASH!F348)","v":""},{"$f":"UPPER(MICASH!G348)","v":""}," ",{"$f":"TEXT(MICASH!I348,\"0000000000\")","v":"0000000000"},{"$f":"TEXT(MICASH!J348*100,\"0000000000\")","v":"0000000000"},{"$f":"TEXT(MONTH(MICASH!K348),\"00\") & TEXT(DAY(MICASH!K348),\"00\") & RIGHT(TEXT(YEAR(MICASH!K348),\"00\"),2)","v":"010000"},{"$f":"UPPER(LEFT(MICASH!L348,96))","v":""}]
["C",288,"00",{"$f":"TEXT(MICASH!D349,\"0000000000\")","v":"0000000000"}," ",{"$f":"UPPER(MICASH!F349)","v":""},{"$f":"UPPER(MICASH!G349)","v":""}," ",{"$f":"TEXT(MICASH!I349,\"0000000000\")","v":"0000000000"},{"$f":"TEXT(MICASH!J349*100,\"0000000000\")","v":"0000000000"},{"$f":"TEXT(MONTH(MICASH!K349),\"00\") & TEXT(DAY(MICASH!K349),\"00\") & RIGHT(TEXT(YEAR(MICASH!K349),\"00\"),2)","v":"010000"},{"$f":"UPPER(LEFT(MICASH!L349,96))","v":""}]
["C",288,"00",{"$f":"TEXT(MICASH!D350,\"0000000000\")","v":"0000000000"}," ",{"$f":"UPPER(MICASH!F350)","v":""},{"$f":"UPPER(MICASH!G350)","v":""}," ",{"$f":"TEXT(MICASH!I350,\"0000000000\")","v":"0000000000"},{"$f":"TEXT(MICASH!J350*100,\"0000000000\")","v":"0000000000"},{"$f":"TEXT(MONTH(MICASH!K350),\"00\") & TEXT(DAY(MICASH!K350),\"00\") & RIGHT(TEXT(YEAR(MICASH!K350),\"00\"),2)","v":"010000"},{"$f":"UPPER(LEFT(MICASH!L350,96))","v":""}]
["C",288,"00",{"$f":"TEXT(MICASH!D351,\"0000000000\")","v":"0000000000"}," ",{"$f":"UPPER(MICASH!F351)","v":""},{"$f":"UPPER(MICASH!G351)","v":""}," ",{"$f":"TEXT(MICASH!I351,\"0000000000\")","v":"0000000000"},{"$f":"TEXT(MICASH!J351*100,\"0000000000\")","v":"0000000000"},{"$f":"TEXT(MONTH(MICASH!K351),\"00\") & TEXT(DAY(MICASH!K351),\"00\") & RIGHT(TEXT(YEAR(MICASH!K351),\"00\"),2)","v":"010000"},{"$f":"UPPER(LEFT(MICASH!L351,96))","v":""}]
["C",288,"00",{"$f":"TEXT(MICASH!D352,\"0000000000\")","v":"0000000000"}," ",{"$f":"UPPER(MICASH!F352)","v":""},{"$f":"UPPER(MICASH!G352)","v":""}," ",{"$f":"TEXT(MICASH!I352,\"0000000000\")","v":"0000000000"},{"$f":"TEXT(MICASH!J352*100,\"0000000000\")","v":"0000000000"},{"$f":"TEXT(MONTH(MICASH!K352),\"00\") & TEXT(DAY(MICASH!K352),\"00\") & RIGHT(TEXT(YEAR(MICASH!K352),\"00\"),2)","v":"010000"},{"$f":"UPPER(LEFT(MICASH!L352,96))","v":""}]
["C",288,"00",{"$f":"TEXT(MICASH!D353,\"0000000000\")","v":"0000000000"}," ",{"$f":"UPPER(MICASH!F353)","v":""},{"$f":"UPPER(MICASH!G353)","v":""}," ",{"$f":"TEXT(MICASH!I353,\"0000000000\")","v":"0000000000"},{"$f":"TEXT(MICASH!J353*100,\"0000000000\")","v":"0000000000"},{"$f":"TEXT(MONTH(MICASH!K353),\"00\") & TEXT(DAY(MICASH!K353),\"00\") & RIGHT(TEXT(YEAR(MICASH!K353),\"00\"),2)","v":"010000"},{"$f":"UPPER(LEFT(MICASH!L353,96))","v":""}]
["C",288,"00",{"$f":"TEXT(MICASH!D354,\"0000000000\")","v":"0000000000"}," ",{"$f":"UPPER(MICASH!F354)","v":""},{"$f":"UPPER(MICASH!G354)","v":""}," ",{"$f":"TEXT(MICASH!I354,\"0000000000\")","v":"0000000000"},{"$f":"TEXT(MICASH!J354*100,\"0000000000\")","v":"0000000000"},{"$f":"TEXT(MONTH(MICASH!K354),\"00\") & TEXT(DAY(MICASH!K354),\"00\") & RIGHT(TEXT(YEAR(MICASH!K354),\"00\"),2)","v":"010000"},{"$f":"UPPER(LEFT(MICASH!L354,96))","v":""}]
["C",288,"00",{"$f":"TEXT(MICASH!D355,\"0000000000\")","v":"0000000000"}," ",{"$f":"UPPER(MICASH!F355)","v":""},{"$f":"UPPER(MICASH!G355)","v":""}," ",{"$f":"TEXT(MICASH!I355,\"0000000000\")","v":"0000000000"},{"$f":"TEXT(MICASH!J355*100,\"0000000000\")","v":"0000000000"},{"$f":"TEXT(MONTH(MICASH!K355),\"00\") & TEXT(DAY(MICASH!K355),\"00\") & RIGHT(TEXT(YEAR(MICASH!K355),\"00\"),2)","v":"010000"},{"$f":"UPPER(LEFT(MICASH!L355,96))","v":""}]
["C",288,"00",{"$f":"TEXT(MICASH!D356,\"0000000000\")","v":"0000000000"}," ",{"$f":"UPPER(MICASH!F356)","v":""},{"$f":"UPPER(MICASH!G356)","v":""}," ",{"$f":"TEXT(MICASH!I356,\"0000000000\")","v":"0000000000"},{"$f":"TEXT(MICASH!J356*100,\"0000000000\")","v":"0000000000"},{"$f":"TEXT(MONTH(MICASH!K356),\"00\") & TEXT(DAY(MICASH!K356),\"00\") & RIGHT(TEXT(YEAR(MICASH!K356),\"00\"),2)","v":"010000"},{"$f":"UPPER(LEFT(MICASH!L356,96))","v":""}]
["C",288,"00",{"$f":"TEXT(MICASH!D357,\"0000000000\")","v":"0000000000"}," ",{"$f":"UPPER(MICASH!F357)","v":""},{"$f":"UPPER(MICASH!G357)","v":""}," ",{"$f":"TEXT(MICASH!I357,\"0000000000\")","v":"0000000000"},{"$f":"TEXT(MICASH!J357*100,\"0000000000\")","v":"0000000000"},{"$f":"TEXT(MONTH(MICASH!K357),\"00\") & TEXT(DAY(MICASH!K357),\"00\") & RIGHT(TEXT(YEAR(MICASH!K357),\"00\"),2)","v":"010000"},{"$f":"UPPER(LEFT(MICASH!L357,96))","v":""}]
["C",288,"00",{"$f":"TEXT(MICASH!D358,\"0000000000\")","v":"0000000000"}," ",{"$f":"UPPER(MICASH!F358)","v":""},{"$f":"UPPER(MICASH!G358)","v":""}," ",{"$f":"TEXT(MICASH!I358,\"0000000000\")","v":"0000000000"},{"$f":"TEXT(MICASH!J358*100,\"0000000000\")","v":"0000000000"},{"$f":"TEXT(MONTH(MICASH!K358),\"00\") & TEXT(DAY(MICASH!K358),\"00\") & RIGHT(TEXT(YEAR(MICASH!K358),\"00\"),2)","v":"010000"},{"$f":"UPPER(LEFT(MICASH!L358,96))","v":""}]
["C",288,"00",{"$f":"TEXT(MICASH!D359,\"0000000000\")","v":"0000000000"}," ",{"$f":"UPPER(MICASH!F359)","v":""},{"$f":"UPPER(MICASH!G359)","v":""}," ",{"$f":"TEXT(MICASH!I359,\"0000000000\")","v":"0000000000"},{"$f":"TEXT(MICASH!J359*100,\"0000000000\")","v":"0000000000"},{"$f":"TEXT(MONTH(MICASH!K359),\"00\") & TEXT(DAY(MICASH!K359),\"00\") & RIGHT(TEXT(YEAR(MICASH!K359),\"00\"),2)","v":"010000"},{"$f":"UPPER(LEFT(MICASH!L359,96))","v":""}]
["C",288,"00",{"$f":"TEXT(MICASH!D360,\"0000000000\")","v":"0000000000"}," ",{"$f":"UPPER(MICASH!F360)","v":""},{"$f":"UPPER(MICASH!G360)","v":""}," ",{"$f":"TEXT(MICASH!I360,\"0000000000\")","v":"0000000000"},{"$f":"TEXT(MICASH!J360*100,\"0000000000\")","v":"0000000000"},{"$f":"TEXT(MONTH(MICASH!K360),\"00\") & TEXT(DAY(MICASH!K360),\"00\") & RIGHT(TEXT(YEAR(MICASH!K360),\"00\"),2)","v":"010000"},{"$f":"UPPER(LEFT(MICASH!L360,96))","v":""}]
["C",288,"00",{"$f":"TEXT(MICASH!D361,\"0000000000\")","v":"0000000000"}," ",{"$f":"UPPER(MICASH!F361)","v":""},{"$f":"UPPER(MICASH!G361)","v":""}," ",{"$f":"TEXT(MICASH!I361,\"0000000000\")","v":"0000000000"},{"$f":"TEXT(MICASH!J361*100,\"0000000000\")","v":"0000000000"},{"$f":"TEXT(MONTH(MICASH!K361),\"00\") & TEXT(DAY(MICASH!K361),\"00\") & RIGHT(TEXT(YEAR(MICASH!K361),\"00\"),2)","v":"010000"},{"$f":"UPPER(LEFT(MICASH!L361,96))","v":""}]
["C",288,"00",{"$f":"TEXT(MICASH!D362,\"0000000000\")","v":"0000000000"}," ",{"$f":"UPPER(MICASH!F362)","v":""},{"$f":"UPPER(MICASH!G362)","v":""}," ",{"$f":"TEXT(MICASH!I362,\"0000000000\")","v":"0000000000"},{"$f":"TEXT(MICASH!J362*100,\"0000000000\")","v":"0000000000"},{"$f":"TEXT(MONTH(MICASH!K362),\"00\") & TEXT(DAY(MICASH!K362),\"00\") & RIGHT(TEXT(YEAR(MICASH!K362),\"00\"),2)","v":"010000"},{"$f":"UPPER(LEFT(MICASH!L362,96))","v":""}]
["C",288,"00",{"$f":"TEXT(MICASH!D363,\"0000000000\")","v":"0000000000"}," ",{"$f":"UPPER(MICASH!F363)","v":""},{"$f":"UPPER(MICASH!G363)","v":""}," ",{"$f":"TEXT(MICASH!I363,\"0000000000\")","v":"0000000000"},{"$f":"TEXT(MICASH!J363*100,\"0000000000\")","v":"0000000000"},{"$f":"TEXT(MONTH(MICASH!K363),\"00\") & TEXT(DAY(MICASH!K363),\"00\") & RIGHT(TEXT(YEAR(MICASH!K363),\"00\"),2)","v":"010000"},{"$f":"UPPER(LEFT(MICASH!L363,96))","v":""}]
["C",288,"00",{"$f":"TEXT(MICASH!D364,\"0000000000\")","v":"0000000000"}," ",{"$f":"UPPER(MICASH!F364)","v":""},{"$f":"UPPER(MICASH!G364)","v":""}," ",{"$f":"TEXT(MICASH!I364,\"0000000000\")","v":"0000000000"},{"$f":"TEXT(MICASH!J364*100,\"0000000000\")","v":"0000000000"},{"$f":"TEXT(MONTH(MICASH!K364),\"00\") & TEXT(DAY(MICASH!K364),\"00\") & RIGHT(TEXT(YEAR(MICASH!K364),\"00\"),2)","v":"010000"},{"$f":"UPPER(LEFT(MICASH!L364,96))","v":""}]
["C",288,"00",{"$f":"TEXT(MICASH!D365,\"0000000000\")","v":"0000000000"}," ",{"$f":"UPPER(MICASH!F365)","v":""},{"$f":"UPPER(MICASH!G365)","v":""}," ",{"$f":"TEXT(MICASH!I365,\"0000000000\")","v":"0000000000"},{"$f":"TEXT(MICASH!J365*100,\"0000000000\")","v":"0000000000"},{"$f":"TEXT(MONTH(MICASH!K365),\"00\") & TEXT(DAY(MICASH!K365),\"00\") & RIGHT(TEXT(YEAR(MICASH!K365),\"00\"),2)","v":"010000"},{"$f":"UPPER(LEFT(MICASH!L365,96))","v":""}]
["C",288,"00",{"$f":"TEXT(MICASH!D366,\"0000000000\")","v":"0000000000"}," ",{"$f":"UPPER(MICASH!F366)","v":""},{"$f":"UPPER(MICASH!G366)","v":""}," ",{"$f":"TEXT(MICASH!I366,\"0000000000\")","v":"0000000000"},{"$f":"TEXT(MICASH!J366*100,\"0000000000\")","v":"0000000000"},{"$f":"TEXT(MONTH(MICASH!K366),\"00\") & TEXT(DAY(MICASH!K366),\"00\") & RIGHT(TEXT(YEAR(MICASH!K366),\"00\"),2)","v":"010000"},{"$f":"UPPER(LEFT(MICASH!L366,96))","v":""}]
["C",288,"00",{"$f":"TEXT(MICASH!D367,\"0000000000\")","v":"0000000000"}," ",{"$f":"UPPER(MICASH!F367)","v":""},{"$f":"UPPER(MICASH!G367)","v":""}," ",{"$f":"TEXT(MICASH!I367,\"0000000000\")","v":"0000000000"},{"$f":"TEXT(MICASH!J367*100,\"0000000000\")","v":"0000000000"},{"$f":"TEXT(MONTH(MICASH!K367),\"00\") & TEXT(DAY(MICASH!K367),\"00\") & RIGHT(TEXT(YEAR(MICASH!K367),\"00\"),2)","v":"010000"},{"$f":"UPPER(LEFT(MICASH!L367,96))","v":""}]
["C",288,"00",{"$f":"TEXT(MICASH!D368,\"0000000000\")","v":"0000000000"}," ",{"$f":"UPPER(MICASH!F368)","v":""},{"$f":"UPPER(MICASH!G368)","v":""}," ",{"$f":"TEXT(MICASH!I368,\"0000000000\")","v":"0000000000"},{"$f":"TEXT(MICASH!J368*100,\"0000000000\")","v":"0000000000"},{"$f":"TEXT(MONTH(MICASH!K368),\"00\") & TEXT(DAY(MICASH!K368),\"00\") & RIGHT(TEXT(YEAR(MICASH!K368),\"00\"),2)","v":"010000"},{"$f":"UPPER(LEFT(MICASH!L368,96))","v":""}]
["C",288,"00",{"$f":"TEXT(MICASH!D369,\"0000000000\")","v":"0000000000"}," ",{"$f":"UPPER(MICASH!F369)","v":""},{"$f":"UPPER(MICASH!G369)","v":""}," ",{"$f":"TEXT(MICASH!I369,\"0000000000\")","v":"0000000000"},{"$f":"TEXT(MICASH!J369*100,\"0000000000\")","v":"0000000000"},{"$f":"TEXT(MONTH(MICASH!K369),\"00\") & TEXT(DAY(MICASH!K369),\"00\") & RIGHT(TEXT(YEAR(MICASH!K369),\"00\"),2)","v":"010000"},{"$f":"UPPER(LEFT(MICASH!L369,96))","v":""}]
["C",288,"00",{"$f":"TEXT(MICASH!D370,\"0000000000\")","v":"0000000000"}," ",{"$f":"UPPER(MICASH!F370)","v":""},{"$f":"UPPER(MICASH!G370)","v":""}," ",{"$f":"TEXT(MICASH!I370,\"0000000000\")","v":"0000000000"},{"$f":"TEXT(MICASH!J370*100,\"0000000000\")","v":"0000000000"},{"$f":"TEXT(MONTH(MICASH!K370),\"00\") & TEXT(DAY(MICASH!K370),\"00\") & RIGHT(TEXT(YEAR(MICASH!K370),\"00\"),2)","v":"010000"},{"$f":"UPPER(LEFT(MICASH!L370,96))","v":""}]
["C",288,"00",{"$f":"TEXT(MICASH!D371,\"0000000000\")","v":"0000000000"}," ",{"$f":"UPPER(MICASH!F371)","v":""},{"$f":"UPPER(MICASH!G371)","v":""}," ",{"$f":"TEXT(MICASH!I371,\"0000000000\")","v":"0000000000"},{"$f":"TEXT(MICASH!J371*100,\"0000000000\")","v":"0000000000"},{"$f":"TEXT(MONTH(MICASH!K371),\"00\") & TEXT(DAY(MICASH!K371),\"00\") & RIGHT(TEXT(YEAR(MICASH!K371),\"00\"),2)","v":"010000"},{"$f":"UPPER(LEFT(MICASH!L371,96))","v":""}]
["C",288,"00",{"$f":"TEXT(MICASH!D372,\"0000000000\")","v":"0000000000"}," ",{"$f":"UPPER(MICASH!F372)","v":""},{"$f":"UPPER(MICASH!G372)","v":""}," ",{"$f":"TEXT(MICASH!I372,\"0000000000\")","v":"0000000000"},{"$f":"TEXT(MICASH!J372*100,\"0000000000\")","v":"0000000000"},{"$f":"TEXT(MONTH(MICASH!K372),\"00\") & TEXT(DAY(MICASH!K372),\"00\") & RIGHT(TEXT(YEAR(MICASH!K372),\"00\"),2)","v":"010000"},{"$f":"UPPER(LEFT(MICASH!L372,96))","v":""}]
["C",288,"00",{"$f":"TEXT(MICASH!D373,\"0000000000\")","v":"0000000000"}," ",{"$f":"UPPER(MICASH!F373)","v":""},{"$f":"UPPER(MICASH!G373)","v":""}," ",{"$f":"TEXT(MICASH!I373,\"0000000000\")","v":"0000000000"},{"$f":"TEXT(MICASH!J373*100,\"0000000000\")","v":"0000000000"},{"$f":"TEXT(MONTH(MICASH!K373),\"00\") & TEXT(DAY(MICASH!K373),\"00\") & RIGHT(TEXT(YEAR(MICASH!K373),\"00\"),2)","v":"010000"},{"$f":"UPPER(LEFT(MICASH!L373,96))","v":""}]
["C",288,"00",{"$f":"TEXT(MICASH!D374,\"0000000000\")","v":"0000000000"}," ",{"$f":"UPPER(MICASH!F374)","v":""},{"$f":"UPPER(MICASH!G374)","v":""}," ",{"$f":"TEXT(MICASH!I374,\"0000000000\")","v":"0000000000"},{"$f":"TEXT(MICASH!J374*100,\"0000000000\")","v":"0000000000"},{"$f":"TEXT(MONTH(MICASH!K374),\"00\") & TEXT(DAY(MICASH!K374),\"00\") & RIGHT(TEXT(YEAR(MICASH!K374),\"00\"),2)","v":"010000"},{"$f":"UPPER(LEFT(MICASH!L374,96))","v":""}]
["C",288,"00",{"$f":"TEXT(MICASH!D375,\"0000000000\")","v":"0000000000"}," ",{"$f":"UPPER(MICASH!F375)","v":""},{"$f":"UPPER(MICASH!G375)","v":""}," ",{"$f":"TEXT(MICASH!I375,\"0000000000\")","v":"0000000000"},{"$f":"TEXT(MICASH!J375*100,\"0000000000\")","v":"0000000000"},{"$f":"TEXT(MONTH(MICASH!K375),\"00\") & TEXT(DAY(MICASH!K375),\"00\") & RIGHT(TEXT(YEAR(MICASH!K375),\"00\"),2)","v":"010000"},{"$f":"UPPER(LEFT(MICASH!L375,96))","v":""}]
["C",288,"00",{"$f":"TEXT(MICASH!D376,\"0000000000\")","v":"0000000000"}," ",{"$f":"UPPER(MICASH!F376)","v":""},{"$f":"UPPER(MICASH!G376)","v":""}," ",{"$f":"TEXT(MICASH!I376,\"0000000000\")","v":"0000000000"},{"$f":"TEXT(MICASH!J376*100,\"0000000000\")","v":"0000000000"},{"$f":"TEXT(MONTH(MICASH!K376),\"00\") & TEXT(DAY(MICASH!K376),\"00\") & RIGHT(TEXT(YEAR(MICASH!K376),\"00\"),2)","v":"010000"},{"$f":"UPPER(LEFT(MICASH!L376,96))","v":""}]
["C",288,"00",{"$f":"TEXT(MICASH!D377,\"0000000000\")","v":"0000000000"}," ",{"$f":"UPPER(MICASH!F377)","v":""},{"$f":"UPPER(MICASH!G377)","v":""}," ",{"$f":"TEXT(MICASH!I377,\"0000000000\")","v":"0000000000"},{"$f":"TEXT(MICASH!J377*100,\"0000000000\")","v":"0000000000"},{"$f":"TEXT(MONTH(MICASH!K377),\"00\") & TEXT(DAY(MICASH!K377),\"00\") & RIGHT(TEXT(YEAR(MICASH!K377),\"00\"),2)","v":"010000"},{"$f":"UPPER(LEFT(MICASH!L377,96))","v":""}]
["C",288,"00",{"$f":"TEXT(MICASH!D378,\"0000000000\")","v":"0000000000"}," ",{"$f":"UPPER(MICASH!F378)","v":""},{"$f":"UPPER(MICASH!G378)","v":""}," ",{"$f":"TEXT(MICASH!I378,\"0000000000\")","v":"0000000000"},{"$f":"TEXT(MICASH!J378*100,\"0000000000\")","v":"0000000000"},{"$f":"TEXT(MONTH(MICASH!K378),\"00\") & TEXT(DAY(MICASH!K378),\"00\") & RIGHT(TEXT(YEAR(MICASH!K378),\"00\"),2)","v":"010000"},{"$f":"UPPER(LEFT(MICASH!L378,96))","v":""}]
["C",288,"00",{"$f":"TEXT(MICASH!D379,\"0000000000\")","v":"0000000000"}," ",{"$f":"UPPER(MICASH!F379)","v":""},{"$f":"UPPER(MICASH!G379)","v":""}," ",{"$f":"TEXT(MICASH!I379,\"0000000000\")","v":"0000000000"},{"$f":"TEXT(MICASH!J379*100,\"0000000000\")","v":"0000000000"},{"$f":"TEXT(MONTH(MICASH!K379),\"00\") & TEXT(DAY(MICASH!K379),\"00\") & RIGHT(TEXT(YEAR(MICASH!K379),\"00\"),2)","v":"010000"},{"$f":"UPPER(LEFT(MICASH!L379,96))","v":""}]
["C",288,"00",{"$f":"TEXT(MICASH!D380,\"0000000000\")","v":"0000000000"}," ",{"$f":"UPPER(MICASH!F380)","v":""},{"$f":"UPPER(MICASH!G380)","v":""}," ",{"$f":"TEXT(MICASH!I380,\"0000000000\")","v":"0000000000"},{"$f":"TEXT(MICASH!J380*100,\"0000000000\")","v":"0000000000"},{"$f":"TEXT(MONTH(MICASH!K380),\"00\") & TEXT(DAY(MICASH!K380),\"00\") & RIGHT(TEXT(YEAR(MICASH!K380),\"00\"),2)","v":"010000"},{"$f":"UPPER(LEFT(MICASH!L380,96))","v":""}]
["C",288,"00",{"$f":"TEXT(MICASH!D381,\"0000000000\")","v":"0000000000"}," ",{"$f":"UPPER(MICASH!F381)","v":""},{"$f":"UPPER(MICASH!G381)","v":""}," ",{"$f":"TEXT(MICASH!I381,\"0000000000\")","v":"0000000000"},{"$f":"TEXT(MICASH!J381*100,\"0000000000\")","v":"0000000000"},{"$f":"TEXT(MONTH(MICASH!K381),\"00\") & TEXT(DAY(MICASH!K381),\"00\") & RIGHT(TEXT(YEAR(MICASH!K381),\"00\"),2)","v":"010000"},{"$f":"UPPER(LEFT(MICASH!L381,96))","v":""}]
["C",288,"00",{"$f":"TEXT(MICASH!D382,\"0000000000\")","v":"0000000000"}," ",{"$f":"UPPER(MICASH!F382)","v":""},{"$f":"UPPER(MICASH!G382)","v":""}," ",{"$f":"TEXT(MICASH!I382,\"0000000000\")","v":"0000000000"},{"$f":"TEXT(MICASH!J382*100,\"0000000000\")","v":"0000000000"},{"$f":"TEXT(MONTH(MICASH!K382),\"00\") & TEXT(DAY(MICASH!K382),\"00\") & RIGHT(TEXT(YEAR(MICASH!K382),\"00\"),2)","v":"010000"},{"$f":"UPPER(LEFT(MICASH!L382,96))","v":""}]
["C",288,"00",{"$f":"TEXT(MICASH!D383,\"0000000000\")","v":"0000000000"}," ",{"$f":"UPPER(MICASH!F383)","v":""},{"$f":"UPPER(MICASH!G383)","v":""}," ",{"$f":"TEXT(MICASH!I383,\"0000000000\")","v":"0000000000"},{"$f":"TEXT(MICASH!J383*100,\"0000000000\")","v":"0000000000"},{"$f":"TEXT(MONTH(MICASH!K383),\"00\") & TEXT(DAY(MICASH!K383),\"00\") & RIGHT(TEXT(YEAR(MICASH!K383),\"00\"),2)","v":"010000"},{"$f":"UPPER(LEFT(MICASH!L383,96))","v":""}]
["C",288,"00",{"$f":"TEXT(MICASH!D384,\"0000000000\")","v":"0000000000"}," ",{"$f":"UPPER(MICASH!F384)","v":""},{"$f":"UPPER(MICASH!G384)","v":""}," ",{"$f":"TEXT(MICASH!I384,\"0000000000\")","v":"0000000000"},{"$f":"TEXT(MICASH!J384*100,\"0000000000\")","v":"0000000000"},{"$f":"TEXT(MONTH(MICASH!K384),\"00\") & TEXT(DAY(MICASH!K384),\"00\") & RIGHT(TEXT(YEAR(MICASH!K384),\"00\"),2)","v":"010000"},{"$f":"UPPER(LEFT(MICASH!L384,96))","v":""}]
["C",288,"00",{"$f":"TEXT(MICASH!D385,\"0000000000\")","v":"0000000000"}," ",{"$f":"UPPER(MICASH!F385)","v":""},{"$f":"UPPER(MICASH!G385)","v":""}," ",{"$f":"TEXT(MICASH!I385,\"0000000000\")","v":"0000000000"},{"$f":"TEXT(MICASH!J385*100,\"0000000000\")","v":"0000000000"},{"$f":"TEXT(MONTH(MICASH!K385),\"00\") & TEXT(DAY(MICASH!K385),\"00\") & RIGHT(TEXT(YEAR(MICASH!K385),\"00\"),2)","v":"010000"},{"$f":"UPPER(LEFT(MICASH!L385,96))","v":""}]
["C",288,"00",{"$f":"TEXT(MICASH!D386,\"0000000000\")","v":"0000000000"}," ",{"$f":"UPPER(MICASH!F386)","v":""},{"$f":"UPPER(MICASH!G386)","v":""}," ",{"$f":"TEXT(MICASH!I386,\"0000000000\")","v":"0000000000"},{"$f":"TEXT(MICASH!J386*100,\"0000000000\")","v":"0000000000"},{"$f":"TEXT(MONTH(MICASH!K386),\"00\") & TEXT(DAY(MICASH!K386),\"00\") & RIGHT(TEXT(YEAR(MICASH!K386),\"00\"),2)","v":"010000"},{"$f":"UPPER(LEFT(MICASH!L386,96))","v":""}]
["C",288,"00",{"$f":"TEXT(MICASH!D387,\"0000000000\")","v":"0000000000"}," ",{"$f":"UPPER(MICASH!F387)","v":""},{"$f":"UPPER(MICASH!G387)","v":""}," ",{"$f":"TEXT(MICASH!I387,\"0000000000\")","v":"0000000000"},{"$f":"TEXT(MICASH!J387*100,\"0000000000\")","v":"0000000000"},{"$f":"TEXT(MONTH(MICASH!K387),\"00\") & TEXT(DAY(MICASH!K387),\"00\") & RIGHT(TEXT(YEAR(MICASH!K387),\"00\"),2)","v":"010000"},{"$f":"UPPER(LEFT(MICASH!L387,96))","v":""}]
["C",288,"00",{"$f":"TEXT(MICASH!D388,\"0000000000\")","v":"0000000000"}," ",{"$f":"UPPER(MICASH!F388)","v":""},{"$f":"UPPER(MICASH!G388)","v":""}," ",{"$f":"TEXT(MICASH!I388,\"0000000000\")","v":"0000000000"},{"$f":"TEXT(MICASH!J388*100,\"0000000000\")","v":"0000000000"},{"$f":"TEXT(MONTH(MICASH!K388),\"00\") & TEXT(DAY(MICASH!K388),\"00\") & RIGHT(TEXT(YEAR(MICASH!K388),\"00\"),2)","v":"010000"},{"$f":"UPPER(LEFT(MICASH!L388,96))","v":""}]
["C",288,"00",{"$f":"TEXT(MICASH!D389,\"0000000000\")","v":"0000000000"}," ",{"$f":"UPPER(MICASH!F389)","v":""},{"$f":"UPPER(MICASH!G389)","v":""}," ",{"$f":"TEXT(MICASH!I389,\"0000000000\")","v":"0000000000"},{"$f":"TEXT(MICASH!J389*100,\"0000000000\")","v":"0000000000"},{"$f":"TEXT(MONTH(MICASH!K389),\"00\") & TEXT(DAY(MICASH!K389),\"00\") & RIGHT(TEXT(YEAR(MICASH!K389),\"00\"),2)","v":"010000"},{"$f":"UPPER(LEFT(MICASH!L389,96))","v":""}]
["C",288,"00",{"$f":"TEXT(MICASH!D390,\"0000000000\")","v":"0000000000"}," ",{"$f":"UPPER(MICASH!F390)","v":""},{"$f":"UPPER(MICASH!G390)","v":""}," ",{"$f":"TEXT(MICASH!I390,\"0000000000\")","v":"0000000000"},{"$f":"TEXT(MICASH!J390*100,\"0000000000\")","v":"0000000000"},{"$f":"TEXT(MONTH(MICASH!K390),\"00\") & TEXT(DAY(MICASH!K390),\"00\") & RIGHT(TEXT(YEAR(MICASH!K390),\"00\"),2)","v":"010000"},{"$f":"UPPER(LEFT(MICASH!L390,96))","v":""}]
["C",288,"00",{"$f":"TEXT(MICASH!D391,\"0000000000\")","v":"0000000000"}," ",{"$f":"UPPER(MICASH!F391)","v":""},{"$f":"UPPER(MICASH!G391)","v":""}," ",{"$f":"TEXT(MICASH!I391,\"0000000000\")","v":"0000000000"},{"$f":"TEXT(MICASH!J391*100,\"0000000000\")","v":"0000000000"},{"$f":"TEXT(MONTH(MICASH!K391),\"00\") & TEXT(DAY(MICASH!K391),\"00\") & RIGHT(TEXT(YEAR(MICASH!K391),\"00\"),2)","v":"010000"},{"$f":"UPPER(LEFT(MICASH!L391,96))","v":""}]
["C",288,"00",{"$f":"TEXT(MICASH!D392,\"0000000000\")","v":"0000000000"}," ",{"$f":"UPPER(MICASH!F392)","v":""},{"$f":"UPPER(MICASH!G392)","v":""}," ",{"$f":"TEXT(MICASH!I392,\"0000000000\")","v":"0000000000"},{"$f":"TEXT(MICASH!J392*100,\"0000000000\")","v":"0000000000"},{"$f":"TEXT(MONTH(MICASH!K392),\"00\") & TEXT(DAY(MICASH!K392),\"00\") & RIGHT(TEXT(YEAR(MICASH!K392),\"00\"),2)","v":"010000"},{"$f":"UPPER(LEFT(MICASH!L392,96))","v":""}]
["C",288,"00",{"$f":"TEXT(MICASH!D393,\"0000000000\")","v":"0000000000"}," ",{"$f":"UPPER(MICASH!F393)","v":""},{"$f":"UPPER(MICASH!G393)","v":""}," ",{"$f":"TEXT(MICASH!I393,\"0000000000\")","v":"0000000000"},{"$f":"TEXT(MICASH!J393*100,\"0000000000\")","v":"0000000000"},{"$f":"TEXT(MONTH(MICASH!K393),\"00\") & TEXT(DAY(MICASH!K393),\"00\") & RIGHT(TEXT(YEAR(MICASH!K393),\"00\"),2)","v":"010000"},{"$f":"UPPER(LEFT(MICASH!L393,96))","v":""}]
["C",288,"00",{"$f":"TEXT(MICASH!D394,\"0000000000\")","v":"0000000000"}," ",{"$f":"UPPER(MICASH!F394)","v":""},{"$f":"UPPER(MICASH!G394)","v":""}," ",{"$f":"TEXT(MICASH!I394,\"0000000000\")","v":"0000000000"},{"$f":"TEXT(MICASH!J394*100,\"0000000000\")","v":"0000000000"},{"$f":"TEXT(MONTH(MICASH!K394),\"00\") & TEXT(DAY(MICASH!K394),\"00\") & RIGHT(TEXT(YEAR(MICASH!K394),\"00\"),2)","v":"010000"},{"$f":"UPPER(LEFT(MICASH!L394,96))","v":""}]
["C",288,"00",{"$f":"TEXT(MICASH!D395,\"0000000000\")","v":"0000000000"}," ",{"$f":"UPPER(MICASH!F395)","v":""},{"$f":"UPPER(MICASH!G395)","v":""}," ",{"$f":"TEXT(MICASH!I395,\"0000000000\")","v":"0000000000"},{"$f":"TEXT(MICASH!J395*100,\"0000000000\")","v":"0000000000"},{"$f":"TEXT(MONTH(MICASH!K395),\"00\") & TEXT(DAY(MICASH!K395),\"00\") & RIGHT(TEXT(YEAR(MICASH!K395),\"00\"),2)","v":"010000"},{"$f":"UPPER(LEFT(MICASH!L395,96))","v":""}]
["C",288,"00",{"$f":"TEXT(MICASH!D396,\"0000000000\")","v":"0000000000"}," ",{"$f":"UPPER(MICASH!F396)","v":""},{"$f":"UPPER(MICASH!G396)","v":""}," ",{"$f":"TEXT(MICASH!I396,\"0000000000\")","v":"0000000000"},{"$f":"TEXT(MICASH!J396*100,\"0000000000\")","v":"0000000000"},{"$f":"TEXT(MONTH(MICASH!K396),\"00\") & TEXT(DAY(MICASH!K396),\"00\") & RIGHT(TEXT(YEAR(MICASH!K396),\"00\"),2)","v":"010000"},{"$f":"UPPER(LEFT(MICASH!L396,96))","v":""}]
["C",288,"00",{"$f":"TEXT(MICASH!D397,\"0000000000\")","v":"0000000000"}," ",{"$f":"UPPER(MICASH!F397)","v":""},{"$f":"UPPER(MICASH!G397)","v":""}," ",{"$f":"TEXT(MICASH!I397,\"0000000000\")","v":"0000000000"},{"$f":"TEXT(MICASH!J397*100,\"0000000000\")","v":"0000000000"},{"$f":"TEXT(MONTH(MICASH!K397),\"00\") & TEXT(DAY(MICASH!K397),\"00\") & RIGHT(TEXT(YEAR(MICASH!K397),\"00\"),2)","v":"010000"},{"$f":"UPPER(LEFT(MICASH!L397,96))","v":""}]
["C",288,"00",{"$f":"TEXT(MICASH!D398,\"0000000000\")","v":"0000000000"}," ",{"$f":"UPPER(MICASH!F398)","v":""},{"$f":"UPPER(MICASH!G398)","v":""}," ",{"$f":"TEXT(MICASH!I398,\"0000000000\")","v":"0000000000"},{"$f":"TEXT(MICASH!J398*100,\"0000000000\")","v":"0000000000"},{"$f":"TEXT(MONTH(MICASH!K398),\"00\") & TEXT(DAY(MICASH!K398),\"00\") & RIGHT(TEXT(YEAR(MICASH!K398),\"00\"),2)","v":"010000"},{"$f":"UPPER(LEFT(MICASH!L398,96))","v":""}]
["C",288,"00",{"$f":"TEXT(MICASH!D399,\"0000000000\")","v":"0000000000"}," ",{"$f":"UPPER(MICASH!F399)","v":""},{"$f":"UPPER(MICASH!G399)","v":""}," ",{"$f":"TEXT(MICASH!I399,\"0000000000\")","v":"0000000000"},{"$f":"TEXT(MICASH!J399*100,\"0000000000\")","v":"0000000000"},{"$f":"TEXT(MONTH(MICASH!K399),\"00\") & TEXT(DAY(MICASH!K399),\"00\") & RIGHT(TEXT(YEAR(MICASH!K399),\"00\"),2)","v":"010000"},{"$f":"UPPER(LEFT(MICASH!L399,96))","v":""}]
["C",288,"00",{"$f":"TEXT(MICASH!D400,\"0000000000\")","v":"0000000000"}," ",{"$f":"UPPER(MICASH!F400)","v":""},{"$f":"UPPER(MICASH!G400)","v":""}," ",{"$f":"TEXT(MICASH!I400,\"0000000000\")","v":"0000000000"},{"$f":"TEXT(MICASH!J400*100,\"0000000000\")","v":"0000000000"},{"$f":"TEXT(MONTH(MICASH!K400),\"00\") & TEXT(DAY(MICASH!K400),\"00\") & RIGHT(TEXT(YEAR(MICASH!K400),\"00\"),2)","v":"010000"},{"$f":"UPPER(LEFT(MICASH!L400,96))","v":""}]
["C",288,"00",{"$f":"TEXT(MICASH!D401,\"0000000000\")","v":"0000000000"}," ",{"$f":"UPPER(MICASH!F401)","v":""},{"$f":"UPPER(MICASH!G401)","v":""}," ",{"$f":"TEXT(MICASH!I401,\"0000000000\")","v":"0000000000"},{"$f":"TEXT(MICASH!J401*100,\"0000000000\")","v":"0000000000"},{"$f":"TEXT(MONTH(MICASH!K401),\"00\") & TEXT(DAY(MICASH!K401),\"00\") & RIGHT(TEXT(YEAR(MICASH!K401),\"00\"),2)","v":"010000"},{"$f":"UPPER(LEFT(MICASH!L401,96))","v":""}]
["C",288,"00",{"$f":"TEXT(MICASH!D402,\"0000000000\")","v":"0000000000"}," ",{"$f":"UPPER(MICASH!F402)","v":""},{"$f":"UPPER(MICASH!G402)","v":""}," ",{"$f":"TEXT(MICASH!I402,\"0000000000\")","v":"0000000000"},{"$f":"TEXT(MICASH!J402*100,\"0000000000\")","v":"0000000000"},{"$f":"TEXT(MONTH(MICASH!K402),\"00\") & TEXT(DAY(MICASH!K402),\"00\") & RIGHT(TEXT(YEAR(MICASH!K402),\"00\"),2)","v":"010000"},{"$f":"UPPER(LEFT(MICASH!L402,96))","v":""}]
["C",288,"00",{"$f":"TEXT(MICASH!D403,\"0000000000\")","v":"0000000000"}," ",{"$f":"UPPER(MICASH!F403)","v":""},{"$f":"UPPER(MICASH!G403)","v":""}," ",{"$f":"TEXT(MICASH!I403,\"0000000000\")","v":"0000000000"},{"$f":"TEXT(MICASH!J403*100,\"0000000000\")","v":"0000000000"},{"$f":"TEXT(MONTH(MICASH!K403),\"00\") & TEXT(DAY(MICASH!K403),\"00\") & RIGHT(TEXT(YEAR(MICASH!K403),\"00\"),2)","v":"010000"},{"$f":"UPPER(LEFT(MICASH!L403,96))","v":""}]
["C",288,"00",{"$f":"TEXT(MICASH!D404,\"0000000000\")","v":"0000000000"}," ",{"$f":"UPPER(MICASH!F404)","v":""},{"$f":"UPPER(MICASH!G404)","v":""}," ",{"$f":"TEXT(MICASH!I404,\"0000000000\")","v":"0000000000"},{"$f":"TEXT(MICASH!J404*100,\"0000000000\")","v":"0000000000"},{"$f":"TEXT(MONTH(MICASH!K404),\"00\") & TEXT(DAY(MICASH!K404),\"00\") & RIGHT(TEXT(YEAR(MICASH!K404),\"00\"),2)","v":"010000"},{"$f":"UPPER(LEFT(MICASH!L404,96))","v":""}]
["C",288,"00",{"$f":"TEXT(MICASH!D405,\"0000000000\")","v":"0000000000"}," ",{"$f":"UPPER(MICASH!F405)","v":""},{"$f":"UPPER(MICASH!G405)","v":""}," ",{"$f":"TEXT(MICASH!I405,\"0000000000\")","v":"0000000000"},{"$f":"TEXT(MICASH!J405*100,\"0000000000\")","v":"0000000000"},{"$f":"TEXT(MONTH(MICASH!K405),\"00\") & TEXT(DAY(MICASH!K405),\"00\") & RIGHT(TEXT(YEAR(MICASH!K405),\"00\"),2)","v":"010000"},{"$f":"UPPER(LEFT(MICASH!L405,96))","v":""}]
["C",288,"00",{"$f":"TEXT(MICASH!D406,\"0000000000\")","v":"0000000000"}," ",{"$f":"UPPER(MICASH!F406)","v":""},{"$f":"UPPER(MICASH!G406)","v":""}," ",{"$f":"TEXT(MICASH!I406,\"0000000000\")","v":"0000000000"},{"$f":"TEXT(MICASH!J406*100,\"0000000000\")","v":"0000000000"},{"$f":"TEXT(MONTH(MICASH!K406),\"00\") & TEXT(DAY(MICASH!K406),\"00\") & RIGHT(TEXT(YEAR(MICASH!K406),\"00\"),2)","v":"010000"},{"$f":"UPPER(LEFT(MICASH!L406,96))","v":""}]
["C",288,"00",{"$f":"TEXT(MICASH!D407,\"0000000000\")","v":"0000000000"}," ",{"$f":"UPPER(MICASH!F407)","v":""},{"$f":"UPPER(MICASH!G407)","v":""}," ",{"$f":"TEXT(MICASH!I407,\"0000000000\")","v":"0000000000"},{"$f":"TEXT(MICASH!J407*100,\"0000000000\")","v":"0000000000"},{"$f":"TEXT(MONTH(MICASH!K407),\"00\") & TEXT(DAY(MICASH!K407),\"00\") & RIGHT(TEXT(YEAR(MICASH!K407),\"00\"),2)","v":"010000"},{"$f":"UPPER(LEFT(MICASH!L407,96))","v":""}]
["C",288,"00",{"$f":"TEXT(MICASH!D408,\"0000000000\")","v":"0000000000"}," ",{"$f":"UPPER(MICASH!F408)","v":""},{"$f":"UPPER(MICASH!G408)","v":""}," ",{"$f":"TEXT(MICASH!I408,\"0000000000\")","v":"0000000000"},{"$f":"TEXT(MICASH!J408*100,\"0000000000\")","v":"0000000000"},{"$f":"TEXT(MONTH(MICASH!K408),\"00\") & TEXT(DAY(MICASH!K408),\"00\") & RIGHT(TEXT(YEAR(MICASH!K408),\"00\"),2)","v":"010000"},{"$f":"UPPER(LEFT(MICASH!L408,96))","v":""}]
["C",288,"00",{"$f":"TEXT(MICASH!D409,\"0000000000\")","v":"0000000000"}," ",{"$f":"UPPER(MICASH!F409)","v":""},{"$f":"UPPER(MICASH!G409)","v":""}," ",{"$f":"TEXT(MICASH!I409,\"0000000000\")","v":"0000000000"},{"$f":"TEXT(MICASH!J409*100,\"0000000000\")","v":"0000000000"},{"$f":"TEXT(MONTH(MICASH!K409),\"00\") & TEXT(DAY(MICASH!K409),\"00\") & RIGHT(TEXT(YEAR(MICASH!K409),\"00\"),2)","v":"010000"},{"$f":"UPPER(LEFT(MICASH!L409,96))","v":""}]
["C",288,"00",{"$f":"TEXT(MICASH!D410,\"0000000000\")","v":"0000000000"}," ",{"$f":"UPPER(MICASH!F410)","v":""},{"$f":"UPPER(MICASH!G410)","v":""}," ",{"$f":"TEXT(MICASH!I410,\"0000000000\")","v":"0000000000"},{"$f":"TEXT(MICASH!J410*100,\"0000000000\")","v":"0000000000"},{"$f":"TEXT(MONTH(MICASH!K410),\"00\") & TEXT(DAY(MICASH!K410),\"00\") & RIGHT(TEXT(YEAR(MICASH!K410),\"00\"),2)","v":"010000"},{"$f":"UPPER(LEFT(MICASH!L410,96))","v":""}]
["C",288,"00",{"$f":"TEXT(MICASH!D411,\"0000000000\")","v":"0000000000"}," ",{"$f":"UPPER(MICASH!F411)","v":""},{"$f":"UPPER(MICASH!G411)","v":""}," ",{"$f":"TEXT(MICASH!I411,\"0000000000\")","v":"0000000000"},{"$f":"TEXT(MICASH!J411*100,\"0000000000\")","v":"0000000000"},{"$f":"TEXT(MONTH(MICASH!K411),\"00\") & TEXT(DAY(MICASH!K411),\"00\") & RIGHT(TEXT(YEAR(MICASH!K411),\"00\"),2)","v":"010000"},{"$f":"UPPER(LEFT(MICASH!L411,96))","v":""}]
["C",288,"00",{"$f":"TEXT(MICASH!D412,\"0000000000\")","v":"0000000000"}," ",{"$f":"UPPER(MICASH!F412)","v":""},{"$f":"UPPER(MICASH!G412)","v":""}," ",{"$f":"TEXT(MICASH!I412,\"0000000000\")","v":"0000000000"},{"$f":"TEXT(MICASH!J412*100,\"0000000000\")","v":"0000000000"},{"$f":"TEXT(MONTH(MICASH!K412),\"00\") & TEXT(DAY(MICASH!K412),\"00\") & RIGHT(TEXT(YEAR(MICASH!K412),\"00\"),2)","v":"010000"},{"$f":"UPPER(LEFT(MICASH!L412,96))","v":""}]
["C",288,"00",{"$f":"TEXT(MICASH!D413,\"0000000000\")","v":"0000000000"}," ",{"$f":"UPPER(MICASH!F413)","v":""},{"$f":"UPPER(MICASH!G413)","v":""}," ",{"$f":"TEXT(MICASH!I413,\"0000000000\")","v":"0000000000"},{"$f":"TEXT(MICASH!J413*100,\"0000000000\")","v":"0000000000"},{"$f":"TEXT(MONTH(MICASH!K413),\"00\") & TEXT(DAY(MICASH!K413),\"00\") & RIGHT(TEXT(YEAR(MICASH!K413),\"00\"),2)","v":"010000"},{"$f":"UPPER(LEFT(MICASH!L413,96))","v":""}]
["C",288,"00",{"$f":"TEXT(MICASH!D414,\"0000000000\")","v":"0000000000"}," ",{"$f":"UPPER(MICASH!F414)","v":""},{"$f":"UPPER(MICASH!G414)","v":""}," ",{"$f":"TEXT(MICASH!I414,\"0000000000\")","v":"0000000000"},{"$f":"TEXT(MICASH!J414*100,\"0000000000\")","v":"0000000000"},{"$f":"TEXT(MONTH(MICASH!K414),\"00\") & TEXT(DAY(MICASH!K414),\"00\") & RIGHT(TEXT(YEAR(MICASH!K414),\"00\"),2)","v":"010000"},{"$f":"UPPER(LEFT(MICASH!L414,96))","v":""}]
["C",288,"00",{"$f":"TEXT(MICASH!D415,\"0000000000\")","v":"0000000000"}," ",{"$f":"UPPER(MICASH!F415)","v":""},{"$f":"UPPER(MICASH!G415)","v":""}," ",{"$f":"TEXT(MICASH!I415,\"0000000000\")","v":"0000000000"},{"$f":"TEXT(MICASH!J415*100,\"0000000000\")","v":"0000000000"},{"$f":"TEXT(MONTH(MICASH!K415),\"00\") & TEXT(DAY(MICASH!K415),\"00\") & RIGHT(TEXT(YEAR(MICASH!K415),\"00\"),2)","v":"010000"},{"$f":"UPPER(LEFT(MICASH!L415,96))","v":""}]
["C",288,"00",{"$f":"TEXT(MICASH!D416,\"0000000000\")","v":"0000000000"}," ",{"$f":"UPPER(MICASH!F416)","v":""},{"$f":"UPPER(MICASH!G416)","v":""}," ",{"$f":"TEXT(MICASH!I416,\"0000000000\")","v":"0000000000"},{"$f":"TEXT(MICASH!J416*100,\"0000000000\")","v":"0000000000"},{"$f":"TEXT(MONTH(MICASH!K416),\"00\") & TEXT(DAY(MICASH!K416),\"00\") & RIGHT(TEXT(YEAR(MICASH!K416),\"00\"),2)","v":"010000"},{"$f":"UPPER(LEFT(MICASH!L416,96))","v":""}]
["C",288,"00",{"$f":"TEXT(MICASH!D417,\"0000000000\")","v":"0000000000"}," ",{"$f":"UPPER(MICASH!F417)","v":""},{"$f":"UPPER(MICASH!G417)","v":""}," ",{"$f":"TEXT(MICASH!I417,\"0000000000\")","v":"0000000000"},{"$f":"TEXT(MICASH!J417*100,\"0000000000\")","v":"0000000000"},{"$f":"TEXT(MONTH(MICASH!K417),\"00\") & TEXT(DAY(MICASH!K417),\"00\") & RIGHT(TEXT(YEAR(MICASH!K417),\"00\"),2)","v":"010000"},{"$f":"UPPER(LEFT(MICASH!L417,96))","v":""}]
["C",288,"00",{"$f":"TEXT(MICASH!D418,\"0000000000\")","v":"0000000000"}," ",{"$f":"UPPER(MICASH!F418)","v":""},{"$f":"UPPER(MICASH!G418)","v":""}," ",{"$f":"TEXT(MICASH!I418,\"0000000000\")","v":"0000000000"},{"$f":"TEXT(MICASH!J418*100,\"0000000000\")","v":"0000000000"},{"$f":"TEXT(MONTH(MICASH!K418),\"00\") & TEXT(DAY(MICASH!K418),\"00\") & RIGHT(TEXT(YEAR(MICASH!K418),\"00\"),2)","v":"010000"},{"$f":"UPPER(LEFT(MICASH!L418,96))","v":""}]
["C",288,"00",{"$f":"TEXT(MICASH!D419,\"0000000000\")","v":"0000000000"}," ",{"$f":"UPPER(MICASH!F419)","v":""},{"$f":"UPPER(MICASH!G419)","v":""}," ",{"$f":"TEXT(MICASH!I419,\"0000000000\")","v":"0000000000"},{"$f":"TEXT(MICASH!J419*100,\"0000000000\")","v":"0000000000"},{"$f":"TEXT(MONTH(MICASH!K419),\"00\") & TEXT(DAY(MICASH!K419),\"00\") & RIGHT(TEXT(YEAR(MICASH!K419),\"00\"),2)","v":"010000"},{"$f":"UPPER(LEFT(MICASH!L419,96))","v":""}]
["C",288,"00",{"$f":"TEXT(MICASH!D420,\"0000000000\")","v":"0000000000"}," ",{"$f":"UPPER(MICASH!F420)","v":""},{"$f":"UPPER(MICASH!G420)","v":""}," ",{"$f":"TEXT(MICASH!I420,\"0000000000\")","v":"0000000000"},{"$f":"TEXT(MICASH!J420*100,\"0000000000\")","v":"0000000000"},{"$f":"TEXT(MONTH(MICASH!K420),\"00\") & TEXT(DAY(MICASH!K420),\"00\") & RIGHT(TEXT(YEAR(MICASH!K420),\"00\"),2)","v":"010000"},{"$f":"UPPER(LEFT(MICASH!L420,96))","v":""}]
["C",288,"00",{"$f":"TEXT(MICASH!D421,\"0000000000\")","v":"0000000000"}," ",{"$f":"UPPER(MICASH!F421)","v":""},{"$f":"UPPER(MICASH!G421)","v":""}," ",{"$f":"TEXT(MICASH!I421,\"0000000000\")","v":"0000000000"},{"$f":"TEXT(MICASH!J421*100,\"0000000000\")","v":"0000000000"},{"$f":"TEXT(MONTH(MICASH!K421),\"00\") & TEXT(DAY(MICASH!K421),\"00\") & RIGHT(TEXT(YEAR(MICASH!K421),\"00\"),2)","v":"010000"},{"$f":"UPPER(LEFT(MICASH!L421,96))","v":""}]
["C",288,"00",{"$f":"TEXT(MICASH!D422,\"0000000000\")","v":"0000000000"}," ",{"$f":"UPPER(MICASH!F422)","v":""},{"$f":"UPPER(MICASH!G422)","v":""}," ",{"$f":"TEXT(MICASH!I422,\"0000000000\")","v":"0000000000"},{"$f":"TEXT(MICASH!J422*100,\"0000000000\")","v":"0000000000"},{"$f":"TEXT(MONTH(MICASH!K422),\"00\") & TEXT(DAY(MICASH!K422),\"00\") & RIGHT(TEXT(YEAR(MICASH!K422),\"00\"),2)","v":"010000"},{"$f":"UPPER(LEFT(MICASH!L422,96))","v":""}]
["C",288,"00",{"$f":"TEXT(MICASH!D423,\"0000000000\")","v":"0000000000"}," ",{"$f":"UPPER(MICASH!F423)","v":""},{"$f":"UPPER(MICASH!G423)","v":""}," ",{"$f":"TEXT(MICASH!I423,\"0000000000\")","v":"0000000000"},{"$f":"TEXT(MICASH!J423*100,\"0000000000\")","v":"0000000000"},{"$f":"TEXT(MONTH(MICASH!K423),\"00\") & TEXT(DAY(MICASH!K423),\"00\") & RIGHT(TEXT(YEAR(MICASH!K423),\"00\"),2)","v":"010000"},{"$f":"UPPER(LEFT(MICASH!L423,96))","v":""}]
["C",288,"00",{"$f":"TEXT(MICASH!D424,\"0000000000\")","v":"0000000000"}," ",{"$f":"UPPER(MICASH!F424)","v":""},{"$f":"UPPER(MICASH!G424)","v":""}," ",{"$f":"TEXT(MICASH!I424,\"0000000000\")","v":"0000000000"},{"$f":"TEXT(MICASH!J424*100,\"0000000000\")","v":"0000000000"},{"$f":"TEXT(MONTH(MICASH!K424),\"00\") & TEXT(DAY(MICASH!K424),\"00\") & RIGHT(TEXT(YEAR(MICASH!K424),\"00\"),2)","v":"010000"},{"$f":"UPPER(LEFT(MICASH!L424,96))","v":""}]
["C",288,"00",{"$f":"TEXT(MICASH!D425,\"0000000000\")","v":"0000000000"}," ",{"$f":"UPPER(MICASH!F425)","v":""},{"$f":"UPPER(MICASH!G425)","v":""}," ",{"$f":"TEXT(MICASH!I425,\"0000000000\")","v":"0000000000"},{"$f":"TEXT(MICASH!J425*100,\"0000000000\")","v":"0000000000"},{"$f":"TEXT(MONTH(MICASH!K425),\"00\") & TEXT(DAY(MICASH!K425),\"00\") & RIGHT(TEXT(YEAR(MICASH!K425),\"00\"),2)","v":"010000"},{"$f":"UPPER(LEFT(MICASH!L425,96))","v":""}]
["C",288,"00",{"$f":"TEXT(MICASH!D426,\"0000000000\")","v":"0000000000"}," ",{"$f":"UPPER(MICASH!F426)","v":""},{"$f":"UPPER(MICASH!G426)","v":""}," ",{"$f":"TEXT(MICASH!I426,\"0000000000\")","v":"0000000000"},{"$f":"TEXT(MICASH!J426*100,\"0000000000\")","v":"0000000000"},{"$f":"TEXT(MONTH(MICASH!K426),\"00\") & TEXT(DAY(MICASH!K426),\"00\") & RIGHT(TEXT(YEAR(MICASH!K426),\"00\"),2)","v":"010000"},{"$f":"UPPER(LEFT(MICASH!L426,96))","v":""}]
["C",288,"00",{"$f":"TEXT(MICASH!D427,\"0000000000\")","v":"0000000000"}," ",{"$f":"UPPER(MICASH!F427)","v":""},{"$f":"UPPER(MICASH!G427)","v":""}," ",{"$f":"TEXT(MICASH!I427,\"0000000000\")","v":"0000000000"},{"$f":"TEXT(MICASH!J427*100,\"0000000000\")","v":"0000000000"},{"$f":"TEXT(MONTH(MICASH!K427),\"00\") & TEXT(DAY(MICASH!K427),\"00\") & RIGHT(TEXT(YEAR(MICASH!K427),\"00\"),2)","v":"010000"},{"$f":"UPPER(LEFT(MICASH!L427,96))","v":""}]
["C",288,"00",{"$f":"TEXT(MICASH!D428,\"0000000000\")","v":"0000000000"}," ",{"$f":"UPPER(MICASH!F428)","v":""},{"$f":"UPPER(MICASH!G428)","v":""}," ",{"$f":"TEXT(MICASH!I428,\"0000000000\")","v":"0000000000"},{"$f":"TEXT(MICASH!J428*100,\"0000000000\")","v":"0000000000"},{"$f":"TEXT(MONTH(MICASH!K428),\"00\") & TEXT(DAY(MICASH!K428),\"00\") & RIGHT(TEXT(YEAR(MICASH!K428),\"00\"),2)","v":"010000"},{"$f":"UPPER(LEFT(MICASH!L428,96))","v":""}]
["C",288,"00",{"$f":"TEXT(MICASH!D429,\"0000000000\")","v":"0000000000"}," ",{"$f":"UPPER(MICASH!F429)","v":""},{"$f":"UPPER(MICASH!G429)","v":""}," ",{"$f":"TEXT(MICASH!I429,\"0000000000\")","v":"0000000000"},{"$f":"TEXT(MICASH!J429*100,\"0000000000\")","v":"0000000000"},{"$f":"TEXT(MONTH(MICASH!K429),\"00\") & TEXT(DAY(MICASH!K429),\"00\") & RIGHT(TEXT(YEAR(MICASH!K429),\"00\"),2)","v":"010000"},{"$f":"UPPER(LEFT(MICASH!L429,96))","v":""}]
["C",288,"00",{"$f":"TEXT(MICASH!D430,\"0000000000\")","v":"0000000000"}," ",{"$f":"UPPER(MICASH!F430)","v":""},{"$f":"UPPER(MICASH!G430)","v":""}," ",{"$f":"TEXT(MICASH!I430,\"0000000000\")","v":"0000000000"},{"$f":"TEXT(MICASH!J430*100,\"0000000000\")","v":"0000000000"},{"$f":"TEXT(MONTH(MICASH!K430),\"00\") & TEXT(DAY(MICASH!K430),\"00\") & RIGHT(TEXT(YEAR(MICASH!K430),\"00\"),2)","v":"010000"},{"$f":"UPPER(LEFT(MICASH!L430,96))","v":""}]
["C",288,"00",{"$f":"TEXT(MICASH!D431,\"0000000000\")","v":"0000000000"}," ",{"$f":"UPPER(MICASH!F431)","v":""},{"$f":"UPPER(MICASH!G431)","v":""}," ",{"$f":"TEXT(MICASH!I431,\"0000000000\")","v":"0000000000"},{"$f":"TEXT(MICASH!J431*100,\"0000000000\")","v":"0000000000"},{"$f":"TEXT(MONTH(MICASH!K431),\"00\") & TEXT(DAY(MICASH!K431),\"00\") & RIGHT(TEXT(YEAR(MICASH!K431),\"00\"),2)","v":"010000"},{"$f":"UPPER(LEFT(MICASH!L431,96))","v":""}]
["C",288,"00",{"$f":"TEXT(MICASH!D432,\"0000000000\")","v":"0000000000"}," ",{"$f":"UPPER(MICASH!F432)","v":""},{"$f":"UPPER(MICASH!G432)","v":""}," ",{"$f":"TEXT(MICASH!I432,\"0000000000\")","v":"0000000000"},{"$f":"TEXT(MICASH!J432*100,\"0000000000\")","v":"0000000000"},{"$f":"TEXT(MONTH(MICASH!K432),\"00\") & TEXT(DAY(MICASH!K432),\"00\") & RIGHT(TEXT(YEAR(MICASH!K432),\"00\"),2)","v":"010000"},{"$f":"UPPER(LEFT(MICASH!L432,96))","v":""}]
["C",288,"00",{"$f":"TEXT(MICASH!D433,\"0000000000\")","v":"0000000000"}," ",{"$f":"UPPER(MICASH!F433)","v":""},{"$f":"UPPER(MICASH!G433)","v":""}," ",{"$f":"TEXT(MICASH!I433,\"0000000000\")","v":"0000000000"},{"$f":"TEXT(MICASH!J433*100,\"0000000000\")","v":"0000000000"},{"$f":"TEXT(MONTH(MICASH!K433),\"00\") & TEXT(DAY(MICASH!K433),\"00\") & RIGHT(TEXT(YEAR(MICASH!K433),\"00\"),2)","v":"010000"},{"$f":"UPPER(LEFT(MICASH!L433,96))","v":""}]
["C",288,"00",{"$f":"TEXT(MICASH!D434,\"0000000000\")","v":"0000000000"}," ",{"$f":"UPPER(MICASH!F434)","v":""},{"$f":"UPPER(MICASH!G434)","v":""}," ",{"$f":"TEXT(MICASH!I434,\"0000000000\")","v":"0000000000"},{"$f":"TEXT(MICASH!J434*100,\"0000000000\")","v":"0000000000"},{"$f":"TEXT(MONTH(MICASH!K434),\"00\") & TEXT(DAY(MICASH!K434),\"00\") & RIGHT(TEXT(YEAR(MICASH!K434),\"00\"),2)","v":"010000"},{"$f":"UPPER(LEFT(MICASH!L434,96))","v":""}]
["C",288,"00",{"$f":"TEXT(MICASH!D435,\"0000000000\")","v":"0000000000"}," ",{"$f":"UPPER(MICASH!F435)","v":""},{"$f":"UPPER(MICASH!G435)","v":""}," ",{"$f":"TEXT(MICASH!I435,\"0000000000\")","v":"0000000000"},{"$f":"TEXT(MICASH!J435*100,\"0000000000\")","v":"0000000000"},{"$f":"TEXT(MONTH(MICASH!K435),\"00\") & TEXT(DAY(MICASH!K435),\"00\") & RIGHT(TEXT(YEAR(MICASH!K435),\"00\"),2)","v":"010000"},{"$f":"UPPER(LEFT(MICASH!L435,96))","v":""}]
["C",288,"00",{"$f":"TEXT(MICASH!D436,\"0000000000\")","v":"0000000000"}," ",{"$f":"UPPER(MICASH!F436)","v":""},{"$f":"UPPER(MICASH!G436)","v":""}," ",{"$f":"TEXT(MICASH!I436,\"0000000000\")","v":"0000000000"},{"$f":"TEXT(MICASH!J436*100,\"0000000000\")","v":"0000000000"},{"$f":"TEXT(MONTH(MICASH!K436),\"00\") & TEXT(DAY(MICASH!K436),\"00\") & RIGHT(TEXT(YEAR(MICASH!K436),\"00\"),2)","v":"010000"},{"$f":"UPPER(LEFT(MICASH!L436,96))","v":""}]
["C",288,"00",{"$f":"TEXT(MICASH!D437,\"0000000000\")","v":"0000000000"}," ",{"$f":"UPPER(MICASH!F437)","v":""},{"$f":"UPPER(MICASH!G437)","v":""}," ",{"$f":"TEXT(MICASH!I437,\"0000000000\")","v":"0000000000"},{"$f":"TEXT(MICASH!J437*100,\"0000000000\")","v":"0000000000"},{"$f":"TEXT(MONTH(MICASH!K437),\"00\") & TEXT(DAY(MICASH!K437),\"00\") & RIGHT(TEXT(YEAR(MICASH!K437),\"00\"),2)","v":"010000"},{"$f":"UPPER(LEFT(MICASH!L437,96))","v":""}]
["C",288,"00",{"$f":"TEXT(MICASH!D438,\"0000000000\")","v":"0000000000"}," ",{"$f":"UPPER(MICASH!F438)","v":""},{"$f":"UPPER(MICASH!G438)","v":""}," ",{"$f":"TEXT(MICASH!I438,\"0000000000\")","v":"0000000000"},{"$f":"TEXT(MICASH!J438*100,\"0000000000\")","v":"0000000000"},{"$f":"TEXT(MONTH(MICASH!K438),\"00\") & TEXT(DAY(MICASH!K438),\"00\") & RIGHT(TEXT(YEAR(MICASH!K438),\"00\"),2)","v":"010000"},{"$f":"UPPER(LEFT(MICASH!L438,96))","v":""}]
["C",288,"00",{"$f":"TEXT(MICASH!D439,\"0000000000\")","v":"0000000000"}," ",{"$f":"UPPER(MICASH!F439)","v":""},{"$f":"UPPER(MICASH!G439)","v":""}," ",{"$f":"TEXT(MICASH!I439,\"0000000000\")","v":"0000000000"},{"$f":"TEXT(MICASH!J439*100,\"0000000000\")","v":"0000000000"},{"$f":"TEXT(MONTH(MICASH!K439),\"00\") & TEXT(DAY(MICASH!K439),\"00\") & RIGHT(TEXT(YEAR(MICASH!K439),\"00\"),2)","v":"010000"},{"$f":"UPPER(LEFT(MICASH!L439,96))","v":""}]
["C",288,"00",{"$f":"TEXT(MICASH!D440,\"0000000000\")","v":"0000000000"}," ",{"$f":"UPPER(MICASH!F440)","v":""},{"$f":"UPPER(MICASH!G440)","v":""}," ",{"$f":"TEXT(MICASH!I440,\"0000000000\")","v":"0000000000"},{"$f":"TEXT(MICASH!J440*100,\"0000000000\")","v":"0000000000"},{"$f":"TEXT(MONTH(MICASH!K440),\"00\") & TEXT(DAY(MICASH!K440),\"00\") & RIGHT(TEXT(YEAR(MICASH!K440),\"00\"),2)","v":"010000"},{"$f":"UPPER(LEFT(MICASH!L440,96))","v":""}]
["C",288,"00",{"$f":"TEXT(MICASH!D441,\"0000000000\")","v":"0000000000"}," ",{"$f":"UPPER(MICASH!F441)","v":""},{"$f":"UPPER(MICASH!G441)","v":""}," ",{"$f":"TEXT(MICASH!I441,\"0000000000\")","v":"0000000000"},{"$f":"TEXT(MICASH!J441*100,\"0000000000\")","v":"0000000000"},{"$f":"TEXT(MONTH(MICASH!K441),\"00\") & TEXT(DAY(MICASH!K441),\"00\") & RIGHT(TEXT(YEAR(MICASH!K441),\"00\"),2)","v":"010000"},{"$f":"UPPER(LEFT(MICASH!L441,96))","v":""}]
["C",288,"00",{"$f":"TEXT(MICASH!D442,\"0000000000\")","v":"0000000000"}," ",{"$f":"UPPER(MICASH!F442)","v":""},{"$f":"UPPER(MICASH!G442)","v":""}," ",{"$f":"TEXT(MICASH!I442,\"0000000000\")","v":"0000000000"},{"$f":"TEXT(MICASH!J442*100,\"0000000000\")","v":"0000000000"},{"$f":"TEXT(MONTH(MICASH!K442),\"00\") & TEXT(DAY(MICASH!K442),\"00\") & RIGHT(TEXT(YEAR(MICASH!K442),\"00\"),2)","v":"010000"},{"$f":"UPPER(LEFT(MICASH!L442,96))","v":""}]
["C",288,"00",{"$f":"TEXT(MICASH!D443,\"0000000000\")","v":"0000000000"}," ",{"$f":"UPPER(MICASH!F443)","v":""},{"$f":"UPPER(MICASH!G443)","v":""}," ",{"$f":"TEXT(MICASH!I443,\"0000000000\")","v":"0000000000"},{"$f":"TEXT(MICASH!J443*100,\"0000000000\")","v":"0000000000"},{"$f":"TEXT(MONTH(MICASH!K443),\"00\") & TEXT(DAY(MICASH!K443),\"00\") & RIGHT(TEXT(YEAR(MICASH!K443),\"00\"),2)","v":"010000"},{"$f":"UPPER(LEFT(MICASH!L443,96))","v":""}]
["C",288,"00",{"$f":"TEXT(MICASH!D444,\"0000000000\")","v":"0000000000"}," ",{"$f":"UPPER(MICASH!F444)","v":""},{"$f":"UPPER(MICASH!G444)","v":""}," ",{"$f":"TEXT(MICASH!I444,\"0000000000\")","v":"0000000000"},{"$f":"TEXT(MICASH!J444*100,\"0000000000\")","v":"0000000000"},{"$f":"TEXT(MONTH(MICASH!K444),\"00\") & TEXT(DAY(MICASH!K444),\"00\") & RIGHT(TEXT(YEAR(MICASH!K444),\"00\"),2)","v":"010000"},{"$f":"UPPER(LEFT(MICASH!L444,96))","v":""}]
["C",288,"00",{"$f":"TEXT(MICASH!D445,\"0000000000\")","v":"0000000000"}," ",{"$f":"UPPER(MICASH!F445)","v":""},{"$f":"UPPER(MICASH!G445)","v":""}," ",{"$f":"TEXT(MICASH!I445,\"0000000000\")","v":"0000000000"},{"$f":"TEXT(MICASH!J445*100,\"0000000000\")","v":"0000000000"},{"$f":"TEXT(MONTH(MICASH!K445),\"00\") & TEXT(DAY(MICASH!K445),\"00\") & RIGHT(TEXT(YEAR(MICASH!K445),\"00\"),2)","v":"010000"},{"$f":"UPPER(LEFT(MICASH!L445,96))","v":""}]
["C",288,"00",{"$f":"TEXT(MICASH!D446,\"0000000000\")","v":"0000000000"}," ",{"$f":"UPPER(MICASH!F446)","v":""},{"$f":"UPPER(MICASH!G446)","v":""}," ",{"$f":"TEXT(MICASH!I446,\"0000000000\")","v":"0000000000"},{"$f":"TEXT(MICASH!J446*100,\"0000000000\")","v":"0000000000"},{"$f":"TEXT(MONTH(MICASH!K446),\"00\") & TEXT(DAY(MICASH!K446),\"00\") & RIGHT(TEXT(YEAR(MICASH!K446),\"00\"),2)","v":"010000"},{"$f":"UPPER(LEFT(MICASH!L446,96))","v":""}]
["C",288,"00",{"$f":"TEXT(MICASH!D447,\"0000000000\")","v":"0000000000"}," ",{"$f":"UPPER(MICASH!F447)","v":""},{"$f":"UPPER(MICASH!G447)","v":""}," ",{"$f":"TEXT(MICASH!I447,\"0000000000\")","v":"0000000000"},{"$f":"TEXT(MICASH!J447*100,\"0000000000\")","v":"0000000000"},{"$f":"TEXT(MONTH(MICASH!K447),\"00\") & TEXT(DAY(MICASH!K447),\"00\") & RIGHT(TEXT(YEAR(MICASH!K447),\"00\"),2)","v":"010000"},{"$f":"UPPER(LEFT(MICASH!L447,96))","v":""}]
["C",288,"00",{"$f":"TEXT(MICASH!D448,\"0000000000\")","v":"0000000000"}," ",{"$f":"UPPER(MICASH!F448)","v":""},{"$f":"UPPER(MICASH!G448)","v":""}," ",{"$f":"TEXT(MICASH!I448,\"0000000000\")","v":"0000000000"},{"$f":"TEXT(MICASH!J448*100,\"0000000000\")","v":"0000000000"},{"$f":"TEXT(MONTH(MICASH!K448),\"00\") & TEXT(DAY(MICASH!K448),\"00\") & RIGHT(TEXT(YEAR(MICASH!K448),\"00\"),2)","v":"010000"},{"$f":"UPPER(LEFT(MICASH!L448,96))","v":""}]
["C",288,"00",{"$f":"TEXT(MICASH!D449,\"0000000000\")","v":"0000000000"}," ",{"$f":"UPPER(MICASH!F449)","v":""},{"$f":"UPPER(MICASH!G449)","v":""}," ",{"$f":"TEXT(MICASH!I449,\"0000000000\")","v":"0000000000"},{"$f":"TEXT(MICASH!J449*100,\"0000000000\")","v":"0000000000"},{"$f":"TEXT(MONTH(MICASH!K449),\"00\") & TEXT(DAY(MICASH!K449),\"00\") & RIGHT(TEXT(YEAR(MICASH!K449),\"00\"),2)","v":"010000"},{"$f":"UPPER(LEFT(MICASH!L449,96))","v":""}]
["C",288,"00",{"$f":"TEXT(MICASH!D450,\"0000000000\")","v":"0000000000"}," ",{"$f":"UPPER(MICASH!F450)","v":""},{"$f":"UPPER(MICASH!G450)","v":""}," ",{"$f":"TEXT(MICASH!I450,\"0000000000\")","v":"0000000000"},{"$f":"TEXT(MICASH!J450*100,\"0000000000\")","v":"0000000000"},{"$f":"TEXT(MONTH(MICASH!K450),\"00\") & TEXT(DAY(MICASH!K450),\"00\") & RIGHT(TEXT(YEAR(MICASH!K450),\"00\"),2)","v":"010000"},{"$f":"UPPER(LEFT(MICASH!L450,96))","v":""}]
["C",288,"00",{"$f":"TEXT(MICASH!D451,\"0000000000\")","v":"0000000000"}," ",{"$f":"UPPER(MICASH!F451)","v":""},{"$f":"UPPER(MICASH!G451)","v":""}," ",{"$f":"TEXT(MICASH!I451,\"0000000000\")","v":"0000000000"},{"$f":"TEXT(MICASH!J451*100,\"0000000000\")","v":"0000000000"},{"$f":"TEXT(MONTH(MICASH!K451),\"00\") & TEXT(DAY(MICASH!K451),\"00\") & RIGHT(TEXT(YEAR(MICASH!K451),\"00\"),2)","v":"010000"},{"$f":"UPPER(LEFT(MICASH!L451,96))","v":""}]
["C",288,"00",{"$f":"TEXT(MICASH!D452,\"0000000000\")","v":"0000000000"}," ",{"$f":"UPPER(MICASH!F452)","v":""},{"$f":"UPPER(MICASH!G452)","v":""}," ",{"$f":"TEXT(MICASH!I452,\"0000000000\")","v":"0000000000"},{"$f":"TEXT(MICASH!J452*100,\"0000000000\")","v":"0000000000"},{"$f":"TEXT(MONTH(MICASH!K452),\"00\") & TEXT(DAY(MICASH!K452),\"00\") & RIGHT(TEXT(YEAR(MICASH!K452),\"00\"),2)","v":"010000"},{"$f":"UPPER(LEFT(MICASH!L452,96))","v":""}]
["C",288,"00",{"$f":"TEXT(MICASH!D453,\"0000000000\")","v":"0000000000"}," ",{"$f":"UPPER(MICASH!F453)","v":""},{"$f":"UPPER(MICASH!G453)","v":""}," ",{"$f":"TEXT(MICASH!I453,\"0000000000\")","v":"0000000000"},{"$f":"TEXT(MICASH!J453*100,\"0000000000\")","v":"0000000000"},{"$f":"TEXT(MONTH(MICASH!K453),\"00\") & TEXT(DAY(MICASH!K453),\"00\") & RIGHT(TEXT(YEAR(MICASH!K453),\"00\"),2)","v":"010000"},{"$f":"UPPER(LEFT(MICASH!L453,96))","v":""}]
["C",288,"00",{"$f":"TEXT(MICASH!D454,\"0000000000\")","v":"0000000000"}," ",{"$f":"UPPER(MICASH!F454)","v":""},{"$f":"UPPER(MICASH!G454)","v":""}," ",{"$f":"TEXT(MICASH!I454,\"0000000000\")","v":"0000000000"},{"$f":"TEXT(MICASH!J454*100,\"0000000000\")","v":"0000000000"},{"$f":"TEXT(MONTH(MICASH!K454),\"00\") & TEXT(DAY(MICASH!K454),\"00\") & RIGHT(TEXT(YEAR(MICASH!K454),\"00\"),2)","v":"010000"},{"$f":"UPPER(LEFT(MICASH!L454,96))","v":""}]
["C",288,"00",{"$f":"TEXT(MICASH!D455,\"0000000000\")","v":"0000000000"}," ",{"$f":"UPPER(MICASH!F455)","v":""},{"$f":"UPPER(MICASH!G455)","v":""}," ",{"$f":"TEXT(MICASH!I455,\"0000000000\")","v":"0000000000"},{"$f":"TEXT(MICASH!J455*100,\"0000000000\")","v":"0000000000"},{"$f":"TEXT(MONTH(MICASH!K455),\"00\") & TEXT(DAY(MICASH!K455),\"00\") & RIGHT(TEXT(YEAR(MICASH!K455),\"00\"),2)","v":"010000"},{"$f":"UPPER(LEFT(MICASH!L455,96))","v":""}]
["C",288,"00",{"$f":"TEXT(MICASH!D456,\"0000000000\")","v":"0000000000"}," ",{"$f":"UPPER(MICASH!F456)","v":""},{"$f":"UPPER(MICASH!G456)","v":""}," ",{"$f":"TEXT(MICASH!I456,\"0000000000\")","v":"0000000000"},{"$f":"TEXT(MICASH!J456*100,\"0000000000\")","v":"0000000000"},{"$f":"TEXT(MONTH(MICASH!K456),\"00\") & TEXT(DAY(MICASH!K456),\"00\") & RIGHT(TEXT(YEAR(MICASH!K456),\"00\"),2)","v":"010000"},{"$f":"UPPER(LEFT(MICASH!L456,96))","v":""}]
["C",288,"00",{"$f":"TEXT(MICASH!D457,\"0000000000\")","v":"0000000000"}," ",{"$f":"UPPER(MICASH!F457)","v":""},{"$f":"UPPER(MICASH!G457)","v":""}," ",{"$f":"TEXT(MICASH!I457,\"0000000000\")","v":"0000000000"},{"$f":"TEXT(MICASH!J457*100,\"0000000000\")","v":"0000000000"},{"$f":"TEXT(MONTH(MICASH!K457),\"00\") & TEXT(DAY(MICASH!K457),\"00\") & RIGHT(TEXT(YEAR(MICASH!K457),\"00\"),2)","v":"010000"},{"$f":"UPPER(LEFT(MICASH!L457,96))","v":""}]
["C",288,"00",{"$f":"TEXT(MICASH!D458,\"0000000000\")","v":"0000000000"}," ",{"$f":"UPPER(MICASH!F458)","v":""},{"$f":"UPPER(MICASH!G458)","v":""}," ",{"$f":"TEXT(MICASH!I458,\"0000000000\")","v":"0000000000"},{"$f":"TEXT(MICASH!J458*100,\"0000000000\")","v":"0000000000"},{"$f":"TEXT(MONTH(MICASH!K458),\"00\") & TEXT(DAY(MICASH!K458),\"00\") & RIGHT(TEXT(YEAR(MICASH!K458),\"00\"),2)","v":"010000"},{"$f":"UPPER(LEFT(MICASH!L458,96))","v":""}]
["C",288,"00",{"$f":"TEXT(MICASH!D459,\"0000000000\")","v":"0000000000"}," ",{"$f":"UPPER(MICASH!F459)","v":""},{"$f":"UPPER(MICASH!G459)","v":""}," ",{"$f":"TEXT(MICASH!I459,\"0000000000\")","v":"0000000000"},{"$f":"TEXT(MICASH!J459*100,\"0000000000\")","v":"0000000000"},{"$f":"TEXT(MONTH(MICASH!K459),\"00\") & TEXT(DAY(MICASH!K459),\"00\") & RIGHT(TEXT(YEAR(MICASH!K459),\"00\"),2)","v":"010000"},{"$f":"UPPER(LEFT(MICASH!L459,96))","v":""}]
["C",288,"00",{"$f":"TEXT(MICASH!D460,\"0000000000\")","v":"0000000000"}," ",{"$f":"UPPER(MICASH!F460)","v":""},{"$f":"UPPER(MICASH!G460)","v":""}," ",{"$f":"TEXT(MICASH!I460,\"0000000000\")","v":"0000000000"},{"$f":"TEXT(MICASH!J460*100,\"0000000000\")","v":"0000000000"},{"$f":"TEXT(MONTH(MICASH!K460),\"00\") & TEXT(DAY(MICASH!K460),\"00\") & RIGHT(TEXT(YEAR(MICASH!K460),\"00\"),2)","v":"010000"},{"$f":"UPPER(LEFT(MICASH!L460,96))","v":""}]
["C",288,"00",{"$f":"TEXT(MICASH!D461,\"0000000000\")","v":"0000000000"}," ",{"$f":"UPPER(MICASH!F461)","v":""},{"$f":"UPPER(MICASH!G461)","v":""}," ",{"$f":"TEXT(MICASH!I461,\"0000000000\")","v":"0000000000"},{"$f":"TEXT(MICASH!J461*100,\"0000000000\")","v":"0000000000"},{"$f":"TEXT(MONTH(MICASH!K461),\"00\") & TEXT(DAY(MICASH!K461),\"00\") & RIGHT(TEXT(YEAR(MICASH!K461),\"00\"),2)","v":"010000"},{"$f":"UPPER(LEFT(MICASH!L461,96))","v":""}]
["C",288,"00",{"$f":"TEXT(MICASH!D462,\"0000000000\")","v":"0000000000"}," ",{"$f":"UPPER(MICASH!F462)","v":""},{"$f":"UPPER(MICASH!G462)","v":""}," ",{"$f":"TEXT(MICASH!I462,\"0000000000\")","v":"0000000000"},{"$f":"TEXT(MICASH!J462*100,\"0000000000\")","v":"0000000000"},{"$f":"TEXT(MONTH(MICASH!K462),\"00\") & TEXT(DAY(MICASH!K462),\"00\") & RIGHT(TEXT(YEAR(MICASH!K462),\"00\"),2)","v":"010000"},{"$f":"UPPER(LEFT(MICASH!L462,96))","v":""}]
["C",288,"00",{"$f":"TEXT(MICASH!D463,\"0000000000\")","v":"0000000000"}," ",{"$f":"UPPER(MICASH!F463)","v":""},{"$f":"UPPER(MICASH!G463)","v":""}," ",{"$f":"TEXT(MICASH!I463,\"0000000000\")","v":"0000000000"},{"$f":"TEXT(MICASH!J463*100,\"0000000000\")","v":"0000000000"},{"$f":"TEXT(MONTH(MICASH!K463),\"00\") & TEXT(DAY(MICASH!K463),\"00\") & RIGHT(TEXT(YEAR(MICASH!K463),\"00\"),2)","v":"010000"},{"$f":"UPPER(LEFT(MICASH!L463,96))","v":""}]
["C",288,"00",{"$f":"TEXT(MICASH!D464,\"0000000000\")","v":"0000000000"}," ",{"$f":"UPPER(MICASH!F464)","v":""},{"$f":"UPPER(MICASH!G464)","v":""}," ",{"$f":"TEXT(MICASH!I464,\"0000000000\")","v":"0000000000"},{"$f":"TEXT(MICASH!J464*100,\"0000000000\")","v":"0000000000"},{"$f":"TEXT(MONTH(MICASH!K464),\"00\") & TEXT(DAY(MICASH!K464),\"00\") & RIGHT(TEXT(YEAR(MICASH!K464),\"00\"),2)","v":"010000"},{"$f":"UPPER(LEFT(MICASH!L464,96))","v":""}]
["C",288,"00",{"$f":"TEXT(MICASH!D465,\"0000000000\")","v":"0000000000"}," ",{"$f":"UPPER(MICASH!F465)","v":""},{"$f":"UPPER(MICASH!G465)","v":""}," ",{"$f":"TEXT(MICASH!I465,\"0000000000\")","v":"0000000000"},{"$f":"TEXT(MICASH!J465*100,\"0000000000\")","v":"0000000000"},{"$f":"TEXT(MONTH(MICASH!K465),\"00\") & TEXT(DAY(MICASH!K465),\"00\") & RIGHT(TEXT(YEAR(MICASH!K465),\"00\"),2)","v":"010000"},{"$f":"UPPER(LEFT(MICASH!L465,96))","v":""}]
["C",288,"00",{"$f":"TEXT(MICASH!D466,\"0000000000\")","v":"0000000000"}," ",{"$f":"UPPER(MICASH!F466)","v":""},{"$f":"UPPER(MICASH!G466)","v":""}," ",{"$f":"TEXT(MICASH!I466,\"0000000000\")","v":"0000000000"},{"$f":"TEXT(MICASH!J466*100,\"0000000000\")","v":"0000000000"},{"$f":"TEXT(MONTH(MICASH!K466),\"00\") & TEXT(DAY(MICASH!K466),\"00\") & RIGHT(TEXT(YEAR(MICASH!K466),\"00\"),2)","v":"010000"},{"$f":"UPPER(LEFT(MICASH!L466,96))","v":""}]
["C",288,"00",{"$f":"TEXT(MICASH!D467,\"0000000000\")","v":"0000000000"}," ",{"$f":"UPPER(MICASH!F467)","v":""},{"$f":"UPPER(MICASH!G467)","v":""}," ",{"$f":"TEXT(MICASH!I467,\"0000000000\")","v":"0000000000"},{"$f":"TEXT(MICASH!J467*100,\"0000000000\")","v":"0000000000"},{"$f":"TEXT(MONTH(MICASH!K467),\"00\") & TEXT(DAY(MICASH!K467),\"00\") & RIGHT(TEXT(YEAR(MICASH!K467),\"00\"),2)","v":"010000"},{"$f":"UPPER(LEFT(MICASH!L467,96))","v":""}]
["C",288,"00",{"$f":"TEXT(MICASH!D468,\"0000000000\")","v":"0000000000"}," ",{"$f":"UPPER(MICASH!F468)","v":""},{"$f":"UPPER(MICASH!G468)","v":""}," ",{"$f":"TEXT(MICASH!I468,\"0000000000\")","v":"0000000000"},{"$f":"TEXT(MICASH!J468*100,\"0000000000\")","v":"0000000000"},{"$f":"TEXT(MONTH(MICASH!K468),\"00\") & TEXT(DAY(MICASH!K468),\"00\") & RIGHT(TEXT(YEAR(MICASH!K468),\"00\"),2)","v":"010000"},{"$f":"UPPER(LEFT(MICASH!L468,96))","v":""}]
["C",288,"00",{"$f":"TEXT(MICASH!D469,\"0000000000\")","v":"0000000000"}," ",{"$f":"UPPER(MICASH!F469)","v":""},{"$f":"UPPER(MICASH!G469)","v":""}," ",{"$f":"TEXT(MICASH!I469,\"0000000000\")","v":"0000000000"},{"$f":"TEXT(MICASH!J469*100,\"0000000000\")","v":"0000000000"},{"$f":"TEXT(MONTH(MICASH!K469),\"00\") & TEXT(DAY(MICASH!K469),\"00\") & RIGHT(TEXT(YEAR(MICASH!K469),\"00\"),2)","v":"010000"},{"$f":"UPPER(LEFT(MICASH!L469,96))","v":""}]
["C",288,"00",{"$f":"TEXT(MICASH!D470,\"0000000000\")","v":"0000000000"}," ",{"$f":"UPPER(MICASH!F470)","v":""},{"$f":"UPPER(MICASH!G470)","v":""}," ",{"$f":"TEXT(MICASH!I470,\"0000000000\")","v":"0000000000"},{"$f":"TEXT(MICASH!J470*100,\"0000000000\")","v":"0000000000"},{"$f":"TEXT(MONTH(MICASH!K470),\"00\") & TEXT(DAY(MICASH!K470),\"00\") & RIGHT(TEXT(YEAR(MICASH!K470),\"00\"),2)","v":"010000"},{"$f":"UPPER(LEFT(MICASH!L470,96))","v":""}]
["C",288,"00",{"$f":"TEXT(MICASH!D471,\"0000000000\")","v":"0000000000"}," ",{"$f":"UPPER(MICASH!F471)","v":""},{"$f":"UPPER(MICASH!G471)","v":""}," ",{"$f":"TEXT(MICASH!I471,\"0000000000\")","v":"0000000000"},{"$f":"TEXT(MICASH!J471*100,\"0000000000\")","v":"0000000000"},{"$f":"TEXT(MONTH(MICASH!K471),\"00\") & TEXT(DAY(MICASH!K471),\"00\") & RIGHT(TEXT(YEAR(MICASH!K471),\"00\"),2)","v":"010000"},{"$f":"UPPER(LEFT(MICASH!L471,96))","v":""}]
["C",288,"00",{"$f":"TEXT(MICASH!D472,\"0000000000\")","v":"0000000000"}," ",{"$f":"UPPER(MICASH!F472)","v":""},{"$f":"UPPER(MICASH!G472)","v":""}," ",{"$f":"TEXT(MICASH!I472,\"0000000000\")","v":"0000000000"},{"$f":"TEXT(MICASH!J472*100,\"0000000000\")","v":"0000000000"},{"$f":"TEXT(MONTH(MICASH!K472),\"00\") & TEXT(DAY(MICASH!K472),\"00\") & RIGHT(TEXT(YEAR(MICASH!K472),\"00\"),2)","v":"010000"},{"$f":"UPPER(LEFT(MICASH!L472,96))","v":""}]
["C",288,"00",{"$f":"TEXT(MICASH!D473,\"0000000000\")","v":"0000000000"}," ",{"$f":"UPPER(MICASH!F473)","v":""},{"$f":"UPPER(MICASH!G473)","v":""}," ",{"$f":"TEXT(MICASH!I473,\"0000000000\")","v":"0000000000"},{"$f":"TEXT(MICASH!J473*100,\"0000000000\")","v":"0000000000"},{"$f":"TEXT(MONTH(MICASH!K473),\"00\") & TEXT(DAY(MICASH!K473),\"00\") & RIGHT(TEXT(YEAR(MICASH!K473),\"00\"),2)","v":"010000"},{"$f":"UPPER(LEFT(MICASH!L473,96))","v":""}]
["C",288,"00",{"$f":"TEXT(MICASH!D474,\"0000000000\")","v":"0000000000"}," ",{"$f":"UPPER(MICASH!F474)","v":""},{"$f":"UPPER(MICASH!G474)","v":""}," ",{"$f":"TEXT(MICASH!I474,\"0000000000\")","v":"0000000000"},{"$f":"TEXT(MICASH!J474*100,\"0000000000\")","v":"0000000000"},{"$f":"TEXT(MONTH(MICASH!K474),\"00\") & TEXT(DAY(MICASH!K474),\"00\") & RIGHT(TEXT(YEAR(MICASH!K474),\"00\"),2)","v":"010000"},{"$f":"UPPER(LEFT(MICASH!L474,96))","v":""}]
["C",288,"00",{"$f":"TEXT(MICASH!D475,\"0000000000\")","v":"0000000000"}," ",{"$f":"UPPER(MICASH!F475)","v":""},{"$f":"UPPER(MICASH!G475)","v":""}," ",{"$f":"TEXT(MICASH!I475,\"0000000000\")","v":"0000000000"},{"$f":"TEXT(MICASH!J475*100,\"0000000000\")","v":"0000000000"},{"$f":"TEXT(MONTH(MICASH!K475),\"00\") & TEXT(DAY(MICASH!K475),\"00\") & RIGHT(TEXT(YEAR(MICASH!K475),\"00\"),2)","v":"010000"},{"$f":"UPPER(LEFT(MICASH!L475,96))","v":""}]
["C",288,"00",{"$f":"TEXT(MICASH!D476,\"0000000000\")","v":"0000000000"}," ",{"$f":"UPPER(MICASH!F476)","v":""},{"$f":"UPPER(MICASH!G476)","v":""}," ",{"$f":"TEXT(MICASH!I476,\"0000000000\")","v":"0000000000"},{"$f":"TEXT(MICASH!J476*100,\"0000000000\")","v":"0000000000"},{"$f":"TEXT(MONTH(MICASH!K476),\"00\") & TEXT(DAY(MICASH!K476),\"00\") & RIGHT(TEXT(YEAR(MICASH!K476),\"00\"),2)","v":"010000"},{"$f":"UPPER(LEFT(MICASH!L476,96))","v":""}]
["C",288,"00",{"$f":"TEXT(MICASH!D477,\"0000000000\")","v":"0000000000"}," ",{"$f":"UPPER(MICASH!F477)","v":""},{"$f":"UPPER(MICASH!G477)","v":""}," ",{"$f":"TEXT(MICASH!I477,\"0000000000\")","v":"0000000000"},{"$f":"TEXT(MICASH!J477*100,\"0000000000\")","v":"0000000000"},{"$f":"TEXT(MONTH(MICASH!K477),\"00\") & TEXT(DAY(MICASH!K477),\"00\") & RIGHT(TEXT(YEAR(MICASH!K477),\"00\"),2)","v":"010000"},{"$f":"UPPER(LEFT(MICASH!L477,96))","v":""}]
["C",288,"00",{"$f":"TEXT(MICASH!D478,\"0000000000\")","v":"0000000000"}," ",{"$f":"UPPER(MICASH!F478)","v":""},{"$f":"UPPER(MICASH!G478)","v":""}," ",{"$f":"TEXT(MICASH!I478,\"0000000000\")","v":"0000000000"},{"$f":"TEXT(MICASH!J478*100,\"0000000000\")","v":"0000000000"},{"$f":"TEXT(MONTH(MICASH!K478),\"00\") & TEXT(DAY(MICASH!K478),\"00\") & RIGHT(TEXT(YEAR(MICASH!K478),\"00\"),2)","v":"010000"},{"$f":"UPPER(LEFT(MICASH!L478,96))","v":""}]
["C",288,"00",{"$f":"TEXT(MICASH!D479,\"0000000000\")","v":"0000000000"}," ",{"$f":"UPPER(MICASH!F479)","v":""},{"$f":"UPPER(MICASH!G479)","v":""}," ",{"$f":"TEXT(MICASH!I479,\"0000000000\")","v":"0000000000"},{"$f":"TEXT(MICASH!J479*100,\"0000000000\")","v":"0000000000"},{"$f":"TEXT(MONTH(MICASH!K479),\"00\") & TEXT(DAY(MICASH!K479),\"00\") & RIGHT(TEXT(YEAR(MICASH!K479),\"00\"),2)","v":"010000"},{"$f":"UPPER(LEFT(MICASH!L479,96))","v":""}]
["C",288,"00",{"$f":"TEXT(MICASH!D480,\"0000000000\")","v":"0000000000"}," ",{"$f":"UPPER(MICASH!F480)","v":""},{"$f":"UPPER(MICASH!G480)","v":""}," ",{"$f":"TEXT(MICASH!I480,\"0000000000\")","v":"0000000000"},{"$f":"TEXT(MICASH!J480*100,\"0000000000\")","v":"0000000000"},{"$f":"TEXT(MONTH(MICASH!K480),\"00\") & TEXT(DAY(MICASH!K480),\"00\") & RIGHT(TEXT(YEAR(MICASH!K480),\"00\"),2)","v":"010000"},{"$f":"UPPER(LEFT(MICASH!L480,96))","v":""}]
["C",288,"00",{"$f":"TEXT(MICASH!D481,\"0000000000\")","v":"0000000000"}," ",{"$f":"UPPER(MICASH!F481)","v":""},{"$f":"UPPER(MICASH!G481)","v":""}," ",{"$f":"TEXT(MICASH!I481,\"0000000000\")","v":"0000000000"},{"$f":"TEXT(MICASH!J481*100,\"0000000000\")","v":"0000000000"},{"$f":"TEXT(MONTH(MICASH!K481),\"00\") & TEXT(DAY(MICASH!K481),\"00\") & RIGHT(TEXT(YEAR(MICASH!K481),\"00\"),2)","v":"010000"},{"$f":"UPPER(LEFT(MICASH!L481,96))","v":""}]
["C",288,"00",{"$f":"TEXT(MICASH!D482,\"0000000000\")","v":"0000000000"}," ",{"$f":"UPPER(MICASH!F482)","v":""},{"$f":"UPPER(MICASH!G482)","v":""}," ",{"$f":"TEXT(MICASH!I482,\"0000000000\")","v":"0000000000"},{"$f":"TEXT(MICASH!J482*100,\"0000000000\")","v":"0000000000"},{"$f":"TEXT(MONTH(MICASH!K482),\"00\") & TEXT(DAY(MICASH!K482),\"00\") & RIGHT(TEXT(YEAR(MICASH!K482),\"00\"),2)","v":"010000"},{"$f":"UPPER(LEFT(MICASH!L482,96))","v":""}]
["C",288,"00",{"$f":"TEXT(MICASH!D483,\"0000000000\")","v":"0000000000"}," ",{"$f":"UPPER(MICASH!F483)","v":""},{"$f":"UPPER(MICASH!G483)","v":""}," ",{"$f":"TEXT(MICASH!I483,\"0000000000\")","v":"0000000000"},{"$f":"TEXT(MICASH!J483*100,\"0000000000\")","v":"0000000000"},{"$f":"TEXT(MONTH(MICASH!K483),\"00\") & TEXT(DAY(MICASH!K483),\"00\") & RIGHT(TEXT(YEAR(MICASH!K483),\"00\"),2)","v":"010000"},{"$f":"UPPER(LEFT(MICASH!L483,96))","v":""}]
["C",288,"00",{"$f":"TEXT(MICASH!D484,\"0000000000\")","v":"0000000000"}," ",{"$f":"UPPER(MICASH!F484)","v":""},{"$f":"UPPER(MICASH!G484)","v":""}," ",{"$f":"TEXT(MICASH!I484,\"0000000000\")","v":"0000000000"},{"$f":"TEXT(MICASH!J484*100,\"0000000000\")","v":"0000000000"},{"$f":"TEXT(MONTH(MICASH!K484),\"00\") & TEXT(DAY(MICASH!K484),\"00\") & RIGHT(TEXT(YEAR(MICASH!K484),\"00\"),2)","v":"010000"},{"$f":"UPPER(LEFT(MICASH!L484,96))","v":""}]
["C",288,"00",{"$f":"TEXT(MICASH!D485,\"0000000000\")","v":"0000000000"}," ",{"$f":"UPPER(MICASH!F485)","v":""},{"$f":"UPPER(MICASH!G485)","v":""}," ",{"$f":"TEXT(MICASH!I485,\"0000000000\")","v":"0000000000"},{"$f":"TEXT(MICASH!J485*100,\"0000000000\")","v":"0000000000"},{"$f":"TEXT(MONTH(MICASH!K485),\"00\") & TEXT(DAY(MICASH!K485),\"00\") & RIGHT(TEXT(YEAR(MICASH!K485),\"00\"),2)","v":"010000"},{"$f":"UPPER(LEFT(MICASH!L485,96))","v":""}]
["C",288,"00",{"$f":"TEXT(MICASH!D486,\"0000000000\")","v":"0000000000"}," ",{"$f":"UPPER(MICASH!F486)","v":""},{"$f":"UPPER(MICASH!G486)","v":""}," ",{"$f":"TEXT(MICASH!I486,\"0000000000\")","v":"0000000000"},{"$f":"TEXT(MICASH!J486*100,\"0000000000\")","v":"0000000000"},{"$f":"TEXT(MONTH(MICASH!K486),\"00\") & TEXT(DAY(MICASH!K486),\"00\") & RIGHT(TEXT(YEAR(MICASH!K486),\"00\"),2)","v":"010000"},{"$f":"UPPER(LEFT(MICASH!L486,96))","v":""}]
["C",288,"00",{"$f":"TEXT(MICASH!D487,\"0000000000\")","v":"0000000000"}," ",{"$f":"UPPER(MICASH!F487)","v":""},{"$f":"UPPER(MICASH!G487)","v":""}," ",{"$f":"TEXT(MICASH!I487,\"0000000000\")","v":"0000000000"},{"$f":"TEXT(MICASH!J487*100,\"0000000000\")","v":"0000000000"},{"$f":"TEXT(MONTH(MICASH!K487),\"00\") & TEXT(DAY(MICASH!K487),\"00\") & RIGHT(TEXT(YEAR(MICASH!K487),\"00\"),2)","v":"010000"},{"$f":"UPPER(LEFT(MICASH!L487,96))","v":""}]
["C",288,"00",{"$f":"TEXT(MICASH!D488,\"0000000000\")","v":"0000000000"}," ",{"$f":"UPPER(MICASH!F488)","v":""},{"$f":"UPPER(MICASH!G488)","v":""}," ",{"$f":"TEXT(MICASH!I488,\"0000000000\")","v":"0000000000"},{"$f":"TEXT(MICASH!J488*100,\"0000000000\")","v":"0000000000"},{"$f":"TEXT(MONTH(MICASH!K488),\"00\") & TEXT(DAY(MICASH!K488),\"00\") & RIGHT(TEXT(YEAR(MICASH!K488),\"00\"),2)","v":"010000"},{"$f":"UPPER(LEFT(MICASH!L488,96))","v":""}]
["C",288,"00",{"$f":"TEXT(MICASH!D489,\"0000000000\")","v":"0000000000"}," ",{"$f":"UPPER(MICASH!F489)","v":""},{"$f":"UPPER(MICASH!G489)","v":""}," ",{"$f":"TEXT(MICASH!I489,\"0000000000\")","v":"0000000000"},{"$f":"TEXT(MICASH!J489*100,\"0000000000\")","v":"0000000000"},{"$f":"TEXT(MONTH(MICASH!K489),\"00\") & TEXT(DAY(MICASH!K489),\"00\") & RIGHT(TEXT(YEAR(MICASH!K489),\"00\"),2)","v":"010000"},{"$f":"UPPER(LEFT(MICASH!L489,96))","v":""}]
["C",288,"00",{"$f":"TEXT(MICASH!D490,\"0000000000\")","v":"0000000000"}," ",{"$f":"UPPER(MICASH!F490)","v":""},{"$f":"UPPER(MICASH!G490)","v":""}," ",{"$f":"TEXT(MICASH!I490,\"0000000000\")","v":"0000000000"},{"$f":"TEXT(MICASH!J490*100,\"0000000000\")","v":"0000000000"},{"$f":"TEXT(MONTH(MICASH!K490),\"00\") & TEXT(DAY(MICASH!K490),\"00\") & RIGHT(TEXT(YEAR(MICASH!K490),\"00\"),2)","v":"010000"},{"$f":"UPPER(LEFT(MICASH!L490,96))","v":""}]
["C",288,"00",{"$f":"TEXT(MICASH!D491,\"0000000000\")","v":"0000000000"}," ",{"$f":"UPPER(MICASH!F491)","v":""},{"$f":"UPPER(MICASH!G491)","v":""}," ",{"$f":"TEXT(MICASH!I491,\"0000000000\")","v":"0000000000"},{"$f":"TEXT(MICASH!J491*100,\"0000000000\")","v":"0000000000"},{"$f":"TEXT(MONTH(MICASH!K491),\"00\") & TEXT(DAY(MICASH!K491),\"00\") & RIGHT(TEXT(YEAR(MICASH!K491),\"00\"),2)","v":"010000"},{"$f":"UPPER(LEFT(MICASH!L491,96))","v":""}]
["C",288,"00",{"$f":"TEXT(MICASH!D492,\"0000000000\")","v":"0000000000"}," ",{"$f":"UPPER(MICASH!F492)","v":""},{"$f":"UPPER(MICASH!G492)","v":""}," ",{"$f":"TEXT(MICASH!I492,\"0000000000\")","v":"0000000000"},{"$f":"TEXT(MICASH!J492*100,\"0000000000\")","v":"0000000000"},{"$f":"TEXT(MONTH(MICASH!K492),\"00\") & TEXT(DAY(MICASH!K492),\"00\") & RIGHT(TEXT(YEAR(MICASH!K492),\"00\"),2)","v":"010000"},{"$f":"UPPER(LEFT(MICASH!L492,96))","v":""}]
["C",288,"00",{"$f":"TEXT(MICASH!D493,\"0000000000\")","v":"0000000000"}," ",{"$f":"UPPER(MICASH!F493)","v":""},{"$f":"UPPER(MICASH!G493)","v":""}," ",{"$f":"TEXT(MICASH!I493,\"0000000000\")","v":"0000000000"},{"$f":"TEXT(MICASH!J493*100,\"0000000000\")","v":"0000000000"},{"$f":"TEXT(MONTH(MICASH!K493),\"00\") & TEXT(DAY(MICASH!K493),\"00\") & RIGHT(TEXT(YEAR(MICASH!K493),\"00\"),2)","v":"010000"},{"$f":"UPPER(LEFT(MICASH!L493,96))","v":""}]
["C",288,"00",{"$f":"TEXT(MICASH!D494,\"0000000000\")","v":"0000000000"}," ",{"$f":"UPPER(MICASH!F494)","v":""},{"$f":"UPPER(MICASH!G494)","v":""}," ",{"$f":"TEXT(MICASH!I494,\"0000000000\")","v":"0000000000"},{"$f":"TEXT(MICASH!J494*100,\"0000000000\")","v":"0000000000"},{"$f":"TEXT(MONTH(MICASH!K494),\"00\") & TEXT(DAY(MICASH!K494),\"00\") & RIGHT(TEXT(YEAR(MICASH!K494),\"00\"),2)","v":"010000"},{"$f":"UPPER(LEFT(MICASH!L494,96))","v":""}]
["C",288,"00",{"$f":"TEXT(MICASH!D495,\"0000000000\")","v":"0000000000"}," ",{"$f":"UPPER(MICASH!F495)","v":""},{"$f":"UPPER(MICASH!G495)","v":""}," ",{"$f":"TEXT(MICASH!I495,\"0000000000\")","v":"0000000000"},{"$f":"TEXT(MICASH!J495*100,\"0000000000\")","v":"0000000000"},{"$f":"TEXT(MONTH(MICASH!K495),\"00\") & TEXT(DAY(MICASH!K495),\"00\") & RIGHT(TEXT(YEAR(MICASH!K495),\"00\"),2)","v":"010000"},{"$f":"UPPER(LEFT(MICASH!L495,96))","v":""}]
["C",288,"00",{"$f":"TEXT(MICASH!D496,\"0000000000\")","v":"0000000000"}," ",{"$f":"UPPER(MICASH!F496)","v":""},{"$f":"UPPER(MICASH!G496)","v":""}," ",{"$f":"TEXT(MICASH!I496,\"0000000000\")","v":"0000000000"},{"$f":"TEXT(MICASH!J496*100,\"0000000000\")","v":"0000000000"},{"$f":"TEXT(MONTH(MICASH!K496),\"00\") & TEXT(DAY(MICASH!K496),\"00\") & RIGHT(TEXT(YEAR(MICASH!K496),\"00\"),2)","v":"010000"},{"$f":"UPPER(LEFT(MICASH!L496,96))","v":""}]
["C",288,"00",{"$f":"TEXT(MICASH!D497,\"0000000000\")","v":"0000000000"}," ",{"$f":"UPPER(MICASH!F497)","v":""},{"$f":"UPPER(MICASH!G497)","v":""}," ",{"$f":"TEXT(MICASH!I497,\"0000000000\")","v":"0000000000"},{"$f":"TEXT(MICASH!J497*100,\"0000000000\")","v":"0000000000"},{"$f":"TEXT(MONTH(MICASH!K497),\"00\") & TEXT(DAY(MICASH!K497),\"00\") & RIGHT(TEXT(YEAR(MICASH!K497),\"00\"),2)","v":"010000"},{"$f":"UPPER(LEFT(MICASH!L497,96))","v":""}]
["C",288,"00",{"$f":"TEXT(MICASH!D498,\"0000000000\")","v":"0000000000"}," ",{"$f":"UPPER(MICASH!F498)","v":""},{"$f":"UPPER(MICASH!G498)","v":""}," ",{"$f":"TEXT(MICASH!I498,\"0000000000\")","v":"0000000000"},{"$f":"TEXT(MICASH!J498*100,\"0000000000\")","v":"0000000000"},{"$f":"TEXT(MONTH(MICASH!K498),\"00\") & TEXT(DAY(MICASH!K498),\"00\") & RIGHT(TEXT(YEAR(MICASH!K498),\"00\"),2)","v":"010000"},{"$f":"UPPER(LEFT(MICASH!L498,96))","v":""}]
["C",288,"00",{"$f":"TEXT(MICASH!D499,\"0000000000\")","v":"0000000000"}," ",{"$f":"UPPER(MICASH!F499)","v":""},{"$f":"UPPER(MICASH!G499)","v":""}," ",{"$f":"TEXT(MICASH!I499,\"0000000000\")","v":"0000000000"},{"$f":"TEXT(MICASH!J499*100,\"0000000000\")","v":"0000000000"},{"$f":"TEXT(MONTH(MICASH!K499),\"00\") & TEXT(DAY(MICASH!K499),\"00\") & RIGHT(TEXT(YEAR(MICASH!K499),\"00\"),2)","v":"010000"},{"$f":"UPPER(LEFT(MICASH!L499,96))","v":""}]
["C",288,"00",{"$f":"TEXT(MICASH!D500,\"0000000000\")","v":"0000000000"}," ",{"$f":"UPPER(MICASH!F500)","v":""},{"$f":"UPPER(MICASH!G500)","v":""}," ",{"$f":"TEXT(MICASH!I500,\"0000000000\")","v":"0000000000"},{"$f":"TEXT(MICASH!J500*100,\"0000000000\")","v":"0000000000"},{"$f":"TEXT(MONTH(MICASH!K500),\"00\") & TEXT(DAY(MICASH!K500),\"00\") & RIGHT(TEXT(YEAR(MICASH!K500),\"00\"),2)","v":"010000"},{"$f":"UPPER(LEFT(MICASH!L500,96))","v":""}]
["C",288,"00",{"$f":"TEXT(MICASH!D501,\"0000000000\")","v":"0000000000"}," ",{"$f":"UPPER(MICASH!F501)","v":""},{"$f":"UPPER(MICASH!G501)","v":""}," ",{"$f":"TEXT(MICASH!I501,\"0000000000\")","v":"0000000000"},{"$f":"TEXT(MICASH!J501*100,\"0000000000\")","v":"0000000000"},{"$f":"TEXT(MONTH(MICASH!K501),\"00\") & TEXT(DAY(MICASH!K501),\"00\") & RIGHT(TEXT(YEAR(MICASH!K501),\"00\"),2)","v":"010000"},{"$f":"UPPER(LEFT(MICASH!L501,96))","v":""}]
["C",288,"00",{"$f":"TEXT(MICASH!D502,\"0000000000\")","v":"0000000000"}," ",{"$f":"UPPER(MICASH!F502)","v":""},{"$f":"UPPER(MICASH!G502)","v":""}," ",{"$f":"TEXT(MICASH!I502,\"0000000000\")","v":"0000000000"},{"$f":"TEXT(MICASH!J502*100,\"0000000000\")","v":"0000000000"},{"$f":"TEXT(MONTH(MICASH!K502),\"00\") & TEXT(DAY(MICASH!K502),\"00\") & RIGHT(TEXT(YEAR(MICASH!K502),\"00\"),2)","v":"010000"},{"$f":"UPPER(LEFT(MICASH!L502,96))","v":""}]
["C",288,"00",{"$f":"TEXT(MICASH!D503,\"0000000000\")","v":"0000000000"}," ",{"$f":"UPPER(MICASH!F503)","v":""},{"$f":"UPPER(MICASH!G503)","v":""}," ",{"$f":"TEXT(MICASH!I503,\"0000000000\")","v":"0000000000"},{"$f":"TEXT(MICASH!J503*100,\"0000000000\")","v":"0000000000"},{"$f":"TEXT(MONTH(MICASH!K503),\"00\") & TEXT(DAY(MICASH!K503),\"00\") & RIGHT(TEXT(YEAR(MICASH!K503),\"00\"),2)","v":"010000"},{"$f":"UPPER(LEFT(MICASH!L503,96))","v":""}]
["C",288,"00",{"$f":"TEXT(MICASH!D504,\"0000000000\")","v":"0000000000"}," ",{"$f":"UPPER(MICASH!F504)","v":""},{"$f":"UPPER(MICASH!G504)","v":""}," ",{"$f":"TEXT(MICASH!I504,\"0000000000\")","v":"0000000000"},{"$f":"TEXT(MICASH!J504*100,\"0000000000\")","v":"0000000000"},{"$f":"TEXT(MONTH(MICASH!K504),\"00\") & TEXT(DAY(MICASH!K504),\"00\") & RIGHT(TEXT(YEAR(MICASH!K504),\"00\"),2)","v":"010000"},{"$f":"UPPER(LEFT(MICASH!L504,96))","v":""}]
["C",288,"00",{"$f":"TEXT(MICASH!D505,\"0000000000\")","v":"0000000000"}," ",{"$f":"UPPER(MICASH!F505)","v":""},{"$f":"UPPER(MICASH!G505)","v":""}," ",{"$f":"TEXT(MICASH!I505,\"0000000000\")","v":"0000000000"},{"$f":"TEXT(MICASH!J505*100,\"0000000000\")","v":"0000000000"},{"$f":"TEXT(MONTH(MICASH!K505),\"00\") & TEXT(DAY(MICASH!K505),\"00\") & RIGHT(TEXT(YEAR(MICASH!K505),\"00\"),2)","v":"010000"},{"$f":"UPPER(LEFT(MICASH!L505,96))","v":""}]
["C",288,"00",{"$f":"TEXT(MICASH!D506,\"0000000000\")","v":"0000000000"}," ",{"$f":"UPPER(MICASH!F506)","v":""},{"$f":"UPPER(MICASH!G506)","v":""}," ",{"$f":"TEXT(MICASH!I506,\"0000000000\")","v":"0000000000"},{"$f":"TEXT(MICASH!J506*100,\"0000000000\")","v":"0000000000"},{"$f":"TEXT(MONTH(MICASH!K506),\"00\") & TEXT(DAY(MICASH!K506),\"00\") & RIGHT(TEXT(YEAR(MICASH!K506),\"00\"),2)","v":"010000"},{"$f":"UPPER(LEFT(MICASH!L506,96))","v":""}]
["C",288,"00",{"$f":"TEXT(MICASH!D507,\"0000000000\")","v":"0000000000"}," ",{"$f":"UPPER(MICASH!F507)","v":""},{"$f":"UPPER(MICASH!G507)","v":""}," ",{"$f":"TEXT(MICASH!I507,\"0000000000\")","v":"0000000000"},{"$f":"TEXT(MICASH!J507*100,\"0000000000\")","v":"0000000000"},{"$f":"TEXT(MONTH(MICASH!K507),\"00\") & TEXT(DAY(MICASH!K507),\"00\") & RIGHT(TEXT(YEAR(MICASH!K507),\"00\"),2)","v":"010000"},{"$f":"UPPER(LEFT(MICASH!L507,96))","v":""}]
["C",288,"00",{"$f":"TEXT(MICASH!D508,\"0000000000\")","v":"0000000000"}," ",{"$f":"UPPER(MICASH!F508)","v":""},{"$f":"UPPER(MICASH!G508)","v":""}," ",{"$f":"TEXT(MICASH!I508,\"0000000000\")","v":"0000000000"},{"$f":"TEXT(MICASH!J508*100,\"0000000000\")","v":"0000000000"},{"$f":"TEXT(MONTH(MICASH!K508),\"00\") & TEXT(DAY(MICASH!K508),\"00\") & RIGHT(TEXT(YEAR(MICASH!K508),\"00\"),2)","v":"010000"},{"$f":"UPPER(LEFT(MICASH!L508,96))","v":""}]
["C",288,"00",{"$f":"TEXT(MICASH!D509,\"0000000000\")","v":"0000000000"}," ",{"$f":"UPPER(MICASH!F509)","v":""},{"$f":"UPPER(MICASH!G509)","v":""}," ",{"$f":"TEXT(MICASH!I509,\"0000000000\")","v":"0000000000"},{"$f":"TEXT(MICASH!J509*100,\"0000000000\")","v":"0000000000"},{"$f":"TEXT(MONTH(MICASH!K509),\"00\") & TEXT(DAY(MICASH!K509),\"00\") & RIGHT(TEXT(YEAR(MICASH!K509),\"00\"),2)","v":"010000"},{"$f":"UPPER(LEFT(MICASH!L509,96))","v":""}]
["C",288,"00",{"$f":"TEXT(MICASH!D510,\"0000000000\")","v":"0000000000"}," ",{"$f":"UPPER(MICASH!F510)","v":""},{"$f":"UPPER(MICASH!G510)","v":""}," ",{"$f":"TEXT(MICASH!I510,\"0000000000\")","v":"0000000000"},{"$f":"TEXT(MICASH!J510*100,\"0000000000\")","v":"0000000000"},{"$f":"TEXT(MONTH(MICASH!K510),\"00\") & TEXT(DAY(MICASH!K510),\"00\") & RIGHT(TEXT(YEAR(MICASH!K510),\"00\"),2)","v":"010000"},{"$f":"UPPER(LEFT(MICASH!L510,96))","v":""}]
["C",288,"00",{"$f":"TEXT(MICASH!D511,\"0000000000\")","v":"0000000000"}," ",{"$f":"UPPER(MICASH!F511)","v":""},{"$f":"UPPER(MICASH!G511)","v":""}," ",{"$f":"TEXT(MICASH!I511,\"0000000000\")","v":"0000000000"},{"$f":"TEXT(MICASH!J511*100,\"0000000000\")","v":"0000000000"},{"$f":"TEXT(MONTH(MICASH!K511),\"00\") & TEXT(DAY(MICASH!K511),\"00\") & RIGHT(TEXT(YEAR(MICASH!K511),\"00\"),2)","v":"010000"},{"$f":"UPPER(LEFT(MICASH!L511,96))","v":""}]
["C",288,"00",{"$f":"TEXT(MICASH!D512,\"0000000000\")","v":"0000000000"}," ",{"$f":"UPPER(MICASH!F512)","v":""},{"$f":"UPPER(MICASH!G512)","v":""}," ",{"$f":"TEXT(MICASH!I512,\"0000000000\")","v":"0000000000"},{"$f":"TEXT(MICASH!J512*100,\"0000000000\")","v":"0000000000"},{"$f":"TEXT(MONTH(MICASH!K512),\"00\") & TEXT(DAY(MICASH!K512),\"00\") & RIGHT(TEXT(YEAR(MICASH!K512),\"00\"),2)","v":"010000"},{"$f":"UPPER(LEFT(MICASH!L512,96))","v":""}]
["C",288,"00",{"$f":"TEXT(MICASH!D513,\"0000000000\")","v":"0000000000"}," ",{"$f":"UPPER(MICASH!F513)","v":""},{"$f":"UPPER(MICASH!G513)","v":""}," ",{"$f":"TEXT(MICASH!I513,\"0000000000\")","v":"0000000000"},{"$f":"TEXT(MICASH!J513*100,\"0000000000\")","v":"0000000000"},{"$f":"TEXT(MONTH(MICASH!K513),\"00\") & TEXT(DAY(MICASH!K513),\"00\") & RIGHT(TEXT(YEAR(MICASH!K513),\"00\"),2)","v":"010000"},{"$f":"UPPER(LEFT(MICASH!L513,96))","v":""}]
["C",288,"00",{"$f":"TEXT(MICASH!D514,\"0000000000\")","v":"0000000000"}," ",{"$f":"UPPER(MICASH!F514)","v":""},{"$f":"UPPER(MICASH!G514)","v":""}," ",{"$f":"TEXT(MICASH!I514,\"0000000000\")","v":"0000000000"},{"$f":"TEXT(MICASH!J514*100,\"0000000000\")","v":"0000000000"},{"$f":"TEXT(MONTH(MICASH!K514),\"00\") & TEXT(DAY(MICASH!K514),\"00\") & RIGHT(TEXT(YEAR(MICASH!K514),\"00\"),2)","v":"010000"},{"$f":"UPPER(LEFT(MICASH!L514,96))","v":""}]
["C",288,"00",{"$f":"TEXT(MICASH!D515,\"0000000000\")","v":"0000000000"}," ",{"$f":"UPPER(MICASH!F515)","v":""},{"$f":"UPPER(MICASH!G515)","v":""}," ",{"$f":"TEXT(MICASH!I515,\"0000000000\")","v":"0000000000"},{"$f":"TEXT(MICASH!J515*100,\"0000000000\")","v":"0000000000"},{"$f":"TEXT(MONTH(MICASH!K515),\"00\") & TEXT(DAY(MICASH!K515),\"00\") & RIGHT(TEXT(YEAR(MICASH!K515),\"00\"),2)","v":"010000"},{"$f":"UPPER(LEFT(MICASH!L515,96))","v":""}]
["C",288,"00",{"$f":"TEXT(MICASH!D516,\"0000000000\")","v":"0000000000"}," ",{"$f":"UPPER(MICASH!F516)","v":""},{"$f":"UPPER(MICASH!G516)","v":""}," ",{"$f":"TEXT(MICASH!I516,\"0000000000\")","v":"0000000000"},{"$f":"TEXT(MICASH!J516*100,\"0000000000\")","v":"0000000000"},{"$f":"TEXT(MONTH(MICASH!K516),\"00\") & TEXT(DAY(MICASH!K516),\"00\") & RIGHT(TEXT(YEAR(MICASH!K516),\"00\"),2)","v":"010000"},{"$f":"UPPER(LEFT(MICASH!L516,96))","v":""}]
["C",288,"00",{"$f":"TEXT(MICASH!D517,\"0000000000\")","v":"0000000000"}," ",{"$f":"UPPER(MICASH!F517)","v":""},{"$f":"UPPER(MICASH!G517)","v":""}," ",{"$f":"TEXT(MICASH!I517,\"0000000000\")","v":"0000000000"},{"$f":"TEXT(MICASH!J517*100,\"0000000000\")","v":"0000000000"},{"$f":"TEXT(MONTH(MICASH!K517),\"00\") & TEXT(DAY(MICASH!K517),\"00\") & RIGHT(TEXT(YEAR(MICASH!K517),\"00\"),2)","v":"010000"},{"$f":"UPPER(LEFT(MICASH!L517,96))","v":""}]
["C",288,"00",{"$f":"TEXT(MICASH!D518,\"0000000000\")","v":"0000000000"}," ",{"$f":"UPPER(MICASH!F518)","v":""},{"$f":"UPPER(MICASH!G518)","v":""}," ",{"$f":"TEXT(MICASH!I518,\"0000000000\")","v":"0000000000"},{"$f":"TEXT(MICASH!J518*100,\"0000000000\")","v":"0000000000"},{"$f":"TEXT(MONTH(MICASH!K518),\"00\") & TEXT(DAY(MICASH!K518),\"00\") & RIGHT(TEXT(YEAR(MICASH!K518),\"00\"),2)","v":"010000"},{"$f":"UPPER(LEFT(MICASH!L518,96))","v":""}]
["C",288,"00",{"$f":"TEXT(MICASH!D519,\"0000000000\")","v":"0000000000"}," ",{"$f":"UPPER(MICASH!F519)","v":""},{"$f":"UPPER(MICASH!G519)","v":""}," ",{"$f":"TEXT(MICASH!I519,\"0000000000\")","v":"0000000000"},{"$f":"TEXT(MICASH!J519*100,\"0000000000\")","v":"0000000000"},{"$f":"TEXT(MONTH(MICASH!K519),\"00\") & TEXT(DAY(MICASH!K519),\"00\") & RIGHT(TEXT(YEAR(MICASH!K519),\"00\"),2)","v":"010000"},{"$f":"UPPER(LEFT(MICASH!L519,96))","v":""}]
["C",288,"00",{"$f":"TEXT(MICASH!D520,\"0000000000\")","v":"0000000000"}," ",{"$f":"UPPER(MICASH!F520)","v":""},{"$f":"UPPER(MICASH!G520)","v":""}," ",{"$f":"TEXT(MICASH!I520,\"0000000000\")","v":"0000000000"},{"$f":"TEXT(MICASH!J520*100,\"0000000000\")","v":"0000000000"},{"$f":"TEXT(MONTH(MICASH!K520),\"00\") & TEXT(DAY(MICASH!K520),\"00\") & RIGHT(TEXT(YEAR(MICASH!K520),\"00\"),2)","v":"010000"},{"$f":"UPPER(LEFT(MICASH!L520,96))","v":""}]
["C",288,"00",{"$f":"TEXT(MICASH!D521,\"0000000000\")","v":"0000000000"}," ",{"$f":"UPPER(MICASH!F521)","v":""},{"$f":"UPPER(MICASH!G521)","v":""}," ",{"$f":"TEXT(MICASH!I521,\"0000000000\")","v":"0000000000"},{"$f":"TEXT(MICASH!J521*100,\"0000000000\")","v":"0000000000"},{"$f":"TEXT(MONTH(MICASH!K521),\"00\") & TEXT(DAY(MICASH!K521),\"00\") & RIGHT(TEXT(YEAR(MICASH!K521),\"00\"),2)","v":"010000"},{"$f":"UPPER(LEFT(MICASH!L521,96))","v":""}]
["C",288,"00",{"$f":"TEXT(MICASH!D522,\"0000000000\")","v":"0000000000"}," ",{"$f":"UPPER(MICASH!F522)","v":""},{"$f":"UPPER(MICASH!G522)","v":""}," ",{"$f":"TEXT(MICASH!I522,\"0000000000\")","v":"0000000000"},{"$f":"TEXT(MICASH!J522*100,\"0000000000\")","v":"0000000000"},{"$f":"TEXT(MONTH(MICASH!K522),\"00\") & TEXT(DAY(MICASH!K522),\"00\") & RIGHT(TEXT(YEAR(MICASH!K522),\"00\"),2)","v":"010000"},{"$f":"UPPER(LEFT(MICASH!L522,96))","v":""}]
["C",288,"00",{"$f":"TEXT(MICASH!D523,\"0000000000\")","v":"0000000000"}," ",{"$f":"UPPER(MICASH!F523)","v":""},{"$f":"UPPER(MICASH!G523)","v":""}," ",{"$f":"TEXT(MICASH!I523,\"0000000000\")","v":"0000000000"},{"$f":"TEXT(MICASH!J523*100,\"0000000000\")","v":"0000000000"},{"$f":"TEXT(MONTH(MICASH!K523),\"00\") & TEXT(DAY(MICASH!K523),\"00\") & RIGHT(TEXT(YEAR(MICASH!K523),\"00\"),2)","v":"010000"},{"$f":"UPPER(LEFT(MICASH!L523,96))","v":""}]
["C",288,"00",{"$f":"TEXT(MICASH!D524,\"0000000000\")","v":"0000000000"}," ",{"$f":"UPPER(MICASH!F524)","v":""},{"$f":"UPPER(MICASH!G524)","v":""}," ",{"$f":"TEXT(MICASH!I524,\"0000000000\")","v":"0000000000"},{"$f":"TEXT(MICASH!J524*100,\"0000000000\")","v":"0000000000"},{"$f":"TEXT(MONTH(MICASH!K524),\"00\") & TEXT(DAY(MICASH!K524),\"00\") & RIGHT(TEXT(YEAR(MICASH!K524),\"00\"),2)","v":"010000"},{"$f":"UPPER(LEFT(MICASH!L524,96))","v":""}]
["C",288,"00",{"$f":"TEXT(MICASH!D525,\"0000000000\")","v":"0000000000"}," ",{"$f":"UPPER(MICASH!F525)","v":""},{"$f":"UPPER(MICASH!G525)","v":""}," ",{"$f":"TEXT(MICASH!I525,\"0000000000\")","v":"0000000000"},{"$f":"TEXT(MICASH!J525*100,\"0000000000\")","v":"0000000000"},{"$f":"TEXT(MONTH(MICASH!K525),\"00\") & TEXT(DAY(MICASH!K525),\"00\") & RIGHT(TEXT(YEAR(MICASH!K525),\"00\"),2)","v":"010000"},{"$f":"UPPER(LEFT(MICASH!L525,96))","v":""}]
["C",288,"00",{"$f":"TEXT(MICASH!D526,\"0000000000\")","v":"0000000000"}," ",{"$f":"UPPER(MICASH!F526)","v":""},{"$f":"UPPER(MICASH!G526)","v":""}," ",{"$f":"TEXT(MICASH!I526,\"0000000000\")","v":"0000000000"},{"$f":"TEXT(MICASH!J526*100,\"0000000000\")","v":"0000000000"},{"$f":"TEXT(MONTH(MICASH!K526),\"00\") & TEXT(DAY(MICASH!K526),\"00\") & RIGHT(TEXT(YEAR(MICASH!K526),\"00\"),2)","v":"010000"},{"$f":"UPPER(LEFT(MICASH!L526,96))","v":""}]
["C",288,"00",{"$f":"TEXT(MICASH!D527,\"0000000000\")","v":"0000000000"}," ",{"$f":"UPPER(MICASH!F527)","v":""},{"$f":"UPPER(MICASH!G527)","v":""}," ",{"$f":"TEXT(MICASH!I527,\"0000000000\")","v":"0000000000"},{"$f":"TEXT(MICASH!J527*100,\"0000000000\")","v":"0000000000"},{"$f":"TEXT(MONTH(MICASH!K527),\"00\") & TEXT(DAY(MICASH!K527),\"00\") & RIGHT(TEXT(YEAR(MICASH!K527),\"00\"),2)","v":"010000"},{"$f":"UPPER(LEFT(MICASH!L527,96))","v":""}]
["C",288,"00",{"$f":"TEXT(MICASH!D528,\"0000000000\")","v":"0000000000"}," ",{"$f":"UPPER(MICASH!F528)","v":""},{"$f":"UPPER(MICASH!G528)","v":""}," ",{"$f":"TEXT(MICASH!I528,\"0000000000\")","v":"0000000000"},{"$f":"TEXT(MICASH!J528*100,\"0000000000\")","v":"0000000000"},{"$f":"TEXT(MONTH(MICASH!K528),\"00\") & TEXT(DAY(MICASH!K528),\"00\") & RIGHT(TEXT(YEAR(MICASH!K528),\"00\"),2)","v":"010000"},{"$f":"UPPER(LEFT(MICASH!L528,96))","v":""}]
["C",288,"00",{"$f":"TEXT(MICASH!D529,\"0000000000\")","v":"0000000000"}," ",{"$f":"UPPER(MICASH!F529)","v":""},{"$f":"UPPER(MICASH!G529)","v":""}," ",{"$f":"TEXT(MICASH!I529,\"0000000000\")","v":"0000000000"},{"$f":"TEXT(MICASH!J529*100,\"0000000000\")","v":"0000000000"},{"$f":"TEXT(MONTH(MICASH!K529),\"00\") & TEXT(DAY(MICASH!K529),\"00\") & RIGHT(TEXT(YEAR(MICASH!K529),\"00\"),2)","v":"010000"},{"$f":"UPPER(LEFT(MICASH!L529,96))","v":""}]
["C",288,"00",{"$f":"TEXT(MICASH!D530,\"0000000000\")","v":"0000000000"}," ",{"$f":"UPPER(MICASH!F530)","v":""},{"$f":"UPPER(MICASH!G530)","v":""}," ",{"$f":"TEXT(MICASH!I530,\"0000000000\")","v":"0000000000"},{"$f":"TEXT(MICASH!J530*100,\"0000000000\")","v":"0000000000"},{"$f":"TEXT(MONTH(MICASH!K530),\"00\") & TEXT(DAY(MICASH!K530),\"00\") & RIGHT(TEXT(YEAR(MICASH!K530),\"00\"),2)","v":"010000"},{"$f":"UPPER(LEFT(MICASH!L530,96))","v":""}]
["C",288,"00",{"$f":"TEXT(MICASH!D531,\"0000000000\")","v":"0000000000"}," ",{"$f":"UPPER(MICASH!F531)","v":""},{"$f":"UPPER(MICASH!G531)","v":""}," ",{"$f":"TEXT(MICASH!I531,\"0000000000\")","v":"0000000000"},{"$f":"TEXT(MICASH!J531*100,\"0000000000\")","v":"0000000000"},{"$f":"TEXT(MONTH(MICASH!K531),\"00\") & TEXT(DAY(MICASH!K531),\"00\") & RIGHT(TEXT(YEAR(MICASH!K531),\"00\"),2)","v":"010000"},{"$f":"UPPER(LEFT(MICASH!L531,96))","v":""}]
["C",288,"00",{"$f":"TEXT(MICASH!D532,\"0000000000\")","v":"0000000000"}," ",{"$f":"UPPER(MICASH!F532)","v":""},{"$f":"UPPER(MICASH!G532)","v":""}," ",{"$f":"TEXT(MICASH!I532,\"0000000000\")","v":"0000000000"},{"$f":"TEXT(MICASH!J532*100,\"0000000000\")","v":"0000000000"},{"$f":"TEXT(MONTH(MICASH!K532),\"00\") & TEXT(DAY(MICASH!K532),\"00\") & RIGHT(TEXT(YEAR(MICASH!K532),\"00\"),2)","v":"010000"},{"$f":"UPPER(LEFT(MICASH!L532,96))","v":""}]
["C",288,"00",{"$f":"TEXT(MICASH!D533,\"0000000000\")","v":"0000000000"}," ",{"$f":"UPPER(MICASH!F533)","v":""},{"$f":"UPPER(MICASH!G533)","v":""}," ",{"$f":"TEXT(MICASH!I533,\"0000000000\")","v":"0000000000"},{"$f":"TEXT(MICASH!J533*100,\"0000000000\")","v":"0000000000"},{"$f":"TEXT(MONTH(MICASH!K533),\"00\") & TEXT(DAY(MICASH!K533),\"00\") & RIGHT(TEXT(YEAR(MICASH!K533),\"00\"),2)","v":"010000"},{"$f":"UPPER(LEFT(MICASH!L533,96))","v":""}]
["C",288,"00",{"$f":"TEXT(MICASH!D534,\"0000000000\")","v":"0000000000"}," ",{"$f":"UPPER(MICASH!F534)","v":""},{"$f":"UPPER(MICASH!G534)","v":""}," ",{"$f":"TEXT(MICASH!I534,\"0000000000\")","v":"0000000000"},{"$f":"TEXT(MICASH!J534*100,\"0000000000\")","v":"0000000000"},{"$f":"TEXT(MONTH(MICASH!K534),\"00\") & TEXT(DAY(MICASH!K534),\"00\") & RIGHT(TEXT(YEAR(MICASH!K534),\"00\"),2)","v":"010000"},{"$f":"UPPER(LEFT(MICASH!L534,96))","v":""}]
["C",288,"00",{"$f":"TEXT(MICASH!D535,\"0000000000\")","v":"0000000000"}," ",{"$f":"UPPER(MICASH!F535)","v":""},{"$f":"UPPER(MICASH!G535)","v":""}," ",{"$f":"TEXT(MICASH!I535,\"0000000000\")","v":"0000000000"},{"$f":"TEXT(MICASH!J535*100,\"0000000000\")","v":"0000000000"},{"$f":"TEXT(MONTH(MICASH!K535),\"00\") & TEXT(DAY(MICASH!K535),\"00\") & RIGHT(TEXT(YEAR(MICASH!K535),\"00\"),2)","v":"010000"},{"$f":"UPPER(LEFT(MICASH!L535,96))","v":""}]
["C",288,"00",{"$f":"TEXT(MICASH!D536,\"0000000000\")","v":"0000000000"}," ",{"$f":"UPPER(MICASH!F536)","v":""},{"$f":"UPPER(MICASH!G536)","v":""}," ",{"$f":"TEXT(MICASH!I536,\"0000000000\")","v":"0000000000"},{"$f":"TEXT(MICASH!J536*100,\"0000000000\")","v":"0000000000"},{"$f":"TEXT(MONTH(MICASH!K536),\"00\") & TEXT(DAY(MICASH!K536),\"00\") & RIGHT(TEXT(YEAR(MICASH!K536),\"00\"),2)","v":"010000"},{"$f":"UPPER(LEFT(MICASH!L536,96))","v":""}]
["C",288,"00",{"$f":"TEXT(MICASH!D537,\"0000000000\")","v":"0000000000"}," ",{"$f":"UPPER(MICASH!F537)","v":""},{"$f":"UPPER(MICASH!G537)","v":""}," ",{"$f":"TEXT(MICASH!I537,\"0000000000\")","v":"0000000000"},{"$f":"TEXT(MICASH!J537*100,\"0000000000\")","v":"0000000000"},{"$f":"TEXT(MONTH(MICASH!K537),\"00\") & TEXT(DAY(MICASH!K537),\"00\") & RIGHT(TEXT(YEAR(MICASH!K537),\"00\"),2)","v":"010000"},{"$f":"UPPER(LEFT(MICASH!L537,96))","v":""}]
["C",288,"00",{"$f":"TEXT(MICASH!D538,\"0000000000\")","v":"0000000000"}," ",{"$f":"UPPER(MICASH!F538)","v":""},{"$f":"UPPER(MICASH!G538)","v":""}," ",{"$f":"TEXT(MICASH!I538,\"0000000000\")","v":"0000000000"},{"$f":"TEXT(MICASH!J538*100,\"0000000000\")","v":"0000000000"},{"$f":"TEXT(MONTH(MICASH!K538),\"00\") & TEXT(DAY(MICASH!K538),\"00\") & RIGHT(TEXT(YEAR(MICASH!K538),\"00\"),2)","v":"010000"},{"$f":"UPPER(LEFT(MICASH!L538,96))","v":""}]
["C",288,"00",{"$f":"TEXT(MICASH!D539,\"0000000000\")","v":"0000000000"}," ",{"$f":"UPPER(MICASH!F539)","v":""},{"$f":"UPPER(MICASH!G539)","v":""}," ",{"$f":"TEXT(MICASH!I539,\"0000000000\")","v":"0000000000"},{"$f":"TEXT(MICASH!J539*100,\"0000000000\")","v":"0000000000"},{"$f":"TEXT(MONTH(MICASH!K539),\"00\") & TEXT(DAY(MICASH!K539),\"00\") & RIGHT(TEXT(YEAR(MICASH!K539),\"00\"),2)","v":"010000"},{"$f":"UPPER(LEFT(MICASH!L539,96))","v":""}]
["C",288,"00",{"$f":"TEXT(MICASH!D540,\"0000000000\")","v":"0000000000"}," ",{"$f":"UPPER(MICASH!F540)","v":""},{"$f":"UPPER(MICASH!G540)","v":""}," ",{"$f":"TEXT(MICASH!I540,\"0000000000\")","v":"0000000000"},{"$f":"TEXT(MICASH!J540*100,\"0000000000\")","v":"0000000000"},{"$f":"TEXT(MONTH(MICASH!K540),\"00\") & TEXT(DAY(MICASH!K540),\"00\") & RIGHT(TEXT(YEAR(MICASH!K540),\"00\"),2)","v":"010000"},{"$f":"UPPER(LEFT(MICASH!L540,96))","v":""}]
["C",288,"00",{"$f":"TEXT(MICASH!D541,\"0000000000\")","v":"0000000000"}," ",{"$f":"UPPER(MICASH!F541)","v":""},{"$f":"UPPER(MICASH!G541)","v":""}," ",{"$f":"TEXT(MICASH!I541,\"0000000000\")","v":"0000000000"},{"$f":"TEXT(MICASH!J541*100,\"0000000000\")","v":"0000000000"},{"$f":"TEXT(MONTH(MICASH!K541),\"00\") & TEXT(DAY(MICASH!K541),\"00\") & RIGHT(TEXT(YEAR(MICASH!K541),\"00\"),2)","v":"010000"},{"$f":"UPPER(LEFT(MICASH!L541,96))","v":""}]
["C",288,"00",{"$f":"TEXT(MICASH!D542,\"0000000000\")","v":"0000000000"}," ",{"$f":"UPPER(MICASH!F542)","v":""},{"$f":"UPPER(MICASH!G542)","v":""}," ",{"$f":"TEXT(MICASH!I542,\"0000000000\")","v":"0000000000"},{"$f":"TEXT(MICASH!J542*100,\"0000000000\")","v":"0000000000"},{"$f":"TEXT(MONTH(MICASH!K542),\"00\") & TEXT(DAY(MICASH!K542),\"00\") & RIGHT(TEXT(YEAR(MICASH!K542),\"00\"),2)","v":"010000"},{"$f":"UPPER(LEFT(MICASH!L542,96))","v":""}]
["C",288,"00",{"$f":"TEXT(MICASH!D543,\"0000000000\")","v":"0000000000"}," ",{"$f":"UPPER(MICASH!F543)","v":""},{"$f":"UPPER(MICASH!G543)","v":""}," ",{"$f":"TEXT(MICASH!I543,\"0000000000\")","v":"0000000000"},{"$f":"TEXT(MICASH!J543*100,\"0000000000\")","v":"0000000000"},{"$f":"TEXT(MONTH(MICASH!K543),\"00\") & TEXT(DAY(MICASH!K543),\"00\") & RIGHT(TEXT(YEAR(MICASH!K543),\"00\"),2)","v":"010000"},{"$f":"UPPER(LEFT(MICASH!L543,96))","v":""}]
["C",288,"00",{"$f":"TEXT(MICASH!D544,\"0000000000\")","v":"0000000000"}," ",{"$f":"UPPER(MICASH!F544)","v":""},{"$f":"UPPER(MICASH!G544)","v":""}," ",{"$f":"TEXT(MICASH!I544,\"0000000000\")","v":"0000000000"},{"$f":"TEXT(MICASH!J544*100,\"0000000000\")","v":"0000000000"},{"$f":"TEXT(MONTH(MICASH!K544),\"00\") & TEXT(DAY(MICASH!K544),\"00\") & RIGHT(TEXT(YEAR(MICASH!K544),\"00\"),2)","v":"010000"},{"$f":"UPPER(LEFT(MICASH!L544,96))","v":""}]
["C",288,"00",{"$f":"TEXT(MICASH!D545,\"0000000000\")","v":"0000000000"}," ",{"$f":"UPPER(MICASH!F545)","v":""},{"$f":"UPPER(MICASH!G545)","v":""}," ",{"$f":"TEXT(MICASH!I545,\"0000000000\")","v":"0000000000"},{"$f":"TEXT(MICASH!J545*100,\"0000000000\")","v":"0000000000"},{"$f":"TEXT(MONTH(MICASH!K545),\"00\") & TEXT(DAY(MICASH!K545),\"00\") & RIGHT(TEXT(YEAR(MICASH!K545),\"00\"),2)","v":"010000"},{"$f":"UPPER(LEFT(MICASH!L545,96))","v":""}]
["C",288,"00",{"$f":"TEXT(MICASH!D546,\"0000000000\")","v":"0000000000"}," ",{"$f":"UPPER(MICASH!F546)","v":""},{"$f":"UPPER(MICASH!G546)","v":""}," ",{"$f":"TEXT(MICASH!I546,\"0000000000\")","v":"0000000000"},{"$f":"TEXT(MICASH!J546*100,\"0000000000\")","v":"0000000000"},{"$f":"TEXT(MONTH(MICASH!K546),\"00\") & TEXT(DAY(MICASH!K546),\"00\") & RIGHT(TEXT(YEAR(MICASH!K546),\"00\"),2)","v":"010000"},{"$f":"UPPER(LEFT(MICASH!L546,96))","v":""}]
["C",288,"00",{"$f":"TEXT(MICASH!D547,\"0000000000\")","v":"0000000000"}," ",{"$f":"UPPER(MICASH!F547)","v":""},{"$f":"UPPER(MICASH!G547)","v":""}," ",{"$f":"TEXT(MICASH!I547,\"0000000000\")","v":"0000000000"},{"$f":"TEXT(MICASH!J547*100,\"0000000000\")","v":"0000000000"},{"$f":"TEXT(MONTH(MICASH!K547),\"00\") & TEXT(DAY(MICASH!K547),\"00\") & RIGHT(TEXT(YEAR(MICASH!K547),\"00\"),2)","v":"010000"},{"$f":"UPPER(LEFT(MICASH!L547,96))","v":""}]
["C",288,"00",{"$f":"TEXT(MICASH!D548,\"0000000000\")","v":"0000000000"}," ",{"$f":"UPPER(MICASH!F548)","v":""},{"$f":"UPPER(MICASH!G548)","v":""}," ",{"$f":"TEXT(MICASH!I548,\"0000000000\")","v":"0000000000"},{"$f":"TEXT(MICASH!J548*100,\"0000000000\")","v":"0000000000"},{"$f":"TEXT(MONTH(MICASH!K548),\"00\") & TEXT(DAY(MICASH!K548),\"00\") & RIGHT(TEXT(YEAR(MICASH!K548),\"00\"),2)","v":"010000"},{"$f":"UPPER(LEFT(MICASH!L548,96))","v":""}]
["C",288,"00",{"$f":"TEXT(MICASH!D549,\"0000000000\")","v":"0000000000"}," ",{"$f":"UPPER(MICASH!F549)","v":""},{"$f":"UPPER(MICASH!G549)","v":""}," ",{"$f":"TEXT(MICASH!I549,\"0000000000\")","v":"0000000000"},{"$f":"TEXT(MICASH!J549*100,\"0000000000\")","v":"0000000000"},{"$f":"TEXT(MONTH(MICASH!K549),\"00\") & TEXT(DAY(MICASH!K549),\"00\") & RIGHT(TEXT(YEAR(MICASH!K549),\"00\"),2)","v":"010000"},{"$f":"UPPER(LEFT(MICASH!L549,96))","v":""}]
["C",288,"00",{"$f":"TEXT(MICASH!D550,\"0000000000\")","v":"0000000000"}," ",{"$f":"UPPER(MICASH!F550)","v":""},{"$f":"UPPER(MICASH!G550)","v":""}," ",{"$f":"TEXT(MICASH!I550,\"0000000000\")","v":"0000000000"},{"$f":"TEXT(MICASH!J550*100,\"0000000000\")","v":"0000000000"},{"$f":"TEXT(MONTH(MICASH!K550),\"00\") & TEXT(DAY(MICASH!K550),\"00\") & RIGHT(TEXT(YEAR(MICASH!K550),\"00\"),2)","v":"010000"},{"$f":"UPPER(LEFT(MICASH!L550,96))","v":""}]
["C",288,"00",{"$f":"TEXT(MICASH!D551,\"0000000000\")","v":"0000000000"}," ",{"$f":"UPPER(MICASH!F551)","v":""},{"$f":"UPPER(MICASH!G551)","v":""}," ",{"$f":"TEXT(MICASH!I551,\"0000000000\")","v":"0000000000"},{"$f":"TEXT(MICASH!J551*100,\"0000000000\")","v":"0000000000"},{"$f":"TEXT(MONTH(MICASH!K551),\"00\") & TEXT(DAY(MICASH!K551),\"00\") & RIGHT(TEXT(YEAR(MICASH!K551),\"00\"),2)","v":"010000"},{"$f":"UPPER(LEFT(MICASH!L551,96))","v":""}]
["C",288,"00",{"$f":"TEXT(MICASH!D552,\"0000000000\")","v":"0000000000"}," ",{"$f":"UPPER(MICASH!F552)","v":""},{"$f":"UPPER(MICASH!G552)","v":""}," ",{"$f":"TEXT(MICASH!I552,\"0000000000\")","v":"0000000000"},{"$f":"TEXT(MICASH!J552*100,\"0000000000\")","v":"0000000000"},{"$f":"TEXT(MONTH(MICASH!K552),\"00\") & TEXT(DAY(MICASH!K552),\"00\") & RIGHT(TEXT(YEAR(MICASH!K552),\"00\"),2)","v":"010000"},{"$f":"UPPER(LEFT(MICASH!L552,96))","v":""}]
["C",288,"00",{"$f":"TEXT(MICASH!D553,\"0000000000\")","v":"0000000000"}," ",{"$f":"UPPER(MICASH!F553)","v":""},{"$f":"UPPER(MICASH!G553)","v":""}," ",{"$f":"TEXT(MICASH!I553,\"0000000000\")","v":"0000000000"},{"$f":"TEXT(MICASH!J553*100,\"0000000000\")","v":"0000000000"},{"$f":"TEXT(MONTH(MICASH!K553),\"00\") & TEXT(DAY(MICASH!K553),\"00\") & RIGHT(TEXT(YEAR(MICASH!K553),\"00\"),2)","v":"010000"},{"$f":"UPPER(LEFT(MICASH!L553,96))","v":""}]
["C",288,"00",{"$f":"TEXT(MICASH!D554,\"0000000000\")","v":"0000000000"}," ",{"$f":"UPPER(MICASH!F554)","v":""},{"$f":"UPPER(MICASH!G554)","v":""}," ",{"$f":"TEXT(MICASH!I554,\"0000000000\")","v":"0000000000"},{"$f":"TEXT(MICASH!J554*100,\"0000000000\")","v":"0000000000"},{"$f":"TEXT(MONTH(MICASH!K554),\"00\") & TEXT(DAY(MICASH!K554),\"00\") & RIGHT(TEXT(YEAR(MICASH!K554),\"00\"),2)","v":"010000"},{"$f":"UPPER(LEFT(MICASH!L554,96))","v":""}]
["C",288,"00",{"$f":"TEXT(MICASH!D555,\"0000000000\")","v":"0000000000"}," ",{"$f":"UPPER(MICASH!F555)","v":""},{"$f":"UPPER(MICASH!G555)","v":""}," ",{"$f":"TEXT(MICASH!I555,\"0000000000\")","v":"0000000000"},{"$f":"TEXT(MICASH!J555*100,\"0000000000\")","v":"0000000000"},{"$f":"TEXT(MONTH(MICASH!K555),\"00\") & TEXT(DAY(MICASH!K555),\"00\") & RIGHT(TEXT(YEAR(MICASH!K555),\"00\"),2)","v":"010000"},{"$f":"UPPER(LEFT(MICASH!L555,96))","v":""}]
["C",288,"00",{"$f":"TEXT(MICASH!D556,\"0000000000\")","v":"0000000000"}," ",{"$f":"UPPER(MICASH!F556)","v":""},{"$f":"UPPER(MICASH!G556)","v":""}," ",{"$f":"TEXT(MICASH!I556,\"0000000000\")","v":"0000000000"},{"$f":"TEXT(MICASH!J556*100,\"0000000000\")","v":"0000000000"},{"$f":"TEXT(MONTH(MICASH!K556),\"00\") & TEXT(DAY(MICASH!K556),\"00\") & RIGHT(TEXT(YEAR(MICASH!K556),\"00\"),2)","v":"010000"},{"$f":"UPPER(LEFT(MICASH!L556,96))","v":""}]
["C",288,"00",{"$f":"TEXT(MICASH!D557,\"0000000000\")","v":"0000000000"}," ",{"$f":"UPPER(MICASH!F557)","v":""},{"$f":"UPPER(MICASH!G557)","v":""}," ",{"$f":"TEXT(MICASH!I557,\"0000000000\")","v":"0000000000"},{"$f":"TEXT(MICASH!J557*100,\"0000000000\")","v":"0000000000"},{"$f":"TEXT(MONTH(MICASH!K557),\"00\") & TEXT(DAY(MICASH!K557),\"00\") & RIGHT(TEXT(YEAR(MICASH!K557),\"00\"),2)","v":"010000"},{"$f":"UPPER(LEFT(MICASH!L557,96))","v":""}]
["C",288,"00",{"$f":"TEXT(MICASH!D558,\"0000000000\")","v":"0000000000"}," ",{"$f":"UPPER(MICASH!F558)","v":""},{"$f":"UPPER(MICASH!G558)","v":""}," ",{"$f":"TEXT(MICASH!I558,\"0000000000\")","v":"0000000000"},{"$f":"TEXT(MICASH!J558*100,\"0000000000\")","v":"0000000000"},{"$f":"TEXT(MONTH(MICASH!K558),\"00\") & TEXT(DAY(MICASH!K558),\"00\") & RIGHT(TEXT(YEAR(MICASH!K558),\"00\"),2)","v":"010000"},{"$f":"UPPER(LEFT(MICASH!L558,96))","v":""}]
["C",288,"00",{"$f":"TEXT(MICASH!D559,\"0000000000\")","v":"0000000000"}," ",{"$f":"UPPER(MICASH!F559)","v":""},{"$f":"UPPER(MICASH!G559)","v":""}," ",{"$f":"TEXT(MICASH!I559,\"0000000000\")","v":"0000000000"},{"$f":"TEXT(MICASH!J559*100,\"0000000000\")","v":"0000000000"},{"$f":"TEXT(MONTH(MICASH!K559),\"00\") & TEXT(DAY(MICASH!K559),\"00\") & RIGHT(TEXT(YEAR(MICASH!K559),\"00\"),2)","v":"010000"},{"$f":"UPPER(LEFT(MICASH!L559,96))","v":""}]
["C",288,"00",{"$f":"TEXT(MICASH!D560,\"0000000000\")","v":"0000000000"}," ",{"$f":"UPPER(MICASH!F560)","v":""},{"$f":"UPPER(MICASH!G560)","v":""}," ",{"$f":"TEXT(MICASH!I560,\"0000000000\")","v":"0000000000"},{"$f":"TEXT(MICASH!J560*100,\"0000000000\")","v":"0000000000"},{"$f":"TEXT(MONTH(MICASH!K560),\"00\") & TEXT(DAY(MICASH!K560),\"00\") & RIGHT(TEXT(YEAR(MICASH!K560),\"00\"),2)","v":"010000"},{"$f":"UPPER(LEFT(MICASH!L560,96))","v":""}]
["C",288,"00",{"$f":"TEXT(MICASH!D561,\"0000000000\")","v":"0000000000"}," ",{"$f":"UPPER(MICASH!F561)","v":""},{"$f":"UPPER(MICASH!G561)","v":""}," ",{"$f":"TEXT(MICASH!I561,\"0000000000\")","v":"0000000000"},{"$f":"TEXT(MICASH!J561*100,\"0000000000\")","v":"0000000000"},{"$f":"TEXT(MONTH(MICASH!K561),\"00\") & TEXT(DAY(MICASH!K561),\"00\") & RIGHT(TEXT(YEAR(MICASH!K561),\"00\"),2)","v":"010000"},{"$f":"UPPER(LEFT(MICASH!L561,96))","v":""}]
["C",288,"00",{"$f":"TEXT(MICASH!D562,\"0000000000\")","v":"0000000000"}," ",{"$f":"UPPER(MICASH!F562)","v":""},{"$f":"UPPER(MICASH!G562)","v":""}," ",{"$f":"TEXT(MICASH!I562,\"0000000000\")","v":"0000000000"},{"$f":"TEXT(MICASH!J562*100,\"0000000000\")","v":"0000000000"},{"$f":"TEXT(MONTH(MICASH!K562),\"00\") & TEXT(DAY(MICASH!K562),\"00\") & RIGHT(TEXT(YEAR(MICASH!K562),\"00\"),2)","v":"010000"},{"$f":"UPPER(LEFT(MICASH!L562,96))","v":""}]
["C",288,"00",{"$f":"TEXT(MICASH!D563,\"0000000000\")","v":"0000000000"}," ",{"$f":"UPPER(MICASH!F563)","v":""},{"$f":"UPPER(MICASH!G563)","v":""}," ",{"$f":"TEXT(MICASH!I563,\"0000000000\")","v":"0000000000"},{"$f":"TEXT(MICASH!J563*100,\"0000000000\")","v":"0000000000"},{"$f":"TEXT(MONTH(MICASH!K563),\"00\") & TEXT(DAY(MICASH!K563),\"00\") & RIGHT(TEXT(YEAR(MICASH!K563),\"00\"),2)","v":"010000"},{"$f":"UPPER(LEFT(MICASH!L563,96))","v":""}]
["C",288,"00",{"$f":"TEXT(MICASH!D564,\"0000000000\")","v":"0000000000"}," ",{"$f":"UPPER(MICASH!F564)","v":""},{"$f":"UPPER(MICASH!G564)","v":""}," ",{"$f":"TEXT(MICASH!I564,\"0000000000\")","v":"0000000000"},{"$f":"TEXT(MICASH!J564*100,\"0000000000\")","v":"0000000000"},{"$f":"TEXT(MONTH(MICASH!K564),\"00\") & TEXT(DAY(MICASH!K564),\"00\") & RIGHT(TEXT(YEAR(MICASH!K564),\"00\"),2)","v":"010000"},{"$f":"UPPER(LEFT(MICASH!L564,96))","v":""}]
["C",288,"00",{"$f":"TEXT(MICASH!D565,\"0000000000\")","v":"0000000000"}," ",{"$f":"UPPER(MICASH!F565)","v":""},{"$f":"UPPER(MICASH!G565)","v":""}," ",{"$f":"TEXT(MICASH!I565,\"0000000000\")","v":"0000000000"},{"$f":"TEXT(MICASH!J565*100,\"0000000000\")","v":"0000000000"},{"$f":"TEXT(MONTH(MICASH!K565),\"00\") & TEXT(DAY(MICASH!K565),\"00\") & RIGHT(TEXT(YEAR(MICASH!K565),\"00\"),2)","v":"010000"},{"$f":"UPPER(LEFT(MICASH!L565,96))","v":""}]
["C",288,"00",{"$f":"TEXT(MICASH!D566,\"0000000000\")","v":"0000000000"}," ",{"$f":"UPPER(MICASH!F566)","v":""},{"$f":"UPPER(MICASH!G566)","v":""}," ",{"$f":"TEXT(MICASH!I566,\"0000000000\")","v":"0000000000"},{"$f":"TEXT(MICASH!J566*100,\"0000000000\")","v":"0000000000"},{"$f":"TEXT(MONTH(MICASH!K566),\"00\") & TEXT(DAY(MICASH!K566),\"00\") & RIGHT(TEXT(YEAR(MICASH!K566),\"00\"),2)","v":"010000"},{"$f":"UPPER(LEFT(MICASH!L566,96))","v":""}]
["C",288,"00",{"$f":"TEXT(MICASH!D567,\"0000000000\")","v":"0000000000"}," ",{"$f":"UPPER(MICASH!F567)","v":""},{"$f":"UPPER(MICASH!G567)","v":""}," ",{"$f":"TEXT(MICASH!I567,\"0000000000\")","v":"0000000000"},{"$f":"TEXT(MICASH!J567*100,\"0000000000\")","v":"0000000000"},{"$f":"TEXT(MONTH(MICASH!K567),\"00\") & TEXT(DAY(MICASH!K567),\"00\") & RIGHT(TEXT(YEAR(MICASH!K567),\"00\"),2)","v":"010000"},{"$f":"UPPER(LEFT(MICASH!L567,96))","v":""}]
["C",288,"00",{"$f":"TEXT(MICASH!D568,\"0000000000\")","v":"0000000000"}," ",{"$f":"UPPER(MICASH!F568)","v":""},{"$f":"UPPER(MICASH!G568)","v":""}," ",{"$f":"TEXT(MICASH!I568,\"0000000000\")","v":"0000000000"},{"$f":"TEXT(MICASH!J568*100,\"0000000000\")","v":"0000000000"},{"$f":"TEXT(MONTH(MICASH!K568),\"00\") & TEXT(DAY(MICASH!K568),\"00\") & RIGHT(TEXT(YEAR(MICASH!K568),\"00\"),2)","v":"010000"},{"$f":"UPPER(LEFT(MICASH!L568,96))","v":""}]
["C",288,"00",{"$f":"TEXT(MICASH!D569,\"0000000000\")","v":"0000000000"}," ",{"$f":"UPPER(MICASH!F569)","v":""},{"$f":"UPPER(MICASH!G569)","v":""}," ",{"$f":"TEXT(MICASH!I569,\"0000000000\")","v":"0000000000"},{"$f":"TEXT(MICASH!J569*100,\"0000000000\")","v":"0000000000"},{"$f":"TEXT(MONTH(MICASH!K569),\"00\") & TEXT(DAY(MICASH!K569),\"00\") & RIGHT(TEXT(YEAR(MICASH!K569),\"00\"),2)","v":"010000"},{"$f":"UPPER(LEFT(MICASH!L569,96))","v":""}]
["C",288,"00",{"$f":"TEXT(MICASH!D570,\"0000000000\")","v":"0000000000"}," ",{"$f":"UPPER(MICASH!F570)","v":""},{"$f":"UPPER(MICASH!G570)","v":""}," ",{"$f":"TEXT(MICASH!I570,\"0000000000\")","v":"0000000000"},{"$f":"TEXT(MICASH!J570*100,\"0000000000\")","v":"0000000000"},{"$f":"TEXT(MONTH(MICASH!K570),\"00\") & TEXT(DAY(MICASH!K570),\"00\") & RIGHT(TEXT(YEAR(MICASH!K570),\"00\"),2)","v":"010000"},{"$f":"UPPER(LEFT(MICASH!L570,96))","v":""}]
["C",288,"00",{"$f":"TEXT(MICASH!D571,\"0000000000\")","v":"0000000000"}," ",{"$f":"UPPER(MICASH!F571)","v":""},{"$f":"UPPER(MICASH!G571)","v":""}," ",{"$f":"TEXT(MICASH!I571,\"0000000000\")","v":"0000000000"},{"$f":"TEXT(MICASH!J571*100,\"0000000000\")","v":"0000000000"},{"$f":"TEXT(MONTH(MICASH!K571),\"00\") & TEXT(DAY(MICASH!K571),\"00\") & RIGHT(TEXT(YEAR(MICASH!K571),\"00\"),2)","v":"010000"},{"$f":"UPPER(LEFT(MICASH!L571,96))","v":""}]
["C",288,"00",{"$f":"TEXT(MICASH!D572,\"0000000000\")","v":"0000000000"}," ",{"$f":"UPPER(MICASH!F572)","v":""},{"$f":"UPPER(MICASH!G572)","v":""}," ",{"$f":"TEXT(MICASH!I572,\"0000000000\")","v":"0000000000"},{"$f":"TEXT(MICASH!J572*100,\"0000000000\")","v":"0000000000"},{"$f":"TEXT(MONTH(MICASH!K572),\"00\") & TEXT(DAY(MICASH!K572),\"00\") & RIGHT(TEXT(YEAR(MICASH!K572),\"00\"),2)","v":"010000"},{"$f":"UPPER(LEFT(MICASH!L572,96))","v":""}]
["C",288,"00",{"$f":"TEXT(MICASH!D573,\"0000000000\")","v":"0000000000"}," ",{"$f":"UPPER(MICASH!F573)","v":""},{"$f":"UPPER(MICASH!G573)","v":""}," ",{"$f":"TEXT(MICASH!I573,\"0000000000\")","v":"0000000000"},{"$f":"TEXT(MICASH!J573*100,\"0000000000\")","v":"0000000000"},{"$f":"TEXT(MONTH(MICASH!K573),\"00\") & TEXT(DAY(MICASH!K573),\"00\") & RIGHT(TEXT(YEAR(MICASH!K573),\"00\"),2)","v":"010000"},{"$f":"UPPER(LEFT(MICASH!L573,96))","v":""}]
["C",288,"00",{"$f":"TEXT(MICASH!D574,\"0000000000\")","v":"0000000000"}," ",{"$f":"UPPER(MICASH!F574)","v":""},{"$f":"UPPER(MICASH!G574)","v":""}," ",{"$f":"TEXT(MICASH!I574,\"0000000000\")","v":"0000000000"},{"$f":"TEXT(MICASH!J574*100,\"0000000000\")","v":"0000000000"},{"$f":"TEXT(MONTH(MICASH!K574),\"00\") & TEXT(DAY(MICASH!K574),\"00\") & RIGHT(TEXT(YEAR(MICASH!K574),\"00\"),2)","v":"010000"},{"$f":"UPPER(LEFT(MICASH!L574,96))","v":""}]
["C",288,"00",{"$f":"TEXT(MICASH!D575,\"0000000000\")","v":"0000000000"}," ",{"$f":"UPPER(MICASH!F575)","v":""},{"$f":"UPPER(MICASH!G575)","v":""}," ",{"$f":"TEXT(MICASH!I575,\"0000000000\")","v":"0000000000"},{"$f":"TEXT(MICASH!J575*100,\"0000000000\")","v":"0000000000"},{"$f":"TEXT(MONTH(MICASH!K575),\"00\") & TEXT(DAY(MICASH!K575),\"00\") & RIGHT(TEXT(YEAR(MICASH!K575),\"00\"),2)","v":"010000"},{"$f":"UPPER(LEFT(MICASH!L575,96))","v":""}]
["C",288,"00",{"$f":"TEXT(MICASH!D576,\"0000000000\")","v":"0000000000"}," ",{"$f":"UPPER(MICASH!F576)","v":""},{"$f":"UPPER(MICASH!G576)","v":""}," ",{"$f":"TEXT(MICASH!I576,\"0000000000\")","v":"0000000000"},{"$f":"TEXT(MICASH!J576*100,\"0000000000\")","v":"0000000000"},{"$f":"TEXT(MONTH(MICASH!K576),\"00\") & TEXT(DAY(MICASH!K576),\"00\") & RIGHT(TEXT(YEAR(MICASH!K576),\"00\"),2)","v":"010000"},{"$f":"UPPER(LEFT(MICASH!L576,96))","v":""}]
["C",288,"00",{"$f":"TEXT(MICASH!D577,\"0000000000\")","v":"0000000000"}," ",{"$f":"UPPER(MICASH!F577)","v":""},{"$f":"UPPER(MICASH!G577)","v":""}," ",{"$f":"TEXT(MICASH!I577,\"0000000000\")","v":"0000000000"},{"$f":"TEXT(MICASH!J577*100,\"0000000000\")","v":"0000000000"},{"$f":"TEXT(MONTH(MICASH!K577),\"00\") & TEXT(DAY(MICASH!K577),\"00\") & RIGHT(TEXT(YEAR(MICASH!K577),\"00\"),2)","v":"010000"},{"$f":"UPPER(LEFT(MICASH!L577,96))","v":""}]
["C",288,"00",{"$f":"TEXT(MICASH!D578,\"0000000000\")","v":"0000000000"}," ",{"$f":"UPPER(MICASH!F578)","v":""},{"$f":"UPPER(MICASH!G578)","v":""}," ",{"$f":"TEXT(MICASH!I578,\"0000000000\")","v":"0000000000"},{"$f":"TEXT(MICASH!J578*100,\"0000000000\")","v":"0000000000"},{"$f":"TEXT(MONTH(MICASH!K578),\"00\") & TEXT(DAY(MICASH!K578),\"00\") & RIGHT(TEXT(YEAR(MICASH!K578),\"00\"),2)","v":"010000"},{"$f":"UPPER(LEFT(MICASH!L578,96))","v":""}]
["C",288,"00",{"$f":"TEXT(MICASH!D579,\"0000000000\")","v":"0000000000"}," ",{"$f":"UPPER(MICASH!F579)","v":""},{"$f":"UPPER(MICASH!G579)","v":""}," ",{"$f":"TEXT(MICASH!I579,\"0000000000\")","v":"0000000000"},{"$f":"TEXT(MICASH!J579*100,\"0000000000\")","v":"0000000000"},{"$f":"TEXT(MONTH(MICASH!K579),\"00\") & TEXT(DAY(MICASH!K579),\"00\") & RIGHT(TEXT(YEAR(MICASH!K579),\"00\"),2)","v":"010000"},{"$f":"UPPER(LEFT(MICASH!L579,96))","v":""}]
["C",288,"00",{"$f":"TEXT(MICASH!D580,\"0000000000\")","v":"0000000000"}," ",{"$f":"UPPER(MICASH!F580)","v":""},{"$f":"UPPER(MICASH!G580)","v":""}," ",{"$f":"TEXT(MICASH!I580,\"0000000000\")","v":"0000000000"},{"$f":"TEXT(MICASH!J580*100,\"0000000000\")","v":"0000000000"},{"$f":"TEXT(MONTH(MICASH!K580),\"00\") & TEXT(DAY(MICASH!K580),\"00\") & RIGHT(TEXT(YEAR(MICASH!K580),\"00\"),2)","v":"010000"},{"$f":"UPPER(LEFT(MICASH!L580,96))","v":""}]
["C",288,"00",{"$f":"TEXT(MICASH!D581,\"0000000000\")","v":"0000000000"}," ",{"$f":"UPPER(MICASH!F581)","v":""},{"$f":"UPPER(MICASH!G581)","v":""}," ",{"$f":"TEXT(MICASH!I581,\"0000000000\")","v":"0000000000"},{"$f":"TEXT(MICASH!J581*100,\"0000000000\")","v":"0000000000"},{"$f":"TEXT(MONTH(MICASH!K581),\"00\") & TEXT(DAY(MICASH!K581),\"00\") & RIGHT(TEXT(YEAR(MICASH!K581),\"00\"),2)","v":"010000"},{"$f":"UPPER(LEFT(MICASH!L581,96))","v":""}]
["C",288,"00",{"$f":"TEXT(MICASH!D582,\"0000000000\")","v":"0000000000"}," ",{"$f":"UPPER(MICASH!F582)","v":""},{"$f":"UPPER(MICASH!G582)","v":""}," ",{"$f":"TEXT(MICASH!I582,\"0000000000\")","v":"0000000000"},{"$f":"TEXT(MICASH!J582*100,\"0000000000\")","v":"0000000000"},{"$f":"TEXT(MONTH(MICASH!K582),\"00\") & TEXT(DAY(MICASH!K582),\"00\") & RIGHT(TEXT(YEAR(MICASH!K582),\"00\"),2)","v":"010000"},{"$f":"UPPER(LEFT(MICASH!L582,96))","v":""}]
["C",288,"00",{"$f":"TEXT(MICASH!D583,\"0000000000\")","v":"0000000000"}," ",{"$f":"UPPER(MICASH!F583)","v":""},{"$f":"UPPER(MICASH!G583)","v":""}," ",{"$f":"TEXT(MICASH!I583,\"0000000000\")","v":"0000000000"},{"$f":"TEXT(MICASH!J583*100,\"0000000000\")","v":"0000000000"},{"$f":"TEXT(MONTH(MICASH!K583),\"00\") & TEXT(DAY(MICASH!K583),\"00\") & RIGHT(TEXT(YEAR(MICASH!K583),\"00\"),2)","v":"010000"},{"$f":"UPPER(LEFT(MICASH!L583,96))","v":""}]
["C",288,"00",{"$f":"TEXT(MICASH!D584,\"0000000000\")","v":"0000000000"}," ",{"$f":"UPPER(MICASH!F584)","v":""},{"$f":"UPPER(MICASH!G584)","v":""}," ",{"$f":"TEXT(MICASH!I584,\"0000000000\")","v":"0000000000"},{"$f":"TEXT(MICASH!J584*100,\"0000000000\")","v":"0000000000"},{"$f":"TEXT(MONTH(MICASH!K584),\"00\") & TEXT(DAY(MICASH!K584),\"00\") & RIGHT(TEXT(YEAR(MICASH!K584),\"00\"),2)","v":"010000"},{"$f":"UPPER(LEFT(MICASH!L584,96))","v":""}]
["C",288,"00",{"$f":"TEXT(MICASH!D585,\"0000000000\")","v":"0000000000"}," ",{"$f":"UPPER(MICASH!F585)","v":""},{"$f":"UPPER(MICASH!G585)","v":""}," ",{"$f":"TEXT(MICASH!I585,\"0000000000\")","v":"0000000000"},{"$f":"TEXT(MICASH!J585*100,\"0000000000\")","v":"0000000000"},{"$f":"TEXT(MONTH(MICASH!K585),\"00\") & TEXT(DAY(MICASH!K585),\"00\") & RIGHT(TEXT(YEAR(MICASH!K585),\"00\"),2)","v":"010000"},{"$f":"UPPER(LEFT(MICASH!L585,96))","v":""}]
["C",288,"00",{"$f":"TEXT(MICASH!D586,\"0000000000\")","v":"0000000000"}," ",{"$f":"UPPER(MICASH!F586)","v":""},{"$f":"UPPER(MICASH!G586)","v":""}," ",{"$f":"TEXT(MICASH!I586,\"0000000000\")","v":"0000000000"},{"$f":"TEXT(MICASH!J586*100,\"0000000000\")","v":"0000000000"},{"$f":"TEXT(MONTH(MICASH!K586),\"00\") & TEXT(DAY(MICASH!K586),\"00\") & RIGHT(TEXT(YEAR(MICASH!K586),\"00\"),2)","v":"010000"},{"$f":"UPPER(LEFT(MICASH!L586,96))","v":""}]
["C",288,"00",{"$f":"TEXT(MICASH!D587,\"0000000000\")","v":"0000000000"}," ",{"$f":"UPPER(MICASH!F587)","v":""},{"$f":"UPPER(MICASH!G587)","v":""}," ",{"$f":"TEXT(MICASH!I587,\"0000000000\")","v":"0000000000"},{"$f":"TEXT(MICASH!J587*100,\"0000000000\")","v":"0000000000"},{"$f":"TEXT(MONTH(MICASH!K587),\"00\") & TEXT(DAY(MICASH!K587),\"00\") & RIGHT(TEXT(YEAR(MICASH!K587),\"00\"),2)","v":"010000"},{"$f":"UPPER(LEFT(MICASH!L587,96))","v":""}]
["C",288,"00",{"$f":"TEXT(MICASH!D588,\"0000000000\")","v":"0000000000"}," ",{"$f":"UPPER(MICASH!F588)","v":""},{"$f":"UPPER(MICASH!G588)","v":""}," ",{"$f":"TEXT(MICASH!I588,\"0000000000\")","v":"0000000000"},{"$f":"TEXT(MICASH!J588*100,\"0000000000\")","v":"0000000000"},{"$f":"TEXT(MONTH(MICASH!K588),\"00\") & TEXT(DAY(MICASH!K588),\"00\") & RIGHT(TEXT(YEAR(MICASH!K588),\"00\"),2)","v":"010000"},{"$f":"UPPER(LEFT(MICASH!L588,96))","v":""}]
["C",288,"00",{"$f":"TEXT(MICASH!D589,\"0000000000\")","v":"0000000000"}," ",{"$f":"UPPER(MICASH!F589)","v":""},{"$f":"UPPER(MICASH!G589)","v":""}," ",{"$f":"TEXT(MICASH!I589,\"0000000000\")","v":"0000000000"},{"$f":"TEXT(MICASH!J589*100,\"0000000000\")","v":"0000000000"},{"$f":"TEXT(MONTH(MICASH!K589),\"00\") & TEXT(DAY(MICASH!K589),\"00\") & RIGHT(TEXT(YEAR(MICASH!K589),\"00\"),2)","v":"010000"},{"$f":"UPPER(LEFT(MICASH!L589,96))","v":""}]
["C",288,"00",{"$f":"TEXT(MICASH!D590,\"0000000000\")","v":"0000000000"}," ",{"$f":"UPPER(MICASH!F590)","v":""},{"$f":"UPPER(MICASH!G590)","v":""}," ",{"$f":"TEXT(MICASH!I590,\"0000000000\")","v":"0000000000"},{"$f":"TEXT(MICASH!J590*100,\"0000000000\")","v":"0000000000"},{"$f":"TEXT(MONTH(MICASH!K590),\"00\") & TEXT(DAY(MICASH!K590),\"00\") & RIGHT(TEXT(YEAR(MICASH!K590),\"00\"),2)","v":"010000"},{"$f":"UPPER(LEFT(MICASH!L590,96))","v":""}]
["C",288,"00",{"$f":"TEXT(MICASH!D591,\"0000000000\")","v":"0000000000"}," ",{"$f":"UPPER(MICASH!F591)","v":""},{"$f":"UPPER(MICASH!G591)","v":""}," ",{"$f":"TEXT(MICASH!I591,\"0000000000\")","v":"0000000000"},{"$f":"TEXT(MICASH!J591*100,\"0000000000\")","v":"0000000000"},{"$f":"TEXT(MONTH(MICASH!K591),\"00\") & TEXT(DAY(MICASH!K591),\"00\") & RIGHT(TEXT(YEAR(MICASH!K591),\"00\"),2)","v":"010000"},{"$f":"UPPER(LEFT(MICASH!L591,96))","v":""}]
["C",288,"00",{"$f":"TEXT(MICASH!D592,\"0000000000\")","v":"0000000000"}," ",{"$f":"UPPER(MICASH!F592)","v":""},{"$f":"UPPER(MICASH!G592)","v":""}," ",{"$f":"TEXT(MICASH!I592,\"0000000000\")","v":"0000000000"},{"$f":"TEXT(MICASH!J592*100,\"0000000000\")","v":"0000000000"},{"$f":"TEXT(MONTH(MICASH!K592),\"00\") & TEXT(DAY(MICASH!K592),\"00\") & RIGHT(TEXT(YEAR(MICASH!K592),\"00\"),2)","v":"010000"},{"$f":"UPPER(LEFT(MICASH!L592,96))","v":""}]
["C",288,"00",{"$f":"TEXT(MICASH!D593,\"0000000000\")","v":"0000000000"}," ",{"$f":"UPPER(MICASH!F593)","v":""},{"$f":"UPPER(MICASH!G593)","v":""}," ",{"$f":"TEXT(MICASH!I593,\"0000000000\")","v":"0000000000"},{"$f":"TEXT(MICASH!J593*100,\"0000000000\")","v":"0000000000"},{"$f":"TEXT(MONTH(MICASH!K593),\"00\") & TEXT(DAY(MICASH!K593),\"00\") & RIGHT(TEXT(YEAR(MICASH!K593),\"00\"),2)","v":"010000"},{"$f":"UPPER(LEFT(MICASH!L593,96))","v":""}]
["C",288,"00",{"$f":"TEXT(MICASH!D594,\"0000000000\")","v":"0000000000"}," ",{"$f":"UPPER(MICASH!F594)","v":""},{"$f":"UPPER(MICASH!G594)","v":""}," ",{"$f":"TEXT(MICASH!I594,\"0000000000\")","v":"0000000000"},{"$f":"TEXT(MICASH!J594*100,\"0000000000\")","v":"0000000000"},{"$f":"TEXT(MONTH(MICASH!K594),\"00\") & TEXT(DAY(MICASH!K594),\"00\") & RIGHT(TEXT(YEAR(MICASH!K594),\"00\"),2)","v":"010000"},{"$f":"UPPER(LEFT(MICASH!L594,96))","v":""}]
["C",288,"00",{"$f":"TEXT(MICASH!D595,\"0000000000\")","v":"0000000000"}," ",{"$f":"UPPER(MICASH!F595)","v":""},{"$f":"UPPER(MICASH!G595)","v":""}," ",{"$f":"TEXT(MICASH!I595,\"0000000000\")","v":"0000000000"},{"$f":"TEXT(MICASH!J595*100,\"0000000000\")","v":"0000000000"},{"$f":"TEXT(MONTH(MICASH!K595),\"00\") & TEXT(DAY(MICASH!K595),\"00\") & RIGHT(TEXT(YEAR(MICASH!K595),\"00\"),2)","v":"010000"},{"$f":"UPPER(LEFT(MICASH!L595,96))","v":""}]
["C",288,"00",{"$f":"TEXT(MICASH!D596,\"0000000000\")","v":"0000000000"}," ",{"$f":"UPPER(MICASH!F596)","v":""},{"$f":"UPPER(MICASH!G596)","v":""}," ",{"$f":"TEXT(MICASH!I596,\"0000000000\")","v":"0000000000"},{"$f":"TEXT(MICASH!J596*100,\"0000000000\")","v":"0000000000"},{"$f":"TEXT(MONTH(MICASH!K596),\"00\") & TEXT(DAY(MICASH!K596),\"00\") & RIGHT(TEXT(YEAR(MICASH!K596),\"00\"),2)","v":"010000"},{"$f":"UPPER(LEFT(MICASH!L596,96))","v":""}]
["C",288,"00",{"$f":"TEXT(MICASH!D597,\"0000000000\")","v":"0000000000"}," ",{"$f":"UPPER(MICASH!F597)","v":""},{"$f":"UPPER(MICASH!G597)","v":""}," ",{"$f":"TEXT(MICASH!I597,\"0000000000\")","v":"0000000000"},{"$f":"TEXT(MICASH!J597*100,\"0000000000\")","v":"0000000000"},{"$f":"TEXT(MONTH(MICASH!K597),\"00\") & TEXT(DAY(MICASH!K597),\"00\") & RIGHT(TEXT(YEAR(MICASH!K597),\"00\"),2)","v":"010000"},{"$f":"UPPER(LEFT(MICASH!L597,96))","v":""}]
["C",288,"00",{"$f":"TEXT(MICASH!D598,\"0000000000\")","v":"0000000000"}," ",{"$f":"UPPER(MICASH!F598)","v":""},{"$f":"UPPER(MICASH!G598)","v":""}," ",{"$f":"TEXT(MICASH!I598,\"0000000000\")","v":"0000000000"},{"$f":"TEXT(MICASH!J598*100,\"0000000000\")","v":"0000000000"},{"$f":"TEXT(MONTH(MICASH!K598),\"00\") & TEXT(DAY(MICASH!K598),\"00\") & RIGHT(TEXT(YEAR(MICASH!K598),\"00\"),2)","v":"010000"},{"$f":"UPPER(LEFT(MICASH!L598,96))","v":""}]
["C",288,"00",{"$f":"TEXT(MICASH!D599,\"0000000000\")","v":"0000000000"}," ",{"$f":"UPPER(MICASH!F599)","v":""},{"$f":"UPPER(MICASH!G599)","v":""}," ",{"$f":"TEXT(MICASH!I599,\"0000000000\")","v":"0000000000"},{"$f":"TEXT(MICASH!J599*100,\"0000000000\")","v":"0000000000"},{"$f":"TEXT(MONTH(MICASH!K599),\"00\") & TEXT(DAY(MICASH!K599),\"00\") & RIGHT(TEXT(YEAR(MICASH!K599),\"00\"),2)","v":"010000"},{"$f":"UPPER(LEFT(MICASH!L599,96))","v":""}]
["C",288,"00",{"$f":"TEXT(MICASH!D600,\"0000000000\")","v":"0000000000"}," ",{"$f":"UPPER(MICASH!F600)","v":""},{"$f":"UPPER(MICASH!G600)","v":""}," ",{"$f":"TEXT(MICASH!I600,\"0000000000\")","v":"0000000000"},{"$f":"TEXT(MICASH!J600*100,\"0000000000\")","v":"0000000000"},{"$f":"TEXT(MONTH(MICASH!K600),\"00\") & TEXT(DAY(MICASH!K600),\"00\") & RIGHT(TEXT(YEAR(MICASH!K600),\"00\"),2)","v":"010000"},{"$f":"UPPER(LEFT(MICASH!L600,96))","v":""}]
["C",288,"00",{"$f":"TEXT(MICASH!D601,\"0000000000\")","v":"0000000000"}," ",{"$f":"UPPER(MICASH!F601)","v":""},{"$f":"UPPER(MICASH!G601)","v":""}," ",{"$f":"TEXT(MICASH!I601,\"0000000000\")","v":"0000000000"},{"$f":"TEXT(MICASH!J601*100,\"0000000000\")","v":"0000000000"},{"$f":"TEXT(MONTH(MICASH!K601),\"00\") & TEXT(DAY(MICASH!K601),\"00\") & RIGHT(TEXT(YEAR(MICASH!K601),\"00\"),2)","v":"010000"},{"$f":"UPPER(LEFT(MICASH!L601,96))","v":""}]
["C",288,"00",{"$f":"TEXT(MICASH!D602,\"0000000000\")","v":"0000000000"}," ",{"$f":"UPPER(MICASH!F602)","v":""},{"$f":"UPPER(MICASH!G602)","v":""}," ",{"$f":"TEXT(MICASH!I602,\"0000000000\")","v":"0000000000"},{"$f":"TEXT(MICASH!J602*100,\"0000000000\")","v":"0000000000"},{"$f":"TEXT(MONTH(MICASH!K602),\"00\") & TEXT(DAY(MICASH!K602),\"00\") & RIGHT(TEXT(YEAR(MICASH!K602),\"00\"),2)","v":"010000"},{"$f":"UPPER(LEFT(MICASH!L602,96))","v":""}]
["C",288,"00",{"$f":"TEXT(MICASH!D603,\"0000000000\")","v":"0000000000"}," ",{"$f":"UPPER(MICASH!F603)","v":""},{"$f":"UPPER(MICASH!G603)","v":""}," ",{"$f":"TEXT(MICASH!I603,\"0000000000\")","v":"0000000000"},{"$f":"TEXT(MICASH!J603*100,\"0000000000\")","v":"0000000000"},{"$f":"TEXT(MONTH(MICASH!K603),\"00\") & TEXT(DAY(MICASH!K603),\"00\") & RIGHT(TEXT(YEAR(MICASH!K603),\"00\"),2)","v":"010000"},{"$f":"UPPER(LEFT(MICASH!L603,96))","v":""}]
["C",288,"00",{"$f":"TEXT(MICASH!D604,\"0000000000\")","v":"0000000000"}," ",{"$f":"UPPER(MICASH!F604)","v":""},{"$f":"UPPER(MICASH!G604)","v":""}," ",{"$f":"TEXT(MICASH!I604,\"0000000000\")","v":"0000000000"},{"$f":"TEXT(MICASH!J604*100,\"0000000000\")","v":"0000000000"},{"$f":"TEXT(MONTH(MICASH!K604),\"00\") & TEXT(DAY(MICASH!K604),\"00\") & RIGHT(TEXT(YEAR(MICASH!K604),\"00\"),2)","v":"010000"},{"$f":"UPPER(LEFT(MICASH!L604,96))","v":""}]
["C",288,"00",{"$f":"TEXT(MICASH!D605,\"0000000000\")","v":"0000000000"}," ",{"$f":"UPPER(MICASH!F605)","v":""},{"$f":"UPPER(MICASH!G605)","v":""}," ",{"$f":"TEXT(MICASH!I605,\"0000000000\")","v":"0000000000"},{"$f":"TEXT(MICASH!J605*100,\"0000000000\")","v":"0000000000"},{"$f":"TEXT(MONTH(MICASH!K605),\"00\") & TEXT(DAY(MICASH!K605),\"00\") & RIGHT(TEXT(YEAR(MICASH!K605),\"00\"),2)","v":"010000"},{"$f":"UPPER(LEFT(MICASH!L605,96))","v":""}]
["C",288,"00",{"$f":"TEXT(MICASH!D606,\"0000000000\")","v":"0000000000"}," ",{"$f":"UPPER(MICASH!F606)","v":""},{"$f":"UPPER(MICASH!G606)","v":""}," ",{"$f":"TEXT(MICASH!I606,\"0000000000\")","v":"0000000000"},{"$f":"TEXT(MICASH!J606*100,\"0000000000\")","v":"0000000000"},{"$f":"TEXT(MONTH(MICASH!K606),\"00\") & TEXT(DAY(MICASH!K606),\"00\") & RIGHT(TEXT(YEAR(MICASH!K606),\"00\"),2)","v":"010000"},{"$f":"UPPER(LEFT(MICASH!L606,96))","v":""}]
["C",288,"00",{"$f":"TEXT(MICASH!D607,\"0000000000\")","v":"0000000000"}," ",{"$f":"UPPER(MICASH!F607)","v":""},{"$f":"UPPER(MICASH!G607)","v":""}," ",{"$f":"TEXT(MICASH!I607,\"0000000000\")","v":"0000000000"},{"$f":"TEXT(MICASH!J607*100,\"0000000000\")","v":"0000000000"},{"$f":"TEXT(MONTH(MICASH!K607),\"00\") & TEXT(DAY(MICASH!K607),\"00\") & RIGHT(TEXT(YEAR(MICASH!K607),\"00\"),2)","v":"010000"},{"$f":"UPPER(LEFT(MICASH!L607,96))","v":""}]
["C",288,"00",{"$f":"TEXT(MICASH!D608,\"0000000000\")","v":"0000000000"}," ",{"$f":"UPPER(MICASH!F608)","v":""},{"$f":"UPPER(MICASH!G608)","v":""}," ",{"$f":"TEXT(MICASH!I608,\"0000000000\")","v":"0000000000"},{"$f":"TEXT(MICASH!J608*100,\"0000000000\")","v":"0000000000"},{"$f":"TEXT(MONTH(MICASH!K608),\"00\") & TEXT(DAY(MICASH!K608),\"00\") & RIGHT(TEXT(YEAR(MICASH!K608),\"00\"),2)","v":"010000"},{"$f":"UPPER(LEFT(MICASH!L608,96))","v":""}]
["C",288,"00",{"$f":"TEXT(MICASH!D609,\"0000000000\")","v":"0000000000"}," ",{"$f":"UPPER(MICASH!F609)","v":""},{"$f":"UPPER(MICASH!G609)","v":""}," ",{"$f":"TEXT(MICASH!I609,\"0000000000\")","v":"0000000000"},{"$f":"TEXT(MICASH!J609*100,\"0000000000\")","v":"0000000000"},{"$f":"TEXT(MONTH(MICASH!K609),\"00\") & TEXT(DAY(MICASH!K609),\"00\") & RIGHT(TEXT(YEAR(MICASH!K609),\"00\"),2)","v":"010000"},{"$f":"UPPER(LEFT(MICASH!L609,96))","v":""}]
["C",288,"00",{"$f":"TEXT(MICASH!D610,\"0000000000\")","v":"0000000000"}," ",{"$f":"UPPER(MICASH!F610)","v":""},{"$f":"UPPER(MICASH!G610)","v":""}," ",{"$f":"TEXT(MICASH!I610,\"0000000000\")","v":"0000000000"},{"$f":"TEXT(MICASH!J610*100,\"0000000000\")","v":"0000000000"},{"$f":"TEXT(MONTH(MICASH!K610),\"00\") & TEXT(DAY(MICASH!K610),\"00\") & RIGHT(TEXT(YEAR(MICASH!K610),\"00\"),2)","v":"010000"},{"$f":"UPPER(LEFT(MICASH!L610,96))","v":""}]
["C",288,"00",{"$f":"TEXT(MICASH!D611,\"0000000000\")","v":"0000000000"}," ",{"$f":"UPPER(MICASH!F611)","v":""},{"$f":"UPPER(MICASH!G611)","v":""}," ",{"$f":"TEXT(MICASH!I611,\"0000000000\")","v":"0000000000"},{"$f":"TEXT(MICASH!J611*100,\"0000000000\")","v":"0000000000"},{"$f":"TEXT(MONTH(MICASH!K611),\"00\") & TEXT(DAY(MICASH!K611),\"00\") & RIGHT(TEXT(YEAR(MICASH!K611),\"00\"),2)","v":"010000"},{"$f":"UPPER(LEFT(MICASH!L611,96))","v":""}]
["C",288,"00",{"$f":"TEXT(MICASH!D612,\"0000000000\")","v":"0000000000"}," ",{"$f":"UPPER(MICASH!F612)","v":""},{"$f":"UPPER(MICASH!G612)","v":""}," ",{"$f":"TEXT(MICASH!I612,\"0000000000\")","v":"0000000000"},{"$f":"TEXT(MICASH!J612*100,\"0000000000\")","v":"0000000000"},{"$f":"TEXT(MONTH(MICASH!K612),\"00\") & TEXT(DAY(MICASH!K612),\"00\") & RIGHT(TEXT(YEAR(MICASH!K612),\"00\"),2)","v":"010000"},{"$f":"UPPER(LEFT(MICASH!L612,96))","v":""}]
["C",288,"00",{"$f":"TEXT(MICASH!D613,\"0000000000\")","v":"0000000000"}," ",{"$f":"UPPER(MICASH!F613)","v":""},{"$f":"UPPER(MICASH!G613)","v":""}," ",{"$f":"TEXT(MICASH!I613,\"0000000000\")","v":"0000000000"},{"$f":"TEXT(MICASH!J613*100,\"0000000000\")","v":"0000000000"},{"$f":"TEXT(MONTH(MICASH!K613),\"00\") & TEXT(DAY(MICASH!K613),\"00\") & RIGHT(TEXT(YEAR(MICASH!K613),\"00\"),2)","v":"010000"},{"$f":"UPPER(LEFT(MICASH!L613,96))","v":""}]
["C",288,"00",{"$f":"TEXT(MICASH!D614,\"0000000000\")","v":"0000000000"}," ",{"$f":"UPPER(MICASH!F614)","v":""},{"$f":"UPPER(MICASH!G614)","v":""}," ",{"$f":"TEXT(MICASH!I614,\"0000000000\")","v":"0000000000"},{"$f":"TEXT(MICASH!J614*100,\"0000000000\")","v":"0000000000"},{"$f":"TEXT(MONTH(MICASH!K614),\"00\") & TEXT(DAY(MICASH!K614),\"00\") & RIGHT(TEXT(YEAR(MICASH!K614),\"00\"),2)","v":"010000"},{"$f":"UPPER(LEFT(MICASH!L614,96))","v":""}]
["C",288,"00",{"$f":"TEXT(MICASH!D615,\"0000000000\")","v":"0000000000"}," ",{"$f":"UPPER(MICASH!F615)","v":""},{"$f":"UPPER(MICASH!G615)","v":""}," ",{"$f":"TEXT(MICASH!I615,\"0000000000\")","v":"0000000000"},{"$f":"TEXT(MICASH!J615*100,\"0000000000\")","v":"0000000000"},{"$f":"TEXT(MONTH(MICASH!K615),\"00\") & TEXT(DAY(MICASH!K615),\"00\") & RIGHT(TEXT(YEAR(MICASH!K615),\"00\"),2)","v":"010000"},{"$f":"UPPER(LEFT(MICASH!L615,96))","v":""}]
["C",288,"00",{"$f":"TEXT(MICASH!D616,\"0000000000\")","v":"0000000000"}," ",{"$f":"UPPER(MICASH!F616)","v":""},{"$f":"UPPER(MICASH!G616)","v":""}," ",{"$f":"TEXT(MICASH!I616,\"0000000000\")","v":"0000000000"},{"$f":"TEXT(MICASH!J616*100,\"0000000000\")","v":"0000000000"},{"$f":"TEXT(MONTH(MICASH!K616),\"00\") & TEXT(DAY(MICASH!K616),\"00\") & RIGHT(TEXT(YEAR(MICASH!K616),\"00\"),2)","v":"010000"},{"$f":"UPPER(LEFT(MICASH!L616,96))","v":""}]
["C",288,"00",{"$f":"TEXT(MICASH!D617,\"0000000000\")","v":"0000000000"}," ",{"$f":"UPPER(MICASH!F617)","v":""},{"$f":"UPPER(MICASH!G617)","v":""}," ",{"$f":"TEXT(MICASH!I617,\"0000000000\")","v":"0000000000"},{"$f":"TEXT(MICASH!J617*100,\"0000000000\")","v":"0000000000"},{"$f":"TEXT(MONTH(MICASH!K617),\"00\") & TEXT(DAY(MICASH!K617),\"00\") & RIGHT(TEXT(YEAR(MICASH!K617),\"00\"),2)","v":"010000"},{"$f":"UPPER(LEFT(MICASH!L617,96))","v":""}]
["C",288,"00",{"$f":"TEXT(MICASH!D618,\"0000000000\")","v":"0000000000"}," ",{"$f":"UPPER(MICASH!F618)","v":""},{"$f":"UPPER(MICASH!G618)","v":""}," ",{"$f":"TEXT(MICASH!I618,\"0000000000\")","v":"0000000000"},{"$f":"TEXT(MICASH!J618*100,\"0000000000\")","v":"0000000000"},{"$f":"TEXT(MONTH(MICASH!K618),\"00\") & TEXT(DAY(MICASH!K618),\"00\") & RIGHT(TEXT(YEAR(MICASH!K618),\"00\"),2)","v":"010000"},{"$f":"UPPER(LEFT(MICASH!L618,96))","v":""}]
["C",288,"00",{"$f":"TEXT(MICASH!D619,\"0000000000\")","v":"0000000000"}," ",{"$f":"UPPER(MICASH!F619)","v":""},{"$f":"UPPER(MICASH!G619)","v":""}," ",{"$f":"TEXT(MICASH!I619,\"0000000000\")","v":"0000000000"},{"$f":"TEXT(MICASH!J619*100,\"0000000000\")","v":"0000000000"},{"$f":"TEXT(MONTH(MICASH!K619),\"00\") & TEXT(DAY(MICASH!K619),\"00\") & RIGHT(TEXT(YEAR(MICASH!K619),\"00\"),2)","v":"010000"},{"$f":"UPPER(LEFT(MICASH!L619,96))","v":""}]
["C",288,"00",{"$f":"TEXT(MICASH!D620,\"0000000000\")","v":"0000000000"}," ",{"$f":"UPPER(MICASH!F620)","v":""},{"$f":"UPPER(MICASH!G620)","v":""}," ",{"$f":"TEXT(MICASH!I620,\"0000000000\")","v":"0000000000"},{"$f":"TEXT(MICASH!J620*100,\"0000000000\")","v":"0000000000"},{"$f":"TEXT(MONTH(MICASH!K620),\"00\") & TEXT(DAY(MICASH!K620),\"00\") & RIGHT(TEXT(YEAR(MICASH!K620),\"00\"),2)","v":"010000"},{"$f":"UPPER(LEFT(MICASH!L620,96))","v":""}]
["C",288,"00",{"$f":"TEXT(MICASH!D621,\"0000000000\")","v":"0000000000"}," ",{"$f":"UPPER(MICASH!F621)","v":""},{"$f":"UPPER(MICASH!G621)","v":""}," ",{"$f":"TEXT(MICASH!I621,\"0000000000\")","v":"0000000000"},{"$f":"TEXT(MICASH!J621*100,\"0000000000\")","v":"0000000000"},{"$f":"TEXT(MONTH(MICASH!K621),\"00\") & TEXT(DAY(MICASH!K621),\"00\") & RIGHT(TEXT(YEAR(MICASH!K621),\"00\"),2)","v":"010000"},{"$f":"UPPER(LEFT(MICASH!L621,96))","v":""}]
["C",288,"00",{"$f":"TEXT(MICASH!D622,\"0000000000\")","v":"0000000000"}," ",{"$f":"UPPER(MICASH!F622)","v":""},{"$f":"UPPER(MICASH!G622)","v":""}," ",{"$f":"TEXT(MICASH!I622,\"0000000000\")","v":"0000000000"},{"$f":"TEXT(MICASH!J622*100,\"0000000000\")","v":"0000000000"},{"$f":"TEXT(MONTH(MICASH!K622),\"00\") & TEXT(DAY(MICASH!K622),\"00\") & RIGHT(TEXT(YEAR(MICASH!K622),\"00\"),2)","v":"010000"},{"$f":"UPPER(LEFT(MICASH!L622,96))","v":""}]
["C",288,"00",{"$f":"TEXT(MICASH!D623,\"0000000000\")","v":"0000000000"}," ",{"$f":"UPPER(MICASH!F623)","v":""},{"$f":"UPPER(MICASH!G623)","v":""}," ",{"$f":"TEXT(MICASH!I623,\"0000000000\")","v":"0000000000"},{"$f":"TEXT(MICASH!J623*100,\"0000000000\")","v":"0000000000"},{"$f":"TEXT(MONTH(MICASH!K623),\"00\") & TEXT(DAY(MICASH!K623),\"00\") & RIGHT(TEXT(YEAR(MICASH!K623),\"00\"),2)","v":"010000"},{"$f":"UPPER(LEFT(MICASH!L623,96))","v":""}]
["C",288,"00",{"$f":"TEXT(MICASH!D624,\"0000000000\")","v":"0000000000"}," ",{"$f":"UPPER(MICASH!F624)","v":""},{"$f":"UPPER(MICASH!G624)","v":""}," ",{"$f":"TEXT(MICASH!I624,\"0000000000\")","v":"0000000000"},{"$f":"TEXT(MICASH!J624*100,\"0000000000\")","v":"0000000000"},{"$f":"TEXT(MONTH(MICASH!K624),\"00\") & TEXT(DAY(MICASH!K624),\"00\") & RIGHT(TEXT(YEAR(MICASH!K624),\"00\"),2)","v":"010000"},{"$f":"UPPER(LEFT(MICASH!L624,96))","v":""}]
["C",288,"00",{"$f":"TEXT(MICASH!D625,\"0000000000\")","v":"0000000000"}," ",{"$f":"UPPER(MICASH!F625)","v":""},{"$f":"UPPER(MICASH!G625)","v":""}," ",{"$f":"TEXT(MICASH!I625,\"0000000000\")","v":"0000000000"},{"$f":"TEXT(MICASH!J625*100,\"0000000000\")","v":"0000000000"},{"$f":"TEXT(MONTH(MICASH!K625),\"00\") & TEXT(DAY(MICASH!K625),\"00\") & RIGHT(TEXT(YEAR(MICASH!K625),\"00\"),2)","v":"010000"},{"$f":"UPPER(LEFT(MICASH!L625,96))","v":""}]
["C",288,"00",{"$f":"TEXT(MICASH!D626,\"0000000000\")","v":"0000000000"}," ",{"$f":"UPPER(MICASH!F626)","v":""},{"$f":"UPPER(MICASH!G626)","v":""}," ",{"$f":"TEXT(MICASH!I626,\"0000000000\")","v":"0000000000"},{"$f":"TEXT(MICASH!J626*100,\"0000000000\")","v":"0000000000"},{"$f":"TEXT(MONTH(MICASH!K626),\"00\") & TEXT(DAY(MICASH!K626),\"00\") & RIGHT(TEXT(YEAR(MICASH!K626),\"00\"),2)","v":"010000"},{"$f":"UPPER(LEFT(MICASH!L626,96))","v":""}]
["C",288,"00",{"$f":"TEXT(MICASH!D627,\"0000000000\")","v":"0000000000"}," ",{"$f":"UPPER(MICASH!F627)","v":""},{"$f":"UPPER(MICASH!G627)","v":""}," ",{"$f":"TEXT(MICASH!I627,\"0000000000\")","v":"0000000000"},{"$f":"TEXT(MICASH!J627*100,\"0000000000\")","v":"0000000000"},{"$f":"TEXT(MONTH(MICASH!K627),\"00\") & TEXT(DAY(MICASH!K627),\"00\") & RIGHT(TEXT(YEAR(MICASH!K627),\"00\"),2)","v":"010000"},{"$f":"UPPER(LEFT(MICASH!L627,96))","v":""}]
["C",288,"00",{"$f":"TEXT(MICASH!D628,\"0000000000\")","v":"0000000000"}," ",{"$f":"UPPER(MICASH!F628)","v":""},{"$f":"UPPER(MICASH!G628)","v":""}," ",{"$f":"TEXT(MICASH!I628,\"0000000000\")","v":"0000000000"},{"$f":"TEXT(MICASH!J628*100,\"0000000000\")","v":"0000000000"},{"$f":"TEXT(MONTH(MICASH!K628),\"00\") & TEXT(DAY(MICASH!K628),\"00\") & RIGHT(TEXT(YEAR(MICASH!K628),\"00\"),2)","v":"010000"},{"$f":"UPPER(LEFT(MICASH!L628,96))","v":""}]
["C",288,"00",{"$f":"TEXT(MICASH!D629,\"0000000000\")","v":"0000000000"}," ",{"$f":"UPPER(MICASH!F629)","v":""},{"$f":"UPPER(MICASH!G629)","v":""}," ",{"$f":"TEXT(MICASH!I629,\"0000000000\")","v":"0000000000"},{"$f":"TEXT(MICASH!J629*100,\"0000000000\")","v":"0000000000"},{"$f":"TEXT(MONTH(MICASH!K629),\"00\") & TEXT(DAY(MICASH!K629),\"00\") & RIGHT(TEXT(YEAR(MICASH!K629),\"00\"),2)","v":"010000"},{"$f":"UPPER(LEFT(MICASH!L629,96))","v":""}]
["C",288,"00",{"$f":"TEXT(MICASH!D630,\"0000000000\")","v":"0000000000"}," ",{"$f":"UPPER(MICASH!F630)","v":""},{"$f":"UPPER(MICASH!G630)","v":""}," ",{"$f":"TEXT(MICASH!I630,\"0000000000\")","v":"0000000000"},{"$f":"TEXT(MICASH!J630*100,\"0000000000\")","v":"0000000000"},{"$f":"TEXT(MONTH(MICASH!K630),\"00\") & TEXT(DAY(MICASH!K630),\"00\") & RIGHT(TEXT(YEAR(MICASH!K630),\"00\"),2)","v":"010000"},{"$f":"UPPER(LEFT(MICASH!L630,96))","v":""}]
["C",288,"00",{"$f":"TEXT(MICASH!D631,\"0000000000\")","v":"0000000000"}," ",{"$f":"UPPER(MICASH!F631)","v":""},{"$f":"UPPER(MICASH!G631)","v":""}," ",{"$f":"TEXT(MICASH!I631,\"0000000000\")","v":"0000000000"},{"$f":"TEXT(MICASH!J631*100,\"0000000000\")","v":"0000000000"},{"$f":"TEXT(MONTH(MICASH!K631),\"00\") & TEXT(DAY(MICASH!K631),\"00\") & RIGHT(TEXT(YEAR(MICASH!K631),\"00\"),2)","v":"010000"},{"$f":"UPPER(LEFT(MICASH!L631,96))","v":""}]
["C",288,"00",{"$f":"TEXT(MICASH!D632,\"0000000000\")","v":"0000000000"}," ",{"$f":"UPPER(MICASH!F632)","v":""},{"$f":"UPPER(MICASH!G632)","v":""}," ",{"$f":"TEXT(MICASH!I632,\"0000000000\")","v":"0000000000"},{"$f":"TEXT(MICASH!J632*100,\"0000000000\")","v":"0000000000"},{"$f":"TEXT(MONTH(MICASH!K632),\"00\") & TEXT(DAY(MICASH!K632),\"00\") & RIGHT(TEXT(YEAR(MICASH!K632),\"00\"),2)","v":"010000"},{"$f":"UPPER(LEFT(MICASH!L632,96))","v":""}]
["C",288,"00",{"$f":"TEXT(MICASH!D633,\"0000000000\")","v":"0000000000"}," ",{"$f":"UPPER(MICASH!F633)","v":""},{"$f":"UPPER(MICASH!G633)","v":""}," ",{"$f":"TEXT(MICASH!I633,\"0000000000\")","v":"0000000000"},{"$f":"TEXT(MICASH!J633*100,\"0000000000\")","v":"0000000000"},{"$f":"TEXT(MONTH(MICASH!K633),\"00\") & TEXT(DAY(MICASH!K633),\"00\") & RIGHT(TEXT(YEAR(MICASH!K633),\"00\"),2)","v":"010000"},{"$f":"UPPER(LEFT(MICASH!L633,96))","v":""}]
["C",288,"00",{"$f":"TEXT(MICASH!D634,\"0000000000\")","v":"0000000000"}," ",{"$f":"UPPER(MICASH!F634)","v":""},{"$f":"UPPER(MICASH!G634)","v":""}," ",{"$f":"TEXT(MICASH!I634,\"0000000000\")","v":"0000000000"},{"$f":"TEXT(MICASH!J634*100,\"0000000000\")","v":"0000000000"},{"$f":"TEXT(MONTH(MICASH!K634),\"00\") & TEXT(DAY(MICASH!K634),\"00\") & RIGHT(TEXT(YEAR(MICASH!K634),\"00\"),2)","v":"010000"},{"$f":"UPPER(LEFT(MICASH!L634,96))","v":""}]
["C",288,"00",{"$f":"TEXT(MICASH!D635,\"0000000000\")","v":"0000000000"}," ",{"$f":"UPPER(MICASH!F635)","v":""},{"$f":"UPPER(MICASH!G635)","v":""}," ",{"$f":"TEXT(MICASH!I635,\"0000000000\")","v":"0000000000"},{"$f":"TEXT(MICASH!J635*100,\"0000000000\")","v":"0000000000"},{"$f":"TEXT(MONTH(MICASH!K635),\"00\") & TEXT(DAY(MICASH!K635),\"00\") & RIGHT(TEXT(YEAR(MICASH!K635),\"00\"),2)","v":"010000"},{"$f":"UPPER(LEFT(MICASH!L635,96))","v":""}]
["C",288,"00",{"$f":"TEXT(MICASH!D636,\"0000000000\")","v":"0000000000"}," ",{"$f":"UPPER(MICASH!F636)","v":""},{"$f":"UPPER(MICASH!G636)","v":""}," ",{"$f":"TEXT(MICASH!I636,\"0000000000\")","v":"0000000000"},{"$f":"TEXT(MICASH!J636*100,\"0000000000\")","v":"0000000000"},{"$f":"TEXT(MONTH(MICASH!K636),\"00\") & TEXT(DAY(MICASH!K636),\"00\") & RIGHT(TEXT(YEAR(MICASH!K636),\"00\"),2)","v":"010000"},{"$f":"UPPER(LEFT(MICASH!L636,96))","v":""}]
["C",288,"00",{"$f":"TEXT(MICASH!D637,\"0000000000\")","v":"0000000000"}," ",{"$f":"UPPER(MICASH!F637)","v":""},{"$f":"UPPER(MICASH!G637)","v":""}," ",{"$f":"TEXT(MICASH!I637,\"0000000000\")","v":"0000000000"},{"$f":"TEXT(MICASH!J637*100,\"0000000000\")","v":"0000000000"},{"$f":"TEXT(MONTH(MICASH!K637),\"00\") & TEXT(DAY(MICASH!K637),\"00\") & RIGHT(TEXT(YEAR(MICASH!K637),\"00\"),2)","v":"010000"},{"$f":"UPPER(LEFT(MICASH!L637,96))","v":""}]
["C",288,"00",{"$f":"TEXT(MICASH!D638,\"0000000000\")","v":"0000000000"}," ",{"$f":"UPPER(MICASH!F638)","v":""},{"$f":"UPPER(MICASH!G638)","v":""}," ",{"$f":"TEXT(MICASH!I638,\"0000000000\")","v":"0000000000"},{"$f":"TEXT(MICASH!J638*100,\"0000000000\")","v":"0000000000"},{"$f":"TEXT(MONTH(MICASH!K638),\"00\") & TEXT(DAY(MICASH!K638),\"00\") & RIGHT(TEXT(YEAR(MICASH!K638),\"00\"),2)","v":"010000"},{"$f":"UPPER(LEFT(MICASH!L638,96))","v":""}]
["C",288,"00",{"$f":"TEXT(MICASH!D639,\"0000000000\")","v":"0000000000"}," ",{"$f":"UPPER(MICASH!F639)","v":""},{"$f":"UPPER(MICASH!G639)","v":""}," ",{"$f":"TEXT(MICASH!I639,\"0000000000\")","v":"0000000000"},{"$f":"TEXT(MICASH!J639*100,\"0000000000\")","v":"0000000000"},{"$f":"TEXT(MONTH(MICASH!K639),\"00\") & TEXT(DAY(MICASH!K639),\"00\") & RIGHT(TEXT(YEAR(MICASH!K639),\"00\"),2)","v":"010000"},{"$f":"UPPER(LEFT(MICASH!L639,96))","v":""}]
["C",288,"00",{"$f":"TEXT(MICASH!D640,\"0000000000\")","v":"0000000000"}," ",{"$f":"UPPER(MICASH!F640)","v":""},{"$f":"UPPER(MICASH!G640)","v":""}," ",{"$f":"TEXT(MICASH!I640,\"0000000000\")","v":"0000000000"},{"$f":"TEXT(MICASH!J640*100,\"0000000000\")","v":"0000000000"},{"$f":"TEXT(MONTH(MICASH!K640),\"00\") & TEXT(DAY(MICASH!K640),\"00\") & RIGHT(TEXT(YEAR(MICASH!K640),\"00\"),2)","v":"010000"},{"$f":"UPPER(LEFT(MICASH!L640,96))","v":""}]
["C",288,"00",{"$f":"TEXT(MICASH!D641,\"0000000000\")","v":"0000000000"}," ",{"$f":"UPPER(MICASH!F641)","v":""},{"$f":"UPPER(MICASH!G641)","v":""}," ",{"$f":"TEXT(MICASH!I641,\"0000000000\")","v":"0000000000"},{"$f":"TEXT(MICASH!J641*100,\"0000000000\")","v":"0000000000"},{"$f":"TEXT(MONTH(MICASH!K641),\"00\") & TEXT(DAY(MICASH!K641),\"00\") & RIGHT(TEXT(YEAR(MICASH!K641),\"00\"),2)","v":"010000"},{"$f":"UPPER(LEFT(MICASH!L641,96))","v":""}]
["C",288,"00",{"$f":"TEXT(MICASH!D642,\"0000000000\")","v":"0000000000"}," ",{"$f":"UPPER(MICASH!F642)","v":""},{"$f":"UPPER(MICASH!G642)","v":""}," ",{"$f":"TEXT(MICASH!I642,\"0000000000\")","v":"0000000000"},{"$f":"TEXT(MICASH!J642*100,\"0000000000\")","v":"0000000000"},{"$f":"TEXT(MONTH(MICASH!K642),\"00\") & TEXT(DAY(MICASH!K642),\"00\") & RIGHT(TEXT(YEAR(MICASH!K642),\"00\"),2)","v":"010000"},{"$f":"UPPER(LEFT(MICASH!L642,96))","v":""}]
["C",288,"00",{"$f":"TEXT(MICASH!D643,\"0000000000\")","v":"0000000000"}," ",{"$f":"UPPER(MICASH!F643)","v":""},{"$f":"UPPER(MICASH!G643)","v":""}," ",{"$f":"TEXT(MICASH!I643,\"0000000000\")","v":"0000000000"},{"$f":"TEXT(MICASH!J643*100,\"0000000000\")","v":"0000000000"},{"$f":"TEXT(MONTH(MICASH!K643),\"00\") & TEXT(DAY(MICASH!K643),\"00\") & RIGHT(TEXT(YEAR(MICASH!K643),\"00\"),2)","v":"010000"},{"$f":"UPPER(LEFT(MICASH!L643,96))","v":""}]
["C",288,"00",{"$f":"TEXT(MICASH!D644,\"0000000000\")","v":"0000000000"}," ",{"$f":"UPPER(MICASH!F644)","v":""},{"$f":"UPPER(MICASH!G644)","v":""}," ",{"$f":"TEXT(MICASH!I644,\"0000000000\")","v":"0000000000"},{"$f":"TEXT(MICASH!J644*100,\"0000000000\")","v":"0000000000"},{"$f":"TEXT(MONTH(MICASH!K644),\"00\") & TEXT(DAY(MICASH!K644),\"00\") & RIGHT(TEXT(YEAR(MICASH!K644),\"00\"),2)","v":"010000"},{"$f":"UPPER(LEFT(MICASH!L644,96))","v":""}]
["C",288,"00",{"$f":"TEXT(MICASH!D645,\"0000000000\")","v":"0000000000"}," ",{"$f":"UPPER(MICASH!F645)","v":""},{"$f":"UPPER(MICASH!G645)","v":""}," ",{"$f":"TEXT(MICASH!I645,\"0000000000\")","v":"0000000000"},{"$f":"TEXT(MICASH!J645*100,\"0000000000\")","v":"0000000000"},{"$f":"TEXT(MONTH(MICASH!K645),\"00\") & TEXT(DAY(MICASH!K645),\"00\") & RIGHT(TEXT(YEAR(MICASH!K645),\"00\"),2)","v":"010000"},{"$f":"UPPER(LEFT(MICASH!L645,96))","v":""}]
["C",288,"00",{"$f":"TEXT(MICASH!D646,\"0000000000\")","v":"0000000000"}," ",{"$f":"UPPER(MICASH!F646)","v":""},{"$f":"UPPER(MICASH!G646)","v":""}," ",{"$f":"TEXT(MICASH!I646,\"0000000000\")","v":"0000000000"},{"$f":"TEXT(MICASH!J646*100,\"0000000000\")","v":"0000000000"},{"$f":"TEXT(MONTH(MICASH!K646),\"00\") & TEXT(DAY(MICASH!K646),\"00\") & RIGHT(TEXT(YEAR(MICASH!K646),\"00\"),2)","v":"010000"},{"$f":"UPPER(LEFT(MICASH!L646,96))","v":""}]
["C",288,"00",{"$f":"TEXT(MICASH!D647,\"0000000000\")","v":"0000000000"}," ",{"$f":"UPPER(MICASH!F647)","v":""},{"$f":"UPPER(MICASH!G647)","v":""}," ",{"$f":"TEXT(MICASH!I647,\"0000000000\")","v":"0000000000"},{"$f":"TEXT(MICASH!J647*100,\"0000000000\")","v":"0000000000"},{"$f":"TEXT(MONTH(MICASH!K647),\"00\") & TEXT(DAY(MICASH!K647),\"00\") & RIGHT(TEXT(YEAR(MICASH!K647),\"00\"),2)","v":"010000"},{"$f":"UPPER(LEFT(MICASH!L647,96))","v":""}]
["C",288,"00",{"$f":"TEXT(MICASH!D648,\"0000000000\")","v":"0000000000"}," ",{"$f":"UPPER(MICASH!F648)","v":""},{"$f":"UPPER(MICASH!G648)","v":""}," ",{"$f":"TEXT(MICASH!I648,\"0000000000\")","v":"0000000000"},{"$f":"TEXT(MICASH!J648*100,\"0000000000\")","v":"0000000000"},{"$f":"TEXT(MONTH(MICASH!K648),\"00\") & TEXT(DAY(MICASH!K648),\"00\") & RIGHT(TEXT(YEAR(MICASH!K648),\"00\"),2)","v":"010000"},{"$f":"UPPER(LEFT(MICASH!L648,96))","v":""}]
["C",288,"00",{"$f":"TEXT(MICASH!D649,\"0000000000\")","v":"0000000000"}," ",{"$f":"UPPER(MICASH!F649)","v":""},{"$f":"UPPER(MICASH!G649)","v":""}," ",{"$f":"TEXT(MICASH!I649,\"0000000000\")","v":"0000000000"},{"$f":"TEXT(MICASH!J649*100,\"0000000000\")","v":"0000000000"},{"$f":"TEXT(MONTH(MICASH!K649),\"00\") & TEXT(DAY(MICASH!K649),\"00\") & RIGHT(TEXT(YEAR(MICASH!K649),\"00\"),2)","v":"010000"},{"$f":"UPPER(LEFT(MICASH!L649,96))","v":""}]
["C",288,"00",{"$f":"TEXT(MICASH!D650,\"0000000000\")","v":"0000000000"}," ",{"$f":"UPPER(MICASH!F650)","v":""},{"$f":"UPPER(MICASH!G650)","v":""}," ",{"$f":"TEXT(MICASH!I650,\"0000000000\")","v":"0000000000"},{"$f":"TEXT(MICASH!J650*100,\"0000000000\")","v":"0000000000"},{"$f":"TEXT(MONTH(MICASH!K650),\"00\") & TEXT(DAY(MICASH!K650),\"00\") & RIGHT(TEXT(YEAR(MICASH!K650),\"00\"),2)","v":"010000"},{"$f":"UPPER(LEFT(MICASH!L650,96))","v":""}]
["C",288,"00",{"$f":"TEXT(MICASH!D651,\"0000000000\")","v":"0000000000"}," ",{"$f":"UPPER(MICASH!F651)","v":""},{"$f":"UPPER(MICASH!G651)","v":""}," ",{"$f":"TEXT(MICASH!I651,\"0000000000\")","v":"0000000000"},{"$f":"TEXT(MICASH!J651*100,\"0000000000\")","v":"0000000000"},{"$f":"TEXT(MONTH(MICASH!K651),\"00\") & TEXT(DAY(MICASH!K651),\"00\") & RIGHT(TEXT(YEAR(MICASH!K651),\"00\"),2)","v":"010000"},{"$f":"UPPER(LEFT(MICASH!L651,96))","v":""}]
["C",288,"00",{"$f":"TEXT(MICASH!D652,\"0000000000\")","v":"0000000000"}," ",{"$f":"UPPER(MICASH!F652)","v":""},{"$f":"UPPER(MICASH!G652)","v":""}," ",{"$f":"TEXT(MICASH!I652,\"0000000000\")","v":"0000000000"},{"$f":"TEXT(MICASH!J652*100,\"0000000000\")","v":"0000000000"},{"$f":"TEXT(MONTH(MICASH!K652),\"00\") & TEXT(DAY(MICASH!K652),\"00\") & RIGHT(TEXT(YEAR(MICASH!K652),\"00\"),2)","v":"010000"},{"$f":"UPPER(LEFT(MICASH!L652,96))","v":""}]
["C",288,"00",{"$f":"TEXT(MICASH!D653,\"0000000000\")","v":"0000000000"}," ",{"$f":"UPPER(MICASH!F653)","v":""},{"$f":"UPPER(MICASH!G653)","v":""}," ",{"$f":"TEXT(MICASH!I653,\"0000000000\")","v":"0000000000"},{"$f":"TEXT(MICASH!J653*100,\"0000000000\")","v":"0000000000"},{"$f":"TEXT(MONTH(MICASH!K653),\"00\") & TEXT(DAY(MICASH!K653),\"00\") & RIGHT(TEXT(YEAR(MICASH!K653),\"00\"),2)","v":"010000"},{"$f":"UPPER(LEFT(MICASH!L653,96))","v":""}]
["C",288,"00",{"$f":"TEXT(MICASH!D654,\"0000000000\")","v":"0000000000"}," ",{"$f":"UPPER(MICASH!F654)","v":""},{"$f":"UPPER(MICASH!G654)","v":""}," ",{"$f":"TEXT(MICASH!I654,\"0000000000\")","v":"0000000000"},{"$f":"TEXT(MICASH!J654*100,\"0000000000\")","v":"0000000000"},{"$f":"TEXT(MONTH(MICASH!K654),\"00\") & TEXT(DAY(MICASH!K654),\"00\") & RIGHT(TEXT(YEAR(MICASH!K654),\"00\"),2)","v":"010000"},{"$f":"UPPER(LEFT(MICASH!L654,96))","v":""}]
["C",288,"00",{"$f":"TEXT(MICASH!D655,\"0000000000\")","v":"0000000000"}," ",{"$f":"UPPER(MICASH!F655)","v":""},{"$f":"UPPER(MICASH!G655)","v":""}," ",{"$f":"TEXT(MICASH!I655,\"0000000000\")","v":"0000000000"},{"$f":"TEXT(MICASH!J655*100,\"0000000000\")","v":"0000000000"},{"$f":"TEXT(MONTH(MICASH!K655),\"00\") & TEXT(DAY(MICASH!K655),\"00\") & RIGHT(TEXT(YEAR(MICASH!K655),\"00\"),2)","v":"010000"},{"$f":"UPPER(LEFT(MICASH!L655,96))","v":""}]
["C",288,"00",{"$f":"TEXT(MICASH!D656,\"0000000000\")","v":"0000000000"}," ",{"$f":"UPPER(MICASH!F656)","v":""},{"$f":"UPPER(MICASH!G656)","v":""}," ",{"$f":"TEXT(MICASH!I656,\"0000000000\")","v":"0000000000"},{"$f":"TEXT(MICASH!J656*100,\"0000000000\")","v":"0000000000"},{"$f":"TEXT(MONTH(MICASH!K656),\"00\") & TEXT(DAY(MICASH!K656),\"00\") & RIGHT(TEXT(YEAR(MICASH!K656),\"00\"),2)","v":"010000"},{"$f":"UPPER(LEFT(MICASH!L656,96))","v":""}]
["C",288,"00",{"$f":"TEXT(MICASH!D657,\"0000000000\")","v":"0000000000"}," ",{"$f":"UPPER(MICASH!F657)","v":""},{"$f":"UPPER(MICASH!G657)","v":""}," ",{"$f":"TEXT(MICASH!I657,\"0000000000\")","v":"0000000000"},{"$f":"TEXT(MICASH!J657*100,\"0000000000\")","v":"0000000000"},{"$f":"TEXT(MONTH(MICASH!K657),\"00\") & TEXT(DAY(MICASH!K657),\"00\") & RIGHT(TEXT(YEAR(MICASH!K657),\"00\"),2)","v":"010000"},{"$f":"UPPER(LEFT(MICASH!L657,96))","v":""}]
["C",288,"00",{"$f":"TEXT(MICASH!D658,\"0000000000\")","v":"0000000000"}," ",{"$f":"UPPER(MICASH!F658)","v":""},{"$f":"UPPER(MICASH!G658)","v":""}," ",{"$f":"TEXT(MICASH!I658,\"0000000000\")","v":"0000000000"},{"$f":"TEXT(MICASH!J658*100,\"0000000000\")","v":"0000000000"},{"$f":"TEXT(MONTH(MICASH!K658),\"00\") & TEXT(DAY(MICASH!K658),\"00\") & RIGHT(TEXT(YEAR(MICASH!K658),\"00\"),2)","v":"010000"},{"$f":"UPPER(LEFT(MICASH!L658,96))","v":""}]
["C",288,"00",{"$f":"TEXT(MICASH!D659,\"0000000000\")","v":"0000000000"}," ",{"$f":"UPPER(MICASH!F659)","v":""},{"$f":"UPPER(MICASH!G659)","v":""}," ",{"$f":"TEXT(MICASH!I659,\"0000000000\")","v":"0000000000"},{"$f":"TEXT(MICASH!J659*100,\"0000000000\")","v":"0000000000"},{"$f":"TEXT(MONTH(MICASH!K659),\"00\") & TEXT(DAY(MICASH!K659),\"00\") & RIGHT(TEXT(YEAR(MICASH!K659),\"00\"),2)","v":"010000"},{"$f":"UPPER(LEFT(MICASH!L659,96))","v":""}]
["C",288,"00",{"$f":"TEXT(MICASH!D660,\"0000000000\")","v":"0000000000"}," ",{"$f":"UPPER(MICASH!F660)","v":""},{"$f":"UPPER(MICASH!G660)","v":""}," ",{"$f":"TEXT(MICASH!I660,\"0000000000\")","v":"0000000000"},{"$f":"TEXT(MICASH!J660*100,\"0000000000\")","v":"0000000000"},{"$f":"TEXT(MONTH(MICASH!K660),\"00\") & TEXT(DAY(MICASH!K660),\"00\") & RIGHT(TEXT(YEAR(MICASH!K660),\"00\"),2)","v":"010000"},{"$f":"UPPER(LEFT(MICASH!L660,96))","v":""}]
["C",288,"00",{"$f":"TEXT(MICASH!D661,\"0000000000\")","v":"0000000000"}," ",{"$f":"UPPER(MICASH!F661)","v":""},{"$f":"UPPER(MICASH!G661)","v":""}," ",{"$f":"TEXT(MICASH!I661,\"0000000000\")","v":"0000000000"},{"$f":"TEXT(MICASH!J661*100,\"0000000000\")","v":"0000000000"},{"$f":"TEXT(MONTH(MICASH!K661),\"00\") & TEXT(DAY(MICASH!K661),\"00\") & RIGHT(TEXT(YEAR(MICASH!K661),\"00\"),2)","v":"010000"},{"$f":"UPPER(LEFT(MICASH!L661,96))","v":""}]
["C",288,"00",{"$f":"TEXT(MICASH!D662,\"0000000000\")","v":"0000000000"}," ",{"$f":"UPPER(MICASH!F662)","v":""},{"$f":"UPPER(MICASH!G662)","v":""}," ",{"$f":"TEXT(MICASH!I662,\"0000000000\")","v":"0000000000"},{"$f":"TEXT(MICASH!J662*100,\"0000000000\")","v":"0000000000"},{"$f":"TEXT(MONTH(MICASH!K662),\"00\") & TEXT(DAY(MICASH!K662),\"00\") & RIGHT(TEXT(YEAR(MICASH!K662),\"00\"),2)","v":"010000"},{"$f":"UPPER(LEFT(MICASH!L662,96))","v":""}]
["C",288,"00",{"$f":"TEXT(MICASH!D663,\"0000000000\")","v":"0000000000"}," ",{"$f":"UPPER(MICASH!F663)","v":""},{"$f":"UPPER(MICASH!G663)","v":""}," ",{"$f":"TEXT(MICASH!I663,\"0000000000\")","v":"0000000000"},{"$f":"TEXT(MICASH!J663*100,\"0000000000\")","v":"0000000000"},{"$f":"TEXT(MONTH(MICASH!K663),\"00\") & TEXT(DAY(MICASH!K663),\"00\") & RIGHT(TEXT(YEAR(MICASH!K663),\"00\"),2)","v":"010000"},{"$f":"UPPER(LEFT(MICASH!L663,96))","v":""}]
["C",288,"00",{"$f":"TEXT(MICASH!D664,\"0000000000\")","v":"0000000000"}," ",{"$f":"UPPER(MICASH!F664)","v":""},{"$f":"UPPER(MICASH!G664)","v":""}," ",{"$f":"TEXT(MICASH!I664,\"0000000000\")","v":"0000000000"},{"$f":"TEXT(MICASH!J664*100,\"0000000000\")","v":"0000000000"},{"$f":"TEXT(MONTH(MICASH!K664),\"00\") & TEXT(DAY(MICASH!K664),\"00\") & RIGHT(TEXT(YEAR(MICASH!K664),\"00\"),2)","v":"010000"},{"$f":"UPPER(LEFT(MICASH!L664,96))","v":""}]
["C",288,"00",{"$f":"TEXT(MICASH!D665,\"0000000000\")","v":"0000000000"}," ",{"$f":"UPPER(MICASH!F665)","v":""},{"$f":"UPPER(MICASH!G665)","v":""}," ",{"$f":"TEXT(MICASH!I665,\"0000000000\")","v":"0000000000"},{"$f":"TEXT(MICASH!J665*100,\"0000000000\")","v":"0000000000"},{"$f":"TEXT(MONTH(MICASH!K665),\"00\") & TEXT(DAY(MICASH!K665),\"00\") & RIGHT(TEXT(YEAR(MICASH!K665),\"00\"),2)","v":"010000"},{"$f":"UPPER(LEFT(MICASH!L665,96))","v":""}]
["C",288,"00",{"$f":"TEXT(MICASH!D666,\"0000000000\")","v":"0000000000"}," ",{"$f":"UPPER(MICASH!F666)","v":""},{"$f":"UPPER(MICASH!G666)","v":""}," ",{"$f":"TEXT(MICASH!I666,\"0000000000\")","v":"0000000000"},{"$f":"TEXT(MICASH!J666*100,\"0000000000\")","v":"0000000000"},{"$f":"TEXT(MONTH(MICASH!K666),\"00\") & TEXT(DAY(MICASH!K666),\"00\") & RIGHT(TEXT(YEAR(MICASH!K666),\"00\"),2)","v":"010000"},{"$f":"UPPER(LEFT(MICASH!L666,96))","v":""}]
["C",288,"00",{"$f":"TEXT(MICASH!D667,\"0000000000\")","v":"0000000000"}," ",{"$f":"UPPER(MICASH!F667)","v":""},{"$f":"UPPER(MICASH!G667)","v":""}," ",{"$f":"TEXT(MICASH!I667,\"0000000000\")","v":"0000000000"},{"$f":"TEXT(MICASH!J667*100,\"0000000000\")","v":"0000000000"},{"$f":"TEXT(MONTH(MICASH!K667),\"00\") & TEXT(DAY(MICASH!K667),\"00\") & RIGHT(TEXT(YEAR(MICASH!K667),\"00\"),2)","v":"010000"},{"$f":"UPPER(LEFT(MICASH!L667,96))","v":""}]
["C",288,"00",{"$f":"TEXT(MICASH!D668,\"0000000000\")","v":"0000000000"}," ",{"$f":"UPPER(MICASH!F668)","v":""},{"$f":"UPPER(MICASH!G668)","v":""}," ",{"$f":"TEXT(MICASH!I668,\"0000000000\")","v":"0000000000"},{"$f":"TEXT(MICASH!J668*100,\"0000000000\")","v":"0000000000"},{"$f":"TEXT(MONTH(MICASH!K668),\"00\") & TEXT(DAY(MICASH!K668),\"00\") & RIGHT(TEXT(YEAR(MICASH!K668),\"00\"),2)","v":"010000"},{"$f":"UPPER(LEFT(MICASH!L668,96))","v":""}]
["C",288,"00",{"$f":"TEXT(MICASH!D669,\"0000000000\")","v":"0000000000"}," ",{"$f":"UPPER(MICASH!F669)","v":""},{"$f":"UPPER(MICASH!G669)","v":""}," ",{"$f":"TEXT(MICASH!I669,\"0000000000\")","v":"0000000000"},{"$f":"TEXT(MICASH!J669*100,\"0000000000\")","v":"0000000000"},{"$f":"TEXT(MONTH(MICASH!K669),\"00\") & TEXT(DAY(MICASH!K669),\"00\") & RIGHT(TEXT(YEAR(MICASH!K669),\"00\"),2)","v":"010000"},{"$f":"UPPER(LEFT(MICASH!L669,96))","v":""}]
["C",288,"00",{"$f":"TEXT(MICASH!D670,\"0000000000\")","v":"0000000000"}," ",{"$f":"UPPER(MICASH!F670)","v":""},{"$f":"UPPER(MICASH!G670)","v":""}," ",{"$f":"TEXT(MICASH!I670,\"0000000000\")","v":"0000000000"},{"$f":"TEXT(MICASH!J670*100,\"0000000000\")","v":"0000000000"},{"$f":"TEXT(MONTH(MICASH!K670),\"00\") & TEXT(DAY(MICASH!K670),\"00\") & RIGHT(TEXT(YEAR(MICASH!K670),\"00\"),2)","v":"010000"},{"$f":"UPPER(LEFT(MICASH!L670,96))","v":""}]
["C",288,"00",{"$f":"TEXT(MICASH!D671,\"0000000000\")","v":"0000000000"}," ",{"$f":"UPPER(MICASH!F671)","v":""},{"$f":"UPPER(MICASH!G671)","v":""}," ",{"$f":"TEXT(MICASH!I671,\"0000000000\")","v":"0000000000"},{"$f":"TEXT(MICASH!J671*100,\"0000000000\")","v":"0000000000"},{"$f":"TEXT(MONTH(MICASH!K671),\"00\") & TEXT(DAY(MICASH!K671),\"00\") & RIGHT(TEXT(YEAR(MICASH!K671),\"00\"),2)","v":"010000"},{"$f":"UPPER(LEFT(MICASH!L671,96))","v":""}]
["C",288,"00",{"$f":"TEXT(MICASH!D672,\"0000000000\")","v":"0000000000"}," ",{"$f":"UPPER(MICASH!F672)","v":""},{"$f":"UPPER(MICASH!G672)","v":""}," ",{"$f":"TEXT(MICASH!I672,\"0000000000\")","v":"0000000000"},{"$f":"TEXT(MICASH!J672*100,\"0000000000\")","v":"0000000000"},{"$f":"TEXT(MONTH(MICASH!K672),\"00\") & TEXT(DAY(MICASH!K672),\"00\") & RIGHT(TEXT(YEAR(MICASH!K672),\"00\"),2)","v":"010000"},{"$f":"UPPER(LEFT(MICASH!L672,96))","v":""}]
["C",288,"00",{"$f":"TEXT(MICASH!D673,\"0000000000\")","v":"0000000000"}," ",{"$f":"UPPER(MICASH!F673)","v":""},{"$f":"UPPER(MICASH!G673)","v":""}," ",{"$f":"TEXT(MICASH!I673,\"0000000000\")","v":"0000000000"},{"$f":"TEXT(MICASH!J673*100,\"0000000000\")","v":"0000000000"},{"$f":"TEXT(MONTH(MICASH!K673),\"00\") & TEXT(DAY(MICASH!K673),\"00\") & RIGHT(TEXT(YEAR(MICASH!K673),\"00\"),2)","v":"010000"},{"$f":"UPPER(LEFT(MICASH!L673,96))","v":""}]
["C",288,"00",{"$f":"TEXT(MICASH!D674,\"0000000000\")","v":"0000000000"}," ",{"$f":"UPPER(MICASH!F674)","v":""},{"$f":"UPPER(MICASH!G674)","v":""}," ",{"$f":"TEXT(MICASH!I674,\"0000000000\")","v":"0000000000"},{"$f":"TEXT(MICASH!J674*100,\"0000000000\")","v":"0000000000"},{"$f":"TEXT(MONTH(MICASH!K674),\"00\") & TEXT(DAY(MICASH!K674),\"00\") & RIGHT(TEXT(YEAR(MICASH!K674),\"00\"),2)","v":"010000"},{"$f":"UPPER(LEFT(MICASH!L674,96))","v":""}]
["C",288,"00",{"$f":"TEXT(MICASH!D675,\"0000000000\")","v":"0000000000"}," ",{"$f":"UPPER(MICASH!F675)","v":""},{"$f":"UPPER(MICASH!G675)","v":""}," ",{"$f":"TEXT(MICASH!I675,\"0000000000\")","v":"0000000000"},{"$f":"TEXT(MICASH!J675*100,\"0000000000\")","v":"0000000000"},{"$f":"TEXT(MONTH(MICASH!K675),\"00\") & TEXT(DAY(MICASH!K675),\"00\") & RIGHT(TEXT(YEAR(MICASH!K675),\"00\"),2)","v":"010000"},{"$f":"UPPER(LEFT(MICASH!L675,96))","v":""}]
["C",288,"00",{"$f":"TEXT(MICASH!D676,\"0000000000\")","v":"0000000000"}," ",{"$f":"UPPER(MICASH!F676)","v":""},{"$f":"UPPER(MICASH!G676)","v":""}," ",{"$f":"TEXT(MICASH!I676,\"0000000000\")","v":"0000000000"},{"$f":"TEXT(MICASH!J676*100,\"0000000000\")","v":"0000000000"},{"$f":"TEXT(MONTH(MICASH!K676),\"00\") & TEXT(DAY(MICASH!K676),\"00\") & RIGHT(TEXT(YEAR(MICASH!K676),\"00\"),2)","v":"010000"},{"$f":"UPPER(LEFT(MICASH!L676,96))","v":""}]
["C",288,"00",{"$f":"TEXT(MICASH!D677,\"0000000000\")","v":"0000000000"}," ",{"$f":"UPPER(MICASH!F677)","v":""},{"$f":"UPPER(MICASH!G677)","v":""}," ",{"$f":"TEXT(MICASH!I677,\"0000000000\")","v":"0000000000"},{"$f":"TEXT(MICASH!J677*100,\"0000000000\")","v":"0000000000"},{"$f":"TEXT(MONTH(MICASH!K677),\"00\") & TEXT(DAY(MICASH!K677),\"00\") & RIGHT(TEXT(YEAR(MICASH!K677),\"00\"),2)","v":"010000"},{"$f":"UPPER(LEFT(MICASH!L677,96))","v":""}]
["C",288,"00",{"$f":"TEXT(MICASH!D678,\"0000000000\")","v":"0000000000"}," ",{"$f":"UPPER(MICASH!F678)","v":""},{"$f":"UPPER(MICASH!G678)","v":""}," ",{"$f":"TEXT(MICASH!I678,\"0000000000\")","v":"0000000000"},{"$f":"TEXT(MICASH!J678*100,\"0000000000\")","v":"0000000000"},{"$f":"TEXT(MONTH(MICASH!K678),\"00\") & TEXT(DAY(MICASH!K678),\"00\") & RIGHT(TEXT(YEAR(MICASH!K678),\"00\"),2)","v":"010000"},{"$f":"UPPER(LEFT(MICASH!L678,96))","v":""}]
["C",288,"00",{"$f":"TEXT(MICASH!D679,\"0000000000\")","v":"0000000000"}," ",{"$f":"UPPER(MICASH!F679)","v":""},{"$f":"UPPER(MICASH!G679)","v":""}," ",{"$f":"TEXT(MICASH!I679,\"0000000000\")","v":"0000000000"},{"$f":"TEXT(MICASH!J679*100,\"0000000000\")","v":"0000000000"},{"$f":"TEXT(MONTH(MICASH!K679),\"00\") & TEXT(DAY(MICASH!K679),\"00\") & RIGHT(TEXT(YEAR(MICASH!K679),\"00\"),2)","v":"010000"},{"$f":"UPPER(LEFT(MICASH!L679,96))","v":""}]
["C",288,"00",{"$f":"TEXT(MICASH!D680,\"0000000000\")","v":"0000000000"}," ",{"$f":"UPPER(MICASH!F680)","v":""},{"$f":"UPPER(MICASH!G680)","v":""}," ",{"$f":"TEXT(MICASH!I680,\"0000000000\")","v":"0000000000"},{"$f":"TEXT(MICASH!J680*100,\"0000000000\")","v":"0000000000"},{"$f":"TEXT(MONTH(MICASH!K680),\"00\") & TEXT(DAY(MICASH!K680),\"00\") & RIGHT(TEXT(YEAR(MICASH!K680),\"00\"),2)","v":"010000"},{"$f":"UPPER(LEFT(MICASH!L680,96))","v":""}]
["C",288,"00",{"$f":"TEXT(MICASH!D681,\"0000000000\")","v":"0000000000"}," ",{"$f":"UPPER(MICASH!F681)","v":""},{"$f":"UPPER(MICASH!G681)","v":""}," ",{"$f":"TEXT(MICASH!I681,\"0000000000\")","v":"0000000000"},{"$f":"TEXT(MICASH!J681*100,\"0000000000\")","v":"0000000000"},{"$f":"TEXT(MONTH(MICASH!K681),\"00\") & TEXT(DAY(MICASH!K681),\"00\") & RIGHT(TEXT(YEAR(MICASH!K681),\"00\"),2)","v":"010000"},{"$f":"UPPER(LEFT(MICASH!L681,96))","v":""}]
["C",288,"00",{"$f":"TEXT(MICASH!D682,\"0000000000\")","v":"0000000000"}," ",{"$f":"UPPER(MICASH!F682)","v":""},{"$f":"UPPER(MICASH!G682)","v":""}," ",{"$f":"TEXT(MICASH!I682,\"0000000000\")","v":"0000000000"},{"$f":"TEXT(MICASH!J682*100,\"0000000000\")","v":"0000000000"},{"$f":"TEXT(MONTH(MICASH!K682),\"00\") & TEXT(DAY(MICASH!K682),\"00\") & RIGHT(TEXT(YEAR(MICASH!K682),\"00\"),2)","v":"010000"},{"$f":"UPPER(LEFT(MICASH!L682,96))","v":""}]
["C",288,"00",{"$f":"TEXT(MICASH!D683,\"0000000000\")","v":"0000000000"}," ",{"$f":"UPPER(MICASH!F683)","v":""},{"$f":"UPPER(MICASH!G683)","v":""}," ",{"$f":"TEXT(MICASH!I683,\"0000000000\")","v":"0000000000"},{"$f":"TEXT(MICASH!J683*100,\"0000000000\")","v":"0000000000"},{"$f":"TEXT(MONTH(MICASH!K683),\"00\") & TEXT(DAY(MICASH!K683),\"00\") & RIGHT(TEXT(YEAR(MICASH!K683),\"00\"),2)","v":"010000"},{"$f":"UPPER(LEFT(MICASH!L683,96))","v":""}]
["C",288,"00",{"$f":"TEXT(MICASH!D684,\"0000000000\")","v":"0000000000"}," ",{"$f":"UPPER(MICASH!F684)","v":""},{"$f":"UPPER(MICASH!G684)","v":""}," ",{"$f":"TEXT(MICASH!I684,\"0000000000\")","v":"0000000000"},{"$f":"TEXT(MICASH!J684*100,\"0000000000\")","v":"0000000000"},{"$f":"TEXT(MONTH(MICASH!K684),\"00\") & TEXT(DAY(MICASH!K684),\"00\") & RIGHT(TEXT(YEAR(MICASH!K684),\"00\"),2)","v":"010000"},{"$f":"UPPER(LEFT(MICASH!L684,96))","v":""}]
["C",288,"00",{"$f":"TEXT(MICASH!D685,\"0000000000\")","v":"0000000000"}," ",{"$f":"UPPER(MICASH!F685)","v":""},{"$f":"UPPER(MICASH!G685)","v":""}," ",{"$f":"TEXT(MICASH!I685,\"0000000000\")","v":"0000000000"},{"$f":"TEXT(MICASH!J685*100,\"0000000000\")","v":"0000000000"},{"$f":"TEXT(MONTH(MICASH!K685),\"00\") & TEXT(DAY(MICASH!K685),\"00\") & RIGHT(TEXT(YEAR(MICASH!K685),\"00\"),2)","v":"010000"},{"$f":"UPPER(LEFT(MICASH!L685,96))","v":""}]
["C",288,"00",{"$f":"TEXT(MICASH!D686,\"0000000000\")","v":"0000000000"}," ",{"$f":"UPPER(MICASH!F686)","v":""},{"$f":"UPPER(MICASH!G686)","v":""}," ",{"$f":"TEXT(MICASH!I686,\"0000000000\")","v":"0000000000"},{"$f":"TEXT(MICASH!J686*100,\"0000000000\")","v":"0000000000"},{"$f":"TEXT(MONTH(MICASH!K686),\"00\") & TEXT(DAY(MICASH!K686),\"00\") & RIGHT(TEXT(YEAR(MICASH!K686),\"00\"),2)","v":"010000"},{"$f":"UPPER(LEFT(MICASH!L686,96))","v":""}]
["C",288,"00",{"$f":"TEXT(MICASH!D687,\"0000000000\")","v":"0000000000"}," ",{"$f":"UPPER(MICASH!F687)","v":""},{"$f":"UPPER(MICASH!G687)","v":""}," ",{"$f":"TEXT(MICASH!I687,\"0000000000\")","v":"0000000000"},{"$f":"TEXT(MICASH!J687*100,\"0000000000\")","v":"0000000000"},{"$f":"TEXT(MONTH(MICASH!K687),\"00\") & TEXT(DAY(MICASH!K687),\"00\") & RIGHT(TEXT(YEAR(MICASH!K687),\"00\"),2)","v":"010000"},{"$f":"UPPER(LEFT(MICASH!L687,96))","v":""}]
["C",288,"00",{"$f":"TEXT(MICASH!D688,\"0000000000\")","v":"0000000000"}," ",{"$f":"UPPER(MICASH!F688)","v":""},{"$f":"UPPER(MICASH!G688)","v":""}," ",{"$f":"TEXT(MICASH!I688,\"0000000000\")","v":"0000000000"},{"$f":"TEXT(MICASH!J688*100,\"0000000000\")","v":"0000000000"},{"$f":"TEXT(MONTH(MICASH!K688),\"00\") & TEXT(DAY(MICASH!K688),\"00\") & RIGHT(TEXT(YEAR(MICASH!K688),\"00\"),2)","v":"010000"},{"$f":"UPPER(LEFT(MICASH!L688,96))","v":""}]
["C",288,"00",{"$f":"TEXT(MICASH!D689,\"0000000000\")","v":"0000000000"}," ",{"$f":"UPPER(MICASH!F689)","v":""},{"$f":"UPPER(MICASH!G689)","v":""}," ",{"$f":"TEXT(MICASH!I689,\"0000000000\")","v":"0000000000"},{"$f":"TEXT(MICASH!J689*100,\"0000000000\")","v":"0000000000"},{"$f":"TEXT(MONTH(MICASH!K689),\"00\") & TEXT(DAY(MICASH!K689),\"00\") & RIGHT(TEXT(YEAR(MICASH!K689),\"00\"),2)","v":"010000"},{"$f":"UPPER(LEFT(MICASH!L689,96))","v":""}]
["C",288,"00",{"$f":"TEXT(MICASH!D690,\"0000000000\")","v":"0000000000"}," ",{"$f":"UPPER(MICASH!F690)","v":""},{"$f":"UPPER(MICASH!G690)","v":""}," ",{"$f":"TEXT(MICASH!I690,\"0000000000\")","v":"0000000000"},{"$f":"TEXT(MICASH!J690*100,\"0000000000\")","v":"0000000000"},{"$f":"TEXT(MONTH(MICASH!K690),\"00\") & TEXT(DAY(MICASH!K690),\"00\") & RIGHT(TEXT(YEAR(MICASH!K690),\"00\"),2)","v":"010000"},{"$f":"UPPER(LEFT(MICASH!L690,96))","v":""}]
["C",288,"00",{"$f":"TEXT(MICASH!D691,\"0000000000\")","v":"0000000000"}," ",{"$f":"UPPER(MICASH!F691)","v":""},{"$f":"UPPER(MICASH!G691)","v":""}," ",{"$f":"TEXT(MICASH!I691,\"0000000000\")","v":"0000000000"},{"$f":"TEXT(MICASH!J691*100,\"0000000000\")","v":"0000000000"},{"$f":"TEXT(MONTH(MICASH!K691),\"00\") & TEXT(DAY(MICASH!K691),\"00\") & RIGHT(TEXT(YEAR(MICASH!K691),\"00\"),2)","v":"010000"},{"$f":"UPPER(LEFT(MICASH!L691,96))","v":""}]
["C",288,"00",{"$f":"TEXT(MICASH!D692,\"0000000000\")","v":"0000000000"}," ",{"$f":"UPPER(MICASH!F692)","v":""},{"$f":"UPPER(MICASH!G692)","v":""}," ",{"$f":"TEXT(MICASH!I692,\"0000000000\")","v":"0000000000"},{"$f":"TEXT(MICASH!J692*100,\"0000000000\")","v":"0000000000"},{"$f":"TEXT(MONTH(MICASH!K692),\"00\") & TEXT(DAY(MICASH!K692),\"00\") & RIGHT(TEXT(YEAR(MICASH!K692),\"00\"),2)","v":"010000"},{"$f":"UPPER(LEFT(MICASH!L692,96))","v":""}]
["C",288,"00",{"$f":"TEXT(MICASH!D693,\"0000000000\")","v":"0000000000"}," ",{"$f":"UPPER(MICASH!F693)","v":""},{"$f":"UPPER(MICASH!G693)","v":""}," ",{"$f":"TEXT(MICASH!I693,\"0000000000\")","v":"0000000000"},{"$f":"TEXT(MICASH!J693*100,\"0000000000\")","v":"0000000000"},{"$f":"TEXT(MONTH(MICASH!K693),\"00\") & TEXT(DAY(MICASH!K693),\"00\") & RIGHT(TEXT(YEAR(MICASH!K693),\"00\"),2)","v":"010000"},{"$f":"UPPER(LEFT(MICASH!L693,96))","v":""}]
["C",288,"00",{"$f":"TEXT(MICASH!D694,\"0000000000\")","v":"0000000000"}," ",{"$f":"UPPER(MICASH!F694)","v":""},{"$f":"UPPER(MICASH!G694)","v":""}," ",{"$f":"TEXT(MICASH!I694,\"0000000000\")","v":"0000000000"},{"$f":"TEXT(MICASH!J694*100,\"0000000000\")","v":"0000000000"},{"$f":"TEXT(MONTH(MICASH!K694),\"00\") & TEXT(DAY(MICASH!K694),\"00\") & RIGHT(TEXT(YEAR(MICASH!K694),\"00\"),2)","v":"010000"},{"$f":"UPPER(LEFT(MICASH!L694,96))","v":""}]
["C",288,"00",{"$f":"TEXT(MICASH!D695,\"0000000000\")","v":"0000000000"}," ",{"$f":"UPPER(MICASH!F695)","v":""},{"$f":"UPPER(MICASH!G695)","v":""}," ",{"$f":"TEXT(MICASH!I695,\"0000000000\")","v":"0000000000"},{"$f":"TEXT(MICASH!J695*100,\"0000000000\")","v":"0000000000"},{"$f":"TEXT(MONTH(MICASH!K695),\"00\") & TEXT(DAY(MICASH!K695),\"00\") & RIGHT(TEXT(YEAR(MICASH!K695),\"00\"),2)","v":"010000"},{"$f":"UPPER(LEFT(MICASH!L695,96))","v":""}]
["C",288,"00",{"$f":"TEXT(MICASH!D696,\"0000000000\")","v":"0000000000"}," ",{"$f":"UPPER(MICASH!F696)","v":""},{"$f":"UPPER(MICASH!G696)","v":""}," ",{"$f":"TEXT(MICASH!I696,\"0000000000\")","v":"0000000000"},{"$f":"TEXT(MICASH!J696*100,\"0000000000\")","v":"0000000000"},{"$f":"TEXT(MONTH(MICASH!K696),\"00\") & TEXT(DAY(MICASH!K696),\"00\") & RIGHT(TEXT(YEAR(MICASH!K696),\"00\"),2)","v":"010000"},{"$f":"UPPER(LEFT(MICASH!L696,96))","v":""}]
["C",288,"00",{"$f":"TEXT(MICASH!D697,\"0000000000\")","v":"0000000000"}," ",{"$f":"UPPER(MICASH!F697)","v":""},{"$f":"UPPER(MICASH!G697)","v":""}," ",{"$f":"TEXT(MICASH!I697,\"0000000000\")","v":"0000000000"},{"$f":"TEXT(MICASH!J697*100,\"0000000000\")","v":"0000000000"},{"$f":"TEXT(MONTH(MICASH!K697),\"00\") & TEXT(DAY(MICASH!K697),\"00\") & RIGHT(TEXT(YEAR(MICASH!K697),\"00\"),2)","v":"010000"},{"$f":"UPPER(LEFT(MICASH!L697,96))","v":""}]
["C",288,"00",{"$f":"TEXT(MICASH!D698,\"0000000000\")","v":"0000000000"}," ",{"$f":"UPPER(MICASH!F698)","v":""},{"$f":"UPPER(MICASH!G698)","v":""}," ",{"$f":"TEXT(MICASH!I698,\"0000000000\")","v":"0000000000"},{"$f":"TEXT(MICASH!J698*100,\"0000000000\")","v":"0000000000"},{"$f":"TEXT(MONTH(MICASH!K698),\"00\") & TEXT(DAY(MICASH!K698),\"00\") & RIGHT(TEXT(YEAR(MICASH!K698),\"00\"),2)","v":"010000"},{"$f":"UPPER(LEFT(MICASH!L698,96))","v":""}]
["C",288,"00",{"$f":"TEXT(MICASH!D699,\"0000000000\")","v":"0000000000"}," ",{"$f":"UPPER(MICASH!F699)","v":""},{"$f":"UPPER(MICASH!G699)","v":""}," ",{"$f":"TEXT(MICASH!I699,\"0000000000\")","v":"0000000000"},{"$f":"TEXT(MICASH!J699*100,\"0000000000\")","v":"0000000000"},{"$f":"TEXT(MONTH(MICASH!K699),\"00\") & TEXT(DAY(MICASH!K699),\"00\") & RIGHT(TEXT(YEAR(MICASH!K699),\"00\"),2)","v":"010000"},{"$f":"UPPER(LEFT(MICASH!L699,96))","v":""}]
["C",288,"00",{"$f":"TEXT(MICASH!D700,\"0000000000\")","v":"0000000000"}," ",{"$f":"UPPER(MICASH!F700)","v":""},{"$f":"UPPER(MICASH!G700)","v":""}," ",{"$f":"TEXT(MICASH!I700,\"0000000000\")","v":"0000000000"},{"$f":"TEXT(MICASH!J700*100,\"0000000000\")","v":"0000000000"},{"$f":"TEXT(MONTH(MICASH!K700),\"00\") & TEXT(DAY(MICASH!K700),\"00\") & RIGHT(TEXT(YEAR(MICASH!K700),\"00\"),2)","v":"010000"},{"$f":"UPPER(LEFT(MICASH!L700,96))","v":""}]
["C",288,"00",{"$f":"TEXT(MICASH!D701,\"0000000000\")","v":"0000000000"}," ",{"$f":"UPPER(MICASH!F701)","v":""},{"$f":"UPPER(MICASH!G701)","v":""}," ",{"$f":"TEXT(MICASH!I701,\"0000000000\")","v":"0000000000"},{"$f":"TEXT(MICASH!J701*100,\"0000000000\")","v":"0000000000"},{"$f":"TEXT(MONTH(MICASH!K701),\"00\") & TEXT(DAY(MICASH!K701),\"00\") & RIGHT(TEXT(YEAR(MICASH!K701),\"00\"),2)","v":"010000"},{"$f":"UPPER(LEFT(MICASH!L701,96))","v":""}]
["C",288,"00",{"$f":"TEXT(MICASH!D702,\"0000000000\")","v":"0000000000"}," ",{"$f":"UPPER(MICASH!F702)","v":""},{"$f":"UPPER(MICASH!G702)","v":""}," ",{"$f":"TEXT(MICASH!I702,\"0000000000\")","v":"0000000000"},{"$f":"TEXT(MICASH!J702*100,\"0000000000\")","v":"0000000000"},{"$f":"TEXT(MONTH(MICASH!K702),\"00\") & TEXT(DAY(MICASH!K702),\"00\") & RIGHT(TEXT(YEAR(MICASH!K702),\"00\"),2)","v":"010000"},{"$f":"UPPER(LEFT(MICASH!L702,96))","v":""}]
["C",288,"00",{"$f":"TEXT(MICASH!D703,\"0000000000\")","v":"0000000000"}," ",{"$f":"UPPER(MICASH!F703)","v":""},{"$f":"UPPER(MICASH!G703)","v":""}," ",{"$f":"TEXT(MICASH!I703,\"0000000000\")","v":"0000000000"},{"$f":"TEXT(MICASH!J703*100,\"0000000000\")","v":"0000000000"},{"$f":"TEXT(MONTH(MICASH!K703),\"00\") & TEXT(DAY(MICASH!K703),\"00\") & RIGHT(TEXT(YEAR(MICASH!K703),\"00\"),2)","v":"010000"},{"$f":"UPPER(LEFT(MICASH!L703,96))","v":""}]
["C",288,"00",{"$f":"TEXT(MICASH!D704,\"0000000000\")","v":"0000000000"}," ",{"$f":"UPPER(MICASH!F704)","v":""},{"$f":"UPPER(MICASH!G704)","v":""}," ",{"$f":"TEXT(MICASH!I704,\"0000000000\")","v":"0000000000"},{"$f":"TEXT(MICASH!J704*100,\"0000000000\")","v":"0000000000"},{"$f":"TEXT(MONTH(MICASH!K704),\"00\") & TEXT(DAY(MICASH!K704),\"00\") & RIGHT(TEXT(YEAR(MICASH!K704),\"00\"),2)","v":"010000"},{"$f":"UPPER(LEFT(MICASH!L704,96))","v":""}]
["C",288,"00",{"$f":"TEXT(MICASH!D705,\"0000000000\")","v":"0000000000"}," ",{"$f":"UPPER(MICASH!F705)","v":""},{"$f":"UPPER(MICASH!G705)","v":""}," ",{"$f":"TEXT(MICASH!I705,\"0000000000\")","v":"0000000000"},{"$f":"TEXT(MICASH!J705*100,\"0000000000\")","v":"0000000000"},{"$f":"TEXT(MONTH(MICASH!K705),\"00\") & TEXT(DAY(MICASH!K705),\"00\") & RIGHT(TEXT(YEAR(MICASH!K705),\"00\"),2)","v":"010000"},{"$f":"UPPER(LEFT(MICASH!L705,96))","v":""}]
["C",288,"00",{"$f":"TEXT(MICASH!D706,\"0000000000\")","v":"0000000000"}," ",{"$f":"UPPER(MICASH!F706)","v":""},{"$f":"UPPER(MICASH!G706)","v":""}," ",{"$f":"TEXT(MICASH!I706,\"0000000000\")","v":"0000000000"},{"$f":"TEXT(MICASH!J706*100,\"0000000000\")","v":"0000000000"},{"$f":"TEXT(MONTH(MICASH!K706),\"00\") & TEXT(DAY(MICASH!K706),\"00\") & RIGHT(TEXT(YEAR(MICASH!K706),\"00\"),2)","v":"010000"},{"$f":"UPPER(LEFT(MICASH!L706,96))","v":""}]
["C",288,"00",{"$f":"TEXT(MICASH!D707,\"0000000000\")","v":"0000000000"}," ",{"$f":"UPPER(MICASH!F707)","v":""},{"$f":"UPPER(MICASH!G707)","v":""}," ",{"$f":"TEXT(MICASH!I707,\"0000000000\")","v":"0000000000"},{"$f":"TEXT(MICASH!J707*100,\"0000000000\")","v":"0000000000"},{"$f":"TEXT(MONTH(MICASH!K707),\"00\") & TEXT(DAY(MICASH!K707),\"00\") & RIGHT(TEXT(YEAR(MICASH!K707),\"00\"),2)","v":"010000"},{"$f":"UPPER(LEFT(MICASH!L707,96))","v":""}]
["C",288,"00",{"$f":"TEXT(MICASH!D708,\"0000000000\")","v":"0000000000"}," ",{"$f":"UPPER(MICASH!F708)","v":""},{"$f":"UPPER(MICASH!G708)","v":""}," ",{"$f":"TEXT(MICASH!I708,\"0000000000\")","v":"0000000000"},{"$f":"TEXT(MICASH!J708*100,\"0000000000\")","v":"0000000000"},{"$f":"TEXT(MONTH(MICASH!K708),\"00\") & TEXT(DAY(MICASH!K708),\"00\") & RIGHT(TEXT(YEAR(MICASH!K708),\"00\"),2)","v":"010000"},{"$f":"UPPER(LEFT(MICASH!L708,96))","v":""}]
["C",288,"00",{"$f":"TEXT(MICASH!D709,\"0000000000\")","v":"0000000000"}," ",{"$f":"UPPER(MICASH!F709)","v":""},{"$f":"UPPER(MICASH!G709)","v":""}," ",{"$f":"TEXT(MICASH!I709,\"0000000000\")","v":"0000000000"},{"$f":"TEXT(MICASH!J709*100,\"0000000000\")","v":"0000000000"},{"$f":"TEXT(MONTH(MICASH!K709),\"00\") & TEXT(DAY(MICASH!K709),\"00\") & RIGHT(TEXT(YEAR(MICASH!K709),\"00\"),2)","v":"010000"},{"$f":"UPPER(LEFT(MICASH!L709,96))","v":""}]
["C",288,"00",{"$f":"TEXT(MICASH!D710,\"0000000000\")","v":"0000000000"}," ",{"$f":"UPPER(MICASH!F710)","v":""},{"$f":"UPPER(MICASH!G710)","v":""}," ",{"$f":"TEXT(MICASH!I710,\"0000000000\")","v":"0000000000"},{"$f":"TEXT(MICASH!J710*100,\"0000000000\")","v":"0000000000"},{"$f":"TEXT(MONTH(MICASH!K710),\"00\") & TEXT(DAY(MICASH!K710),\"00\") & RIGHT(TEXT(YEAR(MICASH!K710),\"00\"),2)","v":"010000"},{"$f":"UPPER(LEFT(MICASH!L710,96))","v":""}]
["C",288,"00",{"$f":"TEXT(MICASH!D711,\"0000000000\")","v":"0000000000"}," ",{"$f":"UPPER(MICASH!F711)","v":""},{"$f":"UPPER(MICASH!G711)","v":""}," ",{"$f":"TEXT(MICASH!I711,\"0000000000\")","v":"0000000000"},{"$f":"TEXT(MICASH!J711*100,\"0000000000\")","v":"0000000000"},{"$f":"TEXT(MONTH(MICASH!K711),\"00\") & TEXT(DAY(MICASH!K711),\"00\") & RIGHT(TEXT(YEAR(MICASH!K711),\"00\"),2)","v":"010000"},{"$f":"UPPER(LEFT(MICASH!L711,96))","v":""}]
["C",288,"00",{"$f":"TEXT(MICASH!D712,\"0000000000\")","v":"0000000000"}," ",{"$f":"UPPER(MICASH!F712)","v":""},{"$f":"UPPER(MICASH!G712)","v":""}," ",{"$f":"TEXT(MICASH!I712,\"0000000000\")","v":"0000000000"},{"$f":"TEXT(MICASH!J712*100,\"0000000000\")","v":"0000000000"},{"$f":"TEXT(MONTH(MICASH!K712),\"00\") & TEXT(DAY(MICASH!K712),\"00\") & RIGHT(TEXT(YEAR(MICASH!K712),\"00\"),2)","v":"010000"},{"$f":"UPPER(LEFT(MICASH!L712,96))","v":""}]
["C",288,"00",{"$f":"TEXT(MICASH!D713,\"0000000000\")","v":"0000000000"}," ",{"$f":"UPPER(MICASH!F713)","v":""},{"$f":"UPPER(MICASH!G713)","v":""}," ",{"$f":"TEXT(MICASH!I713,\"0000000000\")","v":"0000000000"},{"$f":"TEXT(MICASH!J713*100,\"0000000000\")","v":"0000000000"},{"$f":"TEXT(MONTH(MICASH!K713),\"00\") & TEXT(DAY(MICASH!K713),\"00\") & RIGHT(TEXT(YEAR(MICASH!K713),\"00\"),2)","v":"010000"},{"$f":"UPPER(LEFT(MICASH!L713,96))","v":""}]
["C",288,"00",{"$f":"TEXT(MICASH!D714,\"0000000000\")","v":"0000000000"}," ",{"$f":"UPPER(MICASH!F714)","v":""},{"$f":"UPPER(MICASH!G714)","v":""}," ",{"$f":"TEXT(MICASH!I714,\"0000000000\")","v":"0000000000"},{"$f":"TEXT(MICASH!J714*100,\"0000000000\")","v":"0000000000"},{"$f":"TEXT(MONTH(MICASH!K714),\"00\") & TEXT(DAY(MICASH!K714),\"00\") & RIGHT(TEXT(YEAR(MICASH!K714),\"00\"),2)","v":"010000"},{"$f":"UPPER(LEFT(MICASH!L714,96))","v":""}]
["C",288,"00",{"$f":"TEXT(MICASH!D715,\"0000000000\")","v":"0000000000"}," ",{"$f":"UPPER(MICASH!F715)","v":""},{"$f":"UPPER(MICASH!G715)","v":""}," ",{"$f":"TEXT(MICASH!I715,\"0000000000\")","v":"0000000000"},{"$f":"TEXT(MICASH!J715*100,\"0000000000\")","v":"0000000000"},{"$f":"TEXT(MONTH(MICASH!K715),\"00\") & TEXT(DAY(MICASH!K715),\"00\") & RIGHT(TEXT(YEAR(MICASH!K715),\"00\"),2)","v":"010000"},{"$f":"UPPER(LEFT(MICASH!L715,96))","v":""}]
["C",288,"00",{"$f":"TEXT(MICASH!D716,\"0000000000\")","v":"0000000000"}," ",{"$f":"UPPER(MICASH!F716)","v":""},{"$f":"UPPER(MICASH!G716)","v":""}," ",{"$f":"TEXT(MICASH!I716,\"0000000000\")","v":"0000000000"},{"$f":"TEXT(MICASH!J716*100,\"0000000000\")","v":"0000000000"},{"$f":"TEXT(MONTH(MICASH!K716),\"00\") & TEXT(DAY(MICASH!K716),\"00\") & RIGHT(TEXT(YEAR(MICASH!K716),\"00\"),2)","v":"010000"},{"$f":"UPPER(LEFT(MICASH!L716,96))","v":""}]
["C",288,"00",{"$f":"TEXT(MICASH!D717,\"0000000000\")","v":"0000000000"}," ",{"$f":"UPPER(MICASH!F717)","v":""},{"$f":"UPPER(MICASH!G717)","v":""}," ",{"$f":"TEXT(MICASH!I717,\"0000000000\")","v":"0000000000"},{"$f":"TEXT(MICASH!J717*100,\"0000000000\")","v":"0000000000"},{"$f":"TEXT(MONTH(MICASH!K717),\"00\") & TEXT(DAY(MICASH!K717),\"00\") & RIGHT(TEXT(YEAR(MICASH!K717),\"00\"),2)","v":"010000"},{"$f":"UPPER(LEFT(MICASH!L717,96))","v":""}]
["C",288,"00",{"$f":"TEXT(MICASH!D718,\"0000000000\")","v":"0000000000"}," ",{"$f":"UPPER(MICASH!F718)","v":""},{"$f":"UPPER(MICASH!G718)","v":""}," ",{"$f":"TEXT(MICASH!I718,\"0000000000\")","v":"0000000000"},{"$f":"TEXT(MICASH!J718*100,\"0000000000\")","v":"0000000000"},{"$f":"TEXT(MONTH(MICASH!K718),\"00\") & TEXT(DAY(MICASH!K718),\"00\") & RIGHT(TEXT(YEAR(MICASH!K718),\"00\"),2)","v":"010000"},{"$f":"UPPER(LEFT(MICASH!L718,96))","v":""}]
["C",288,"00",{"$f":"TEXT(MICASH!D719,\"0000000000\")","v":"0000000000"}," ",{"$f":"UPPER(MICASH!F719)","v":""},{"$f":"UPPER(MICASH!G719)","v":""}," ",{"$f":"TEXT(MICASH!I719,\"0000000000\")","v":"0000000000"},{"$f":"TEXT(MICASH!J719*100,\"0000000000\")","v":"0000000000"},{"$f":"TEXT(MONTH(MICASH!K719),\"00\") & TEXT(DAY(MICASH!K719),\"00\") & RIGHT(TEXT(YEAR(MICASH!K719),\"00\"),2)","v":"010000"},{"$f":"UPPER(LEFT(MICASH!L719,96))","v":""}]
["C",288,"00",{"$f":"TEXT(MICASH!D720,\"0000000000\")","v":"0000000000"}," ",{"$f":"UPPER(MICASH!F720)","v":""},{"$f":"UPPER(MICASH!G720)","v":""}," ",{"$f":"TEXT(MICASH!I720,\"0000000000\")","v":"0000000000"},{"$f":"TEXT(MICASH!J720*100,\"0000000000\")","v":"0000000000"},{"$f":"TEXT(MONTH(MICASH!K720),\"00\") & TEXT(DAY(MICASH!K720),\"00\") & RIGHT(TEXT(YEAR(MICASH!K720),\"00\"),2)","v":"010000"},{"$f":"UPPER(LEFT(MICASH!L720,96))","v":""}]
["C",288,"00",{"$f":"TEXT(MICASH!D721,\"0000000000\")","v":"0000000000"}," ",{"$f":"UPPER(MICASH!F721)","v":""},{"$f":"UPPER(MICASH!G721)","v":""}," ",{"$f":"TEXT(MICASH!I721,\"0000000000\")","v":"0000000000"},{"$f":"TEXT(MICASH!J721*100,\"0000000000\")","v":"0000000000"},{"$f":"TEXT(MONTH(MICASH!K721),\"00\") & TEXT(DAY(MICASH!K721),\"00\") & RIGHT(TEXT(YEAR(MICASH!K721),\"00\"),2)","v":"010000"},{"$f":"UPPER(LEFT(MICASH!L721,96))","v":""}]
["C",288,"00",{"$f":"TEXT(MICASH!D722,\"0000000000\")","v":"0000000000"}," ",{"$f":"UPPER(MICASH!F722)","v":""},{"$f":"UPPER(MICASH!G722)","v":""}," ",{"$f":"TEXT(MICASH!I722,\"0000000000\")","v":"0000000000"},{"$f":"TEXT(MICASH!J722*100,\"0000000000\")","v":"0000000000"},{"$f":"TEXT(MONTH(MICASH!K722),\"00\") & TEXT(DAY(MICASH!K722),\"00\") & RIGHT(TEXT(YEAR(MICASH!K722),\"00\"),2)","v":"010000"},{"$f":"UPPER(LEFT(MICASH!L722,96))","v":""}]
["C",288,"00",{"$f":"TEXT(MICASH!D723,\"0000000000\")","v":"0000000000"}," ",{"$f":"UPPER(MICASH!F723)","v":""},{"$f":"UPPER(MICASH!G723)","v":""}," ",{"$f":"TEXT(MICASH!I723,\"0000000000\")","v":"0000000000"},{"$f":"TEXT(MICASH!J723*100,\"0000000000\")","v":"0000000000"},{"$f":"TEXT(MONTH(MICASH!K723),\"00\") & TEXT(DAY(MICASH!K723),\"00\") & RIGHT(TEXT(YEAR(MICASH!K723),\"00\"),2)","v":"010000"},{"$f":"UPPER(LEFT(MICASH!L723,96))","v":""}]
["C",288,"00",{"$f":"TEXT(MICASH!D724,\"0000000000\")","v":"0000000000"}," ",{"$f":"UPPER(MICASH!F724)","v":""},{"$f":"UPPER(MICASH!G724)","v":""}," ",{"$f":"TEXT(MICASH!I724,\"0000000000\")","v":"0000000000"},{"$f":"TEXT(MICASH!J724*100,\"0000000000\")","v":"0000000000"},{"$f":"TEXT(MONTH(MICASH!K724),\"00\") & TEXT(DAY(MICASH!K724),\"00\") & RIGHT(TEXT(YEAR(MICASH!K724),\"00\"),2)","v":"010000"},{"$f":"UPPER(LEFT(MICASH!L724,96))","v":""}]
["C",288,"00",{"$f":"TEXT(MICASH!D725,\"0000000000\")","v":"0000000000"}," ",{"$f":"UPPER(MICASH!F725)","v":""},{"$f":"UPPER(MICASH!G725)","v":""}," ",{"$f":"TEXT(MICASH!I725,\"0000000000\")","v":"0000000000"},{"$f":"TEXT(MICASH!J725*100,\"0000000000\")","v":"0000000000"},{"$f":"TEXT(MONTH(MICASH!K725),\"00\") & TEXT(DAY(MICASH!K725),\"00\") & RIGHT(TEXT(YEAR(MICASH!K725),\"00\"),2)","v":"010000"},{"$f":"UPPER(LEFT(MICASH!L725,96))","v":""}]
["C",288,"00",{"$f":"TEXT(MICASH!D726,\"0000000000\")","v":"0000000000"}," ",{"$f":"UPPER(MICASH!F726)","v":""},{"$f":"UPPER(MICASH!G726)","v":""}," ",{"$f":"TEXT(MICASH!I726,\"0000000000\")","v":"0000000000"},{"$f":"TEXT(MICASH!J726*100,\"0000000000\")","v":"0000000000"},{"$f":"TEXT(MONTH(MICASH!K726),\"00\") & TEXT(DAY(MICASH!K726),\"00\") & RIGHT(TEXT(YEAR(MICASH!K726),\"00\"),2)","v":"010000"},{"$f":"UPPER(LEFT(MICASH!L726,96))","v":""}]
["C",288,"00",{"$f":"TEXT(MICASH!D727,\"0000000000\")","v":"0000000000"}," ",{"$f":"UPPER(MICASH!F727)","v":""},{"$f":"UPPER(MICASH!G727)","v":""}," ",{"$f":"TEXT(MICASH!I727,\"0000000000\")","v":"0000000000"},{"$f":"TEXT(MICASH!J727*100,\"0000000000\")","v":"0000000000"},{"$f":"TEXT(MONTH(MICASH!K727),\"00\") & TEXT(DAY(MICASH!K727),\"00\") & RIGHT(TEXT(YEAR(MICASH!K727),\"00\"),2)","v":"010000"},{"$f":"UPPER(LEFT(MICASH!L727,96))","v":""}]
["C",288,"00",{"$f":"TEXT(MICASH!D728,\"0000000000\")","v":"0000000000"}," ",{"$f":"UPPER(MICASH!F728)","v":""},{"$f":"UPPER(MICASH!G728)","v":""}," ",{"$f":"TEXT(MICASH!I728,\"0000000000\")","v":"0000000000"},{"$f":"TEXT(MICASH!J728*100,\"0000000000\")","v":"0000000000"},{"$f":"TEXT(MONTH(MICASH!K728),\"00\") & TEXT(DAY(MICASH!K728),\"00\") & RIGHT(TEXT(YEAR(MICASH!K728),\"00\"),2)","v":"010000"},{"$f":"UPPER(LEFT(MICASH!L728,96))","v":""}]
["C",288,"00",{"$f":"TEXT(MICASH!D729,\"0000000000\")","v":"0000000000"}," ",{"$f":"UPPER(MICASH!F729)","v":""},{"$f":"UPPER(MICASH!G729)","v":""}," ",{"$f":"TEXT(MICASH!I729,\"0000000000\")","v":"0000000000"},{"$f":"TEXT(MICASH!J729*100,\"0000000000\")","v":"0000000000"},{"$f":"TEXT(MONTH(MICASH!K729),\"00\") & TEXT(DAY(MICASH!K729),\"00\") & RIGHT(TEXT(YEAR(MICASH!K729),\"00\"),2)","v":"010000"},{"$f":"UPPER(LEFT(MICASH!L729,96))","v":""}]
["C",288,"00",{"$f":"TEXT(MICASH!D730,\"0000000000\")","v":"0000000000"}," ",{"$f":"UPPER(MICASH!F730)","v":""},{"$f":"UPPER(MICASH!G730)","v":""}," ",{"$f":"TEXT(MICASH!I730,\"0000000000\")","v":"0000000000"},{"$f":"TEXT(MICASH!J730*100,\"0000000000\")","v":"0000000000"},{"$f":"TEXT(MONTH(MICASH!K730),\"00\") & TEXT(DAY(MICASH!K730),\"00\") & RIGHT(TEXT(YEAR(MICASH!K730),\"00\"),2)","v":"010000"},{"$f":"UPPER(LEFT(MICASH!L730,96))","v":""}]
["C",288,"00",{"$f":"TEXT(MICASH!D731,\"0000000000\")","v":"0000000000"}," ",{"$f":"UPPER(MICASH!F731)","v":""},{"$f":"UPPER(MICASH!G731)","v":""}," ",{"$f":"TEXT(MICASH!I731,\"0000000000\")","v":"0000000000"},{"$f":"TEXT(MICASH!J731*100,\"0000000000\")","v":"0000000000"},{"$f":"TEXT(MONTH(MICASH!K731),\"00\") & TEXT(DAY(MICASH!K731),\"00\") & RIGHT(TEXT(YEAR(MICASH!K731),\"00\"),2)","v":"010000"},{"$f":"UPPER(LEFT(MICASH!L731,96))","v":""}]
["C",288,"00",{"$f":"TEXT(MICASH!D732,\"0000000000\")","v":"0000000000"}," ",{"$f":"UPPER(MICASH!F732)","v":""},{"$f":"UPPER(MICASH!G732)","v":""}," ",{"$f":"TEXT(MICASH!I732,\"0000000000\")","v":"0000000000"},{"$f":"TEXT(MICASH!J732*100,\"0000000000\")","v":"0000000000"},{"$f":"TEXT(MONTH(MICASH!K732),\"00\") & TEXT(DAY(MICASH!K732),\"00\") & RIGHT(TEXT(YEAR(MICASH!K732),\"00\"),2)","v":"010000"},{"$f":"UPPER(LEFT(MICASH!L732,96))","v":""}]
["C",288,"00",{"$f":"TEXT(MICASH!D733,\"0000000000\")","v":"0000000000"}," ",{"$f":"UPPER(MICASH!F733)","v":""},{"$f":"UPPER(MICASH!G733)","v":""}," ",{"$f":"TEXT(MICASH!I733,\"0000000000\")","v":"0000000000"},{"$f":"TEXT(MICASH!J733*100,\"0000000000\")","v":"0000000000"},{"$f":"TEXT(MONTH(MICASH!K733),\"00\") & TEXT(DAY(MICASH!K733),\"00\") & RIGHT(TEXT(YEAR(MICASH!K733),\"00\"),2)","v":"010000"},{"$f":"UPPER(LEFT(MICASH!L733,96))","v":""}]
["C",288,"00",{"$f":"TEXT(MICASH!D734,\"0000000000\")","v":"0000000000"}," ",{"$f":"UPPER(MICASH!F734)","v":""},{"$f":"UPPER(MICASH!G734)","v":""}," ",{"$f":"TEXT(MICASH!I734,\"0000000000\")","v":"0000000000"},{"$f":"TEXT(MICASH!J734*100,\"0000000000\")","v":"0000000000"},{"$f":"TEXT(MONTH(MICASH!K734),\"00\") & TEXT(DAY(MICASH!K734),\"00\") & RIGHT(TEXT(YEAR(MICASH!K734),\"00\"),2)","v":"010000"},{"$f":"UPPER(LEFT(MICASH!L734,96))","v":""}]
["C",288,"00",{"$f":"TEXT(MICASH!D735,\"0000000000\")","v":"0000000000"}," ",{"$f":"UPPER(MICASH!F735)","v":""},{"$f":"UPPER(MICASH!G735)","v":""}," ",{"$f":"TEXT(MICASH!I735,\"0000000000\")","v":"0000000000"},{"$f":"TEXT(MICASH!J735*100,\"0000000000\")","v":"0000000000"},{"$f":"TEXT(MONTH(MICASH!K735),\"00\") & TEXT(DAY(MICASH!K735),\"00\") & RIGHT(TEXT(YEAR(MICASH!K735),\"00\"),2)","v":"010000"},{"$f":"UPPER(LEFT(MICASH!L735,96))","v":""}]
["C",288,"00",{"$f":"TEXT(MICASH!D736,\"0000000000\")","v":"0000000000"}," ",{"$f":"UPPER(MICASH!F736)","v":""},{"$f":"UPPER(MICASH!G736)","v":""}," ",{"$f":"TEXT(MICASH!I736,\"0000000000\")","v":"0000000000"},{"$f":"TEXT(MICASH!J736*100,\"0000000000\")","v":"0000000000"},{"$f":"TEXT(MONTH(MICASH!K736),\"00\") & TEXT(DAY(MICASH!K736),\"00\") & RIGHT(TEXT(YEAR(MICASH!K736),\"00\"),2)","v":"010000"},{"$f":"UPPER(LEFT(MICASH!L736,96))","v":""}]
["C",288,"00",{"$f":"TEXT(MICASH!D737,\"0000000000\")","v":"0000000000"}," ",{"$f":"UPPER(MICASH!F737)","v":""},{"$f":"UPPER(MICASH!G737)","v":""}," ",{"$f":"TEXT(MICASH!I737,\"0000000000\")","v":"0000000000"},{"$f":"TEXT(MICASH!J737*100,\"0000000000\")","v":"0000000000"},{"$f":"TEXT(MONTH(MICASH!K737),\"00\") & TEXT(DAY(MICASH!K737),\"00\") & RIGHT(TEXT(YEAR(MICASH!K737),\"00\"),2)","v":"010000"},{"$f":"UPPER(LEFT(MICASH!L737,96))","v":""}]
["C",288,"00",{"$f":"TEXT(MICASH!D738,\"0000000000\")","v":"0000000000"}," ",{"$f":"UPPER(MICASH!F738)","v":""},{"$f":"UPPER(MICASH!G738)","v":""}," ",{"$f":"TEXT(MICASH!I738,\"0000000000\")","v":"0000000000"},{"$f":"TEXT(MICASH!J738*100,\"0000000000\")","v":"0000000000"},{"$f":"TEXT(MONTH(MICASH!K738),\"00\") & TEXT(DAY(MICASH!K738),\"00\") & RIGHT(TEXT(YEAR(MICASH!K738),\"00\"),2)","v":"010000"},{"$f":"UPPER(LEFT(MICASH!L738,96))","v":""}]
["C",288,"00",{"$f":"TEXT(MICASH!D739,\"0000000000\")","v":"0000000000"}," ",{"$f":"UPPER(MICASH!F739)","v":""},{"$f":"UPPER(MICASH!G739)","v":""}," ",{"$f":"TEXT(MICASH!I739,\"0000000000\")","v":"0000000000"},{"$f":"TEXT(MICASH!J739*100,\"0000000000\")","v":"0000000000"},{"$f":"TEXT(MONTH(MICASH!K739),\"00\") & TEXT(DAY(MICASH!K739),\"00\") & RIGHT(TEXT(YEAR(MICASH!K739),\"00\"),2)","v":"010000"},{"$f":"UPPER(LEFT(MICASH!L739,96))","v":""}]
["C",288,"00",{"$f":"TEXT(MICASH!D740,\"0000000000\")","v":"0000000000"}," ",{"$f":"UPPER(MICASH!F740)","v":""},{"$f":"UPPER(MICASH!G740)","v":""}," ",{"$f":"TEXT(MICASH!I740,\"0000000000\")","v":"0000000000"},{"$f":"TEXT(MICASH!J740*100,\"0000000000\")","v":"0000000000"},{"$f":"TEXT(MONTH(MICASH!K740),\"00\") & TEXT(DAY(MICASH!K740),\"00\") & RIGHT(TEXT(YEAR(MICASH!K740),\"00\"),2)","v":"010000"},{"$f":"UPPER(LEFT(MICASH!L740,96))","v":""}]
["C",288,"00",{"$f":"TEXT(MICASH!D741,\"0000000000\")","v":"0000000000"}," ",{"$f":"UPPER(MICASH!F741)","v":""},{"$f":"UPPER(MICASH!G741)","v":""}," ",{"$f":"TEXT(MICASH!I741,\"0000000000\")","v":"0000000000"},{"$f":"TEXT(MICASH!J741*100,\"0000000000\")","v":"0000000000"},{"$f":"TEXT(MONTH(MICASH!K741),\"00\") & TEXT(DAY(MICASH!K741),\"00\") & RIGHT(TEXT(YEAR(MICASH!K741),\"00\"),2)","v":"010000"},{"$f":"UPPER(LEFT(MICASH!L741,96))","v":""}]
["C",288,"00",{"$f":"TEXT(MICASH!D742,\"0000000000\")","v":"0000000000"}," ",{"$f":"UPPER(MICASH!F742)","v":""},{"$f":"UPPER(MICASH!G742)","v":""}," ",{"$f":"TEXT(MICASH!I742,\"0000000000\")","v":"0000000000"},{"$f":"TEXT(MICASH!J742*100,\"0000000000\")","v":"0000000000"},{"$f":"TEXT(MONTH(MICASH!K742),\"00\") & TEXT(DAY(MICASH!K742),\"00\") & RIGHT(TEXT(YEAR(MICASH!K742),\"00\"),2)","v":"010000"},{"$f":"UPPER(LEFT(MICASH!L742,96))","v":""}]
["C",288,"00",{"$f":"TEXT(MICASH!D743,\"0000000000\")","v":"0000000000"}," ",{"$f":"UPPER(MICASH!F743)","v":""},{"$f":"UPPER(MICASH!G743)","v":""}," ",{"$f":"TEXT(MICASH!I743,\"0000000000\")","v":"0000000000"},{"$f":"TEXT(MICASH!J743*100,\"0000000000\")","v":"0000000000"},{"$f":"TEXT(MONTH(MICASH!K743),\"00\") & TEXT(DAY(MICASH!K743),\"00\") & RIGHT(TEXT(YEAR(MICASH!K743),\"00\"),2)","v":"010000"},{"$f":"UPPER(LEFT(MICASH!L743,96))","v":""}]
["C",288,"00",{"$f":"TEXT(MICASH!D744,\"0000000000\")","v":"0000000000"}," ",{"$f":"UPPER(MICASH!F744)","v":""},{"$f":"UPPER(MICASH!G744)","v":""}," ",{"$f":"TEXT(MICASH!I744,\"0000000000\")","v":"0000000000"},{"$f":"TEXT(MICASH!J744*100,\"0000000000\")","v":"0000000000"},{"$f":"TEXT(MONTH(MICASH!K744),\"00\") & TEXT(DAY(MICASH!K744),\"00\") & RIGHT(TEXT(YEAR(MICASH!K744),\"00\"),2)","v":"010000"},{"$f":"UPPER(LEFT(MICASH!L744,96))","v":""}]
["C",288,"00",{"$f":"TEXT(MICASH!D745,\"0000000000\")","v":"0000000000"}," ",{"$f":"UPPER(MICASH!F745)","v":""},{"$f":"UPPER(MICASH!G745)","v":""}," ",{"$f":"TEXT(MICASH!I745,\"0000000000\")","v":"0000000000"},{"$f":"TEXT(MICASH!J745*100,\"0000000000\")","v":"0000000000"},{"$f":"TEXT(MONTH(MICASH!K745),\"00\") & TEXT(DAY(MICASH!K745),\"00\") & RIGHT(TEXT(YEAR(MICASH!K745),\"00\"),2)","v":"010000"},{"$f":"UPPER(LEFT(MICASH!L745,96))","v":""}]
["C",288,"00",{"$f":"TEXT(MICASH!D746,\"0000000000\")","v":"0000000000"}," ",{"$f":"UPPER(MICASH!F746)","v":""},{"$f":"UPPER(MICASH!G746)","v":""}," ",{"$f":"TEXT(MICASH!I746,\"0000000000\")","v":"0000000000"},{"$f":"TEXT(MICASH!J746*100,\"0000000000\")","v":"0000000000"},{"$f":"TEXT(MONTH(MICASH!K746),\"00\") & TEXT(DAY(MICASH!K746),\"00\") & RIGHT(TEXT(YEAR(MICASH!K746),\"00\"),2)","v":"010000"},{"$f":"UPPER(LEFT(MICASH!L746,96))","v":""}]
["C",288,"00",{"$f":"TEXT(MICASH!D747,\"0000000000\")","v":"0000000000"}," ",{"$f":"UPPER(MICASH!F747)","v":""},{"$f":"UPPER(MICASH!G747)","v":""}," ",{"$f":"TEXT(MICASH!I747,\"0000000000\")","v":"0000000000"},{"$f":"TEXT(MICASH!J747*100,\"0000000000\")","v":"0000000000"},{"$f":"TEXT(MONTH(MICASH!K747),\"00\") & TEXT(DAY(MICASH!K747),\"00\") & RIGHT(TEXT(YEAR(MICASH!K747),\"00\"),2)","v":"010000"},{"$f":"UPPER(LEFT(MICASH!L747,96))","v":""}]
["C",288,"00",{"$f":"TEXT(MICASH!D748,\"0000000000\")","v":"0000000000"}," ",{"$f":"UPPER(MICASH!F748)","v":""},{"$f":"UPPER(MICASH!G748)","v":""}," ",{"$f":"TEXT(MICASH!I748,\"0000000000\")","v":"0000000000"},{"$f":"TEXT(MICASH!J748*100,\"0000000000\")","v":"0000000000"},{"$f":"TEXT(MONTH(MICASH!K748),\"00\") & TEXT(DAY(MICASH!K748),\"00\") & RIGHT(TEXT(YEAR(MICASH!K748),\"00\"),2)","v":"010000"},{"$f":"UPPER(LEFT(MICASH!L748,96))","v":""}]
["C",288,"00",{"$f":"TEXT(MICASH!D749,\"0000000000\")","v":"0000000000"}," ",{"$f":"UPPER(MICASH!F749)","v":""},{"$f":"UPPER(MICASH!G749)","v":""}," ",{"$f":"TEXT(MICASH!I749,\"0000000000\")","v":"0000000000"},{"$f":"TEXT(MICASH!J749*100,\"0000000000\")","v":"0000000000"},{"$f":"TEXT(MONTH(MICASH!K749),\"00\") & TEXT(DAY(MICASH!K749),\"00\") & RIGHT(TEXT(YEAR(MICASH!K749),\"00\"),2)","v":"010000"},{"$f":"UPPER(LEFT(MICASH!L749,96))","v":""}]
["C",288,"00",{"$f":"TEXT(MICASH!D750,\"0000000000\")","v":"0000000000"}," ",{"$f":"UPPER(MICASH!F750)","v":""},{"$f":"UPPER(MICASH!G750)","v":""}," ",{"$f":"TEXT(MICASH!I750,\"0000000000\")","v":"0000000000"},{"$f":"TEXT(MICASH!J750*100,\"0000000000\")","v":"0000000000"},{"$f":"TEXT(MONTH(MICASH!K750),\"00\") & TEXT(DAY(MICASH!K750),\"00\") & RIGHT(TEXT(YEAR(MICASH!K750),\"00\"),2)","v":"010000"},{"$f":"UPPER(LEFT(MICASH!L750,96))","v":""}]
["C",288,"00",{"$f":"TEXT(MICASH!D751,\"0000000000\")","v":"0000000000"}," ",{"$f":"UPPER(MICASH!F751)","v":""},{"$f":"UPPER(MICASH!G751)","v":""}," ",{"$f":"TEXT(MICASH!I751,\"0000000000\")","v":"0000000000"},{"$f":"TEXT(MICASH!J751*100,\"0000000000\")","v":"0000000000"},{"$f":"TEXT(MONTH(MICASH!K751),\"00\") & TEXT(DAY(MICASH!K751),\"00\") & RIGHT(TEXT(YEAR(MICASH!K751),\"00\"),2)","v":"010000"},{"$f":"UPPER(LEFT(MICASH!L751,96))","v":""}]
["C",288,"00",{"$f":"TEXT(MICASH!D752,\"0000000000\")","v":"0000000000"}," ",{"$f":"UPPER(MICASH!F752)","v":""},{"$f":"UPPER(MICASH!G752)","v":""}," ",{"$f":"TEXT(MICASH!I752,\"0000000000\")","v":"0000000000"},{"$f":"TEXT(MICASH!J752*100,\"0000000000\")","v":"0000000000"},{"$f":"TEXT(MONTH(MICASH!K752),\"00\") & TEXT(DAY(MICASH!K752),\"00\") & RIGHT(TEXT(YEAR(MICASH!K752),\"00\"),2)","v":"010000"},{"$f":"UPPER(LEFT(MICASH!L752,96))","v":""}]
["C",288,"00",{"$f":"TEXT(MICASH!D753,\"0000000000\")","v":"0000000000"}," ",{"$f":"UPPER(MICASH!F753)","v":""},{"$f":"UPPER(MICASH!G753)","v":""}," ",{"$f":"TEXT(MICASH!I753,\"0000000000\")","v":"0000000000"},{"$f":"TEXT(MICASH!J753*100,\"0000000000\")","v":"0000000000"},{"$f":"TEXT(MONTH(MICASH!K753),\"00\") & TEXT(DAY(MICASH!K753),\"00\") & RIGHT(TEXT(YEAR(MICASH!K753),\"00\"),2)","v":"010000"},{"$f":"UPPER(LEFT(MICASH!L753,96))","v":""}]
["C",288,"00",{"$f":"TEXT(MICASH!D754,\"0000000000\")","v":"0000000000"}," ",{"$f":"UPPER(MICASH!F754)","v":""},{"$f":"UPPER(MICASH!G754)","v":""}," ",{"$f":"TEXT(MICASH!I754,\"0000000000\")","v":"0000000000"},{"$f":"TEXT(MICASH!J754*100,\"0000000000\")","v":"0000000000"},{"$f":"TEXT(MONTH(MICASH!K754),\"00\") & TEXT(DAY(MICASH!K754),\"00\") & RIGHT(TEXT(YEAR(MICASH!K754),\"00\"),2)","v":"010000"},{"$f":"UPPER(LEFT(MICASH!L754,96))","v":""}]
["C",288,"00",{"$f":"TEXT(MICASH!D755,\"0000000000\")","v":"0000000000"}," ",{"$f":"UPPER(MICASH!F755)","v":""},{"$f":"UPPER(MICASH!G755)","v":""}," ",{"$f":"TEXT(MICASH!I755,\"0000000000\")","v":"0000000000"},{"$f":"TEXT(MICASH!J755*100,\"0000000000\")","v":"0000000000"},{"$f":"TEXT(MONTH(MICASH!K755),\"00\") & TEXT(DAY(MICASH!K755),\"00\") & RIGHT(TEXT(YEAR(MICASH!K755),\"00\"),2)","v":"010000"},{"$f":"UPPER(LEFT(MICASH!L755,96))","v":""}]
["C",288,"00",{"$f":"TEXT(MICASH!D756,\"0000000000\")","v":"0000000000"}," ",{"$f":"UPPER(MICASH!F756)","v":""},{"$f":"UPPER(MICASH!G756)","v":""}," ",{"$f":"TEXT(MICASH!I756,\"0000000000\")","v":"0000000000"},{"$f":"TEXT(MICASH!J756*100,\"0000000000\")","v":"0000000000"},{"$f":"TEXT(MONTH(MICASH!K756),\"00\") & TEXT(DAY(MICASH!K756),\"00\") & RIGHT(TEXT(YEAR(MICASH!K756),\"00\"),2)","v":"010000"},{"$f":"UPPER(LEFT(MICASH!L756,96))","v":""}]
["C",288,"00",{"$f":"TEXT(MICASH!D757,\"0000000000\")","v":"0000000000"}," ",{"$f":"UPPER(MICASH!F757)","v":""},{"$f":"UPPER(MICASH!G757)","v":""}," ",{"$f":"TEXT(MICASH!I757,\"0000000000\")","v":"0000000000"},{"$f":"TEXT(MICASH!J757*100,\"0000000000\")","v":"0000000000"},{"$f":"TEXT(MONTH(MICASH!K757),\"00\") & TEXT(DAY(MICASH!K757),\"00\") & RIGHT(TEXT(YEAR(MICASH!K757),\"00\"),2)","v":"010000"},{"$f":"UPPER(LEFT(MICASH!L757,96))","v":""}]
["C",288,"00",{"$f":"TEXT(MICASH!D758,\"0000000000\")","v":"0000000000"}," ",{"$f":"UPPER(MICASH!F758)","v":""},{"$f":"UPPER(MICASH!G758)","v":""}," ",{"$f":"TEXT(MICASH!I758,\"0000000000\")","v":"0000000000"},{"$f":"TEXT(MICASH!J758*100,\"0000000000\")","v":"0000000000"},{"$f":"TEXT(MONTH(MICASH!K758),\"00\") & TEXT(DAY(MICASH!K758),\"00\") & RIGHT(TEXT(YEAR(MICASH!K758),\"00\"),2)","v":"010000"},{"$f":"UPPER(LEFT(MICASH!L758,96))","v":""}]
["C",288,"00",{"$f":"TEXT(MICASH!D759,\"0000000000\")","v":"0000000000"}," ",{"$f":"UPPER(MICASH!F759)","v":""},{"$f":"UPPER(MICASH!G759)","v":""}," ",{"$f":"TEXT(MICASH!I759,\"0000000000\")","v":"0000000000"},{"$f":"TEXT(MICASH!J759*100,\"0000000000\")","v":"0000000000"},{"$f":"TEXT(MONTH(MICASH!K759),\"00\") & TEXT(DAY(MICASH!K759),\"00\") & RIGHT(TEXT(YEAR(MICASH!K759),\"00\"),2)","v":"010000"},{"$f":"UPPER(LEFT(MICASH!L759,96))","v":""}]
["C",288,"00",{"$f":"TEXT(MICASH!D760,\"0000000000\")","v":"0000000000"}," ",{"$f":"UPPER(MICASH!F760)","v":""},{"$f":"UPPER(MICASH!G760)","v":""}," ",{"$f":"TEXT(MICASH!I760,\"0000000000\")","v":"0000000000"},{"$f":"TEXT(MICASH!J760*100,\"0000000000\")","v":"0000000000"},{"$f":"TEXT(MONTH(MICASH!K760),\"00\") & TEXT(DAY(MICASH!K760),\"00\") & RIGHT(TEXT(YEAR(MICASH!K760),\"00\"),2)","v":"010000"},{"$f":"UPPER(LEFT(MICASH!L760,96))","v":""}]
["C",288,"00",{"$f":"TEXT(MICASH!D761,\"0000000000\")","v":"0000000000"}," ",{"$f":"UPPER(MICASH!F761)","v":""},{"$f":"UPPER(MICASH!G761)","v":""}," ",{"$f":"TEXT(MICASH!I761,\"0000000000\")","v":"0000000000"},{"$f":"TEXT(MICASH!J761*100,\"0000000000\")","v":"0000000000"},{"$f":"TEXT(MONTH(MICASH!K761),\"00\") & TEXT(DAY(MICASH!K761),\"00\") & RIGHT(TEXT(YEAR(MICASH!K761),\"00\"),2)","v":"010000"},{"$f":"UPPER(LEFT(MICASH!L761,96))","v":""}]
["C",288,"00",{"$f":"TEXT(MICASH!D762,\"0000000000\")","v":"0000000000"}," ",{"$f":"UPPER(MICASH!F762)","v":""},{"$f":"UPPER(MICASH!G762)","v":""}," ",{"$f":"TEXT(MICASH!I762,\"0000000000\")","v":"0000000000"},{"$f":"TEXT(MICASH!J762*100,\"0000000000\")","v":"0000000000"},{"$f":"TEXT(MONTH(MICASH!K762),\"00\") & TEXT(DAY(MICASH!K762),\"00\") & RIGHT(TEXT(YEAR(MICASH!K762),\"00\"),2)","v":"010000"},{"$f":"UPPER(LEFT(MICASH!L762,96))","v":""}]
["C",288,"00",{"$f":"TEXT(MICASH!D763,\"0000000000\")","v":"0000000000"}," ",{"$f":"UPPER(MICASH!F763)","v":""},{"$f":"UPPER(MICASH!G763)","v":""}," ",{"$f":"TEXT(MICASH!I763,\"0000000000\")","v":"0000000000"},{"$f":"TEXT(MICASH!J763*100,\"0000000000\")","v":"0000000000"},{"$f":"TEXT(MONTH(MICASH!K763),\"00\") & TEXT(DAY(MICASH!K763),\"00\") & RIGHT(TEXT(YEAR(MICASH!K763),\"00\"),2)","v":"010000"},{"$f":"UPPER(LEFT(MICASH!L763,96))","v":""}]
["C",288,"00",{"$f":"TEXT(MICASH!D764,\"0000000000\")","v":"0000000000"}," ",{"$f":"UPPER(MICASH!F764)","v":""},{"$f":"UPPER(MICASH!G764)","v":""}," ",{"$f":"TEXT(MICASH!I764,\"0000000000\")","v":"0000000000"},{"$f":"TEXT(MICASH!J764*100,\"0000000000\")","v":"0000000000"},{"$f":"TEXT(MONTH(MICASH!K764),\"00\") & TEXT(DAY(MICASH!K764),\"00\") & RIGHT(TEXT(YEAR(MICASH!K764),\"00\"),2)","v":"010000"},{"$f":"UPPER(LEFT(MICASH!L764,96))","v":""}]
["C",288,"00",{"$f":"TEXT(MICASH!D765,\"0000000000\")","v":"0000000000"}," ",{"$f":"UPPER(MICASH!F765)","v":""},{"$f":"UPPER(MICASH!G765)","v":""}," ",{"$f":"TEXT(MICASH!I765,\"0000000000\")","v":"0000000000"},{"$f":"TEXT(MICASH!J765*100,\"0000000000\")","v":"0000000000"},{"$f":"TEXT(MONTH(MICASH!K765),\"00\") & TEXT(DAY(MICASH!K765),\"00\") & RIGHT(TEXT(YEAR(MICASH!K765),\"00\"),2)","v":"010000"},{"$f":"UPPER(LEFT(MICASH!L765,96))","v":""}]
["C",288,"00",{"$f":"TEXT(MICASH!D766,\"0000000000\")","v":"0000000000"}," ",{"$f":"UPPER(MICASH!F766)","v":""},{"$f":"UPPER(MICASH!G766)","v":""}," ",{"$f":"TEXT(MICASH!I766,\"0000000000\")","v":"0000000000"},{"$f":"TEXT(MICASH!J766*100,\"0000000000\")","v":"0000000000"},{"$f":"TEXT(MONTH(MICASH!K766),\"00\") & TEXT(DAY(MICASH!K766),\"00\") & RIGHT(TEXT(YEAR(MICASH!K766),\"00\"),2)","v":"010000"},{"$f":"UPPER(LEFT(MICASH!L766,96))","v":""}]
["C",288,"00",{"$f":"TEXT(MICASH!D767,\"0000000000\")","v":"0000000000"}," ",{"$f":"UPPER(MICASH!F767)","v":""},{"$f":"UPPER(MICASH!G767)","v":""}," ",{"$f":"TEXT(MICASH!I767,\"0000000000\")","v":"0000000000"},{"$f":"TEXT(MICASH!J767*100,\"0000000000\")","v":"0000000000"},{"$f":"TEXT(MONTH(MICASH!K767),\"00\") & TEXT(DAY(MICASH!K767),\"00\") & RIGHT(TEXT(YEAR(MICASH!K767),\"00\"),2)","v":"010000"},{"$f":"UPPER(LEFT(MICASH!L767,96))","v":""}]
["C",288,"00",{"$f":"TEXT(MICASH!D768,\"0000000000\")","v":"0000000000"}," ",{"$f":"UPPER(MICASH!F768)","v":""},{"$f":"UPPER(MICASH!G768)","v":""}," ",{"$f":"TEXT(MICASH!I768,\"0000000000\")","v":"0000000000"},{"$f":"TEXT(MICASH!J768*100,\"0000000000\")","v":"0000000000"},{"$f":"TEXT(MONTH(MICASH!K768),\"00\") & TEXT(DAY(MICASH!K768),\"00\") & RIGHT(TEXT(YEAR(MICASH!K768),\"00\"),2)","v":"010000"},{"$f":"UPPER(LEFT(MICASH!L768,96))","v":""}]
["C",288,"00",{"$f":"TEXT(MICASH!D769,\"0000000000\")","v":"0000000000"}," ",{"$f":"UPPER(MICASH!F769)","v":""},{"$f":"UPPER(MICASH!G769)","v":""}," ",{"$f":"TEXT(MICASH!I769,\"0000000000\")","v":"0000000000"},{"$f":"TEXT(MICASH!J769*100,\"0000000000\")","v":"0000000000"},{"$f":"TEXT(MONTH(MICASH!K769),\"00\") & TEXT(DAY(MICASH!K769),\"00\") & RIGHT(TEXT(YEAR(MICASH!K769),\"00\"),2)","v":"010000"},{"$f":"UPPER(LEFT(MICASH!L769,96))","v":""}]
["C",288,"00",{"$f":"TEXT(MICASH!D770,\"0000000000\")","v":"0000000000"}," ",{"$f":"UPPER(MICASH!F770)","v":""},{"$f":"UPPER(MICASH!G770)","v":""}," ",{"$f":"TEXT(MICASH!I770,\"0000000000\")","v":"0000000000"},{"$f":"TEXT(MICASH!J770*100,\"0000000000\")","v":"0000000000"},{"$f":"TEXT(MONTH(MICASH!K770),\"00\") & TEXT(DAY(MICASH!K770),\"00\") & RIGHT(TEXT(YEAR(MICASH!K770),\"00\"),2)","v":"010000"},{"$f":"UPPER(LEFT(MICASH!L770,96))","v":""}]
["C",288,"00",{"$f":"TEXT(MICASH!D771,\"0000000000\")","v":"0000000000"}," ",{"$f":"UPPER(MICASH!F771)","v":""},{"$f":"UPPER(MICASH!G771)","v":""}," ",{"$f":"TEXT(MICASH!I771,\"0000000000\")","v":"0000000000"},{"$f":"TEXT(MICASH!J771*100,\"0000000000\")","v":"0000000000"},{"$f":"TEXT(MONTH(MICASH!K771),\"00\") & TEXT(DAY(MICASH!K771),\"00\") & RIGHT(TEXT(YEAR(MICASH!K771),\"00\"),2)","v":"010000"},{"$f":"UPPER(LEFT(MICASH!L771,96))","v":""}]
["C",288,"00",{"$f":"TEXT(MICASH!D772,\"0000000000\")","v":"0000000000"}," ",{"$f":"UPPER(MICASH!F772)","v":""},{"$f":"UPPER(MICASH!G772)","v":""}," ",{"$f":"TEXT(MICASH!I772,\"0000000000\")","v":"0000000000"},{"$f":"TEXT(MICASH!J772*100,\"0000000000\")","v":"0000000000"},{"$f":"TEXT(MONTH(MICASH!K772),\"00\") & TEXT(DAY(MICASH!K772),\"00\") & RIGHT(TEXT(YEAR(MICASH!K772),\"00\"),2)","v":"010000"},{"$f":"UPPER(LEFT(MICASH!L772,96))","v":""}]
["C",288,"00",{"$f":"TEXT(MICASH!D773,\"0000000000\")","v":"0000000000"}," ",{"$f":"UPPER(MICASH!F773)","v":""},{"$f":"UPPER(MICASH!G773)","v":""}," ",{"$f":"TEXT(MICASH!I773,\"0000000000\")","v":"0000000000"},{"$f":"TEXT(MICASH!J773*100,\"0000000000\")","v":"0000000000"},{"$f":"TEXT(MONTH(MICASH!K773),\"00\") & TEXT(DAY(MICASH!K773),\"00\") & RIGHT(TEXT(YEAR(MICASH!K773),\"00\"),2)","v":"010000"},{"$f":"UPPER(LEFT(MICASH!L773,96))","v":""}]
["C",288,"00",{"$f":"TEXT(MICASH!D774,\"0000000000\")","v":"0000000000"}," ",{"$f":"UPPER(MICASH!F774)","v":""},{"$f":"UPPER(MICASH!G774)","v":""}," ",{"$f":"TEXT(MICASH!I774,\"0000000000\")","v":"0000000000"},{"$f":"TEXT(MICASH!J774*100,\"0000000000\")","v":"0000000000"},{"$f":"TEXT(MONTH(MICASH!K774),\"00\") & TEXT(DAY(MICASH!K774),\"00\") & RIGHT(TEXT(YEAR(MICASH!K774),\"00\"),2)","v":"010000"},{"$f":"UPPER(LEFT(MICASH!L774,96))","v":""}]
["C",288,"00",{"$f":"TEXT(MICASH!D775,\"0000000000\")","v":"0000000000"}," ",{"$f":"UPPER(MICASH!F775)","v":""},{"$f":"UPPER(MICASH!G775)","v":""}," ",{"$f":"TEXT(MICASH!I775,\"0000000000\")","v":"0000000000"},{"$f":"TEXT(MICASH!J775*100,\"0000000000\")","v":"0000000000"},{"$f":"TEXT(MONTH(MICASH!K775),\"00\") & TEXT(DAY(MICASH!K775),\"00\") & RIGHT(TEXT(YEAR(MICASH!K775),\"00\"),2)","v":"010000"},{"$f":"UPPER(LEFT(MICASH!L775,96))","v":""}]
["C",288,"00",{"$f":"TEXT(MICASH!D776,\"0000000000\")","v":"0000000000"}," ",{"$f":"UPPER(MICASH!F776)","v":""},{"$f":"UPPER(MICASH!G776)","v":""}," ",{"$f":"TEXT(MICASH!I776,\"0000000000\")","v":"0000000000"},{"$f":"TEXT(MICASH!J776*100,\"0000000000\")","v":"0000000000"},{"$f":"TEXT(MONTH(MICASH!K776),\"00\") & TEXT(DAY(MICASH!K776),\"00\") & RIGHT(TEXT(YEAR(MICASH!K776),\"00\"),2)","v":"010000"},{"$f":"UPPER(LEFT(MICASH!L776,96))","v":""}]
["C",288,"00",{"$f":"TEXT(MICASH!D777,\"0000000000\")","v":"0000000000"}," ",{"$f":"UPPER(MICASH!F777)","v":""},{"$f":"UPPER(MICASH!G777)","v":""}," ",{"$f":"TEXT(MICASH!I777,\"0000000000\")","v":"0000000000"},{"$f":"TEXT(MICASH!J777*100,\"0000000000\")","v":"0000000000"},{"$f":"TEXT(MONTH(MICASH!K777),\"00\") & TEXT(DAY(MICASH!K777),\"00\") & RIGHT(TEXT(YEAR(MICASH!K777),\"00\"),2)","v":"010000"},{"$f":"UPPER(LEFT(MICASH!L777,96))","v":""}]
["C",288,"00",{"$f":"TEXT(MICASH!D778,\"0000000000\")","v":"0000000000"}," ",{"$f":"UPPER(MICASH!F778)","v":""},{"$f":"UPPER(MICASH!G778)","v":""}," ",{"$f":"TEXT(MICASH!I778,\"0000000000\")","v":"0000000000"},{"$f":"TEXT(MICASH!J778*100,\"0000000000\")","v":"0000000000"},{"$f":"TEXT(MONTH(MICASH!K778),\"00\") & TEXT(DAY(MICASH!K778),\"00\") & RIGHT(TEXT(YEAR(MICASH!K778),\"00\"),2)","v":"010000"},{"$f":"UPPER(LEFT(MICASH!L778,96))","v":""}]
["C",288,"00",{"$f":"TEXT(MICASH!D779,\"0000000000\")","v":"0000000000"}," ",{"$f":"UPPER(MICASH!F779)","v":""},{"$f":"UPPER(MICASH!G779)","v":""}," ",{"$f":"TEXT(MICASH!I779,\"0000000000\")","v":"0000000000"},{"$f":"TEXT(MICASH!J779*100,\"0000000000\")","v":"0000000000"},{"$f":"TEXT(MONTH(MICASH!K779),\"00\") & TEXT(DAY(MICASH!K779),\"00\") & RIGHT(TEXT(YEAR(MICASH!K779),\"00\"),2)","v":"010000"},{"$f":"UPPER(LEFT(MICASH!L779,96))","v":""}]
["C",288,"00",{"$f":"TEXT(MICASH!D780,\"0000000000\")","v":"0000000000"}," ",{"$f":"UPPER(MICASH!F780)","v":""},{"$f":"UPPER(MICASH!G780)","v":""}," ",{"$f":"TEXT(MICASH!I780,\"0000000000\")","v":"0000000000"},{"$f":"TEXT(MICASH!J780*100,\"0000000000\")","v":"0000000000"},{"$f":"TEXT(MONTH(MICASH!K780),\"00\") & TEXT(DAY(MICASH!K780),\"00\") & RIGHT(TEXT(YEAR(MICASH!K780),\"00\"),2)","v":"010000"},{"$f":"UPPER(LEFT(MICASH!L780,96))","v":""}]
["C",288,"00",{"$f":"TEXT(MICASH!D781,\"0000000000\")","v":"0000000000"}," ",{"$f":"UPPER(MICASH!F781)","v":""},{"$f":"UPPER(MICASH!G781)","v":""}," ",{"$f":"TEXT(MICASH!I781,\"0000000000\")","v":"0000000000"},{"$f":"TEXT(MICASH!J781*100,\"0000000000\")","v":"0000000000"},{"$f":"TEXT(MONTH(MICASH!K781),\"00\") & TEXT(DAY(MICASH!K781),\"00\") & RIGHT(TEXT(YEAR(MICASH!K781),\"00\"),2)","v":"010000"},{"$f":"UPPER(LEFT(MICASH!L781,96))","v":""}]
["C",288,"00",{"$f":"TEXT(MICASH!D782,\"0000000000\")","v":"0000000000"}," ",{"$f":"UPPER(MICASH!F782)","v":""},{"$f":"UPPER(MICASH!G782)","v":""}," ",{"$f":"TEXT(MICASH!I782,\"0000000000\")","v":"0000000000"},{"$f":"TEXT(MICASH!J782*100,\"0000000000\")","v":"0000000000"},{"$f":"TEXT(MONTH(MICASH!K782),\"00\") & TEXT(DAY(MICASH!K782),\"00\") & RIGHT(TEXT(YEAR(MICASH!K782),\"00\"),2)","v":"010000"},{"$f":"UPPER(LEFT(MICASH!L782,96))","v":""}]
["C",288,"00",{"$f":"TEXT(MICASH!D783,\"0000000000\")","v":"0000000000"}," ",{"$f":"UPPER(MICASH!F783)","v":""},{"$f":"UPPER(MICASH!G783)","v":""}," ",{"$f":"TEXT(MICASH!I783,\"0000000000\")","v":"0000000000"},{"$f":"TEXT(MICASH!J783*100,\"0000000000\")","v":"0000000000"},{"$f":"TEXT(MONTH(MICASH!K783),\"00\") & TEXT(DAY(MICASH!K783),\"00\") & RIGHT(TEXT(YEAR(MICASH!K783),\"00\"),2)","v":"010000"},{"$f":"UPPER(LEFT(MICASH!L783,96))","v":""}]
["C",288,"00",{"$f":"TEXT(MICASH!D784,\"0000000000\")","v":"0000000000"}," ",{"$f":"UPPER(MICASH!F784)","v":""},{"$f":"UPPER(MICASH!G784)","v":""}," ",{"$f":"TEXT(MICASH!I784,\"0000000000\")","v":"0000000000"},{"$f":"TEXT(MICASH!J784*100,\"0000000000\")","v":"0000000000"},{"$f":"TEXT(MONTH(MICASH!K784),\"00\") & TEXT(DAY(MICASH!K784),\"00\") & RIGHT(TEXT(YEAR(MICASH!K784),\"00\"),2)","v":"010000"},{"$f":"UPPER(LEFT(MICASH!L784,96))","v":""}]
["C",288,"00",{"$f":"TEXT(MICASH!D785,\"0000000000\")","v":"0000000000"}," ",{"$f":"UPPER(MICASH!F785)","v":""},{"$f":"UPPER(MICASH!G785)","v":""}," ",{"$f":"TEXT(MICASH!I785,\"0000000000\")","v":"0000000000"},{"$f":"TEXT(MICASH!J785*100,\"0000000000\")","v":"0000000000"},{"$f":"TEXT(MONTH(MICASH!K785),\"00\") & TEXT(DAY(MICASH!K785),\"00\") & RIGHT(TEXT(YEAR(MICASH!K785),\"00\"),2)","v":"010000"},{"$f":"UPPER(LEFT(MICASH!L785,96))","v":""}]
["C",288,"00",{"$f":"TEXT(MICASH!D786,\"0000000000\")","v":"0000000000"}," ",{"$f":"UPPER(MICASH!F786)","v":""},{"$f":"UPPER(MICASH!G786)","v":""}," ",{"$f":"TEXT(MICASH!I786,\"0000000000\")","v":"0000000000"},{"$f":"TEXT(MICASH!J786*100,\"0000000000\")","v":"0000000000"},{"$f":"TEXT(MONTH(MICASH!K786),\"00\") & TEXT(DAY(MICASH!K786),\"00\") & RIGHT(TEXT(YEAR(MICASH!K786),\"00\"),2)","v":"010000"},{"$f":"UPPER(LEFT(MICASH!L786,96))","v":""}]
["C",288,"00",{"$f":"TEXT(MICASH!D787,\"0000000000\")","v":"0000000000"}," ",{"$f":"UPPER(MICASH!F787)","v":""},{"$f":"UPPER(MICASH!G787)","v":""}," ",{"$f":"TEXT(MICASH!I787,\"0000000000\")","v":"0000000000"},{"$f":"TEXT(MICASH!J787*100,\"0000000000\")","v":"0000000000"},{"$f":"TEXT(MONTH(MICASH!K787),\"00\") & TEXT(DAY(MICASH!K787),\"00\") & RIGHT(TEXT(YEAR(MICASH!K787),\"00\"),2)","v":"010000"},{"$f":"UPPER(LEFT(MICASH!L787,96))","v":""}]
["C",288,"00",{"$f":"TEXT(MICASH!D788,\"0000000000\")","v":"0000000000"}," ",{"$f":"UPPER(MICASH!F788)","v":""},{"$f":"UPPER(MICASH!G788)","v":""}," ",{"$f":"TEXT(MICASH!I788,\"0000000000\")","v":"0000000000"},{"$f":"TEXT(MICASH!J788*100,\"0000000000\")","v":"0000000000"},{"$f":"TEXT(MONTH(MICASH!K788),\"00\") & TEXT(DAY(MICASH!K788),\"00\") & RIGHT(TEXT(YEAR(MICASH!K788),\"00\"),2)","v":"010000"},{"$f":"UPPER(LEFT(MICASH!L788,96))","v":""}]
["C",288,"00",{"$f":"TEXT(MICASH!D789,\"0000000000\")","v":"0000000000"}," ",{"$f":"UPPER(MICASH!F789)","v":""},{"$f":"UPPER(MICASH!G789)","v":""}," ",{"$f":"TEXT(MICASH!I789,\"0000000000\")","v":"0000000000"},{"$f":"TEXT(MICASH!J789*100,\"0000000000\")","v":"0000000000"},{"$f":"TEXT(MONTH(MICASH!K789),\"00\") & TEXT(DAY(MICASH!K789),\"00\") & RIGHT(TEXT(YEAR(MICASH!K789),\"00\"),2)","v":"010000"},{"$f":"UPPER(LEFT(MICASH!L789,96))","v":""}]
["C",288,"00",{"$f":"TEXT(MICASH!D790,\"0000000000\")","v":"0000000000"}," ",{"$f":"UPPER(MICASH!F790)","v":""},{"$f":"UPPER(MICASH!G790)","v":""}," ",{"$f":"TEXT(MICASH!I790,\"0000000000\")","v":"0000000000"},{"$f":"TEXT(MICASH!J790*100,\"0000000000\")","v":"0000000000"},{"$f":"TEXT(MONTH(MICASH!K790),\"00\") & TEXT(DAY(MICASH!K790),\"00\") & RIGHT(TEXT(YEAR(MICASH!K790),\"00\"),2)","v":"010000"},{"$f":"UPPER(LEFT(MICASH!L790,96))","v":""}]
["C",288,"00",{"$f":"TEXT(MICASH!D791,\"0000000000\")","v":"0000000000"}," ",{"$f":"UPPER(MICASH!F791)","v":""},{"$f":"UPPER(MICASH!G791)","v":""}," ",{"$f":"TEXT(MICASH!I791,\"0000000000\")","v":"0000000000"},{"$f":"TEXT(MICASH!J791*100,\"0000000000\")","v":"0000000000"},{"$f":"TEXT(MONTH(MICASH!K791),\"00\") & TEXT(DAY(MICASH!K791),\"00\") & RIGHT(TEXT(YEAR(MICASH!K791),\"00\"),2)","v":"010000"},{"$f":"UPPER(LEFT(MICASH!L791,96))","v":""}]
["C",288,"00",{"$f":"TEXT(MICASH!D792,\"0000000000\")","v":"0000000000"}," ",{"$f":"UPPER(MICASH!F792)","v":""},{"$f":"UPPER(MICASH!G792)","v":""}," ",{"$f":"TEXT(MICASH!I792,\"0000000000\")","v":"0000000000"},{"$f":"TEXT(MICASH!J792*100,\"0000000000\")","v":"0000000000"},{"$f":"TEXT(MONTH(MICASH!K792),\"00\") & TEXT(DAY(MICASH!K792),\"00\") & RIGHT(TEXT(YEAR(MICASH!K792),\"00\"),2)","v":"010000"},{"$f":"UPPER(LEFT(MICASH!L792,96))","v":""}]
["C",288,"00",{"$f":"TEXT(MICASH!D793,\"0000000000\")","v":"0000000000"}," ",{"$f":"UPPER(MICASH!F793)","v":""},{"$f":"UPPER(MICASH!G793)","v":""}," ",{"$f":"TEXT(MICASH!I793,\"0000000000\")","v":"0000000000"},{"$f":"TEXT(MICASH!J793*100,\"0000000000\")","v":"0000000000"},{"$f":"TEXT(MONTH(MICASH!K793),\"00\") & TEXT(DAY(MICASH!K793),\"00\") & RIGHT(TEXT(YEAR(MICASH!K793),\"00\"),2)","v":"010000"},{"$f":"UPPER(LEFT(MICASH!L793,96))","v":""}]
["C",288,"00",{"$f":"TEXT(MICASH!D794,\"0000000000\")","v":"0000000000"}," ",{"$f":"UPPER(MICASH!F794)","v":""},{"$f":"UPPER(MICASH!G794)","v":""}," ",{"$f":"TEXT(MICASH!I794,\"0000000000\")","v":"0000000000"},{"$f":"TEXT(MICASH!J794*100,\"0000000000\")","v":"0000000000"},{"$f":"TEXT(MONTH(MICASH!K794),\"00\") & TEXT(DAY(MICASH!K794),\"00\") & RIGHT(TEXT(YEAR(MICASH!K794),\"00\"),2)","v":"010000"},{"$f":"UPPER(LEFT(MICASH!L794,96))","v":""}]
["C",288,"00",{"$f":"TEXT(MICASH!D795,\"0000000000\")","v":"0000000000"}," ",{"$f":"UPPER(MICASH!F795)","v":""},{"$f":"UPPER(MICASH!G795)","v":""}," ",{"$f":"TEXT(MICASH!I795,\"0000000000\")","v":"0000000000"},{"$f":"TEXT(MICASH!J795*100,\"0000000000\")","v":"0000000000"},{"$f":"TEXT(MONTH(MICASH!K795),\"00\") & TEXT(DAY(MICASH!K795),\"00\") & RIGHT(TEXT(YEAR(MICASH!K795),\"00\"),2)","v":"010000"},{"$f":"UPPER(LEFT(MICASH!L795,96))","v":""}]
["C",288,"00",{"$f":"TEXT(MICASH!D796,\"0000000000\")","v":"0000000000"}," ",{"$f":"UPPER(MICASH!F796)","v":""},{"$f":"UPPER(MICASH!G796)","v":""}," ",{"$f":"TEXT(MICASH!I796,\"0000000000\")","v":"0000000000"},{"$f":"TEXT(MICASH!J796*100,\"0000000000\")","v":"0000000000"},{"$f":"TEXT(MONTH(MICASH!K796),\"00\") & TEXT(DAY(MICASH!K796),\"00\") & RIGHT(TEXT(YEAR(MICASH!K796),\"00\"),2)","v":"010000"},{"$f":"UPPER(LEFT(MICASH!L796,96))","v":""}]
["C",288,"00",{"$f":"TEXT(MICASH!D797,\"0000000000\")","v":"0000000000"}," ",{"$f":"UPPER(MICASH!F797)","v":""},{"$f":"UPPER(MICASH!G797)","v":""}," ",{"$f":"TEXT(MICASH!I797,\"0000000000\")","v":"0000000000"},{"$f":"TEXT(MICASH!J797*100,\"0000000000\")","v":"0000000000"},{"$f":"TEXT(MONTH(MICASH!K797),\"00\") & TEXT(DAY(MICASH!K797),\"00\") & RIGHT(TEXT(YEAR(MICASH!K797),\"00\"),2)","v":"010000"},{"$f":"UPPER(LEFT(MICASH!L797,96))","v":""}]
["C",288,"00",{"$f":"TEXT(MICASH!D798,\"0000000000\")","v":"0000000000"}," ",{"$f":"UPPER(MICASH!F798)","v":""},{"$f":"UPPER(MICASH!G798)","v":""}," ",{"$f":"TEXT(MICASH!I798,\"0000000000\")","v":"0000000000"},{"$f":"TEXT(MICASH!J798*100,\"0000000000\")","v":"0000000000"},{"$f":"TEXT(MONTH(MICASH!K798),\"00\") & TEXT(DAY(MICASH!K798),\"00\") & RIGHT(TEXT(YEAR(MICASH!K798),\"00\"),2)","v":"010000"},{"$f":"UPPER(LEFT(MICASH!L798,96))","v":""}]
["C",288,"00",{"$f":"TEXT(MICASH!D799,\"0000000000\")","v":"0000000000"}," ",{"$f":"UPPER(MICASH!F799)","v":""},{"$f":"UPPER(MICASH!G799)","v":""}," ",{"$f":"TEXT(MICASH!I799,\"0000000000\")","v":"0000000000"},{"$f":"TEXT(MICASH!J799*100,\"0000000000\")","v":"0000000000"},{"$f":"TEXT(MONTH(MICASH!K799),\"00\") & TEXT(DAY(MICASH!K799),\"00\") & RIGHT(TEXT(YEAR(MICASH!K799),\"00\"),2)","v":"010000"},{"$f":"UPPER(LEFT(MICASH!L799,96))","v":""}]
["C",288,"00",{"$f":"TEXT(MICASH!D800,\"0000000000\")","v":"0000000000"}," ",{"$f":"UPPER(MICASH!F800)","v":""},{"$f":"UPPER(MICASH!G800)","v":""}," ",{"$f":"TEXT(MICASH!I800,\"0000000000\")","v":"0000000000"},{"$f":"TEXT(MICASH!J800*100,\"0000000000\")","v":"0000000000"},{"$f":"TEXT(MONTH(MICASH!K800),\"00\") & TEXT(DAY(MICASH!K800),\"00\") & RIGHT(TEXT(YEAR(MICASH!K800),\"00\"),2)","v":"010000"},{"$f":"UPPER(LEFT(MICASH!L800,96))","v":""}]
["C",288,"00",{"$f":"TEXT(MICASH!D801,\"0000000000\")","v":"0000000000"}," ",{"$f":"UPPER(MICASH!F801)","v":""},{"$f":"UPPER(MICASH!G801)","v":""}," ",{"$f":"TEXT(MICASH!I801,\"0000000000\")","v":"0000000000"},{"$f":"TEXT(MICASH!J801*100,\"0000000000\")","v":"0000000000"},{"$f":"TEXT(MONTH(MICASH!K801),\"00\") & TEXT(DAY(MICASH!K801),\"00\") & RIGHT(TEXT(YEAR(MICASH!K801),\"00\"),2)","v":"010000"},{"$f":"UPPER(LEFT(MICASH!L801,96))","v":""}]
["C",288,"00",{"$f":"TEXT(MICASH!D802,\"0000000000\")","v":"0000000000"}," ",{"$f":"UPPER(MICASH!F802)","v":""},{"$f":"UPPER(MICASH!G802)","v":""}," ",{"$f":"TEXT(MICASH!I802,\"0000000000\")","v":"0000000000"},{"$f":"TEXT(MICASH!J802*100,\"0000000000\")","v":"0000000000"},{"$f":"TEXT(MONTH(MICASH!K802),\"00\") & TEXT(DAY(MICASH!K802),\"00\") & RIGHT(TEXT(YEAR(MICASH!K802),\"00\"),2)","v":"010000"},{"$f":"UPPER(LEFT(MICASH!L802,96))","v":""}]
["C",288,"00",{"$f":"TEXT(MICASH!D803,\"0000000000\")","v":"0000000000"}," ",{"$f":"UPPER(MICASH!F803)","v":""},{"$f":"UPPER(MICASH!G803)","v":""}," ",{"$f":"TEXT(MICASH!I803,\"0000000000\")","v":"0000000000"},{"$f":"TEXT(MICASH!J803*100,\"0000000000\")","v":"0000000000"},{"$f":"TEXT(MONTH(MICASH!K803),\"00\") & TEXT(DAY(MICASH!K803),\"00\") & RIGHT(TEXT(YEAR(MICASH!K803),\"00\"),2)","v":"010000"},{"$f":"UPPER(LEFT(MICASH!L803,96))","v":""}]
["C",288,"00",{"$f":"TEXT(MICASH!D804,\"0000000000\")","v":"0000000000"}," ",{"$f":"UPPER(MICASH!F804)","v":""},{"$f":"UPPER(MICASH!G804)","v":""}," ",{"$f":"TEXT(MICASH!I804,\"0000000000\")","v":"0000000000"},{"$f":"TEXT(MICASH!J804*100,\"0000000000\")","v":"0000000000"},{"$f":"TEXT(MONTH(MICASH!K804),\"00\") & TEXT(DAY(MICASH!K804),\"00\") & RIGHT(TEXT(YEAR(MICASH!K804),\"00\"),2)","v":"010000"},{"$f":"UPPER(LEFT(MICASH!L804,96))","v":""}]
["C",288,"00",{"$f":"TEXT(MICASH!D805,\"0000000000\")","v":"0000000000"}," ",{"$f":"UPPER(MICASH!F805)","v":""},{"$f":"UPPER(MICASH!G805)","v":""}," ",{"$f":"TEXT(MICASH!I805,\"0000000000\")","v":"0000000000"},{"$f":"TEXT(MICASH!J805*100,\"0000000000\")","v":"0000000000"},{"$f":"TEXT(MONTH(MICASH!K805),\"00\") & TEXT(DAY(MICASH!K805),\"00\") & RIGHT(TEXT(YEAR(MICASH!K805),\"00\"),2)","v":"010000"},{"$f":"UPPER(LEFT(MICASH!L805,96))","v":""}]
["C",288,"00",{"$f":"TEXT(MICASH!D806,\"0000000000\")","v":"0000000000"}," ",{"$f":"UPPER(MICASH!F806)","v":""},{"$f":"UPPER(MICASH!G806)","v":""}," ",{"$f":"TEXT(MICASH!I806,\"0000000000\")","v":"0000000000"},{"$f":"TEXT(MICASH!J806*100,\"0000000000\")","v":"0000000000"},{"$f":"TEXT(MONTH(MICASH!K806),\"00\") & TEXT(DAY(MICASH!K806),\"00\") & RIGHT(TEXT(YEAR(MICASH!K806),\"00\"),2)","v":"010000"},{"$f":"UPPER(LEFT(MICASH!L806,96))","v":""}]
["C",288,"00",{"$f":"TEXT(MICASH!D807,\"0000000000\")","v":"0000000000"}," ",{"$f":"UPPER(MICASH!F807)","v":""},{"$f":"UPPER(MICASH!G807)","v":""}," ",{"$f":"TEXT(MICASH!I807,\"0000000000\")","v":"0000000000"},{"$f":"TEXT(MICASH!J807*100,\"0000000000\")","v":"0000000000"},{"$f":"TEXT(MONTH(MICASH!K807),\"00\") & TEXT(DAY(MICASH!K807),\"00\") & RIGHT(TEXT(YEAR(MICASH!K807),\"00\"),2)","v":"010000"},{"$f":"UPPER(LEFT(MICASH!L807,96))","v":""}]
["C",288,"00",{"$f":"TEXT(MICASH!D808,\"0000000000\")","v":"0000000000"}," ",{"$f":"UPPER(MICASH!F808)","v":""},{"$f":"UPPER(MICASH!G808)","v":""}," ",{"$f":"TEXT(MICASH!I808,\"0000000000\")","v":"0000000000"},{"$f":"TEXT(MICASH!J808*100,\"0000000000\")","v":"0000000000"},{"$f":"TEXT(MONTH(MICASH!K808),\"00\") & TEXT(DAY(MICASH!K808),\"00\") & RIGHT(TEXT(YEAR(MICASH!K808),\"00\"),2)","v":"010000"},{"$f":"UPPER(LEFT(MICASH!L808,96))","v":""}]
["C",288,"00",{"$f":"TEXT(MICASH!D809,\"0000000000\")","v":"0000000000"}," ",{"$f":"UPPER(MICASH!F809)","v":""},{"$f":"UPPER(MICASH!G809)","v":""}," ",{"$f":"TEXT(MICASH!I809,\"0000000000\")","v":"0000000000"},{"$f":"TEXT(MICASH!J809*100,\"0000000000\")","v":"0000000000"},{"$f":"TEXT(MONTH(MICASH!K809),\"00\") & TEXT(DAY(MICASH!K809),\"00\") & RIGHT(TEXT(YEAR(MICASH!K809),\"00\"),2)","v":"010000"},{"$f":"UPPER(LEFT(MICASH!L809,96))","v":""}]
["C",288,"00",{"$f":"TEXT(MICASH!D810,\"0000000000\")","v":"0000000000"}," ",{"$f":"UPPER(MICASH!F810)","v":""},{"$f":"UPPER(MICASH!G810)","v":""}," ",{"$f":"TEXT(MICASH!I810,\"0000000000\")","v":"0000000000"},{"$f":"TEXT(MICASH!J810*100,\"0000000000\")","v":"0000000000"},{"$f":"TEXT(MONTH(MICASH!K810),\"00\") & TEXT(DAY(MICASH!K810),\"00\") & RIGHT(TEXT(YEAR(MICASH!K810),\"00\"),2)","v":"010000"},{"$f":"UPPER(LEFT(MICASH!L810,96))","v":""}]
["C",288,"00",{"$f":"TEXT(MICASH!D811,\"0000000000\")","v":"0000000000"}," ",{"$f":"UPPER(MICASH!F811)","v":""},{"$f":"UPPER(MICASH!G811)","v":""}," ",{"$f":"TEXT(MICASH!I811,\"0000000000\")","v":"0000000000"},{"$f":"TEXT(MICASH!J811*100,\"0000000000\")","v":"0000000000"},{"$f":"TEXT(MONTH(MICASH!K811),\"00\") & TEXT(DAY(MICASH!K811),\"00\") & RIGHT(TEXT(YEAR(MICASH!K811),\"00\"),2)","v":"010000"},{"$f":"UPPER(LEFT(MICASH!L811,96))","v":""}]
["C",288,"00",{"$f":"TEXT(MICASH!D812,\"0000000000\")","v":"0000000000"}," ",{"$f":"UPPER(MICASH!F812)","v":""},{"$f":"UPPER(MICASH!G812)","v":""}," ",{"$f":"TEXT(MICASH!I812,\"0000000000\")","v":"0000000000"},{"$f":"TEXT(MICASH!J812*100,\"0000000000\")","v":"0000000000"},{"$f":"TEXT(MONTH(MICASH!K812),\"00\") & TEXT(DAY(MICASH!K812),\"00\") & RIGHT(TEXT(YEAR(MICASH!K812),\"00\"),2)","v":"010000"},{"$f":"UPPER(LEFT(MICASH!L812,96))","v":""}]
["C",288,"00",{"$f":"TEXT(MICASH!D813,\"0000000000\")","v":"0000000000"}," ",{"$f":"UPPER(MICASH!F813)","v":""},{"$f":"UPPER(MICASH!G813)","v":""}," ",{"$f":"TEXT(MICASH!I813,\"0000000000\")","v":"0000000000"},{"$f":"TEXT(MICASH!J813*100,\"0000000000\")","v":"0000000000"},{"$f":"TEXT(MONTH(MICASH!K813),\"00\") & TEXT(DAY(MICASH!K813),\"00\") & RIGHT(TEXT(YEAR(MICASH!K813),\"00\"),2)","v":"010000"},{"$f":"UPPER(LEFT(MICASH!L813,96))","v":""}]
["C",288,"00",{"$f":"TEXT(MICASH!D814,\"0000000000\")","v":"0000000000"}," ",{"$f":"UPPER(MICASH!F814)","v":""},{"$f":"UPPER(MICASH!G814)","v":""}," ",{"$f":"TEXT(MICASH!I814,\"0000000000\")","v":"0000000000"},{"$f":"TEXT(MICASH!J814*100,\"0000000000\")","v":"0000000000"},{"$f":"TEXT(MONTH(MICASH!K814),\"00\") & TEXT(DAY(MICASH!K814),\"00\") & RIGHT(TEXT(YEAR(MICASH!K814),\"00\"),2)","v":"010000"},{"$f":"UPPER(LEFT(MICASH!L814,96))","v":""}]
["C",288,"00",{"$f":"TEXT(MICASH!D815,\"0000000000\")","v":"0000000000"}," ",{"$f":"UPPER(MICASH!F815)","v":""},{"$f":"UPPER(MICASH!G815)","v":""}," ",{"$f":"TEXT(MICASH!I815,\"0000000000\")","v":"0000000000"},{"$f":"TEXT(MICASH!J815*100,\"0000000000\")","v":"0000000000"},{"$f":"TEXT(MONTH(MICASH!K815),\"00\") & TEXT(DAY(MICASH!K815),\"00\") & RIGHT(TEXT(YEAR(MICASH!K815),\"00\"),2)","v":"010000"},{"$f":"UPPER(LEFT(MICASH!L815,96))","v":""}]
["C",288,"00",{"$f":"TEXT(MICASH!D816,\"0000000000\")","v":"0000000000"}," ",{"$f":"UPPER(MICASH!F816)","v":""},{"$f":"UPPER(MICASH!G816)","v":""}," ",{"$f":"TEXT(MICASH!I816,\"0000000000\")","v":"0000000000"},{"$f":"TEXT(MICASH!J816*100,\"0000000000\")","v":"0000000000"},{"$f":"TEXT(MONTH(MICASH!K816),\"00\") & TEXT(DAY(MICASH!K816),\"00\") & RIGHT(TEXT(YEAR(MICASH!K816),\"00\"),2)","v":"010000"},{"$f":"UPPER(LEFT(MICASH!L816,96))","v":""}]
["C",288,"00",{"$f":"TEXT(MICASH!D817,\"0000000000\")","v":"0000000000"}," ",{"$f":"UPPER(MICASH!F817)","v":""},{"$f":"UPPER(MICASH!G817)","v":""}," ",{"$f":"TEXT(MICASH!I817,\"0000000000\")","v":"0000000000"},{"$f":"TEXT(MICASH!J817*100,\"0000000000\")","v":"0000000000"},{"$f":"TEXT(MONTH(MICASH!K817),\"00\") & TEXT(DAY(MICASH!K817),\"00\") & RIGHT(TEXT(YEAR(MICASH!K817),\"00\"),2)","v":"010000"},{"$f":"UPPER(LEFT(MICASH!L817,96))","v":""}]
["C",288,"00",{"$f":"TEXT(MICASH!D818,\"0000000000\")","v":"0000000000"}," ",{"$f":"UPPER(MICASH!F818)","v":""},{"$f":"UPPER(MICASH!G818)","v":""}," ",{"$f":"TEXT(MICASH!I818,\"0000000000\")","v":"0000000000"},{"$f":"TEXT(MICASH!J818*100,\"0000000000\")","v":"0000000000"},{"$f":"TEXT(MONTH(MICASH!K818),\"00\") & TEXT(DAY(MICASH!K818),\"00\") & RIGHT(TEXT(YEAR(MICASH!K818),\"00\"),2)","v":"010000"},{"$f":"UPPER(LEFT(MICASH!L818,96))","v":""}]
["C",288,"00",{"$f":"TEXT(MICASH!D819,\"0000000000\")","v":"0000000000"}," ",{"$f":"UPPER(MICASH!F819)","v":""},{"$f":"UPPER(MICASH!G819)","v":""}," ",{"$f":"TEXT(MICASH!I819,\"0000000000\")","v":"0000000000"},{"$f":"TEXT(MICASH!J819*100,\"0000000000\")","v":"0000000000"},{"$f":"TEXT(MONTH(MICASH!K819),\"00\") & TEXT(DAY(MICASH!K819),\"00\") & RIGHT(TEXT(YEAR(MICASH!K819),\"00\"),2)","v":"010000"},{"$f":"UPPER(LEFT(MICASH!L819,96))","v":""}]
["C",288,"00",{"$f":"TEXT(MICASH!D820,\"0000000000\")","v":"0000000000"}," ",{"$f":"UPPER(MICASH!F820)","v":""},{"$f":"UPPER(MICASH!G820)","v":""}," ",{"$f":"TEXT(MICASH!I820,\"0000000000\")","v":"0000000000"},{"$f":"TEXT(MICASH!J820*100,\"0000000000\")","v":"0000000000"},{"$f":"TEXT(MONTH(MICASH!K820),\"00\") & TEXT(DAY(MICASH!K820),\"00\") & RIGHT(TEXT(YEAR(MICASH!K820),\"00\"),2)","v":"010000"},{"$f":"UPPER(LEFT(MICASH!L820,96))","v":""}]
["C",288,"00",{"$f":"TEXT(MICASH!D821,\"0000000000\")","v":"0000000000"}," ",{"$f":"UPPER(MICASH!F821)","v":""},{"$f":"UPPER(MICASH!G821)","v":""}," ",{"$f":"TEXT(MICASH!I821,\"0000000000\")","v":"0000000000"},{"$f":"TEXT(MICASH!J821*100,\"0000000000\")","v":"0000000000"},{"$f":"TEXT(MONTH(MICASH!K821),\"00\") & TEXT(DAY(MICASH!K821),\"00\") & RIGHT(TEXT(YEAR(MICASH!K821),\"00\"),2)","v":"010000"},{"$f":"UPPER(LEFT(MICASH!L821,96))","v":""}]
["C",288,"00",{"$f":"TEXT(MICASH!D822,\"0000000000\")","v":"0000000000"}," ",{"$f":"UPPER(MICASH!F822)","v":""},{"$f":"UPPER(MICASH!G822)","v":""}," ",{"$f":"TEXT(MICASH!I822,\"0000000000\")","v":"0000000000"},{"$f":"TEXT(MICASH!J822*100,\"0000000000\")","v":"0000000000"},{"$f":"TEXT(MONTH(MICASH!K822),\"00\") & TEXT(DAY(MICASH!K822),\"00\") & RIGHT(TEXT(YEAR(MICASH!K822),\"00\"),2)","v":"010000"},{"$f":"UPPER(LEFT(MICASH!L822,96))","v":""}]
["C",288,"00",{"$f":"TEXT(MICASH!D823,\"0000000000\")","v":"0000000000"}," ",{"$f":"UPPER(MICASH!F823)","v":""},{"$f":"UPPER(MICASH!G823)","v":""}," ",{"$f":"TEXT(MICASH!I823,\"0000000000\")","v":"0000000000"},{"$f":"TEXT(MICASH!J823*100,\"0000000000\")","v":"0000000000"},{"$f":"TEXT(MONTH(MICASH!K823),\"00\") & TEXT(DAY(MICASH!K823),\"00\") & RIGHT(TEXT(YEAR(MICASH!K823),\"00\"),2)","v":"010000"},{"$f":"UPPER(LEFT(MICASH!L823,96))","v":""}]
["C",288,"00",{"$f":"TEXT(MICASH!D824,\"0000000000\")","v":"0000000000"}," ",{"$f":"UPPER(MICASH!F824)","v":""},{"$f":"UPPER(MICASH!G824)","v":""}," ",{"$f":"TEXT(MICASH!I824,\"0000000000\")","v":"0000000000"},{"$f":"TEXT(MICASH!J824*100,\"0000000000\")","v":"0000000000"},{"$f":"TEXT(MONTH(MICASH!K824),\"00\") & TEXT(DAY(MICASH!K824),\"00\") & RIGHT(TEXT(YEAR(MICASH!K824),\"00\"),2)","v":"010000"},{"$f":"UPPER(LEFT(MICASH!L824,96))","v":""}]
["C",288,"00",{"$f":"TEXT(MICASH!D825,\"0000000000\")","v":"0000000000"}," ",{"$f":"UPPER(MICASH!F825)","v":""},{"$f":"UPPER(MICASH!G825)","v":""}," ",{"$f":"TEXT(MICASH!I825,\"0000000000\")","v":"0000000000"},{"$f":"TEXT(MICASH!J825*100,\"0000000000\")","v":"0000000000"},{"$f":"TEXT(MONTH(MICASH!K825),\"00\") & TEXT(DAY(MICASH!K825),\"00\") & RIGHT(TEXT(YEAR(MICASH!K825),\"00\"),2)","v":"010000"},{"$f":"UPPER(LEFT(MICASH!L825,96))","v":""}]
["C",288,"00",{"$f":"TEXT(MICASH!D826,\"0000000000\")","v":"0000000000"}," ",{"$f":"UPPER(MICASH!F826)","v":""},{"$f":"UPPER(MICASH!G826)","v":""}," ",{"$f":"TEXT(MICASH!I826,\"0000000000\")","v":"0000000000"},{"$f":"TEXT(MICASH!J826*100,\"0000000000\")","v":"0000000000"},{"$f":"TEXT(MONTH(MICASH!K826),\"00\") & TEXT(DAY(MICASH!K826),\"00\") & RIGHT(TEXT(YEAR(MICASH!K826),\"00\"),2)","v":"010000"},{"$f":"UPPER(LEFT(MICASH!L826,96))","v":""}]
["C",288,"00",{"$f":"TEXT(MICASH!D827,\"0000000000\")","v":"0000000000"}," ",{"$f":"UPPER(MICASH!F827)","v":""},{"$f":"UPPER(MICASH!G827)","v":""}," ",{"$f":"TEXT(MICASH!I827,\"0000000000\")","v":"0000000000"},{"$f":"TEXT(MICASH!J827*100,\"0000000000\")","v":"0000000000"},{"$f":"TEXT(MONTH(MICASH!K827),\"00\") & TEXT(DAY(MICASH!K827),\"00\") & RIGHT(TEXT(YEAR(MICASH!K827),\"00\"),2)","v":"010000"},{"$f":"UPPER(LEFT(MICASH!L827,96))","v":""}]
["C",288,"00",{"$f":"TEXT(MICASH!D828,\"0000000000\")","v":"0000000000"}," ",{"$f":"UPPER(MICASH!F828)","v":""},{"$f":"UPPER(MICASH!G828)","v":""}," ",{"$f":"TEXT(MICASH!I828,\"0000000000\")","v":"0000000000"},{"$f":"TEXT(MICASH!J828*100,\"0000000000\")","v":"0000000000"},{"$f":"TEXT(MONTH(MICASH!K828),\"00\") & TEXT(DAY(MICASH!K828),\"00\") & RIGHT(TEXT(YEAR(MICASH!K828),\"00\"),2)","v":"010000"},{"$f":"UPPER(LEFT(MICASH!L828,96))","v":""}]
["C",288,"00",{"$f":"TEXT(MICASH!D829,\"0000000000\")","v":"0000000000"}," ",{"$f":"UPPER(MICASH!F829)","v":""},{"$f":"UPPER(MICASH!G829)","v":""}," ",{"$f":"TEXT(MICASH!I829,\"0000000000\")","v":"0000000000"},{"$f":"TEXT(MICASH!J829*100,\"0000000000\")","v":"0000000000"},{"$f":"TEXT(MONTH(MICASH!K829),\"00\") & TEXT(DAY(MICASH!K829),\"00\") & RIGHT(TEXT(YEAR(MICASH!K829),\"00\"),2)","v":"010000"},{"$f":"UPPER(LEFT(MICASH!L829,96))","v":""}]
["C",288,"00",{"$f":"TEXT(MICASH!D830,\"0000000000\")","v":"0000000000"}," ",{"$f":"UPPER(MICASH!F830)","v":""},{"$f":"UPPER(MICASH!G830)","v":""}," ",{"$f":"TEXT(MICASH!I830,\"0000000000\")","v":"0000000000"},{"$f":"TEXT(MICASH!J830*100,\"0000000000\")","v":"0000000000"},{"$f":"TEXT(MONTH(MICASH!K830),\"00\") & TEXT(DAY(MICASH!K830),\"00\") & RIGHT(TEXT(YEAR(MICASH!K830),\"00\"),2)","v":"010000"},{"$f":"UPPER(LEFT(MICASH!L830,96))","v":""}]
["C",288,"00",{"$f":"TEXT(MICASH!D831,\"0000000000\")","v":"0000000000"}," ",{"$f":"UPPER(MICASH!F831)","v":""},{"$f":"UPPER(MICASH!G831)","v":""}," ",{"$f":"TEXT(MICASH!I831,\"0000000000\")","v":"0000000000"},{"$f":"TEXT(MICASH!J831*100,\"0000000000\")","v":"0000000000"},{"$f":"TEXT(MONTH(MICASH!K831),\"00\") & TEXT(DAY(MICASH!K831),\"00\") & RIGHT(TEXT(YEAR(MICASH!K831),\"00\"),2)","v":"010000"},{"$f":"UPPER(LEFT(MICASH!L831,96))","v":""}]
["C",288,"00",{"$f":"TEXT(MICASH!D832,\"0000000000\")","v":"0000000000"}," ",{"$f":"UPPER(MICASH!F832)","v":""},{"$f":"UPPER(MICASH!G832)","v":""}," ",{"$f":"TEXT(MICASH!I832,\"0000000000\")","v":"0000000000"},{"$f":"TEXT(MICASH!J832*100,\"0000000000\")","v":"0000000000"},{"$f":"TEXT(MONTH(MICASH!K832),\"00\") & TEXT(DAY(MICASH!K832),\"00\") & RIGHT(TEXT(YEAR(MICASH!K832),\"00\"),2)","v":"010000"},{"$f":"UPPER(LEFT(MICASH!L832,96))","v":""}]
["C",288,"00",{"$f":"TEXT(MICASH!D833,\"0000000000\")","v":"0000000000"}," ",{"$f":"UPPER(MICASH!F833)","v":""},{"$f":"UPPER(MICASH!G833)","v":""}," ",{"$f":"TEXT(MICASH!I833,\"0000000000\")","v":"0000000000"},{"$f":"TEXT(MICASH!J833*100,\"0000000000\")","v":"0000000000"},{"$f":"TEXT(MONTH(MICASH!K833),\"00\") & TEXT(DAY(MICASH!K833),\"00\") & RIGHT(TEXT(YEAR(MICASH!K833),\"00\"),2)","v":"010000"},{"$f":"UPPER(LEFT(MICASH!L833,96))","v":""}]
["C",288,"00",{"$f":"TEXT(MICASH!D834,\"0000000000\")","v":"0000000000"}," ",{"$f":"UPPER(MICASH!F834)","v":""},{"$f":"UPPER(MICASH!G834)","v":""}," ",{"$f":"TEXT(MICASH!I834,\"0000000000\")","v":"0000000000"},{"$f":"TEXT(MICASH!J834*100,\"0000000000\")","v":"0000000000"},{"$f":"TEXT(MONTH(MICASH!K834),\"00\") & TEXT(DAY(MICASH!K834),\"00\") & RIGHT(TEXT(YEAR(MICASH!K834),\"00\"),2)","v":"010000"},{"$f":"UPPER(LEFT(MICASH!L834,96))","v":""}]
["C",288,"00",{"$f":"TEXT(MICASH!D835,\"0000000000\")","v":"0000000000"}," ",{"$f":"UPPER(MICASH!F835)","v":""},{"$f":"UPPER(MICASH!G835)","v":""}," ",{"$f":"TEXT(MICASH!I835,\"0000000000\")","v":"0000000000"},{"$f":"TEXT(MICASH!J835*100,\"0000000000\")","v":"0000000000"},{"$f":"TEXT(MONTH(MICASH!K835),\"00\") & TEXT(DAY(MICASH!K835),\"00\") & RIGHT(TEXT(YEAR(MICASH!K835),\"00\"),2)","v":"010000"},{"$f":"UPPER(LEFT(MICASH!L835,96))","v":""}]
["C",288,"00",{"$f":"TEXT(MICASH!D836,\"0000000000\")","v":"0000000000"}," ",{"$f":"UPPER(MICASH!F836)","v":""},{"$f":"UPPER(MICASH!G836)","v":""}," ",{"$f":"TEXT(MICASH!I836,\"0000000000\")","v":"0000000000"},{"$f":"TEXT(MICASH!J836*100,\"0000000000\")","v":"0000000000"},{"$f":"TEXT(MONTH(MICASH!K836),\"00\") & TEXT(DAY(MICASH!K836),\"00\") & RIGHT(TEXT(YEAR(MICASH!K836),\"00\"),2)","v":"010000"},{"$f":"UPPER(LEFT(MICASH!L836,96))","v":""}]
["C",288,"00",{"$f":"TEXT(MICASH!D837,\"0000000000\")","v":"0000000000"}," ",{"$f":"UPPER(MICASH!F837)","v":""},{"$f":"UPPER(MICASH!G837)","v":""}," ",{"$f":"TEXT(MICASH!I837,\"0000000000\")","v":"0000000000"},{"$f":"TEXT(MICASH!J837*100,\"0000000000\")","v":"0000000000"},{"$f":"TEXT(MONTH(MICASH!K837),\"00\") & TEXT(DAY(MICASH!K837),\"00\") & RIGHT(TEXT(YEAR(MICASH!K837),\"00\"),2)","v":"010000"},{"$f":"UPPER(LEFT(MICASH!L837,96))","v":""}]
["C",288,"00",{"$f":"TEXT(MICASH!D838,\"0000000000\")","v":"0000000000"}," ",{"$f":"UPPER(MICASH!F838)","v":""},{"$f":"UPPER(MICASH!G838)","v":""}," ",{"$f":"TEXT(MICASH!I838,\"0000000000\")","v":"0000000000"},{"$f":"TEXT(MICASH!J838*100,\"0000000000\")","v":"0000000000"},{"$f":"TEXT(MONTH(MICASH!K838),\"00\") & TEXT(DAY(MICASH!K838),\"00\") & RIGHT(TEXT(YEAR(MICASH!K838),\"00\"),2)","v":"010000"},{"$f":"UPPER(LEFT(MICASH!L838,96))","v":""}]
["C",288,"00",{"$f":"TEXT(MICASH!D839,\"0000000000\")","v":"0000000000"}," ",{"$f":"UPPER(MICASH!F839)","v":""},{"$f":"UPPER(MICASH!G839)","v":""}," ",{"$f":"TEXT(MICASH!I839,\"0000000000\")","v":"0000000000"},{"$f":"TEXT(MICASH!J839*100,\"0000000000\")","v":"0000000000"},{"$f":"TEXT(MONTH(MICASH!K839),\"00\") & TEXT(DAY(MICASH!K839),\"00\") & RIGHT(TEXT(YEAR(MICASH!K839),\"00\"),2)","v":"010000"},{"$f":"UPPER(LEFT(MICASH!L839,96))","v":""}]
["C",288,"00",{"$f":"TEXT(MICASH!D840,\"0000000000\")","v":"0000000000"}," ",{"$f":"UPPER(MICASH!F840)","v":""},{"$f":"UPPER(MICASH!G840)","v":""}," ",{"$f":"TEXT(MICASH!I840,\"0000000000\")","v":"0000000000"},{"$f":"TEXT(MICASH!J840*100,\"0000000000\")","v":"0000000000"},{"$f":"TEXT(MONTH(MICASH!K840),\"00\") & TEXT(DAY(MICASH!K840),\"00\") & RIGHT(TEXT(YEAR(MICASH!K840),\"00\"),2)","v":"010000"},{"$f":"UPPER(LEFT(MICASH!L840,96))","v":""}]
["C",288,"00",{"$f":"TEXT(MICASH!D841,\"0000000000\")","v":"0000000000"}," ",{"$f":"UPPER(MICASH!F841)","v":""},{"$f":"UPPER(MICASH!G841)","v":""}," ",{"$f":"TEXT(MICASH!I841,\"0000000000\")","v":"0000000000"},{"$f":"TEXT(MICASH!J841*100,\"0000000000\")","v":"0000000000"},{"$f":"TEXT(MONTH(MICASH!K841),\"00\") & TEXT(DAY(MICASH!K841),\"00\") & RIGHT(TEXT(YEAR(MICASH!K841),\"00\"),2)","v":"010000"},{"$f":"UPPER(LEFT(MICASH!L841,96))","v":""}]
["C",288,"00",{"$f":"TEXT(MICASH!D842,\"0000000000\")","v":"0000000000"}," ",{"$f":"UPPER(MICASH!F842)","v":""},{"$f":"UPPER(MICASH!G842)","v":""}," ",{"$f":"TEXT(MICASH!I842,\"0000000000\")","v":"0000000000"},{"$f":"TEXT(MICASH!J842*100,\"0000000000\")","v":"0000000000"},{"$f":"TEXT(MONTH(MICASH!K842),\"00\") & TEXT(DAY(MICASH!K842),\"00\") & RIGHT(TEXT(YEAR(MICASH!K842),\"00\"),2)","v":"010000"},{"$f":"UPPER(LEFT(MICASH!L842,96))","v":""}]
["C",288,"00",{"$f":"TEXT(MICASH!D843,\"0000000000\")","v":"0000000000"}," ",{"$f":"UPPER(MICASH!F843)","v":""},{"$f":"UPPER(MICASH!G843)","v":""}," ",{"$f":"TEXT(MICASH!I843,\"0000000000\")","v":"0000000000"},{"$f":"TEXT(MICASH!J843*100,\"0000000000\")","v":"0000000000"},{"$f":"TEXT(MONTH(MICASH!K843),\"00\") & TEXT(DAY(MICASH!K843),\"00\") & RIGHT(TEXT(YEAR(MICASH!K843),\"00\"),2)","v":"010000"},{"$f":"UPPER(LEFT(MICASH!L843,96))","v":""}]
["C",288,"00",{"$f":"TEXT(MICASH!D844,\"0000000000\")","v":"0000000000"}," ",{"$f":"UPPER(MICASH!F844)","v":""},{"$f":"UPPER(MICASH!G844)","v":""}," ",{"$f":"TEXT(MICASH!I844,\"0000000000\")","v":"0000000000"},{"$f":"TEXT(MICASH!J844*100,\"0000000000\")","v":"0000000000"},{"$f":"TEXT(MONTH(MICASH!K844),\"00\") & TEXT(DAY(MICASH!K844),\"00\") & RIGHT(TEXT(YEAR(MICASH!K844),\"00\"),2)","v":"010000"},{"$f":"UPPER(LEFT(MICASH!L844,96))","v":""}]
["C",288,"00",{"$f":"TEXT(MICASH!D845,\"0000000000\")","v":"0000000000"}," ",{"$f":"UPPER(MICASH!F845)","v":""},{"$f":"UPPER(MICASH!G845)","v":""}," ",{"$f":"TEXT(MICASH!I845,\"0000000000\")","v":"0000000000"},{"$f":"TEXT(MICASH!J845*100,\"0000000000\")","v":"0000000000"},{"$f":"TEXT(MONTH(MICASH!K845),\"00\") & TEXT(DAY(MICASH!K845),\"00\") & RIGHT(TEXT(YEAR(MICASH!K845),\"00\"),2)","v":"010000"},{"$f":"UPPER(LEFT(MICASH!L845,96))","v":""}]
["C",288,"00",{"$f":"TEXT(MICASH!D846,\"0000000000\")","v":"0000000000"}," ",{"$f":"UPPER(MICASH!F846)","v":""},{"$f":"UPPER(MICASH!G846)","v":""}," ",{"$f":"TEXT(MICASH!I846,\"0000000000\")","v":"0000000000"},{"$f":"TEXT(MICASH!J846*100,\"0000000000\")","v":"0000000000"},{"$f":"TEXT(MONTH(MICASH!K846),\"00\") & TEXT(DAY(MICASH!K846),\"00\") & RIGHT(TEXT(YEAR(MICASH!K846),\"00\"),2)","v":"010000"},{"$f":"UPPER(LEFT(MICASH!L846,96))","v":""}]
["C",288,"00",{"$f":"TEXT(MICASH!D847,\"0000000000\")","v":"0000000000"}," ",{"$f":"UPPER(MICASH!F847)","v":""},{"$f":"UPPER(MICASH!G847)","v":""}," ",{"$f":"TEXT(MICASH!I847,\"0000000000\")","v":"0000000000"},{"$f":"TEXT(MICASH!J847*100,\"0000000000\")","v":"0000000000"},{"$f":"TEXT(MONTH(MICASH!K847),\"00\") & TEXT(DAY(MICASH!K847),\"00\") & RIGHT(TEXT(YEAR(MICASH!K847),\"00\"),2)","v":"010000"},{"$f":"UPPER(LEFT(MICASH!L847,96))","v":""}]
["C",288,"00",{"$f":"TEXT(MICASH!D848,\"0000000000\")","v":"0000000000"}," ",{"$f":"UPPER(MICASH!F848)","v":""},{"$f":"UPPER(MICASH!G848)","v":""}," ",{"$f":"TEXT(MICASH!I848,\"0000000000\")","v":"0000000000"},{"$f":"TEXT(MICASH!J848*100,\"0000000000\")","v":"0000000000"},{"$f":"TEXT(MONTH(MICASH!K848),\"00\") & TEXT(DAY(MICASH!K848),\"00\") & RIGHT(TEXT(YEAR(MICASH!K848),\"00\"),2)","v":"010000"},{"$f":"UPPER(LEFT(MICASH!L848,96))","v":""}]
["C",288,"00",{"$f":"TEXT(MICASH!D849,\"0000000000\")","v":"0000000000"}," ",{"$f":"UPPER(MICASH!F849)","v":""},{"$f":"UPPER(MICASH!G849)","v":""}," ",{"$f":"TEXT(MICASH!I849,\"0000000000\")","v":"0000000000"},{"$f":"TEXT(MICASH!J849*100,\"0000000000\")","v":"0000000000"},{"$f":"TEXT(MONTH(MICASH!K849),\"00\") & TEXT(DAY(MICASH!K849),\"00\") & RIGHT(TEXT(YEAR(MICASH!K849),\"00\"),2)","v":"010000"},{"$f":"UPPER(LEFT(MICASH!L849,96))","v":""}]
["C",288,"00",{"$f":"TEXT(MICASH!D850,\"0000000000\")","v":"0000000000"}," ",{"$f":"UPPER(MICASH!F850)","v":""},{"$f":"UPPER(MICASH!G850)","v":""}," ",{"$f":"TEXT(MICASH!I850,\"0000000000\")","v":"0000000000"},{"$f":"TEXT(MICASH!J850*100,\"0000000000\")","v":"0000000000"},{"$f":"TEXT(MONTH(MICASH!K850),\"00\") & TEXT(DAY(MICASH!K850),\"00\") & RIGHT(TEXT(YEAR(MICASH!K850),\"00\"),2)","v":"010000"},{"$f":"UPPER(LEFT(MICASH!L850,96))","v":""}]
["C",288,"00",{"$f":"TEXT(MICASH!D851,\"0000000000\")","v":"0000000000"}," ",{"$f":"UPPER(MICASH!F851)","v":""},{"$f":"UPPER(MICASH!G851)","v":""}," ",{"$f":"TEXT(MICASH!I851,\"0000000000\")","v":"0000000000"},{"$f":"TEXT(MICASH!J851*100,\"0000000000\")","v":"0000000000"},{"$f":"TEXT(MONTH(MICASH!K851),\"00\") & TEXT(DAY(MICASH!K851),\"00\") & RIGHT(TEXT(YEAR(MICASH!K851),\"00\"),2)","v":"010000"},{"$f":"UPPER(LEFT(MICASH!L851,96))","v":""}]
["C",288,"00",{"$f":"TEXT(MICASH!D852,\"0000000000\")","v":"0000000000"}," ",{"$f":"UPPER(MICASH!F852)","v":""},{"$f":"UPPER(MICASH!G852)","v":""}," ",{"$f":"TEXT(MICASH!I852,\"0000000000\")","v":"0000000000"},{"$f":"TEXT(MICASH!J852*100,\"0000000000\")","v":"0000000000"},{"$f":"TEXT(MONTH(MICASH!K852),\"00\") & TEXT(DAY(MICASH!K852),\"00\") & RIGHT(TEXT(YEAR(MICASH!K852),\"00\"),2)","v":"010000"},{"$f":"UPPER(LEFT(MICASH!L852,96))","v":""}]
["C",288,"00",{"$f":"TEXT(MICASH!D853,\"0000000000\")","v":"0000000000"}," ",{"$f":"UPPER(MICASH!F853)","v":""},{"$f":"UPPER(MICASH!G853)","v":""}," ",{"$f":"TEXT(MICASH!I853,\"0000000000\")","v":"0000000000"},{"$f":"TEXT(MICASH!J853*100,\"0000000000\")","v":"0000000000"},{"$f":"TEXT(MONTH(MICASH!K853),\"00\") & TEXT(DAY(MICASH!K853),\"00\") & RIGHT(TEXT(YEAR(MICASH!K853),\"00\"),2)","v":"010000"},{"$f":"UPPER(LEFT(MICASH!L853,96))","v":""}]
["C",288,"00",{"$f":"TEXT(MICASH!D854,\"0000000000\")","v":"0000000000"}," ",{"$f":"UPPER(MICASH!F854)","v":""},{"$f":"UPPER(MICASH!G854)","v":""}," ",{"$f":"TEXT(MICASH!I854,\"0000000000\")","v":"0000000000"},{"$f":"TEXT(MICASH!J854*100,\"0000000000\")","v":"0000000000"},{"$f":"TEXT(MONTH(MICASH!K854),\"00\") & TEXT(DAY(MICASH!K854),\"00\") & RIGHT(TEXT(YEAR(MICASH!K854),\"00\"),2)","v":"010000"},{"$f":"UPPER(LEFT(MICASH!L854,96))","v":""}]
["C",288,"00",{"$f":"TEXT(MICASH!D855,\"0000000000\")","v":"0000000000"}," ",{"$f":"UPPER(MICASH!F855)","v":""},{"$f":"UPPER(MICASH!G855)","v":""}," ",{"$f":"TEXT(MICASH!I855,\"0000000000\")","v":"0000000000"},{"$f":"TEXT(MICASH!J855*100,\"0000000000\")","v":"0000000000"},{"$f":"TEXT(MONTH(MICASH!K855),\"00\") & TEXT(DAY(MICASH!K855),\"00\") & RIGHT(TEXT(YEAR(MICASH!K855),\"00\"),2)","v":"010000"},{"$f":"UPPER(LEFT(MICASH!L855,96))","v":""}]
["C",288,"00",{"$f":"TEXT(MICASH!D856,\"0000000000\")","v":"0000000000"}," ",{"$f":"UPPER(MICASH!F856)","v":""},{"$f":"UPPER(MICASH!G856)","v":""}," ",{"$f":"TEXT(MICASH!I856,\"0000000000\")","v":"0000000000"},{"$f":"TEXT(MICASH!J856*100,\"0000000000\")","v":"0000000000"},{"$f":"TEXT(MONTH(MICASH!K856),\"00\") & TEXT(DAY(MICASH!K856),\"00\") & RIGHT(TEXT(YEAR(MICASH!K856),\"00\"),2)","v":"010000"},{"$f":"UPPER(LEFT(MICASH!L856,96))","v":""}]
["C",288,"00",{"$f":"TEXT(MICASH!D857,\"0000000000\")","v":"0000000000"}," ",{"$f":"UPPER(MICASH!F857)","v":""},{"$f":"UPPER(MICASH!G857)","v":""}," ",{"$f":"TEXT(MICASH!I857,\"0000000000\")","v":"0000000000"},{"$f":"TEXT(MICASH!J857*100,\"0000000000\")","v":"0000000000"},{"$f":"TEXT(MONTH(MICASH!K857),\"00\") & TEXT(DAY(MICASH!K857),\"00\") & RIGHT(TEXT(YEAR(MICASH!K857),\"00\"),2)","v":"010000"},{"$f":"UPPER(LEFT(MICASH!L857,96))","v":""}]
["C",288,"00",{"$f":"TEXT(MICASH!D858,\"0000000000\")","v":"0000000000"}," ",{"$f":"UPPER(MICASH!F858)","v":""},{"$f":"UPPER(MICASH!G858)","v":""}," ",{"$f":"TEXT(MICASH!I858,\"0000000000\")","v":"0000000000"},{"$f":"TEXT(MICASH!J858*100,\"0000000000\")","v":"0000000000"},{"$f":"TEXT(MONTH(MICASH!K858),\"00\") & TEXT(DAY(MICASH!K858),\"00\") & RIGHT(TEXT(YEAR(MICASH!K858),\"00\"),2)","v":"010000"},{"$f":"UPPER(LEFT(MICASH!L858,96))","v":""}]
["C",288,"00",{"$f":"TEXT(MICASH!D859,\"0000000000\")","v":"0000000000"}," ",{"$f":"UPPER(MICASH!F859)","v":""},{"$f":"UPPER(MICASH!G859)","v":""}," ",{"$f":"TEXT(MICASH!I859,\"0000000000\")","v":"0000000000"},{"$f":"TEXT(MICASH!J859*100,\"0000000000\")","v":"0000000000"},{"$f":"TEXT(MONTH(MICASH!K859),\"00\") & TEXT(DAY(MICASH!K859),\"00\") & RIGHT(TEXT(YEAR(MICASH!K859),\"00\"),2)","v":"010000"},{"$f":"UPPER(LEFT(MICASH!L859,96))","v":""}]
["C",288,"00",{"$f":"TEXT(MICASH!D860,\"0000000000\")","v":"0000000000"}," ",{"$f":"UPPER(MICASH!F860)","v":""},{"$f":"UPPER(MICASH!G860)","v":""}," ",{"$f":"TEXT(MICASH!I860,\"0000000000\")","v":"0000000000"},{"$f":"TEXT(MICASH!J860*100,\"0000000000\")","v":"0000000000"},{"$f":"TEXT(MONTH(MICASH!K860),\"00\") & TEXT(DAY(MICASH!K860),\"00\") & RIGHT(TEXT(YEAR(MICASH!K860),\"00\"),2)","v":"010000"},{"$f":"UPPER(LEFT(MICASH!L860,96))","v":""}]
["C",288,"00",{"$f":"TEXT(MICASH!D861,\"0000000000\")","v":"0000000000"}," ",{"$f":"UPPER(MICASH!F861)","v":""},{"$f":"UPPER(MICASH!G861)","v":""}," ",{"$f":"TEXT(MICASH!I861,\"0000000000\")","v":"0000000000"},{"$f":"TEXT(MICASH!J861*100,\"0000000000\")","v":"0000000000"},{"$f":"TEXT(MONTH(MICASH!K861),\"00\") & TEXT(DAY(MICASH!K861),\"00\") & RIGHT(TEXT(YEAR(MICASH!K861),\"00\"),2)","v":"010000"},{"$f":"UPPER(LEFT(MICASH!L861,96))","v":""}]
["C",288,"00",{"$f":"TEXT(MICASH!D862,\"0000000000\")","v":"0000000000"}," ",{"$f":"UPPER(MICASH!F862)","v":""},{"$f":"UPPER(MICASH!G862)","v":""}," ",{"$f":"TEXT(MICASH!I862,\"0000000000\")","v":"0000000000"},{"$f":"TEXT(MICASH!J862*100,\"0000000000\")","v":"0000000000"},{"$f":"TEXT(MONTH(MICASH!K862),\"00\") & TEXT(DAY(MICASH!K862),\"00\") & RIGHT(TEXT(YEAR(MICASH!K862),\"00\"),2)","v":"010000"},{"$f":"UPPER(LEFT(MICASH!L862,96))","v":""}]
["C",288,"00",{"$f":"TEXT(MICASH!D863,\"0000000000\")","v":"0000000000"}," ",{"$f":"UPPER(MICASH!F863)","v":""},{"$f":"UPPER(MICASH!G863)","v":""}," ",{"$f":"TEXT(MICASH!I863,\"0000000000\")","v":"0000000000"},{"$f":"TEXT(MICASH!J863*100,\"0000000000\")","v":"0000000000"},{"$f":"TEXT(MONTH(MICASH!K863),\"00\") & TEXT(DAY(MICASH!K863),\"00\") & RIGHT(TEXT(YEAR(MICASH!K863),\"00\"),2)","v":"010000"},{"$f":"UPPER(LEFT(MICASH!L863,96))","v":""}]
["C",288,"00",{"$f":"TEXT(MICASH!D864,\"0000000000\")","v":"0000000000"}," ",{"$f":"UPPER(MICASH!F864)","v":""},{"$f":"UPPER(MICASH!G864)","v":""}," ",{"$f":"TEXT(MICASH!I864,\"0000000000\")","v":"0000000000"},{"$f":"TEXT(MICASH!J864*100,\"0000000000\")","v":"0000000000"},{"$f":"TEXT(MONTH(MICASH!K864),\"00\") & TEXT(DAY(MICASH!K864),\"00\") & RIGHT(TEXT(YEAR(MICASH!K864),\"00\"),2)","v":"010000"},{"$f":"UPPER(LEFT(MICASH!L864,96))","v":""}]
["C",288,"00",{"$f":"TEXT(MICASH!D865,\"0000000000\")","v":"0000000000"}," ",{"$f":"UPPER(MICASH!F865)","v":""},{"$f":"UPPER(MICASH!G865)","v":""}," ",{"$f":"TEXT(MICASH!I865,\"0000000000\")","v":"0000000000"},{"$f":"TEXT(MICASH!J865*100,\"0000000000\")","v":"0000000000"},{"$f":"TEXT(MONTH(MICASH!K865),\"00\") & TEXT(DAY(MICASH!K865),\"00\") & RIGHT(TEXT(YEAR(MICASH!K865),\"00\"),2)","v":"010000"},{"$f":"UPPER(LEFT(MICASH!L865,96))","v":""}]
["C",288,"00",{"$f":"TEXT(MICASH!D866,\"0000000000\")","v":"0000000000"}," ",{"$f":"UPPER(MICASH!F866)","v":""},{"$f":"UPPER(MICASH!G866)","v":""}," ",{"$f":"TEXT(MICASH!I866,\"0000000000\")","v":"0000000000"},{"$f":"TEXT(MICASH!J866*100,\"0000000000\")","v":"0000000000"},{"$f":"TEXT(MONTH(MICASH!K866),\"00\") & TEXT(DAY(MICASH!K866),\"00\") & RIGHT(TEXT(YEAR(MICASH!K866),\"00\"),2)","v":"010000"},{"$f":"UPPER(LEFT(MICASH!L866,96))","v":""}]
["C",288,"00",{"$f":"TEXT(MICASH!D867,\"0000000000\")","v":"0000000000"}," ",{"$f":"UPPER(MICASH!F867)","v":""},{"$f":"UPPER(MICASH!G867)","v":""}," ",{"$f":"TEXT(MICASH!I867,\"0000000000\")","v":"0000000000"},{"$f":"TEXT(MICASH!J867*100,\"0000000000\")","v":"0000000000"},{"$f":"TEXT(MONTH(MICASH!K867),\"00\") & TEXT(DAY(MICASH!K867),\"00\") & RIGHT(TEXT(YEAR(MICASH!K867),\"00\"),2)","v":"010000"},{"$f":"UPPER(LEFT(MICASH!L867,96))","v":""}]
["C",288,"00",{"$f":"TEXT(MICASH!D868,\"0000000000\")","v":"0000000000"}," ",{"$f":"UPPER(MICASH!F868)","v":""},{"$f":"UPPER(MICASH!G868)","v":""}," ",{"$f":"TEXT(MICASH!I868,\"0000000000\")","v":"0000000000"},{"$f":"TEXT(MICASH!J868*100,\"0000000000\")","v":"0000000000"},{"$f":"TEXT(MONTH(MICASH!K868),\"00\") & TEXT(DAY(MICASH!K868),\"00\") & RIGHT(TEXT(YEAR(MICASH!K868),\"00\"),2)","v":"010000"},{"$f":"UPPER(LEFT(MICASH!L868,96))","v":""}]
["C",288,"00",{"$f":"TEXT(MICASH!D869,\"0000000000\")","v":"0000000000"}," ",{"$f":"UPPER(MICASH!F869)","v":""},{"$f":"UPPER(MICASH!G869)","v":""}," ",{"$f":"TEXT(MICASH!I869,\"0000000000\")","v":"0000000000"},{"$f":"TEXT(MICASH!J869*100,\"0000000000\")","v":"0000000000"},{"$f":"TEXT(MONTH(MICASH!K869),\"00\") & TEXT(DAY(MICASH!K869),\"00\") & RIGHT(TEXT(YEAR(MICASH!K869),\"00\"),2)","v":"010000"},{"$f":"UPPER(LEFT(MICASH!L869,96))","v":""}]
["C",288,"00",{"$f":"TEXT(MICASH!D870,\"0000000000\")","v":"0000000000"}," ",{"$f":"UPPER(MICASH!F870)","v":""},{"$f":"UPPER(MICASH!G870)","v":""}," ",{"$f":"TEXT(MICASH!I870,\"0000000000\")","v":"0000000000"},{"$f":"TEXT(MICASH!J870*100,\"0000000000\")","v":"0000000000"},{"$f":"TEXT(MONTH(MICASH!K870),\"00\") & TEXT(DAY(MICASH!K870),\"00\") & RIGHT(TEXT(YEAR(MICASH!K870),\"00\"),2)","v":"010000"},{"$f":"UPPER(LEFT(MICASH!L870,96))","v":""}]
["C",288,"00",{"$f":"TEXT(MICASH!D871,\"0000000000\")","v":"0000000000"}," ",{"$f":"UPPER(MICASH!F871)","v":""},{"$f":"UPPER(MICASH!G871)","v":""}," ",{"$f":"TEXT(MICASH!I871,\"0000000000\")","v":"0000000000"},{"$f":"TEXT(MICASH!J871*100,\"0000000000\")","v":"0000000000"},{"$f":"TEXT(MONTH(MICASH!K871),\"00\") & TEXT(DAY(MICASH!K871),\"00\") & RIGHT(TEXT(YEAR(MICASH!K871),\"00\"),2)","v":"010000"},{"$f":"UPPER(LEFT(MICASH!L871,96))","v":""}]
["C",288,"00",{"$f":"TEXT(MICASH!D872,\"0000000000\")","v":"0000000000"}," ",{"$f":"UPPER(MICASH!F872)","v":""},{"$f":"UPPER(MICASH!G872)","v":""}," ",{"$f":"TEXT(MICASH!I872,\"0000000000\")","v":"0000000000"},{"$f":"TEXT(MICASH!J872*100,\"0000000000\")","v":"0000000000"},{"$f":"TEXT(MONTH(MICASH!K872),\"00\") & TEXT(DAY(MICASH!K872),\"00\") & RIGHT(TEXT(YEAR(MICASH!K872),\"00\"),2)","v":"010000"},{"$f":"UPPER(LEFT(MICASH!L872,96))","v":""}]
["C",288,"00",{"$f":"TEXT(MICASH!D873,\"0000000000\")","v":"0000000000"}," ",{"$f":"UPPER(MICASH!F873)","v":""},{"$f":"UPPER(MICASH!G873)","v":""}," ",{"$f":"TEXT(MICASH!I873,\"0000000000\")","v":"0000000000"},{"$f":"TEXT(MICASH!J873*100,\"0000000000\")","v":"0000000000"},{"$f":"TEXT(MONTH(MICASH!K873),\"00\") & TEXT(DAY(MICASH!K873),\"00\") & RIGHT(TEXT(YEAR(MICASH!K873),\"00\"),2)","v":"010000"},{"$f":"UPPER(LEFT(MICASH!L873,96))","v":""}]
["C",288,"00",{"$f":"TEXT(MICASH!D874,\"0000000000\")","v":"0000000000"}," ",{"$f":"UPPER(MICASH!F874)","v":""},{"$f":"UPPER(MICASH!G874)","v":""}," ",{"$f":"TEXT(MICASH!I874,\"0000000000\")","v":"0000000000"},{"$f":"TEXT(MICASH!J874*100,\"0000000000\")","v":"0000000000"},{"$f":"TEXT(MONTH(MICASH!K874),\"00\") & TEXT(DAY(MICASH!K874),\"00\") & RIGHT(TEXT(YEAR(MICASH!K874),\"00\"),2)","v":"010000"},{"$f":"UPPER(LEFT(MICASH!L874,96))","v":""}]
["C",288,"00",{"$f":"TEXT(MICASH!D875,\"0000000000\")","v":"0000000000"}," ",{"$f":"UPPER(MICASH!F875)","v":""},{"$f":"UPPER(MICASH!G875)","v":""}," ",{"$f":"TEXT(MICASH!I875,\"0000000000\")","v":"0000000000"},{"$f":"TEXT(MICASH!J875*100,\"0000000000\")","v":"0000000000"},{"$f":"TEXT(MONTH(MICASH!K875),\"00\") & TEXT(DAY(MICASH!K875),\"00\") & RIGHT(TEXT(YEAR(MICASH!K875),\"00\"),2)","v":"010000"},{"$f":"UPPER(LEFT(MICASH!L875,96))","v":""}]
["C",288,"00",{"$f":"TEXT(MICASH!D876,\"0000000000\")","v":"0000000000"}," ",{"$f":"UPPER(MICASH!F876)","v":""},{"$f":"UPPER(MICASH!G876)","v":""}," ",{"$f":"TEXT(MICASH!I876,\"0000000000\")","v":"0000000000"},{"$f":"TEXT(MICASH!J876*100,\"0000000000\")","v":"0000000000"},{"$f":"TEXT(MONTH(MICASH!K876),\"00\") & TEXT(DAY(MICASH!K876),\"00\") & RIGHT(TEXT(YEAR(MICASH!K876),\"00\"),2)","v":"010000"},{"$f":"UPPER(LEFT(MICASH!L876,96))","v":""}]
["C",288,"00",{"$f":"TEXT(MICASH!D877,\"0000000000\")","v":"0000000000"}," ",{"$f":"UPPER(MICASH!F877)","v":""},{"$f":"UPPER(MICASH!G877)","v":""}," ",{"$f":"TEXT(MICASH!I877,\"0000000000\")","v":"0000000000"},{"$f":"TEXT(MICASH!J877*100,\"0000000000\")","v":"0000000000"},{"$f":"TEXT(MONTH(MICASH!K877),\"00\") & TEXT(DAY(MICASH!K877),\"00\") & RIGHT(TEXT(YEAR(MICASH!K877),\"00\"),2)","v":"010000"},{"$f":"UPPER(LEFT(MICASH!L877,96))","v":""}]
["C",288,"00",{"$f":"TEXT(MICASH!D878,\"0000000000\")","v":"0000000000"}," ",{"$f":"UPPER(MICASH!F878)","v":""},{"$f":"UPPER(MICASH!G878)","v":""}," ",{"$f":"TEXT(MICASH!I878,\"0000000000\")","v":"0000000000"},{"$f":"TEXT(MICASH!J878*100,\"0000000000\")","v":"0000000000"},{"$f":"TEXT(MONTH(MICASH!K878),\"00\") & TEXT(DAY(MICASH!K878),\"00\") & RIGHT(TEXT(YEAR(MICASH!K878),\"00\"),2)","v":"010000"},{"$f":"UPPER(LEFT(MICASH!L878,96))","v":""}]
["C",288,"00",{"$f":"TEXT(MICASH!D879,\"0000000000\")","v":"0000000000"}," ",{"$f":"UPPER(MICASH!F879)","v":""},{"$f":"UPPER(MICASH!G879)","v":""}," ",{"$f":"TEXT(MICASH!I879,\"0000000000\")","v":"0000000000"},{"$f":"TEXT(MICASH!J879*100,\"0000000000\")","v":"0000000000"},{"$f":"TEXT(MONTH(MICASH!K879),\"00\") & TEXT(DAY(MICASH!K879),\"00\") & RIGHT(TEXT(YEAR(MICASH!K879),\"00\"),2)","v":"010000"},{"$f":"UPPER(LEFT(MICASH!L879,96))","v":""}]
["C",288,"00",{"$f":"TEXT(MICASH!D880,\"0000000000\")","v":"0000000000"}," ",{"$f":"UPPER(MICASH!F880)","v":""},{"$f":"UPPER(MICASH!G880)","v":""}," ",{"$f":"TEXT(MICASH!I880,\"0000000000\")","v":"0000000000"},{"$f":"TEXT(MICASH!J880*100,\"0000000000\")","v":"0000000000"},{"$f":"TEXT(MONTH(MICASH!K880),\"00\") & TEXT(DAY(MICASH!K880),\"00\") & RIGHT(TEXT(YEAR(MICASH!K880),\"00\"),2)","v":"010000"},{"$f":"UPPER(LEFT(MICASH!L880,96))","v":""}]
["C",288,"00",{"$f":"TEXT(MICASH!D881,\"0000000000\")","v":"0000000000"}," ",{"$f":"UPPER(MICASH!F881)","v":""},{"$f":"UPPER(MICASH!G881)","v":""}," ",{"$f":"TEXT(MICASH!I881,\"0000000000\")","v":"0000000000"},{"$f":"TEXT(MICASH!J881*100,\"0000000000\")","v":"0000000000"},{"$f":"TEXT(MONTH(MICASH!K881),\"00\") & TEXT(DAY(MICASH!K881),\"00\") & RIGHT(TEXT(YEAR(MICASH!K881),\"00\"),2)","v":"010000"},{"$f":"UPPER(LEFT(MICASH!L881,96))","v":""}]
["C",288,"00",{"$f":"TEXT(MICASH!D882,\"0000000000\")","v":"0000000000"}," ",{"$f":"UPPER(MICASH!F882)","v":""},{"$f":"UPPER(MICASH!G882)","v":""}," ",{"$f":"TEXT(MICASH!I882,\"0000000000\")","v":"0000000000"},{"$f":"TEXT(MICASH!J882*100,\"0000000000\")","v":"0000000000"},{"$f":"TEXT(MONTH(MICASH!K882),\"00\") & TEXT(DAY(MICASH!K882),\"00\") & RIGHT(TEXT(YEAR(MICASH!K882),\"00\"),2)","v":"010000"},{"$f":"UPPER(LEFT(MICASH!L882,96))","v":""}]
["C",288,"00",{"$f":"TEXT(MICASH!D883,\"0000000000\")","v":"0000000000"}," ",{"$f":"UPPER(MICASH!F883)","v":""},{"$f":"UPPER(MICASH!G883)","v":""}," ",{"$f":"TEXT(MICASH!I883,\"0000000000\")","v":"0000000000"},{"$f":"TEXT(MICASH!J883*100,\"0000000000\")","v":"0000000000"},{"$f":"TEXT(MONTH(MICASH!K883),\"00\") & TEXT(DAY(MICASH!K883),\"00\") & RIGHT(TEXT(YEAR(MICASH!K883),\"00\"),2)","v":"010000"},{"$f":"UPPER(LEFT(MICASH!L883,96))","v":""}]
["C",288,"00",{"$f":"TEXT(MICASH!D884,\"0000000000\")","v":"0000000000"}," ",{"$f":"UPPER(MICASH!F884)","v":""},{"$f":"UPPER(MICASH!G884)","v":""}," ",{"$f":"TEXT(MICASH!I884,\"0000000000\")","v":"0000000000"},{"$f":"TEXT(MICASH!J884*100,\"0000000000\")","v":"0000000000"},{"$f":"TEXT(MONTH(MICASH!K884),\"00\") & TEXT(DAY(MICASH!K884),\"00\") & RIGHT(TEXT(YEAR(MICASH!K884),\"00\"),2)","v":"010000"},{"$f":"UPPER(LEFT(MICASH!L884,96))","v":""}]
["C",288,"00",{"$f":"TEXT(MICASH!D885,\"0000000000\")","v":"0000000000"}," ",{"$f":"UPPER(MICASH!F885)","v":""},{"$f":"UPPER(MICASH!G885)","v":""}," ",{"$f":"TEXT(MICASH!I885,\"0000000000\")","v":"0000000000"},{"$f":"TEXT(MICASH!J885*100,\"0000000000\")","v":"0000000000"},{"$f":"TEXT(MONTH(MICASH!K885),\"00\") & TEXT(DAY(MICASH!K885),\"00\") & RIGHT(TEXT(YEAR(MICASH!K885),\"00\"),2)","v":"010000"},{"$f":"UPPER(LEFT(MICASH!L885,96))","v":""}]
["C",288,"00",{"$f":"TEXT(MICASH!D886,\"0000000000\")","v":"0000000000"}," ",{"$f":"UPPER(MICASH!F886)","v":""},{"$f":"UPPER(MICASH!G886)","v":""}," ",{"$f":"TEXT(MICASH!I886,\"0000000000\")","v":"0000000000"},{"$f":"TEXT(MICASH!J886*100,\"0000000000\")","v":"0000000000"},{"$f":"TEXT(MONTH(MICASH!K886),\"00\") & TEXT(DAY(MICASH!K886),\"00\") & RIGHT(TEXT(YEAR(MICASH!K886),\"00\"),2)","v":"010000"},{"$f":"UPPER(LEFT(MICASH!L886,96))","v":""}]
["C",288,"00",{"$f":"TEXT(MICASH!D887,\"0000000000\")","v":"0000000000"}," ",{"$f":"UPPER(MICASH!F887)","v":""},{"$f":"UPPER(MICASH!G887)","v":""}," ",{"$f":"TEXT(MICASH!I887,\"0000000000\")","v":"0000000000"},{"$f":"TEXT(MICASH!J887*100,\"0000000000\")","v":"0000000000"},{"$f":"TEXT(MONTH(MICASH!K887),\"00\") & TEXT(DAY(MICASH!K887),\"00\") & RIGHT(TEXT(YEAR(MICASH!K887),\"00\"),2)","v":"010000"},{"$f":"UPPER(LEFT(MICASH!L887,96))","v":""}]
["C",288,"00",{"$f":"TEXT(MICASH!D888,\"0000000000\")","v":"0000000000"}," ",{"$f":"UPPER(MICASH!F888)","v":""},{"$f":"UPPER(MICASH!G888)","v":""}," ",{"$f":"TEXT(MICASH!I888,\"0000000000\")","v":"0000000000"},{"$f":"TEXT(MICASH!J888*100,\"0000000000\")","v":"0000000000"},{"$f":"TEXT(MONTH(MICASH!K888),\"00\") & TEXT(DAY(MICASH!K888),\"00\") & RIGHT(TEXT(YEAR(MICASH!K888),\"00\"),2)","v":"010000"},{"$f":"UPPER(LEFT(MICASH!L888,96))","v":""}]
["C",288,"00",{"$f":"TEXT(MICASH!D889,\"0000000000\")","v":"0000000000"}," ",{"$f":"UPPER(MICASH!F889)","v":""},{"$f":"UPPER(MICASH!G889)","v":""}," ",{"$f":"TEXT(MICASH!I889,\"0000000000\")","v":"0000000000"},{"$f":"TEXT(MICASH!J889*100,\"0000000000\")","v":"0000000000"},{"$f":"TEXT(MONTH(MICASH!K889),\"00\") & TEXT(DAY(MICASH!K889),\"00\") & RIGHT(TEXT(YEAR(MICASH!K889),\"00\"),2)","v":"010000"},{"$f":"UPPER(LEFT(MICASH!L889,96))","v":""}]
["C",288,"00",{"$f":"TEXT(MICASH!D890,\"0000000000\")","v":"0000000000"}," ",{"$f":"UPPER(MICASH!F890)","v":""},{"$f":"UPPER(MICASH!G890)","v":""}," ",{"$f":"TEXT(MICASH!I890,\"0000000000\")","v":"0000000000"},{"$f":"TEXT(MICASH!J890*100,\"0000000000\")","v":"0000000000"},{"$f":"TEXT(MONTH(MICASH!K890),\"00\") & TEXT(DAY(MICASH!K890),\"00\") & RIGHT(TEXT(YEAR(MICASH!K890),\"00\"),2)","v":"010000"},{"$f":"UPPER(LEFT(MICASH!L890,96))","v":""}]
["C",288,"00",{"$f":"TEXT(MICASH!D891,\"0000000000\")","v":"0000000000"}," ",{"$f":"UPPER(MICASH!F891)","v":""},{"$f":"UPPER(MICASH!G891)","v":""}," ",{"$f":"TEXT(MICASH!I891,\"0000000000\")","v":"0000000000"},{"$f":"TEXT(MICASH!J891*100,\"0000000000\")","v":"0000000000"},{"$f":"TEXT(MONTH(MICASH!K891),\"00\") & TEXT(DAY(MICASH!K891),\"00\") & RIGHT(TEXT(YEAR(MICASH!K891),\"00\"),2)","v":"010000"},{"$f":"UPPER(LEFT(MICASH!L891,96))","v":""}]
["C",288,"00",{"$f":"TEXT(MICASH!D892,\"0000000000\")","v":"0000000000"}," ",{"$f":"UPPER(MICASH!F892)","v":""},{"$f":"UPPER(MICASH!G892)","v":""}," ",{"$f":"TEXT(MICASH!I892,\"0000000000\")","v":"0000000000"},{"$f":"TEXT(MICASH!J892*100,\"0000000000\")","v":"0000000000"},{"$f":"TEXT(MONTH(MICASH!K892),\"00\") & TEXT(DAY(MICASH!K892),\"00\") & RIGHT(TEXT(YEAR(MICASH!K892),\"00\"),2)","v":"010000"},{"$f":"UPPER(LEFT(MICASH!L892,96))","v":""}]
["C",288,"00",{"$f":"TEXT(MICASH!D893,\"0000000000\")","v":"0000000000"}," ",{"$f":"UPPER(MICASH!F893)","v":""},{"$f":"UPPER(MICASH!G893)","v":""}," ",{"$f":"TEXT(MICASH!I893,\"0000000000\")","v":"0000000000"},{"$f":"TEXT(MICASH!J893*100,\"0000000000\")","v":"0000000000"},{"$f":"TEXT(MONTH(MICASH!K893),\"00\") & TEXT(DAY(MICASH!K893),\"00\") & RIGHT(TEXT(YEAR(MICASH!K893),\"00\"),2)","v":"010000"},{"$f":"UPPER(LEFT(MICASH!L893,96))","v":""}]
["C",288,"00",{"$f":"TEXT(MICASH!D894,\"0000000000\")","v":"0000000000"}," ",{"$f":"UPPER(MICASH!F894)","v":""},{"$f":"UPPER(MICASH!G894)","v":""}," ",{"$f":"TEXT(MICASH!I894,\"0000000000\")","v":"0000000000"},{"$f":"TEXT(MICASH!J894*100,\"0000000000\")","v":"0000000000"},{"$f":"TEXT(MONTH(MICASH!K894),\"00\") & TEXT(DAY(MICASH!K894),\"00\") & RIGHT(TEXT(YEAR(MICASH!K894),\"00\"),2)","v":"010000"},{"$f":"UPPER(LEFT(MICASH!L894,96))","v":""}]
["C",288,"00",{"$f":"TEXT(MICASH!D895,\"0000000000\")","v":"0000000000"}," ",{"$f":"UPPER(MICASH!F895)","v":""},{"$f":"UPPER(MICASH!G895)","v":""}," ",{"$f":"TEXT(MICASH!I895,\"0000000000\")","v":"0000000000"},{"$f":"TEXT(MICASH!J895*100,\"0000000000\")","v":"0000000000"},{"$f":"TEXT(MONTH(MICASH!K895),\"00\") & TEXT(DAY(MICASH!K895),\"00\") & RIGHT(TEXT(YEAR(MICASH!K895),\"00\"),2)","v":"010000"},{"$f":"UPPER(LEFT(MICASH!L895,96))","v":""}]
["C",288,"00",{"$f":"TEXT(MICASH!D896,\"0000000000\")","v":"0000000000"}," ",{"$f":"UPPER(MICASH!F896)","v":""},{"$f":"UPPER(MICASH!G896)","v":""}," ",{"$f":"TEXT(MICASH!I896,\"0000000000\")","v":"0000000000"},{"$f":"TEXT(MICASH!J896*100,\"0000000000\")","v":"0000000000"},{"$f":"TEXT(MONTH(MICASH!K896),\"00\") & TEXT(DAY(MICASH!K896),\"00\") & RIGHT(TEXT(YEAR(MICASH!K896),\"00\"),2)","v":"010000"},{"$f":"UPPER(LEFT(MICASH!L896,96))","v":""}]
["C",288,"00",{"$f":"TEXT(MICASH!D897,\"0000000000\")","v":"0000000000"}," ",{"$f":"UPPER(MICASH!F897)","v":""},{"$f":"UPPER(MICASH!G897)","v":""}," ",{"$f":"TEXT(MICASH!I897,\"0000000000\")","v":"0000000000"},{"$f":"TEXT(MICASH!J897*100,\"0000000000\")","v":"0000000000"},{"$f":"TEXT(MONTH(MICASH!K897),\"00\") & TEXT(DAY(MICASH!K897),\"00\") & RIGHT(TEXT(YEAR(MICASH!K897),\"00\"),2)","v":"010000"},{"$f":"UPPER(LEFT(MICASH!L897,96))","v":""}]
["C",288,"00",{"$f":"TEXT(MICASH!D898,\"0000000000\")","v":"0000000000"}," ",{"$f":"UPPER(MICASH!F898)","v":""},{"$f":"UPPER(MICASH!G898)","v":""}," ",{"$f":"TEXT(MICASH!I898,\"0000000000\")","v":"0000000000"},{"$f":"TEXT(MICASH!J898*100,\"0000000000\")","v":"0000000000"},{"$f":"TEXT(MONTH(MICASH!K898),\"00\") & TEXT(DAY(MICASH!K898),\"00\") & RIGHT(TEXT(YEAR(MICASH!K898),\"00\"),2)","v":"010000"},{"$f":"UPPER(LEFT(MICASH!L898,96))","v":""}]
["C",288,"00",{"$f":"TEXT(MICASH!D899,\"0000000000\")","v":"0000000000"}," ",{"$f":"UPPER(MICASH!F899)","v":""},{"$f":"UPPER(MICASH!G899)","v":""}," ",{"$f":"TEXT(MICASH!I899,\"0000000000\")","v":"0000000000"},{"$f":"TEXT(MICASH!J899*100,\"0000000000\")","v":"0000000000"},{"$f":"TEXT(MONTH(MICASH!K899),\"00\") & TEXT(DAY(MICASH!K899),\"00\") & RIGHT(TEXT(YEAR(MICASH!K899),\"00\"),2)","v":"010000"},{"$f":"UPPER(LEFT(MICASH!L899,96))","v":""}]
["C",288,"00",{"$f":"TEXT(MICASH!D900,\"0000000000\")","v":"0000000000"}," ",{"$f":"UPPER(MICASH!F900)","v":""},{"$f":"UPPER(MICASH!G900)","v":""}," ",{"$f":"TEXT(MICASH!I900,\"0000000000\")","v":"0000000000"},{"$f":"TEXT(MICASH!J900*100,\"0000000000\")","v":"0000000000"},{"$f":"TEXT(MONTH(MICASH!K900),\"00\") & TEXT(DAY(MICASH!K900),\"00\") & RIGHT(TEXT(YEAR(MICASH!K900),\"00\"),2)","v":"010000"},{"$f":"UPPER(LEFT(MICASH!L900,96))","v":""}]
["C",288,"00",{"$f":"TEXT(MICASH!D901,\"0000000000\")","v":"0000000000"}," ",{"$f":"UPPER(MICASH!F901)","v":""},{"$f":"UPPER(MICASH!G901)","v":""}," ",{"$f":"TEXT(MICASH!I901,\"0000000000\")","v":"0000000000"},{"$f":"TEXT(MICASH!J901*100,\"0000000000\")","v":"0000000000"},{"$f":"TEXT(MONTH(MICASH!K901),\"00\") & TEXT(DAY(MICASH!K901),\"00\") & RIGHT(TEXT(YEAR(MICASH!K901),\"00\"),2)","v":"010000"},{"$f":"UPPER(LEFT(MICASH!L901,96))","v":""}]
["C",288,"00",{"$f":"TEXT(MICASH!D902,\"0000000000\")","v":"0000000000"}," ",{"$f":"UPPER(MICASH!F902)","v":""},{"$f":"UPPER(MICASH!G902)","v":""}," ",{"$f":"TEXT(MICASH!I902,\"0000000000\")","v":"0000000000"},{"$f":"TEXT(MICASH!J902*100,\"0000000000\")","v":"0000000000"},{"$f":"TEXT(MONTH(MICASH!K902),\"00\") & TEXT(DAY(MICASH!K902),\"00\") & RIGHT(TEXT(YEAR(MICASH!K902),\"00\"),2)","v":"010000"},{"$f":"UPPER(LEFT(MICASH!L902,96))","v":""}]
["C",288,"00",{"$f":"TEXT(MICASH!D903,\"0000000000\")","v":"0000000000"}," ",{"$f":"UPPER(MICASH!F903)","v":""},{"$f":"UPPER(MICASH!G903)","v":""}," ",{"$f":"TEXT(MICASH!I903,\"0000000000\")","v":"0000000000"},{"$f":"TEXT(MICASH!J903*100,\"0000000000\")","v":"0000000000"},{"$f":"TEXT(MONTH(MICASH!K903),\"00\") & TEXT(DAY(MICASH!K903),\"00\") & RIGHT(TEXT(YEAR(MICASH!K903),\"00\"),2)","v":"010000"},{"$f":"UPPER(LEFT(MICASH!L903,96))","v":""}]
["C",288,"00",{"$f":"TEXT(MICASH!D904,\"0000000000\")","v":"0000000000"}," ",{"$f":"UPPER(MICASH!F904)","v":""},{"$f":"UPPER(MICASH!G904)","v":""}," ",{"$f":"TEXT(MICASH!I904,\"0000000000\")","v":"0000000000"},{"$f":"TEXT(MICASH!J904*100,\"0000000000\")","v":"0000000000"},{"$f":"TEXT(MONTH(MICASH!K904),\"00\") & TEXT(DAY(MICASH!K904),\"00\") & RIGHT(TEXT(YEAR(MICASH!K904),\"00\"),2)","v":"010000"},{"$f":"UPPER(LEFT(MICASH!L904,96))","v":""}]
["C",288,"00",{"$f":"TEXT(MICASH!D905,\"0000000000\")","v":"0000000000"}," ",{"$f":"UPPER(MICASH!F905)","v":""},{"$f":"UPPER(MICASH!G905)","v":""}," ",{"$f":"TEXT(MICASH!I905,\"0000000000\")","v":"0000000000"},{"$f":"TEXT(MICASH!J905*100,\"0000000000\")","v":"0000000000"},{"$f":"TEXT(MONTH(MICASH!K905),\"00\") & TEXT(DAY(MICASH!K905),\"00\") & RIGHT(TEXT(YEAR(MICASH!K905),\"00\"),2)","v":"010000"},{"$f":"UPPER(LEFT(MICASH!L905,96))","v":""}]
["C",288,"00",{"$f":"TEXT(MICASH!D906,\"0000000000\")","v":"0000000000"}," ",{"$f":"UPPER(MICASH!F906)","v":""},{"$f":"UPPER(MICASH!G906)","v":""}," ",{"$f":"TEXT(MICASH!I906,\"0000000000\")","v":"0000000000"},{"$f":"TEXT(MICASH!J906*100,\"0000000000\")","v":"0000000000"},{"$f":"TEXT(MONTH(MICASH!K906),\"00\") & TEXT(DAY(MICASH!K906),\"00\") & RIGHT(TEXT(YEAR(MICASH!K906),\"00\"),2)","v":"010000"},{"$f":"UPPER(LEFT(MICASH!L906,96))","v":""}]
["C",288,"00",{"$f":"TEXT(MICASH!D907,\"0000000000\")","v":"0000000000"}," ",{"$f":"UPPER(MICASH!F907)","v":""},{"$f":"UPPER(MICASH!G907)","v":""}," ",{"$f":"TEXT(MICASH!I907,\"0000000000\")","v":"0000000000"},{"$f":"TEXT(MICASH!J907*100,\"0000000000\")","v":"0000000000"},{"$f":"TEXT(MONTH(MICASH!K907),\"00\") & TEXT(DAY(MICASH!K907),\"00\") & RIGHT(TEXT(YEAR(MICASH!K907),\"00\"),2)","v":"010000"},{"$f":"UPPER(LEFT(MICASH!L907,96))","v":""}]
["C",288,"00",{"$f":"TEXT(MICASH!D908,\"0000000000\")","v":"0000000000"}," ",{"$f":"UPPER(MICASH!F908)","v":""},{"$f":"UPPER(MICASH!G908)","v":""}," ",{"$f":"TEXT(MICASH!I908,\"0000000000\")","v":"0000000000"},{"$f":"TEXT(MICASH!J908*100,\"0000000000\")","v":"0000000000"},{"$f":"TEXT(MONTH(MICASH!K908),\"00\") & TEXT(DAY(MICASH!K908),\"00\") & RIGHT(TEXT(YEAR(MICASH!K908),\"00\"),2)","v":"010000"},{"$f":"UPPER(LEFT(MICASH!L908,96))","v":""}]
["C",288,"00",{"$f":"TEXT(MICASH!D909,\"0000000000\")","v":"0000000000"}," ",{"$f":"UPPER(MICASH!F909)","v":""},{"$f":"UPPER(MICASH!G909)","v":""}," ",{"$f":"TEXT(MICASH!I909,\"0000000000\")","v":"0000000000"},{"$f":"TEXT(MICASH!J909*100,\"0000000000\")","v":"0000000000"},{"$f":"TEXT(MONTH(MICASH!K909),\"00\") & TEXT(DAY(MICASH!K909),\"00\") & RIGHT(TEXT(YEAR(MICASH!K909),\"00\"),2)","v":"010000"},{"$f":"UPPER(LEFT(MICASH!L909,96))","v":""}]
["C",288,"00",{"$f":"TEXT(MICASH!D910,\"0000000000\")","v":"0000000000"}," ",{"$f":"UPPER(MICASH!F910)","v":""},{"$f":"UPPER(MICASH!G910)","v":""}," ",{"$f":"TEXT(MICASH!I910,\"0000000000\")","v":"0000000000"},{"$f":"TEXT(MICASH!J910*100,\"0000000000\")","v":"0000000000"},{"$f":"TEXT(MONTH(MICASH!K910),\"00\") & TEXT(DAY(MICASH!K910),\"00\") & RIGHT(TEXT(YEAR(MICASH!K910),\"00\"),2)","v":"010000"},{"$f":"UPPER(LEFT(MICASH!L910,96))","v":""}]
["C",288,"00",{"$f":"TEXT(MICASH!D911,\"0000000000\")","v":"0000000000"}," ",{"$f":"UPPER(MICASH!F911)","v":""},{"$f":"UPPER(MICASH!G911)","v":""}," ",{"$f":"TEXT(MICASH!I911,\"0000000000\")","v":"0000000000"},{"$f":"TEXT(MICASH!J911*100,\"0000000000\")","v":"0000000000"},{"$f":"TEXT(MONTH(MICASH!K911),\"00\") & TEXT(DAY(MICASH!K911),\"00\") & RIGHT(TEXT(YEAR(MICASH!K911),\"00\"),2)","v":"010000"},{"$f":"UPPER(LEFT(MICASH!L911,96))","v":""}]
["C",288,"00",{"$f":"TEXT(MICASH!D912,\"0000000000\")","v":"0000000000"}," ",{"$f":"UPPER(MICASH!F912)","v":""},{"$f":"UPPER(MICASH!G912)","v":""}," ",{"$f":"TEXT(MICASH!I912,\"0000000000\")","v":"0000000000"},{"$f":"TEXT(MICASH!J912*100,\"0000000000\")","v":"0000000000"},{"$f":"TEXT(MONTH(MICASH!K912),\"00\") & TEXT(DAY(MICASH!K912),\"00\") & RIGHT(TEXT(YEAR(MICASH!K912),\"00\"),2)","v":"010000"},{"$f":"UPPER(LEFT(MICASH!L912,96))","v":""}]
["C",288,"00",{"$f":"TEXT(MICASH!D913,\"0000000000\")","v":"0000000000"}," ",{"$f":"UPPER(MICASH!F913)","v":""},{"$f":"UPPER(MICASH!G913)","v":""}," ",{"$f":"TEXT(MICASH!I913,\"0000000000\")","v":"0000000000"},{"$f":"TEXT(MICASH!J913*100,\"0000000000\")","v":"0000000000"},{"$f":"TEXT(MONTH(MICASH!K913),\"00\") & TEXT(DAY(MICASH!K913),\"00\") & RIGHT(TEXT(YEAR(MICASH!K913),\"00\"),2)","v":"010000"},{"$f":"UPPER(LEFT(MICASH!L913,96))","v":""}]
["C",288,"00",{"$f":"TEXT(MICASH!D914,\"0000000000\")","v":"0000000000"}," ",{"$f":"UPPER(MICASH!F914)","v":""},{"$f":"UPPER(MICASH!G914)","v":""}," ",{"$f":"TEXT(MICASH!I914,\"0000000000\")","v":"0000000000"},{"$f":"TEXT(MICASH!J914*100,\"0000000000\")","v":"0000000000"},{"$f":"TEXT(MONTH(MICASH!K914),\"00\") & TEXT(DAY(MICASH!K914),\"00\") & RIGHT(TEXT(YEAR(MICASH!K914),\"00\"),2)","v":"010000"},{"$f":"UPPER(LEFT(MICASH!L914,96))","v":""}]
["C",288,"00",{"$f":"TEXT(MICASH!D915,\"0000000000\")","v":"0000000000"}," ",{"$f":"UPPER(MICASH!F915)","v":""},{"$f":"UPPER(MICASH!G915)","v":""}," ",{"$f":"TEXT(MICASH!I915,\"0000000000\")","v":"0000000000"},{"$f":"TEXT(MICASH!J915*100,\"0000000000\")","v":"0000000000"},{"$f":"TEXT(MONTH(MICASH!K915),\"00\") & TEXT(DAY(MICASH!K915),\"00\") & RIGHT(TEXT(YEAR(MICASH!K915),\"00\"),2)","v":"010000"},{"$f":"UPPER(LEFT(MICASH!L915,96))","v":""}]
["C",288,"00",{"$f":"TEXT(MICASH!D916,\"0000000000\")","v":"0000000000"}," ",{"$f":"UPPER(MICASH!F916)","v":""},{"$f":"UPPER(MICASH!G916)","v":""}," ",{"$f":"TEXT(MICASH!I916,\"0000000000\")","v":"0000000000"},{"$f":"TEXT(MICASH!J916*100,\"0000000000\")","v":"0000000000"},{"$f":"TEXT(MONTH(MICASH!K916),\"00\") & TEXT(DAY(MICASH!K916),\"00\") & RIGHT(TEXT(YEAR(MICASH!K916),\"00\"),2)","v":"010000"},{"$f":"UPPER(LEFT(MICASH!L916,96))","v":""}]
["C",288,"00",{"$f":"TEXT(MICASH!D917,\"0000000000\")","v":"0000000000"}," ",{"$f":"UPPER(MICASH!F917)","v":""},{"$f":"UPPER(MICASH!G917)","v":""}," ",{"$f":"TEXT(MICASH!I917,\"0000000000\")","v":"0000000000"},{"$f":"TEXT(MICASH!J917*100,\"0000000000\")","v":"0000000000"},{"$f":"TEXT(MONTH(MICASH!K917),\"00\") & TEXT(DAY(MICASH!K917),\"00\") & RIGHT(TEXT(YEAR(MICASH!K917),\"00\"),2)","v":"010000"},{"$f":"UPPER(LEFT(MICASH!L917,96))","v":""}]
["C",288,"00",{"$f":"TEXT(MICASH!D918,\"0000000000\")","v":"0000000000"}," ",{"$f":"UPPER(MICASH!F918)","v":""},{"$f":"UPPER(MICASH!G918)","v":""}," ",{"$f":"TEXT(MICASH!I918,\"0000000000\")","v":"0000000000"},{"$f":"TEXT(MICASH!J918*100,\"0000000000\")","v":"0000000000"},{"$f":"TEXT(MONTH(MICASH!K918),\"00\") & TEXT(DAY(MICASH!K918),\"00\") & RIGHT(TEXT(YEAR(MICASH!K918),\"00\"),2)","v":"010000"},{"$f":"UPPER(LEFT(MICASH!L918,96))","v":""}]
["C",288,"00",{"$f":"TEXT(MICASH!D919,\"0000000000\")","v":"0000000000"}," ",{"$f":"UPPER(MICASH!F919)","v":""},{"$f":"UPPER(MICASH!G919)","v":""}," ",{"$f":"TEXT(MICASH!I919,\"0000000000\")","v":"0000000000"},{"$f":"TEXT(MICASH!J919*100,\"0000000000\")","v":"0000000000"},{"$f":"TEXT(MONTH(MICASH!K919),\"00\") & TEXT(DAY(MICASH!K919),\"00\") & RIGHT(TEXT(YEAR(MICASH!K919),\"00\"),2)","v":"010000"},{"$f":"UPPER(LEFT(MICASH!L919,96))","v":""}]
["C",288,"00",{"$f":"TEXT(MICASH!D920,\"0000000000\")","v":"0000000000"}," ",{"$f":"UPPER(MICASH!F920)","v":""},{"$f":"UPPER(MICASH!G920)","v":""}," ",{"$f":"TEXT(MICASH!I920,\"0000000000\")","v":"0000000000"},{"$f":"TEXT(MICASH!J920*100,\"0000000000\")","v":"0000000000"},{"$f":"TEXT(MONTH(MICASH!K920),\"00\") & TEXT(DAY(MICASH!K920),\"00\") & RIGHT(TEXT(YEAR(MICASH!K920),\"00\"),2)","v":"010000"},{"$f":"UPPER(LEFT(MICASH!L920,96))","v":""}]
["C",288,"00",{"$f":"TEXT(MICASH!D921,\"0000000000\")","v":"0000000000"}," ",{"$f":"UPPER(MICASH!F921)","v":""},{"$f":"UPPER(MICASH!G921)","v":""}," ",{"$f":"TEXT(MICASH!I921,\"0000000000\")","v":"0000000000"},{"$f":"TEXT(MICASH!J921*100,\"0000000000\")","v":"0000000000"},{"$f":"TEXT(MONTH(MICASH!K921),\"00\") & TEXT(DAY(MICASH!K921),\"00\") & RIGHT(TEXT(YEAR(MICASH!K921),\"00\"),2)","v":"010000"},{"$f":"UPPER(LEFT(MICASH!L921,96))","v":""}]
["C",288,"00",{"$f":"TEXT(MICASH!D922,\"0000000000\")","v":"0000000000"}," ",{"$f":"UPPER(MICASH!F922)","v":""},{"$f":"UPPER(MICASH!G922)","v":""}," ",{"$f":"TEXT(MICASH!I922,\"0000000000\")","v":"0000000000"},{"$f":"TEXT(MICASH!J922*100,\"0000000000\")","v":"0000000000"},{"$f":"TEXT(MONTH(MICASH!K922),\"00\") & TEXT(DAY(MICASH!K922),\"00\") & RIGHT(TEXT(YEAR(MICASH!K922),\"00\"),2)","v":"010000"},{"$f":"UPPER(LEFT(MICASH!L922,96))","v":""}]
["C",288,"00",{"$f":"TEXT(MICASH!D923,\"0000000000\")","v":"0000000000"}," ",{"$f":"UPPER(MICASH!F923)","v":""},{"$f":"UPPER(MICASH!G923)","v":""}," ",{"$f":"TEXT(MICASH!I923,\"0000000000\")","v":"0000000000"},{"$f":"TEXT(MICASH!J923*100,\"0000000000\")","v":"0000000000"},{"$f":"TEXT(MONTH(MICASH!K923),\"00\") & TEXT(DAY(MICASH!K923),\"00\") & RIGHT(TEXT(YEAR(MICASH!K923),\"00\"),2)","v":"010000"},{"$f":"UPPER(LEFT(MICASH!L923,96))","v":""}]
["C",288,"00",{"$f":"TEXT(MICASH!D924,\"0000000000\")","v":"0000000000"}," ",{"$f":"UPPER(MICASH!F924)","v":""},{"$f":"UPPER(MICASH!G924)","v":""}," ",{"$f":"TEXT(MICASH!I924,\"0000000000\")","v":"0000000000"},{"$f":"TEXT(MICASH!J924*100,\"0000000000\")","v":"0000000000"},{"$f":"TEXT(MONTH(MICASH!K924),\"00\") & TEXT(DAY(MICASH!K924),\"00\") & RIGHT(TEXT(YEAR(MICASH!K924),\"00\"),2)","v":"010000"},{"$f":"UPPER(LEFT(MICASH!L924,96))","v":""}]
["C",288,"00",{"$f":"TEXT(MICASH!D925,\"0000000000\")","v":"0000000000"}," ",{"$f":"UPPER(MICASH!F925)","v":""},{"$f":"UPPER(MICASH!G925)","v":""}," ",{"$f":"TEXT(MICASH!I925,\"0000000000\")","v":"0000000000"},{"$f":"TEXT(MICASH!J925*100,\"0000000000\")","v":"0000000000"},{"$f":"TEXT(MONTH(MICASH!K925),\"00\") & TEXT(DAY(MICASH!K925),\"00\") & RIGHT(TEXT(YEAR(MICASH!K925),\"00\"),2)","v":"010000"},{"$f":"UPPER(LEFT(MICASH!L925,96))","v":""}]
["C",288,"00",{"$f":"TEXT(MICASH!D926,\"0000000000\")","v":"0000000000"}," ",{"$f":"UPPER(MICASH!F926)","v":""},{"$f":"UPPER(MICASH!G926)","v":""}," ",{"$f":"TEXT(MICASH!I926,\"0000000000\")","v":"0000000000"},{"$f":"TEXT(MICASH!J926*100,\"0000000000\")","v":"0000000000"},{"$f":"TEXT(MONTH(MICASH!K926),\"00\") & TEXT(DAY(MICASH!K926),\"00\") & RIGHT(TEXT(YEAR(MICASH!K926),\"00\"),2)","v":"010000"},{"$f":"UPPER(LEFT(MICASH!L926,96))","v":""}]
["C",288,"00",{"$f":"TEXT(MICASH!D927,\"0000000000\")","v":"0000000000"}," ",{"$f":"UPPER(MICASH!F927)","v":""},{"$f":"UPPER(MICASH!G927)","v":""}," ",{"$f":"TEXT(MICASH!I927,\"0000000000\")","v":"0000000000"},{"$f":"TEXT(MICASH!J927*100,\"0000000000\")","v":"0000000000"},{"$f":"TEXT(MONTH(MICASH!K927),\"00\") & TEXT(DAY(MICASH!K927),\"00\") & RIGHT(TEXT(YEAR(MICASH!K927),\"00\"),2)","v":"010000"},{"$f":"UPPER(LEFT(MICASH!L927,96))","v":""}]
["C",288,"00",{"$f":"TEXT(MICASH!D928,\"0000000000\")","v":"0000000000"}," ",{"$f":"UPPER(MICASH!F928)","v":""},{"$f":"UPPER(MICASH!G928)","v":""}," ",{"$f":"TEXT(MICASH!I928,\"0000000000\")","v":"0000000000"},{"$f":"TEXT(MICASH!J928*100,\"0000000000\")","v":"0000000000"},{"$f":"TEXT(MONTH(MICASH!K928),\"00\") & TEXT(DAY(MICASH!K928),\"00\") & RIGHT(TEXT(YEAR(MICASH!K928),\"00\"),2)","v":"010000"},{"$f":"UPPER(LEFT(MICASH!L928,96))","v":""}]
["C",288,"00",{"$f":"TEXT(MICASH!D929,\"0000000000\")","v":"0000000000"}," ",{"$f":"UPPER(MICASH!F929)","v":""},{"$f":"UPPER(MICASH!G929)","v":""}," ",{"$f":"TEXT(MICASH!I929,\"0000000000\")","v":"0000000000"},{"$f":"TEXT(MICASH!J929*100,\"0000000000\")","v":"0000000000"},{"$f":"TEXT(MONTH(MICASH!K929),\"00\") & TEXT(DAY(MICASH!K929),\"00\") & RIGHT(TEXT(YEAR(MICASH!K929),\"00\"),2)","v":"010000"},{"$f":"UPPER(LEFT(MICASH!L929,96))","v":""}]
["C",288,"00",{"$f":"TEXT(MICASH!D930,\"0000000000\")","v":"0000000000"}," ",{"$f":"UPPER(MICASH!F930)","v":""},{"$f":"UPPER(MICASH!G930)","v":""}," ",{"$f":"TEXT(MICASH!I930,\"0000000000\")","v":"0000000000"},{"$f":"TEXT(MICASH!J930*100,\"0000000000\")","v":"0000000000"},{"$f":"TEXT(MONTH(MICASH!K930),\"00\") & TEXT(DAY(MICASH!K930),\"00\") & RIGHT(TEXT(YEAR(MICASH!K930),\"00\"),2)","v":"010000"},{"$f":"UPPER(LEFT(MICASH!L930,96))","v":""}]
["C",288,"00",{"$f":"TEXT(MICASH!D931,\"0000000000\")","v":"0000000000"}," ",{"$f":"UPPER(MICASH!F931)","v":""},{"$f":"UPPER(MICASH!G931)","v":""}," ",{"$f":"TEXT(MICASH!I931,\"0000000000\")","v":"0000000000"},{"$f":"TEXT(MICASH!J931*100,\"0000000000\")","v":"0000000000"},{"$f":"TEXT(MONTH(MICASH!K931),\"00\") & TEXT(DAY(MICASH!K931),\"00\") & RIGHT(TEXT(YEAR(MICASH!K931),\"00\"),2)","v":"010000"},{"$f":"UPPER(LEFT(MICASH!L931,96))","v":""}]
["C",288,"00",{"$f":"TEXT(MICASH!D932,\"0000000000\")","v":"0000000000"}," ",{"$f":"UPPER(MICASH!F932)","v":""},{"$f":"UPPER(MICASH!G932)","v":""}," ",{"$f":"TEXT(MICASH!I932,\"0000000000\")","v":"0000000000"},{"$f":"TEXT(MICASH!J932*100,\"0000000000\")","v":"0000000000"},{"$f":"TEXT(MONTH(MICASH!K932),\"00\") & TEXT(DAY(MICASH!K932),\"00\") & RIGHT(TEXT(YEAR(MICASH!K932),\"00\"),2)","v":"010000"},{"$f":"UPPER(LEFT(MICASH!L932,96))","v":""}]
["C",288,"00",{"$f":"TEXT(MICASH!D933,\"0000000000\")","v":"0000000000"}," ",{"$f":"UPPER(MICASH!F933)","v":""},{"$f":"UPPER(MICASH!G933)","v":""}," ",{"$f":"TEXT(MICASH!I933,\"0000000000\")","v":"0000000000"},{"$f":"TEXT(MICASH!J933*100,\"0000000000\")","v":"0000000000"},{"$f":"TEXT(MONTH(MICASH!K933),\"00\") & TEXT(DAY(MICASH!K933),\"00\") & RIGHT(TEXT(YEAR(MICASH!K933),\"00\"),2)","v":"010000"},{"$f":"UPPER(LEFT(MICASH!L933,96))","v":""}]
["C",288,"00",{"$f":"TEXT(MICASH!D934,\"0000000000\")","v":"0000000000"}," ",{"$f":"UPPER(MICASH!F934)","v":""},{"$f":"UPPER(MICASH!G934)","v":""}," ",{"$f":"TEXT(MICASH!I934,\"0000000000\")","v":"0000000000"},{"$f":"TEXT(MICASH!J934*100,\"0000000000\")","v":"0000000000"},{"$f":"TEXT(MONTH(MICASH!K934),\"00\") & TEXT(DAY(MICASH!K934),\"00\") & RIGHT(TEXT(YEAR(MICASH!K934),\"00\"),2)","v":"010000"},{"$f":"UPPER(LEFT(MICASH!L934,96))","v":""}]
["C",288,"00",{"$f":"TEXT(MICASH!D935,\"0000000000\")","v":"0000000000"}," ",{"$f":"UPPER(MICASH!F935)","v":""},{"$f":"UPPER(MICASH!G935)","v":""}," ",{"$f":"TEXT(MICASH!I935,\"0000000000\")","v":"0000000000"},{"$f":"TEXT(MICASH!J935*100,\"0000000000\")","v":"0000000000"},{"$f":"TEXT(MONTH(MICASH!K935),\"00\") & TEXT(DAY(MICASH!K935),\"00\") & RIGHT(TEXT(YEAR(MICASH!K935),\"00\"),2)","v":"010000"},{"$f":"UPPER(LEFT(MICASH!L935,96))","v":""}]
["C",288,"00",{"$f":"TEXT(MICASH!D936,\"0000000000\")","v":"0000000000"}," ",{"$f":"UPPER(MICASH!F936)","v":""},{"$f":"UPPER(MICASH!G936)","v":""}," ",{"$f":"TEXT(MICASH!I936,\"0000000000\")","v":"0000000000"},{"$f":"TEXT(MICASH!J936*100,\"0000000000\")","v":"0000000000"},{"$f":"TEXT(MONTH(MICASH!K936),\"00\") & TEXT(DAY(MICASH!K936),\"00\") & RIGHT(TEXT(YEAR(MICASH!K936),\"00\"),2)","v":"010000"},{"$f":"UPPER(LEFT(MICASH!L936,96))","v":""}]
["C",288,"00",{"$f":"TEXT(MICASH!D937,\"0000000000\")","v":"0000000000"}," ",{"$f":"UPPER(MICASH!F937)","v":""},{"$f":"UPPER(MICASH!G937)","v":""}," ",{"$f":"TEXT(MICASH!I937,\"0000000000\")","v":"0000000000"},{"$f":"TEXT(MICASH!J937*100,\"0000000000\")","v":"0000000000"},{"$f":"TEXT(MONTH(MICASH!K937),\"00\") & TEXT(DAY(MICASH!K937),\"00\") & RIGHT(TEXT(YEAR(MICASH!K937),\"00\"),2)","v":"010000"},{"$f":"UPPER(LEFT(MICASH!L937,96))","v":""}]
["C",288,"00",{"$f":"TEXT(MICASH!D938,\"0000000000\")","v":"0000000000"}," ",{"$f":"UPPER(MICASH!F938)","v":""},{"$f":"UPPER(MICASH!G938)","v":""}," ",{"$f":"TEXT(MICASH!I938,\"0000000000\")","v":"0000000000"},{"$f":"TEXT(MICASH!J938*100,\"0000000000\")","v":"0000000000"},{"$f":"TEXT(MONTH(MICASH!K938),\"00\") & TEXT(DAY(MICASH!K938),\"00\") & RIGHT(TEXT(YEAR(MICASH!K938),\"00\"),2)","v":"010000"},{"$f":"UPPER(LEFT(MICASH!L938,96))","v":""}]
["C",288,"00",{"$f":"TEXT(MICASH!D939,\"0000000000\")","v":"0000000000"}," ",{"$f":"UPPER(MICASH!F939)","v":""},{"$f":"UPPER(MICASH!G939)","v":""}," ",{"$f":"TEXT(MICASH!I939,\"0000000000\")","v":"0000000000"},{"$f":"TEXT(MICASH!J939*100,\"0000000000\")","v":"0000000000"},{"$f":"TEXT(MONTH(MICASH!K939),\"00\") & TEXT(DAY(MICASH!K939),\"00\") & RIGHT(TEXT(YEAR(MICASH!K939),\"00\"),2)","v":"010000"},{"$f":"UPPER(LEFT(MICASH!L939,96))","v":""}]
["C",288,"00",{"$f":"TEXT(MICASH!D940,\"0000000000\")","v":"0000000000"}," ",{"$f":"UPPER(MICASH!F940)","v":""},{"$f":"UPPER(MICASH!G940)","v":""}," ",{"$f":"TEXT(MICASH!I940,\"0000000000\")","v":"0000000000"},{"$f":"TEXT(MICASH!J940*100,\"0000000000\")","v":"0000000000"},{"$f":"TEXT(MONTH(MICASH!K940),\"00\") & TEXT(DAY(MICASH!K940),\"00\") & RIGHT(TEXT(YEAR(MICASH!K940),\"00\"),2)","v":"010000"},{"$f":"UPPER(LEFT(MICASH!L940,96))","v":""}]
["C",288,"00",{"$f":"TEXT(MICASH!D941,\"0000000000\")","v":"0000000000"}," ",{"$f":"UPPER(MICASH!F941)","v":""},{"$f":"UPPER(MICASH!G941)","v":""}," ",{"$f":"TEXT(MICASH!I941,\"0000000000\")","v":"0000000000"},{"$f":"TEXT(MICASH!J941*100,\"0000000000\")","v":"0000000000"},{"$f":"TEXT(MONTH(MICASH!K941),\"00\") & TEXT(DAY(MICASH!K941),\"00\") & RIGHT(TEXT(YEAR(MICASH!K941),\"00\"),2)","v":"010000"},{"$f":"UPPER(LEFT(MICASH!L941,96))","v":""}]
["C",288,"00",{"$f":"TEXT(MICASH!D942,\"0000000000\")","v":"0000000000"}," ",{"$f":"UPPER(MICASH!F942)","v":""},{"$f":"UPPER(MICASH!G942)","v":""}," ",{"$f":"TEXT(MICASH!I942,\"0000000000\")","v":"0000000000"},{"$f":"TEXT(MICASH!J942*100,\"0000000000\")","v":"0000000000"},{"$f":"TEXT(MONTH(MICASH!K942),\"00\") & TEXT(DAY(MICASH!K942),\"00\") & RIGHT(TEXT(YEAR(MICASH!K942),\"00\"),2)","v":"010000"},{"$f":"UPPER(LEFT(MICASH!L942,96))","v":""}]
["C",288,"00",{"$f":"TEXT(MICASH!D943,\"0000000000\")","v":"0000000000"}," ",{"$f":"UPPER(MICASH!F943)","v":""},{"$f":"UPPER(MICASH!G943)","v":""}," ",{"$f":"TEXT(MICASH!I943,\"0000000000\")","v":"0000000000"},{"$f":"TEXT(MICASH!J943*100,\"0000000000\")","v":"0000000000"},{"$f":"TEXT(MONTH(MICASH!K943),\"00\") & TEXT(DAY(MICASH!K943),\"00\") & RIGHT(TEXT(YEAR(MICASH!K943),\"00\"),2)","v":"010000"},{"$f":"UPPER(LEFT(MICASH!L943,96))","v":""}]
["C",288,"00",{"$f":"TEXT(MICASH!D944,\"0000000000\")","v":"0000000000"}," ",{"$f":"UPPER(MICASH!F944)","v":""},{"$f":"UPPER(MICASH!G944)","v":""}," ",{"$f":"TEXT(MICASH!I944,\"0000000000\")","v":"0000000000"},{"$f":"TEXT(MICASH!J944*100,\"0000000000\")","v":"0000000000"},{"$f":"TEXT(MONTH(MICASH!K944),\"00\") & TEXT(DAY(MICASH!K944),\"00\") & RIGHT(TEXT(YEAR(MICASH!K944),\"00\"),2)","v":"010000"},{"$f":"UPPER(LEFT(MICASH!L944,96))","v":""}]
["C",288,"00",{"$f":"TEXT(MICASH!D945,\"0000000000\")","v":"0000000000"}," ",{"$f":"UPPER(MICASH!F945)","v":""},{"$f":"UPPER(MICASH!G945)","v":""}," ",{"$f":"TEXT(MICASH!I945,\"0000000000\")","v":"0000000000"},{"$f":"TEXT(MICASH!J945*100,\"0000000000\")","v":"0000000000"},{"$f":"TEXT(MONTH(MICASH!K945),\"00\") & TEXT(DAY(MICASH!K945),\"00\") & RIGHT(TEXT(YEAR(MICASH!K945),\"00\"),2)","v":"010000"},{"$f":"UPPER(LEFT(MICASH!L945,96))","v":""}]
["C",288,"00",{"$f":"TEXT(MICASH!D946,\"0000000000\")","v":"0000000000"}," ",{"$f":"UPPER(MICASH!F946)","v":""},{"$f":"UPPER(MICASH!G946)","v":""}," ",{"$f":"TEXT(MICASH!I946,\"0000000000\")","v":"0000000000"},{"$f":"TEXT(MICASH!J946*100,\"0000000000\")","v":"0000000000"},{"$f":"TEXT(MONTH(MICASH!K946),\"00\") & TEXT(DAY(MICASH!K946),\"00\") & RIGHT(TEXT(YEAR(MICASH!K946),\"00\"),2)","v":"010000"},{"$f":"UPPER(LEFT(MICASH!L946,96))","v":""}]
["C",288,"00",{"$f":"TEXT(MICASH!D947,\"0000000000\")","v":"0000000000"}," ",{"$f":"UPPER(MICASH!F947)","v":""},{"$f":"UPPER(MICASH!G947)","v":""}," ",{"$f":"TEXT(MICASH!I947,\"0000000000\")","v":"0000000000"},{"$f":"TEXT(MICASH!J947*100,\"0000000000\")","v":"0000000000"},{"$f":"TEXT(MONTH(MICASH!K947),\"00\") & TEXT(DAY(MICASH!K947),\"00\") & RIGHT(TEXT(YEAR(MICASH!K947),\"00\"),2)","v":"010000"},{"$f":"UPPER(LEFT(MICASH!L947,96))","v":""}]
["C",288,"00",{"$f":"TEXT(MICASH!D948,\"0000000000\")","v":"0000000000"}," ",{"$f":"UPPER(MICASH!F948)","v":""},{"$f":"UPPER(MICASH!G948)","v":""}," ",{"$f":"TEXT(MICASH!I948,\"0000000000\")","v":"0000000000"},{"$f":"TEXT(MICASH!J948*100,\"0000000000\")","v":"0000000000"},{"$f":"TEXT(MONTH(MICASH!K948),\"00\") & TEXT(DAY(MICASH!K948),\"00\") & RIGHT(TEXT(YEAR(MICASH!K948),\"00\"),2)","v":"010000"},{"$f":"UPPER(LEFT(MICASH!L948,96))","v":""}]
["C",288,"00",{"$f":"TEXT(MICASH!D949,\"0000000000\")","v":"0000000000"}," ",{"$f":"UPPER(MICASH!F949)","v":""},{"$f":"UPPER(MICASH!G949)","v":""}," ",{"$f":"TEXT(MICASH!I949,\"0000000000\")","v":"0000000000"},{"$f":"TEXT(MICASH!J949*100,\"0000000000\")","v":"0000000000"},{"$f":"TEXT(MONTH(MICASH!K949),\"00\") & TEXT(DAY(MICASH!K949),\"00\") & RIGHT(TEXT(YEAR(MICASH!K949),\"00\"),2)","v":"010000"},{"$f":"UPPER(LEFT(MICASH!L949,96))","v":""}]
["C",288,"00",{"$f":"TEXT(MICASH!D950,\"0000000000\")","v":"0000000000"}," ",{"$f":"UPPER(MICASH!F950)","v":""},{"$f":"UPPER(MICASH!G950)","v":""}," ",{"$f":"TEXT(MICASH!I950,\"0000000000\")","v":"0000000000"},{"$f":"TEXT(MICASH!J950*100,\"0000000000\")","v":"0000000000"},{"$f":"TEXT(MONTH(MICASH!K950),\"00\") & TEXT(DAY(MICASH!K950),\"00\") & RIGHT(TEXT(YEAR(MICASH!K950),\"00\"),2)","v":"010000"},{"$f":"UPPER(LEFT(MICASH!L950,96))","v":""}]
["C",288,"00",{"$f":"TEXT(MICASH!D951,\"0000000000\")","v":"0000000000"}," ",{"$f":"UPPER(MICASH!F951)","v":""},{"$f":"UPPER(MICASH!G951)","v":""}," ",{"$f":"TEXT(MICASH!I951,\"0000000000\")","v":"0000000000"},{"$f":"TEXT(MICASH!J951*100,\"0000000000\")","v":"0000000000"},{"$f":"TEXT(MONTH(MICASH!K951),\"00\") & TEXT(DAY(MICASH!K951),\"00\") & RIGHT(TEXT(YEAR(MICASH!K951),\"00\"),2)","v":"010000"},{"$f":"UPPER(LEFT(MICASH!L951,96))","v":""}]
["C",288,"00",{"$f":"TEXT(MICASH!D952,\"0000000000\")","v":"0000000000"}," ",{"$f":"UPPER(MICASH!F952)","v":""},{"$f":"UPPER(MICASH!G952)","v":""}," ",{"$f":"TEXT(MICASH!I952,\"0000000000\")","v":"0000000000"},{"$f":"TEXT(MICASH!J952*100,\"0000000000\")","v":"0000000000"},{"$f":"TEXT(MONTH(MICASH!K952),\"00\") & TEXT(DAY(MICASH!K952),\"00\") & RIGHT(TEXT(YEAR(MICASH!K952),\"00\"),2)","v":"010000"},{"$f":"UPPER(LEFT(MICASH!L952,96))","v":""}]
["C",288,"00",{"$f":"TEXT(MICASH!D953,\"0000000000\")","v":"0000000000"}," ",{"$f":"UPPER(MICASH!F953)","v":""},{"$f":"UPPER(MICASH!G953)","v":""}," ",{"$f":"TEXT(MICASH!I953,\"0000000000\")","v":"0000000000"},{"$f":"TEXT(MICASH!J953*100,\"0000000000\")","v":"0000000000"},{"$f":"TEXT(MONTH(MICASH!K953),\"00\") & TEXT(DAY(MICASH!K953),\"00\") & RIGHT(TEXT(YEAR(MICASH!K953),\"00\"),2)","v":"010000"},{"$f":"UPPER(LEFT(MICASH!L953,96))","v":""}]
["C",288,"00",{"$f":"TEXT(MICASH!D954,\"0000000000\")","v":"0000000000"}," ",{"$f":"UPPER(MICASH!F954)","v":""},{"$f":"UPPER(MICASH!G954)","v":""}," ",{"$f":"TEXT(MICASH!I954,\"0000000000\")","v":"0000000000"},{"$f":"TEXT(MICASH!J954*100,\"0000000000\")","v":"0000000000"},{"$f":"TEXT(MONTH(MICASH!K954),\"00\") & TEXT(DAY(MICASH!K954),\"00\") & RIGHT(TEXT(YEAR(MICASH!K954),\"00\"),2)","v":"010000"},{"$f":"UPPER(LEFT(MICASH!L954,96))","v":""}]
["C",288,"00",{"$f":"TEXT(MICASH!D955,\"0000000000\")","v":"0000000000"}," ",{"$f":"UPPER(MICASH!F955)","v":""},{"$f":"UPPER(MICASH!G955)","v":""}," ",{"$f":"TEXT(MICASH!I955,\"0000000000\")","v":"0000000000"},{"$f":"TEXT(MICASH!J955*100,\"0000000000\")","v":"0000000000"},{"$f":"TEXT(MONTH(MICASH!K955),\"00\") & TEXT(DAY(MICASH!K955),\"00\") & RIGHT(TEXT(YEAR(MICASH!K955),\"00\"),2)","v":"010000"},{"$f":"UPPER(LEFT(MICASH!L955,96))","v":""}]
["C",288,"00",{"$f":"TEXT(MICASH!D956,\"0000000000\")","v":"0000000000"}," ",{"$f":"UPPER(MICASH!F956)","v":""},{"$f":"UPPER(MICASH!G956)","v":""}," ",{"$f":"TEXT(MICASH!I956,\"0000000000\")","v":"0000000000"},{"$f":"TEXT(MICASH!J956*100,\"0000000000\")","v":"0000000000"},{"$f":"TEXT(MONTH(MICASH!K956),\"00\") & TEXT(DAY(MICASH!K956),\"00\") & RIGHT(TEXT(YEAR(MICASH!K956),\"00\"),2)","v":"010000"},{"$f":"UPPER(LEFT(MICASH!L956,96))","v":""}]
["C",288,"00",{"$f":"TEXT(MICASH!D957,\"0000000000\")","v":"0000000000"}," ",{"$f":"UPPER(MICASH!F957)","v":""},{"$f":"UPPER(MICASH!G957)","v":""}," ",{"$f":"TEXT(MICASH!I957,\"0000000000\")","v":"0000000000"},{"$f":"TEXT(MICASH!J957*100,\"0000000000\")","v":"0000000000"},{"$f":"TEXT(MONTH(MICASH!K957),\"00\") & TEXT(DAY(MICASH!K957),\"00\") & RIGHT(TEXT(YEAR(MICASH!K957),\"00\"),2)","v":"010000"},{"$f":"UPPER(LEFT(MICASH!L957,96))","v":""}]
["C",288,"00",{"$f":"TEXT(MICASH!D958,\"0000000000\")","v":"0000000000"}," ",{"$f":"UPPER(MICASH!F958)","v":""},{"$f":"UPPER(MICASH!G958)","v":""}," ",{"$f":"TEXT(MICASH!I958,\"0000000000\")","v":"0000000000"},{"$f":"TEXT(MICASH!J958*100,\"0000000000\")","v":"0000000000"},{"$f":"TEXT(MONTH(MICASH!K958),\"00\") & TEXT(DAY(MICASH!K958),\"00\") & RIGHT(TEXT(YEAR(MICASH!K958),\"00\"),2)","v":"010000"},{"$f":"UPPER(LEFT(MICASH!L958,96))","v":""}]
["C",288,"00",{"$f":"TEXT(MICASH!D959,\"0000000000\")","v":"0000000000"}," ",{"$f":"UPPER(MICASH!F959)","v":""},{"$f":"UPPER(MICASH!G959)","v":""}," ",{"$f":"TEXT(MICASH!I959,\"0000000000\")","v":"0000000000"},{"$f":"TEXT(MICASH!J959*100,\"0000000000\")","v":"0000000000"},{"$f":"TEXT(MONTH(MICASH!K959),\"00\") & TEXT(DAY(MICASH!K959),\"00\") & RIGHT(TEXT(YEAR(MICASH!K959),\"00\"),2)","v":"010000"},{"$f":"UPPER(LEFT(MICASH!L959,96))","v":""}]
["C",288,"00",{"$f":"TEXT(MICASH!D960,\"0000000000\")","v":"0000000000"}," ",{"$f":"UPPER(MICASH!F960)","v":""},{"$f":"UPPER(MICASH!G960)","v":""}," ",{"$f":"TEXT(MICASH!I960,\"0000000000\")","v":"0000000000"},{"$f":"TEXT(MICASH!J960*100,\"0000000000\")","v":"0000000000"},{"$f":"TEXT(MONTH(MICASH!K960),\"00\") & TEXT(DAY(MICASH!K960),\"00\") & RIGHT(TEXT(YEAR(MICASH!K960),\"00\"),2)","v":"010000"},{"$f":"UPPER(LEFT(MICASH!L960,96))","v":""}]
["C",288,"00",{"$f":"TEXT(MICASH!D961,\"0000000000\")","v":"0000000000"}," ",{"$f":"UPPER(MICASH!F961)","v":""},{"$f":"UPPER(MICASH!G961)","v":""}," ",{"$f":"TEXT(MICASH!I961,\"0000000000\")","v":"0000000000"},{"$f":"TEXT(MICASH!J961*100,\"0000000000\")","v":"0000000000"},{"$f":"TEXT(MONTH(MICASH!K961),\"00\") & TEXT(DAY(MICASH!K961),\"00\") & RIGHT(TEXT(YEAR(MICASH!K961),\"00\"),2)","v":"010000"},{"$f":"UPPER(LEFT(MICASH!L961,96))","v":""}]
["C",288,"00",{"$f":"TEXT(MICASH!D962,\"0000000000\")","v":"0000000000"}," ",{"$f":"UPPER(MICASH!F962)","v":""},{"$f":"UPPER(MICASH!G962)","v":""}," ",{"$f":"TEXT(MICASH!I962,\"0000000000\")","v":"0000000000"},{"$f":"TEXT(MICASH!J962*100,\"0000000000\")","v":"0000000000"},{"$f":"TEXT(MONTH(MICASH!K962),\"00\") & TEXT(DAY(MICASH!K962),\"00\") & RIGHT(TEXT(YEAR(MICASH!K962),\"00\"),2)","v":"010000"},{"$f":"UPPER(LEFT(MICASH!L962,96))","v":""}]
["C",288,"00",{"$f":"TEXT(MICASH!D963,\"0000000000\")","v":"0000000000"}," ",{"$f":"UPPER(MICASH!F963)","v":""},{"$f":"UPPER(MICASH!G963)","v":""}," ",{"$f":"TEXT(MICASH!I963,\"0000000000\")","v":"0000000000"},{"$f":"TEXT(MICASH!J963*100,\"0000000000\")","v":"0000000000"},{"$f":"TEXT(MONTH(MICASH!K963),\"00\") & TEXT(DAY(MICASH!K963),\"00\") & RIGHT(TEXT(YEAR(MICASH!K963),\"00\"),2)","v":"010000"},{"$f":"UPPER(LEFT(MICASH!L963,96))","v":""}]
["C",288,"00",{"$f":"TEXT(MICASH!D964,\"0000000000\")","v":"0000000000"}," ",{"$f":"UPPER(MICASH!F964)","v":""},{"$f":"UPPER(MICASH!G964)","v":""}," ",{"$f":"TEXT(MICASH!I964,\"0000000000\")","v":"0000000000"},{"$f":"TEXT(MICASH!J964*100,\"0000000000\")","v":"0000000000"},{"$f":"TEXT(MONTH(MICASH!K964),\"00\") & TEXT(DAY(MICASH!K964),\"00\") & RIGHT(TEXT(YEAR(MICASH!K964),\"00\"),2)","v":"010000"},{"$f":"UPPER(LEFT(MICASH!L964,96))","v":""}]
["C",288,"00",{"$f":"TEXT(MICASH!D965,\"0000000000\")","v":"0000000000"}," ",{"$f":"UPPER(MICASH!F965)","v":""},{"$f":"UPPER(MICASH!G965)","v":""}," ",{"$f":"TEXT(MICASH!I965,\"0000000000\")","v":"0000000000"},{"$f":"TEXT(MICASH!J965*100,\"0000000000\")","v":"0000000000"},{"$f":"TEXT(MONTH(MICASH!K965),\"00\") & TEXT(DAY(MICASH!K965),\"00\") & RIGHT(TEXT(YEAR(MICASH!K965),\"00\"),2)","v":"010000"},{"$f":"UPPER(LEFT(MICASH!L965,96))","v":""}]
["C",288,"00",{"$f":"TEXT(MICASH!D966,\"0000000000\")","v":"0000000000"}," ",{"$f":"UPPER(MICASH!F966)","v":""},{"$f":"UPPER(MICASH!G966)","v":""}," ",{"$f":"TEXT(MICASH!I966,\"0000000000\")","v":"0000000000"},{"$f":"TEXT(MICASH!J966*100,\"0000000000\")","v":"0000000000"},{"$f":"TEXT(MONTH(MICASH!K966),\"00\") & TEXT(DAY(MICASH!K966),\"00\") & RIGHT(TEXT(YEAR(MICASH!K966),\"00\"),2)","v":"010000"},{"$f":"UPPER(LEFT(MICASH!L966,96))","v":""}]
["C",288,"00",{"$f":"TEXT(MICASH!D967,\"0000000000\")","v":"0000000000"}," ",{"$f":"UPPER(MICASH!F967)","v":""},{"$f":"UPPER(MICASH!G967)","v":""}," ",{"$f":"TEXT(MICASH!I967,\"0000000000\")","v":"0000000000"},{"$f":"TEXT(MICASH!J967*100,\"0000000000\")","v":"0000000000"},{"$f":"TEXT(MONTH(MICASH!K967),\"00\") & TEXT(DAY(MICASH!K967),\"00\") & RIGHT(TEXT(YEAR(MICASH!K967),\"00\"),2)","v":"010000"},{"$f":"UPPER(LEFT(MICASH!L967,96))","v":""}]
["C",288,"00",{"$f":"TEXT(MICASH!D968,\"0000000000\")","v":"0000000000"}," ",{"$f":"UPPER(MICASH!F968)","v":""},{"$f":"UPPER(MICASH!G968)","v":""}," ",{"$f":"TEXT(MICASH!I968,\"0000000000\")","v":"0000000000"},{"$f":"TEXT(MICASH!J968*100,\"0000000000\")","v":"0000000000"},{"$f":"TEXT(MONTH(MICASH!K968),\"00\") & TEXT(DAY(MICASH!K968),\"00\") & RIGHT(TEXT(YEAR(MICASH!K968),\"00\"),2)","v":"010000"},{"$f":"UPPER(LEFT(MICASH!L968,96))","v":""}]
["C",288,"00",{"$f":"TEXT(MICASH!D969,\"0000000000\")","v":"0000000000"}," ",{"$f":"UPPER(MICASH!F969)","v":""},{"$f":"UPPER(MICASH!G969)","v":""}," ",{"$f":"TEXT(MICASH!I969,\"0000000000\")","v":"0000000000"},{"$f":"TEXT(MICASH!J969*100,\"0000000000\")","v":"0000000000"},{"$f":"TEXT(MONTH(MICASH!K969),\"00\") & TEXT(DAY(MICASH!K969),\"00\") & RIGHT(TEXT(YEAR(MICASH!K969),\"00\"),2)","v":"010000"},{"$f":"UPPER(LEFT(MICASH!L969,96))","v":""}]
["C",288,"00",{"$f":"TEXT(MICASH!D970,\"0000000000\")","v":"0000000000"}," ",{"$f":"UPPER(MICASH!F970)","v":""},{"$f":"UPPER(MICASH!G970)","v":""}," ",{"$f":"TEXT(MICASH!I970,\"0000000000\")","v":"0000000000"},{"$f":"TEXT(MICASH!J970*100,\"0000000000\")","v":"0000000000"},{"$f":"TEXT(MONTH(MICASH!K970),\"00\") & TEXT(DAY(MICASH!K970),\"00\") & RIGHT(TEXT(YEAR(MICASH!K970),\"00\"),2)","v":"010000"},{"$f":"UPPER(LEFT(MICASH!L970,96))","v":""}]
["C",288,"00",{"$f":"TEXT(MICASH!D971,\"0000000000\")","v":"0000000000"}," ",{"$f":"UPPER(MICASH!F971)","v":""},{"$f":"UPPER(MICASH!G971)","v":""}," ",{"$f":"TEXT(MICASH!I971,\"0000000000\")","v":"0000000000"},{"$f":"TEXT(MICASH!J971*100,\"0000000000\")","v":"0000000000"},{"$f":"TEXT(MONTH(MICASH!K971),\"00\") & TEXT(DAY(MICASH!K971),\"00\") & RIGHT(TEXT(YEAR(MICASH!K971),\"00\"),2)","v":"010000"},{"$f":"UPPER(LEFT(MICASH!L971,96))","v":""}]
["C",288,"00",{"$f":"TEXT(MICASH!D972,\"0000000000\")","v":"0000000000"}," ",{"$f":"UPPER(MICASH!F972)","v":""},{"$f":"UPPER(MICASH!G972)","v":""}," ",{"$f":"TEXT(MICASH!I972,\"0000000000\")","v":"0000000000"},{"$f":"TEXT(MICASH!J972*100,\"0000000000\")","v":"0000000000"},{"$f":"TEXT(MONTH(MICASH!K972),\"00\") & TEXT(DAY(MICASH!K972),\"00\") & RIGHT(TEXT(YEAR(MICASH!K972),\"00\"),2)","v":"010000"},{"$f":"UPPER(LEFT(MICASH!L972,96))","v":""}]
["C",288,"00",{"$f":"TEXT(MICASH!D973,\"0000000000\")","v":"0000000000"}," ",{"$f":"UPPER(MICASH!F973)","v":""},{"$f":"UPPER(MICASH!G973)","v":""}," ",{"$f":"TEXT(MICASH!I973,\"0000000000\")","v":"0000000000"},{"$f":"TEXT(MICASH!J973*100,\"0000000000\")","v":"0000000000"},{"$f":"TEXT(MONTH(MICASH!K973),\"00\") & TEXT(DAY(MICASH!K973),\"00\") & RIGHT(TEXT(YEAR(MICASH!K973),\"00\"),2)","v":"010000"},{"$f":"UPPER(LEFT(MICASH!L973,96))","v":""}]
["C",288,"00",{"$f":"TEXT(MICASH!D974,\"0000000000\")","v":"0000000000"}," ",{"$f":"UPPER(MICASH!F974)","v":""},{"$f":"UPPER(MICASH!G974)","v":""}," ",{"$f":"TEXT(MICASH!I974,\"0000000000\")","v":"0000000000"},{"$f":"TEXT(MICASH!J974*100,\"0000000000\")","v":"0000000000"},{"$f":"TEXT(MONTH(MICASH!K974),\"00\") & TEXT(DAY(MICASH!K974),\"00\") & RIGHT(TEXT(YEAR(MICASH!K974),\"00\"),2)","v":"010000"},{"$f":"UPPER(LEFT(MICASH!L974,96))","v":""}]
["C",288,"00",{"$f":"TEXT(MICASH!D975,\"0000000000\")","v":"0000000000"}," ",{"$f":"UPPER(MICASH!F975)","v":""},{"$f":"UPPER(MICASH!G975)","v":""}," ",{"$f":"TEXT(MICASH!I975,\"0000000000\")","v":"0000000000"},{"$f":"TEXT(MICASH!J975*100,\"0000000000\")","v":"0000000000"},{"$f":"TEXT(MONTH(MICASH!K975),\"00\") & TEXT(DAY(MICASH!K975),\"00\") & RIGHT(TEXT(YEAR(MICASH!K975),\"00\"),2)","v":"010000"},{"$f":"UPPER(LEFT(MICASH!L975,96))","v":""}]
["C",288,"00",{"$f":"TEXT(MICASH!D976,\"0000000000\")","v":"0000000000"}," ",{"$f":"UPPER(MICASH!F976)","v":""},{"$f":"UPPER(MICASH!G976)","v":""}," ",{"$f":"TEXT(MICASH!I976,\"0000000000\")","v":"0000000000"},{"$f":"TEXT(MICASH!J976*100,\"0000000000\")","v":"0000000000"},{"$f":"TEXT(MONTH(MICASH!K976),\"00\") & TEXT(DAY(MICASH!K976),\"00\") & RIGHT(TEXT(YEAR(MICASH!K976),\"00\"),2)","v":"010000"},{"$f":"UPPER(LEFT(MICASH!L976,96))","v":""}]
["C",288,"00",{"$f":"TEXT(MICASH!D977,\"0000000000\")","v":"0000000000"}," ",{"$f":"UPPER(MICASH!F977)","v":""},{"$f":"UPPER(MICASH!G977)","v":""}," ",{"$f":"TEXT(MICASH!I977,\"0000000000\")","v":"0000000000"},{"$f":"TEXT(MICASH!J977*100,\"0000000000\")","v":"0000000000"},{"$f":"TEXT(MONTH(MICASH!K977),\"00\") & TEXT(DAY(MICASH!K977),\"00\") & RIGHT(TEXT(YEAR(MICASH!K977),\"00\"),2)","v":"010000"},{"$f":"UPPER(LEFT(MICASH!L977,96))","v":""}]
["C",288,"00",{"$f":"TEXT(MICASH!D978,\"0000000000\")","v":"0000000000"}," ",{"$f":"UPPER(MICASH!F978)","v":""},{"$f":"UPPER(MICASH!G978)","v":""}," ",{"$f":"TEXT(MICASH!I978,\"0000000000\")","v":"0000000000"},{"$f":"TEXT(MICASH!J978*100,\"0000000000\")","v":"0000000000"},{"$f":"TEXT(MONTH(MICASH!K978),\"00\") & TEXT(DAY(MICASH!K978),\"00\") & RIGHT(TEXT(YEAR(MICASH!K978),\"00\"),2)","v":"010000"},{"$f":"UPPER(LEFT(MICASH!L978,96))","v":""}]
["C",288,"00",{"$f":"TEXT(MICASH!D979,\"0000000000\")","v":"0000000000"}," ",{"$f":"UPPER(MICASH!F979)","v":""},{"$f":"UPPER(MICASH!G979)","v":""}," ",{"$f":"TEXT(MICASH!I979,\"0000000000\")","v":"0000000000"},{"$f":"TEXT(MICASH!J979*100,\"0000000000\")","v":"0000000000"},{"$f":"TEXT(MONTH(MICASH!K979),\"00\") & TEXT(DAY(MICASH!K979),\"00\") & RIGHT(TEXT(YEAR(MICASH!K979),\"00\"),2)","v":"010000"},{"$f":"UPPER(LEFT(MICASH!L979,96))","v":""}]
["C",288,"00",{"$f":"TEXT(MICASH!D980,\"0000000000\")","v":"0000000000"}," ",{"$f":"UPPER(MICASH!F980)","v":""},{"$f":"UPPER(MICASH!G980)","v":""}," ",{"$f":"TEXT(MICASH!I980,\"0000000000\")","v":"0000000000"},{"$f":"TEXT(MICASH!J980*100,\"0000000000\")","v":"0000000000"},{"$f":"TEXT(MONTH(MICASH!K980),\"00\") & TEXT(DAY(MICASH!K980),\"00\") & RIGHT(TEXT(YEAR(MICASH!K980),\"00\"),2)","v":"010000"},{"$f":"UPPER(LEFT(MICASH!L980,96))","v":""}]
["C",288,"00",{"$f":"TEXT(MICASH!D981,\"0000000000\")","v":"0000000000"}," ",{"$f":"UPPER(MICASH!F981)","v":""},{"$f":"UPPER(MICASH!G981)","v":""}," ",{"$f":"TEXT(MICASH!I981,\"0000000000\")","v":"0000000000"},{"$f":"TEXT(MICASH!J981*100,\"0000000000\")","v":"0000000000"},{"$f":"TEXT(MONTH(MICASH!K981),\"00\") & TEXT(DAY(MICASH!K981),\"00\") & RIGHT(TEXT(YEAR(MICASH!K981),\"00\"),2)","v":"010000"},{"$f":"UPPER(LEFT(MICASH!L981,96))","v":""}]
["C",288,"00",{"$f":"TEXT(MICASH!D982,\"0000000000\")","v":"0000000000"}," ",{"$f":"UPPER(MICASH!F982)","v":""},{"$f":"UPPER(MICASH!G982)","v":""}," ",{"$f":"TEXT(MICASH!I982,\"0000000000\")","v":"0000000000"},{"$f":"TEXT(MICASH!J982*100,\"0000000000\")","v":"0000000000"},{"$f":"TEXT(MONTH(MICASH!K982),\"00\") & TEXT(DAY(MICASH!K982),\"00\") & RIGHT(TEXT(YEAR(MICASH!K982),\"00\"),2)","v":"010000"},{"$f":"UPPER(LEFT(MICASH!L982,96))","v":""}]
["C",288,"00",{"$f":"TEXT(MICASH!D983,\"0000000000\")","v":"0000000000"}," ",{"$f":"UPPER(MICASH!F983)","v":""},{"$f":"UPPER(MICASH!G983)","v":""}," ",{"$f":"TEXT(MICASH!I983,\"0000000000\")","v":"0000000000"},{"$f":"TEXT(MICASH!J983*100,\"0000000000\")","v":"0000000000"},{"$f":"TEXT(MONTH(MICASH!K983),\"00\") & TEXT(DAY(MICASH!K983),\"00\") & RIGHT(TEXT(YEAR(MICASH!K983),\"00\"),2)","v":"010000"},{"$f":"UPPER(LEFT(MICASH!L983,96))","v":""}]
["C",288,"00",{"$f":"TEXT(MICASH!D984,\"0000000000\")","v":"0000000000"}," ",{"$f":"UPPER(MICASH!F984)","v":""},{"$f":"UPPER(MICASH!G984)","v":""}," ",{"$f":"TEXT(MICASH!I984,\"0000000000\")","v":"0000000000"},{"$f":"TEXT(MICASH!J984*100,\"0000000000\")","v":"0000000000"},{"$f":"TEXT(MONTH(MICASH!K984),\"00\") & TEXT(DAY(MICASH!K984),\"00\") & RIGHT(TEXT(YEAR(MICASH!K984),\"00\"),2)","v":"010000"},{"$f":"UPPER(LEFT(MICASH!L984,96))","v":""}]
["C",288,"00",{"$f":"TEXT(MICASH!D985,\"0000000000\")","v":"0000000000"}," ",{"$f":"UPPER(MICASH!F985)","v":""},{"$f":"UPPER(MICASH!G985)","v":""}," ",{"$f":"TEXT(MICASH!I985,\"0000000000\")","v":"0000000000"},{"$f":"TEXT(MICASH!J985*100,\"0000000000\")","v":"0000000000"},{"$f":"TEXT(MONTH(MICASH!K985),\"00\") & TEXT(DAY(MICASH!K985),\"00\") & RIGHT(TEXT(YEAR(MICASH!K985),\"00\"),2)","v":"010000"},{"$f":"UPPER(LEFT(MICASH!L985,96))","v":""}]
["C",288,"00",{"$f":"TEXT(MICASH!D986,\"0000000000\")","v":"0000000000"}," ",{"$f":"UPPER(MICASH!F986)","v":""},{"$f":"UPPER(MICASH!G986)","v":""}," ",{"$f":"TEXT(MICASH!I986,\"0000000000\")","v":"0000000000"},{"$f":"TEXT(MICASH!J986*100,\"0000000000\")","v":"0000000000"},{"$f":"TEXT(MONTH(MICASH!K986),\"00\") & TEXT(DAY(MICASH!K986),\"00\") & RIGHT(TEXT(YEAR(MICASH!K986),\"00\"),2)","v":"010000"},{"$f":"UPPER(LEFT(MICASH!L986,96))","v":""}]
["C",288,"00",{"$f":"TEXT(MICASH!D987,\"0000000000\")","v":"0000000000"}," ",{"$f":"UPPER(MICASH!F987)","v":""},{"$f":"UPPER(MICASH!G987)","v":""}," ",{"$f":"TEXT(MICASH!I987,\"0000000000\")","v":"0000000000"},{"$f":"TEXT(MICASH!J987*100,\"0000000000\")","v":"0000000000"},{"$f":"TEXT(MONTH(MICASH!K987),\"00\") & TEXT(DAY(MICASH!K987),\"00\") & RIGHT(TEXT(YEAR(MICASH!K987),\"00\"),2)","v":"010000"},{"$f":"UPPER(LEFT(MICASH!L987,96))","v":""}]
["C",288,"00",{"$f":"TEXT(MICASH!D988,\"0000000000\")","v":"0000000000"}," ",{"$f":"UPPER(MICASH!F988)","v":""},{"$f":"UPPER(MICASH!G988)","v":""}," ",{"$f":"TEXT(MICASH!I988,\"0000000000\")","v":"0000000000"},{"$f":"TEXT(MICASH!J988*100,\"0000000000\")","v":"0000000000"},{"$f":"TEXT(MONTH(MICASH!K988),\"00\") & TEXT(DAY(MICASH!K988),\"00\") & RIGHT(TEXT(YEAR(MICASH!K988),\"00\"),2)","v":"010000"},{"$f":"UPPER(LEFT(MICASH!L988,96))","v":""}]
["C",288,"00",{"$f":"TEXT(MICASH!D989,\"0000000000\")","v":"0000000000"}," ",{"$f":"UPPER(MICASH!F989)","v":""},{"$f":"UPPER(MICASH!G989)","v":""}," ",{"$f":"TEXT(MICASH!I989,\"0000000000\")","v":"0000000000"},{"$f":"TEXT(MICASH!J989*100,\"0000000000\")","v":"0000000000"},{"$f":"TEXT(MONTH(MICASH!K989),\"00\") & TEXT(DAY(MICASH!K989),\"00\") & RIGHT(TEXT(YEAR(MICASH!K989),\"00\"),2)","v":"010000"},{"$f":"UPPER(LEFT(MICASH!L989,96))","v":""}]
["C",288,"00",{"$f":"TEXT(MICASH!D990,\"0000000000\")","v":"0000000000"}," ",{"$f":"UPPER(MICASH!F990)","v":""},{"$f":"UPPER(MICASH!G990)","v":""}," ",{"$f":"TEXT(MICASH!I990,\"0000000000\")","v":"0000000000"},{"$f":"TEXT(MICASH!J990*100,\"0000000000\")","v":"0000000000"},{"$f":"TEXT(MONTH(MICASH!K990),\"00\") & TEXT(DAY(MICASH!K990),\"00\") & RIGHT(TEXT(YEAR(MICASH!K990),\"00\"),2)","v":"010000"},{"$f":"UPPER(LEFT(MICASH!L990,96))","v":""}]
["C",288,"00",{"$f":"TEXT(MICASH!D991,\"0000000000\")","v":"0000000000"}," ",{"$f":"UPPER(MICASH!F991)","v":""},{"$f":"UPPER(MICASH!G991)","v":""}," ",{"$f":"TEXT(MICASH!I991,\"0000000000\")","v":"0000000000"},{"$f":"TEXT(MICASH!J991*100,\"0000000000\")","v":"0000000000"},{"$f":"TEXT(MONTH(MICASH!K991),\"00\") & TEXT(DAY(MICASH!K991),\"00\") & RIGHT(TEXT(YEAR(MICASH!K991),\"00\"),2)","v":"010000"},{"$f":"UPPER(LEFT(MICASH!L991,96))","v":""}]
["C",288,"00",{"$f":"TEXT(MICASH!D992,\"0000000000\")","v":"0000000000"}," ",{"$f":"UPPER(MICASH!F992)","v":""},{"$f":"UPPER(MICASH!G992)","v":""}," ",{"$f":"TEXT(MICASH!I992,\"0000000000\")","v":"0000000000"},{"$f":"TEXT(MICASH!J992*100,\"0000000000\")","v":"0000000000"},{"$f":"TEXT(MONTH(MICASH!K992),\"00\") & TEXT(DAY(MICASH!K992),\"00\") & RIGHT(TEXT(YEAR(MICASH!K992),\"00\"),2)","v":"010000"},{"$f":"UPPER(LEFT(MICASH!L992,96))","v":""}]
["C",288,"00",{"$f":"TEXT(MICASH!D993,\"0000000000\")","v":"0000000000"}," ",{"$f":"UPPER(MICASH!F993)","v":""},{"$f":"UPPER(MICASH!G993)","v":""}," ",{"$f":"TEXT(MICASH!I993,\"0000000000\")","v":"0000000000"},{"$f":"TEXT(MICASH!J993*100,\"0000000000\")","v":"0000000000"},{"$f":"TEXT(MONTH(MICASH!K993),\"00\") & TEXT(DAY(MICASH!K993),\"00\") & RIGHT(TEXT(YEAR(MICASH!K993),\"00\"),2)","v":"010000"},{"$f":"UPPER(LEFT(MICASH!L993,96))","v":""}]
["C",288,"00",{"$f":"TEXT(MICASH!D994,\"0000000000\")","v":"0000000000"}," ",{"$f":"UPPER(MICASH!F994)","v":""},{"$f":"UPPER(MICASH!G994)","v":""}," ",{"$f":"TEXT(MICASH!I994,\"0000000000\")","v":"0000000000"},{"$f":"TEXT(MICASH!J994*100,\"0000000000\")","v":"0000000000"},{"$f":"TEXT(MONTH(MICASH!K994),\"00\") & TEXT(DAY(MICASH!K994),\"00\") & RIGHT(TEXT(YEAR(MICASH!K994),\"00\"),2)","v":"010000"},{"$f":"UPPER(LEFT(MICASH!L994,96))","v":""}]
["C",288,"00",{"$f":"TEXT(MICASH!D995,\"0000000000\")","v":"0000000000"}," ",{"$f":"UPPER(MICASH!F995)","v":""},{"$f":"UPPER(MICASH!G995)","v":""}," ",{"$f":"TEXT(MICASH!I995,\"0000000000\")","v":"0000000000"},{"$f":"TEXT(MICASH!J995*100,\"0000000000\")","v":"0000000000"},{"$f":"TEXT(MONTH(MICASH!K995),\"00\") & TEXT(DAY(MICASH!K995),\"00\") & RIGHT(TEXT(YEAR(MICASH!K995),\"00\"),2)","v":"010000"},{"$f":"UPPER(LEFT(MICASH!L995,96))","v":""}]
["C",288,"00",{"$f":"TEXT(MICASH!D996,\"0000000000\")","v":"0000000000"}," ",{"$f":"UPPER(MICASH!F996)","v":""},{"$f":"UPPER(MICASH!G996)","v":""}," ",{"$f":"TEXT(MICASH!I996,\"0000000000\")","v":"0000000000"},{"$f":"TEXT(MICASH!J996*100,\"0000000000\")","v":"0000000000"},{"$f":"TEXT(MONTH(MICASH!K996),\"00\") & TEXT(DAY(MICASH!K996),\"00\") & RIGHT(TEXT(YEAR(MICASH!K996),\"00\"),2)","v":"010000"},{"$f":"UPPER(LEFT(MICASH!L996,96))","v":""}]
["C",288,"00",{"$f":"TEXT(MICASH!D997,\"0000000000\")","v":"0000000000"}," ",{"$f":"UPPER(MICASH!F997)","v":""},{"$f":"UPPER(MICASH!G997)","v":""}," ",{"$f":"TEXT(MICASH!I997,\"0000000000\")","v":"0000000000"},{"$f":"TEXT(MICASH!J997*100,\"0000000000\")","v":"0000000000"},{"$f":"TEXT(MONTH(MICASH!K997),\"00\") & TEXT(DAY(MICASH!K997),\"00\") & RIGHT(TEXT(YEAR(MICASH!K997),\"00\"),2)","v":"010000"},{"$f":"UPPER(LEFT(MICASH!L997,96))","v":""}]
["C",288,"00",{"$f":"TEXT(MICASH!D998,\"0000000000\")","v":"0000000000"}," ",{"$f":"UPPER(MICASH!F998)","v":""},{"$f":"UPPER(MICASH!G998)","v":""}," ",{"$f":"TEXT(MICASH!I998,\"0000000000\")","v":"0000000000"},{"$f":"TEXT(MICASH!J998*100,\"0000000000\")","v":"0000000000"},{"$f":"TEXT(MONTH(MICASH!K998),\"00\") & TEXT(DAY(MICASH!K998),\"00\") & RIGHT(TEXT(YEAR(MICASH!K998),\"00\"),2)","v":"010000"},{"$f":"UPPER(LEFT(MICASH!L998,96))","v":""}]
["C",288,"00",{"$f":"TEXT(MICASH!D999,\"0000000000\")","v":"0000000000"}," ",{"$f":"UPPER(MICASH!F999)","v":""},{"$f":"UPPER(MICASH!G999)","v":""}," ",{"$f":"TEXT(MICASH!I999,\"0000000000\")","v":"0000000000"},{"$f":"TEXT(MICASH!J999*100,\"0000000000\")","v":"0000000000"},{"$f":"TEXT(MONTH(MICASH!K999),\"00\") & TEXT(DAY(MICASH!K999),\"00\") & RIGHT(TEXT(YEAR(MICASH!K999),\"00\"),2)","v":"010000"},{"$f":"UPPER(LEFT(MICASH!L999,96))","v":""}]
["C",288,"00",{"$f":"TEXT(MICASH!D1000,\"0000000000\")","v":"0000000000"}," ",{"$f":"UPPER(MICASH!F1000)","v":""},{"$f":"UPPER(MICASH!G1000)","v":""}," ",{"$f":"TEXT(MICASH!I1000,\"0000000000\")","v":"0000000000"},{"$f":"TEXT(MICASH!J1000*100,\"0000000000\")","v":"0000000000"},{"$f":"TEXT(MONTH(MICASH!K1000),\"00\") & TEXT(DAY(MICASH!K1000),\"00\") & RIGHT(TEXT(YEAR(MICASH!K1000),\"00\"),2)","v":"010000"},{"$f":"UPPER(LEFT(MICASH!L1000,96))","v":""}]
["C",288,"00",{"$f":"TEXT(MICASH!D1001,\"0000000000\")","v":"0000000000"}," ",{"$f":"UPPER(MICASH!F1001)","v":""},{"$f":"UPPER(MICASH!G1001)","v":""}," ",{"$f":"TEXT(MICASH!I1001,\"0000000000\")","v":"0000000000"},{"$f":"TEXT(MICASH!J1001*100,\"0000000000\")","v":"0000000000"},{"$f":"TEXT(MONTH(MICASH!K1001),\"00\") & TEXT(DAY(MICASH!K1001),\"00\") & RIGHT(TEXT(YEAR(MICASH!K1001),\"00\"),2)","v":"010000"},{"$f":"UPPER(LEFT(MICASH!L1001,96))","v":""}]
["C",288,"00",{"$f":"TEXT(MICASH!D1002,\"0000000000\")","v":"0000000000"}," ",{"$f":"UPPER(MICASH!F1002)","v":""},{"$f":"UPPER(MICASH!G1002)","v":""}," ",{"$f":"TEXT(MICASH!I1002,\"0000000000\")","v":"0000000000"},{"$f":"TEXT(MICASH!J1002*100,\"0000000000\")","v":"0000000000"},{"$f":"TEXT(MONTH(MICASH!K1002),\"00\") & TEXT(DAY(MICASH!K1002),\"00\") & RIGHT(TEXT(YEAR(MICASH!K1002),\"00\"),2)","v":"010000"},{"$f":"UPPER(LEFT(MICASH!L1002,96))","v":""}]
["C",288,"00",{"$f":"TEXT(MICASH!D1003,\"0000000000\")","v":"0000000000"}," ",{"$f":"UPPER(MICASH!F1003)","v":""},{"$f":"UPPER(MICASH!G1003)","v":""}," ",{"$f":"TEXT(MICASH!I1003,\"0000000000\")","v":"0000000000"},{"$f":"TEXT(MICASH!J1003*100,\"0000000000\")","v":"0000000000"},{"$f":"TEXT(MONTH(MICASH!K1003),\"00\") & TEXT(DAY(MICASH!K1003),\"00\") & RIGHT(TEXT(YEAR(MICASH!K1003),\"00\"),2)","v":"010000"},{"$f":"UPPER(LEFT(MICASH!L1003,96))","v":""}]
["C",288,"00",{"$f":"TEXT(MICASH!D1004,\"0000000000\")","v":"0000000000"}," ",{"$f":"UPPER(MICASH!F1004)","v":""},{"$f":"UPPER(MICASH!G1004)","v":""}," ",{"$f":"TEXT(MICASH!I1004,\"0000000000\")","v":"0000000000"},{"$f":"TEXT(MICASH!J1004*100,\"0000000000\")","v":"0000000000"},{"$f":"TEXT(MONTH(MICASH!K1004),\"00\") & TEXT(DAY(MICASH!K1004),\"00\") & RIGHT(TEXT(YEAR(MICASH!K1004),\"00\"),2)","v":"010000"},{"$f":"UPPER(LEFT(MICASH!L1004,96))","v":""}]
["C",288,"00",{"$f":"TEXT(MICASH!D1005,\"0000000000\")","v":"0000000000"}," ",{"$f":"UPPER(MICASH!F1005)","v":""},{"$f":"UPPER(MICASH!G1005)","v":""}," ",{"$f":"TEXT(MICASH!I1005,\"0000000000\")","v":"0000000000"},{"$f":"TEXT(MICASH!J1005*100,\"0000000000\")","v":"0000000000"},{"$f":"TEXT(MONTH(MICASH!K1005),\"00\") & TEXT(DAY(MICASH!K1005),\"00\") & RIGHT(TEXT(YEAR(MICASH!K1005),\"00\"),2)","v":"010000"},{"$f":"UPPER(LEFT(MICASH!L1005,96))","v":""}]
["C",288,"00",{"$f":"TEXT(MICASH!D1006,\"0000000000\")","v":"0000000000"}," ",{"$f":"UPPER(MICASH!F1006)","v":""},{"$f":"UPPER(MICASH!G1006)","v":""}," ",{"$f":"TEXT(MICASH!I1006,\"0000000000\")","v":"0000000000"},{"$f":"TEXT(MICASH!J1006*100,\"0000000000\")","v":"0000000000"},{"$f":"TEXT(MONTH(MICASH!K1006),\"00\") & TEXT(DAY(MICASH!K1006),\"00\") & RIGHT(TEXT(YEAR(MICASH!K1006),\"00\"),2)","v":"010000"},{"$f":"UPPER(LEFT(MICASH!L1006,96))","v":""}]
["C",288,"00",{"$f":"TEXT(MICASH!D1007,\"0000000000\")","v":"0000000000"}," ",{"$f":"UPPER(MICASH!F1007)","v":""},{"$f":"UPPER(MICASH!G1007)","v":""}," ",{"$f":"TEXT(MICASH!I1007,\"0000000000\")","v":"0000000000"},{"$f":"TEXT(MICASH!J1007*100,\"0000000000\")","v":"0000000000"},{"$f":"TEXT(MONTH(MICASH!K1007),\"00\") & TEXT(DAY(MICASH!K1007),\"00\") & RIGHT(TEXT(YEAR(MICASH!K1007),\"00\"),2)","v":"010000"},{"$f":"UPPER(LEFT(MICASH!L1007,96))","v":""}]
["C",288,"00",{"$f":"TEXT(MICASH!D1008,\"0000000000\")","v":"0000000000"}," ",{"$f":"UPPER(MICASH!F1008)","v":""},{"$f":"UPPER(MICASH!G1008)","v":""}," ",{"$f":"TEXT(MICASH!I1008,\"0000000000\")","v":"0000000000"},{"$f":"TEXT(MICASH!J1008*100,\"0000000000\")","v":"0000000000"},{"$f":"TEXT(MONTH(MICASH!K1008),\"00\") & TEXT(DAY(MICASH!K1008),\"00\") & RIGHT(TEXT(YEAR(MICASH!K1008),\"00\"),2)","v":"010000"},{"$f":"UPPER(LEFT(MICASH!L1008,96))","v":""}]
["C",288,"00",{"$f":"TEXT(MICASH!D1009,\"0000000000\")","v":"0000000000"}," ",{"$f":"UPPER(MICASH!F1009)","v":""},{"$f":"UPPER(MICASH!G1009)","v":""}," ",{"$f":"TEXT(MICASH!I1009,\"0000000000\")","v":"0000000000"},{"$f":"TEXT(MICASH!J1009*100,\"0000000000\")","v":"0000000000"},{"$f":"TEXT(MONTH(MICASH!K1009),\"00\") & TEXT(DAY(MICASH!K1009),\"00\") & RIGHT(TEXT(YEAR(MICASH!K1009),\"00\"),2)","v":"010000"},{"$f":"UPPER(LEFT(MICASH!L1009,96))","v":""}]
["C",288,"00",{"$f":"TEXT(MICASH!D1010,\"0000000000\")","v":"0000000000"}," ",{"$f":"UPPER(MICASH!F1010)","v":""},{"$f":"UPPER(MICASH!G1010)","v":""}," ",{"$f":"TEXT(MICASH!I1010,\"0000000000\")","v":"0000000000"},{"$f":"TEXT(MICASH!J1010*100,\"0000000000\")","v":"0000000000"},{"$f":"TEXT(MONTH(MICASH!K1010),\"00\") & TEXT(DAY(MICASH!K1010),\"00\") & RIGHT(TEXT(YEAR(MICASH!K1010),\"00\"),2)","v":"010000"},{"$f":"UPPER(LEFT(MICASH!L1010,96))","v":""}]
["C",288,"00",{"$f":"TEXT(MICASH!D1011,\"0000000000\")","v":"0000000000"}," ",{"$f":"UPPER(MICASH!F1011)","v":""},{"$f":"UPPER(MICASH!G1011)","v":""}," ",{"$f":"TEXT(MICASH!I1011,\"0000000000\")","v":"0000000000"},{"$f":"TEXT(MICASH!J1011*100,\"0000000000\")","v":"0000000000"},{"$f":"TEXT(MONTH(MICASH!K1011),\"00\") & TEXT(DAY(MICASH!K1011),\"00\") & RIGHT(TEXT(YEAR(MICASH!K1011),\"00\"),2)","v":"010000"},{"$f":"UPPER(LEFT(MICASH!L1011,96))","v":""}]
["C",288,"00",{"$f":"TEXT(MICASH!D1012,\"0000000000\")","v":"0000000000"}," ",{"$f":"UPPER(MICASH!F1012)","v":""},{"$f":"UPPER(MICASH!G1012)","v":""}," ",{"$f":"TEXT(MICASH!I1012,\"0000000000\")","v":"0000000000"},{"$f":"TEXT(MICASH!J1012*100,\"0000000000\")","v":"0000000000"},{"$f":"TEXT(MONTH(MICASH!K1012),\"00\") & TEXT(DAY(MICASH!K1012),\"00\") & RIGHT(TEXT(YEAR(MICASH!K1012),\"00\"),2)","v":"010000"},{"$f":"UPPER(LEFT(MICASH!L1012,96))","v":""}]
["C",288,"00",{"$f":"TEXT(MICASH!D1013,\"0000000000\")","v":"0000000000"}," ",{"$f":"UPPER(MICASH!F1013)","v":""},{"$f":"UPPER(MICASH!G1013)","v":""}," ",{"$f":"TEXT(MICASH!I1013,\"0000000000\")","v":"0000000000"},{"$f":"TEXT(MICASH!J1013*100,\"0000000000\")","v":"0000000000"},{"$f":"TEXT(MONTH(MICASH!K1013),\"00\") & TEXT(DAY(MICASH!K1013),\"00\") & RIGHT(TEXT(YEAR(MICASH!K1013),\"00\"),2)","v":"010000"},{"$f":"UPPER(LEFT(MICASH!L1013,96))","v":""}]
["C",288,"00",{"$f":"TEXT(MICASH!D1014,\"0000000000\")","v":"0000000000"}," ",{"$f":"UPPER(MICASH!F1014)","v":""},{"$f":"UPPER(MICASH!G1014)","v":""}," ",{"$f":"TEXT(MICASH!I1014,\"0000000000\")","v":"0000000000"},{"$f":"TEXT(MICASH!J1014*100,\"0000000000\")","v":"0000000000"},{"$f":"TEXT(MONTH(MICASH!K1014),\"00\") & TEXT(DAY(MICASH!K1014),\"00\") & RIGHT(TEXT(YEAR(MICASH!K1014),\"00\"),2)","v":"010000"},{"$f":"UPPER(LEFT(MICASH!L1014,96))","v":""}]
["C",288,"00",{"$f":"TEXT(MICASH!D1015,\"0000000000\")","v":"0000000000"}," ",{"$f":"UPPER(MICASH!F1015)","v":""},{"$f":"UPPER(MICASH!G1015)","v":""}," ",{"$f":"TEXT(MICASH!I1015,\"0000000000\")","v":"0000000000"},{"$f":"TEXT(MICASH!J1015*100,\"0000000000\")","v":"0000000000"},{"$f":"TEXT(MONTH(MICASH!K1015),\"00\") & TEXT(DAY(MICASH!K1015),\"00\") & RIGHT(TEXT(YEAR(MICASH!K1015),\"00\"),2)","v":"010000"},{"$f":"UPPER(LEFT(MICASH!L1015,96))","v":""}]
["C",288,"00",{"$f":"TEXT(MICASH!D1016,\"0000000000\")","v":"0000000000"}," ",{"$f":"UPPER(MICASH!F1016)","v":""},{"$f":"UPPER(MICASH!G1016)","v":""}," ",{"$f":"TEXT(MICASH!I1016,\"0000000000\")","v":"0000000000"},{"$f":"TEXT(MICASH!J1016*100,\"0000000000\")","v":"0000000000"},{"$f":"TEXT(MONTH(MICASH!K1016),\"00\") & TEXT(DAY(MICASH!K1016),\"00\") & RIGHT(TEXT(YEAR(MICASH!K1016),\"00\"),2)","v":"010000"},{"$f":"UPPER(LEFT(MICASH!L1016,96))","v":""}]
["C",288,"00",{"$f":"TEXT(MICASH!D1017,\"0000000000\")","v":"0000000000"}," ",{"$f":"UPPER(MICASH!F1017)","v":""},{"$f":"UPPER(MICASH!G1017)","v":""}," ",{"$f":"TEXT(MICASH!I1017,\"0000000000\")","v":"0000000000"},{"$f":"TEXT(MICASH!J1017*100,\"0000000000\")","v":"0000000000"},{"$f":"TEXT(MONTH(MICASH!K1017),\"00\") & TEXT(DAY(MICASH!K1017),\"00\") & RIGHT(TEXT(YEAR(MICASH!K1017),\"00\"),2)","v":"010000"},{"$f":"UPPER(LEFT(MICASH!L1017,96))","v":""}]
["C",288,"00",{"$f":"TEXT(MICASH!D1018,\"0000000000\")","v":"0000000000"}," ",{"$f":"UPPER(MICASH!F1018)","v":""},{"$f":"UPPER(MICASH!G1018)","v":""}," ",{"$f":"TEXT(MICASH!I1018,\"0000000000\")","v":"0000000000"},{"$f":"TEXT(MICASH!J1018*100,\"0000000000\")","v":"0000000000"},{"$f":"TEXT(MONTH(MICASH!K1018),\"00\") & TEXT(DAY(MICASH!K1018),\"00\") & RIGHT(TEXT(YEAR(MICASH!K1018),\"00\"),2)","v":"010000"},{"$f":"UPPER(LEFT(MICASH!L1018,96))","v":""}]
["C",288,"00",{"$f":"TEXT(MICASH!D1019,\"0000000000\")","v":"0000000000"}," ",{"$f":"UPPER(MICASH!F1019)","v":""},{"$f":"UPPER(MICASH!G1019)","v":""}," ",{"$f":"TEXT(MICASH!I1019,\"0000000000\")","v":"0000000000"},{"$f":"TEXT(MICASH!J1019*100,\"0000000000\")","v":"0000000000"},{"$f":"TEXT(MONTH(MICASH!K1019),\"00\") & TEXT(DAY(MICASH!K1019),\"00\") & RIGHT(TEXT(YEAR(MICASH!K1019),\"00\"),2)","v":"010000"},{"$f":"UPPER(LEFT(MICASH!L1019,96))","v":""}]
["C",288,"00",{"$f":"TEXT(MICASH!D1020,\"0000000000\")","v":"0000000000"}," ",{"$f":"UPPER(MICASH!F1020)","v":""},{"$f":"UPPER(MICASH!G1020)","v":""}," ",{"$f":"TEXT(MICASH!I1020,\"0000000000\")","v":"0000000000"},{"$f":"TEXT(MICASH!J1020*100,\"0000000000\")","v":"0000000000"},{"$f":"TEXT(MONTH(MICASH!K1020),\"00\") & TEXT(DAY(MICASH!K1020),\"00\") & RIGHT(TEXT(YEAR(MICASH!K1020),\"00\"),2)","v":"010000"},{"$f":"UPPER(LEFT(MICASH!L1020,96))","v":""}]
["C",288,"00",{"$f":"TEXT(MICASH!D1021,\"0000000000\")","v":"0000000000"}," ",{"$f":"UPPER(MICASH!F1021)","v":""},{"$f":"UPPER(MICASH!G1021)","v":""}," ",{"$f":"TEXT(MICASH!I1021,\"0000000000\")","v":"0000000000"},{"$f":"TEXT(MICASH!J1021*100,\"0000000000\")","v":"0000000000"},{"$f":"TEXT(MONTH(MICASH!K1021),\"00\") & TEXT(DAY(MICASH!K1021),\"00\") & RIGHT(TEXT(YEAR(MICASH!K1021),\"00\"),2)","v":"010000"},{"$f":"UPPER(LEFT(MICASH!L1021,96))","v":""}]
["C",288,"00",{"$f":"TEXT(MICASH!D1022,\"0000000000\")","v":"0000000000"}," ",{"$f":"UPPER(MICASH!F1022)","v":""},{"$f":"UPPER(MICASH!G1022)","v":""}," ",{"$f":"TEXT(MICASH!I1022,\"0000000000\")","v":"0000000000"},{"$f":"TEXT(MICASH!J1022*100,\"0000000000\")","v":"0000000000"},{"$f":"TEXT(MONTH(MICASH!K1022),\"00\") & TEXT(DAY(MICASH!K1022),\"00\") & RIGHT(TEXT(YEAR(MICASH!K1022),\"00\"),2)","v":"010000"},{"$f":"UPPER(LEFT(MICASH!L1022,96))","v":""}]
["C",288,"00",{"$f":"TEXT(MICASH!D1023,\"0000000000\")","v":"0000000000"}," ",{"$f":"UPPER(MICASH!F1023)","v":""},{"$f":"UPPER(MICASH!G1023)","v":""}," ",{"$f":"TEXT(MICASH!I1023,\"0000000000\")","v":"0000000000"},{"$f":"TEXT(MICASH!J1023*100,\"0000000000\")","v":"0000000000"},{"$f":"TEXT(MONTH(MICASH!K1023),\"00\") & TEXT(DAY(MICASH!K1023),\"00\") & RIGHT(TEXT(YEAR(MICASH!K1023),\"00\"),2)","v":"010000"},{"$f":"UPPER(LEFT(MICASH!L1023,96))","v":""}]
["C",288,"00",{"$f":"TEXT(MICASH!D1024,\"0000000000\")","v":"0000000000"}," ",{"$f":"UPPER(MICASH!F1024)","v":""},{"$f":"UPPER(MICASH!G1024)","v":""}," ",{"$f":"TEXT(MICASH!I1024,\"0000000000\")","v":"0000000000"},{"$f":"TEXT(MICASH!J1024*100,\"0000000000\")","v":"0000000000"},{"$f":"TEXT(MONTH(MICASH!K1024),\"00\") & TEXT(DAY(MICASH!K1024),\"00\") & RIGHT(TEXT(YEAR(MICASH!K1024),\"00\"),2)","v":"010000"},{"$f":"UPPER(LEFT(MICASH!L1024,96))","v":""}]
["C",288,"00",{"$f":"TEXT(MICASH!D1025,\"0000000000\")","v":"0000000000"}," ",{"$f":"UPPER(MICASH!F1025)","v":""},{"$f":"UPPER(MICASH!G1025)","v":""}," ",{"$f":"TEXT(MICASH!I1025,\"0000000000\")","v":"0000000000"},{"$f":"TEXT(MICASH!J1025*100,\"0000000000\")","v":"0000000000"},{"$f":"TEXT(MONTH(MICASH!K1025),\"00\") & TEXT(DAY(MICASH!K1025),\"00\") & RIGHT(TEXT(YEAR(MICASH!K1025),\"00\"),2)","v":"010000"},{"$f":"UPPER(LEFT(MICASH!L1025,96))","v":""}]
["C",288,"00",{"$f":"TEXT(MICASH!D1026,\"0000000000\")","v":"0000000000"}," ",{"$f":"UPPER(MICASH!F1026)","v":""},{"$f":"UPPER(MICASH!G1026)","v":""}," ",{"$f":"TEXT(MICASH!I1026,\"0000000000\")","v":"0000000000"},{"$f":"TEXT(MICASH!J1026*100,\"0000000000\")","v":"0000000000"},{"$f":"TEXT(MONTH(MICASH!K1026),\"00\") & TEXT(DAY(MICASH!K1026),\"00\") & RIGHT(TEXT(YEAR(MICASH!K1026),\"00\"),2)","v":"010000"},{"$f":"UPPER(LEFT(MICASH!L1026,96))","v":""}]
["C",288,"00",{"$f":"TEXT(MICASH!D1027,\"0000000000\")","v":"0000000000"}," ",{"$f":"UPPER(MICASH!F1027)","v":""},{"$f":"UPPER(MICASH!G1027)","v":""}," ",{"$f":"TEXT(MICASH!I1027,\"0000000000\")","v":"0000000000"},{"$f":"TEXT(MICASH!J1027*100,\"0000000000\")","v":"0000000000"},{"$f":"TEXT(MONTH(MICASH!K1027),\"00\") & TEXT(DAY(MICASH!K1027),\"00\") & RIGHT(TEXT(YEAR(MICASH!K1027),\"00\"),2)","v":"010000"},{"$f":"UPPER(LEFT(MICASH!L1027,96))","v":""}]
["C",288,"00",{"$f":"TEXT(MICASH!D1028,\"0000000000\")","v":"0000000000"}," ",{"$f":"UPPER(MICASH!F1028)","v":""},{"$f":"UPPER(MICASH!G1028)","v":""}," ",{"$f":"TEXT(MICASH!I1028,\"0000000000\")","v":"0000000000"},{"$f":"TEXT(MICASH!J1028*100,\"0000000000\")","v":"0000000000"},{"$f":"TEXT(MONTH(MICASH!K1028),\"00\") & TEXT(DAY(MICASH!K1028),\"00\") & RIGHT(TEXT(YEAR(MICASH!K1028),\"00\"),2)","v":"010000"},{"$f":"UPPER(LEFT(MICASH!L1028,96))","v":""}]
["C",288,"00",{"$f":"TEXT(MICASH!D1029,\"0000000000\")","v":"0000000000"}," ",{"$f":"UPPER(MICASH!F1029)","v":""},{"$f":"UPPER(MICASH!G1029)","v":""}," ",{"$f":"TEXT(MICASH!I1029,\"0000000000\")","v":"0000000000"},{"$f":"TEXT(MICASH!J1029*100,\"0000000000\")","v":"0000000000"},{"$f":"TEXT(MONTH(MICASH!K1029),\"00\") & TEXT(DAY(MICASH!K1029),\"00\") & RIGHT(TEXT(YEAR(MICASH!K1029),\"00\"),2)","v":"010000"},{"$f":"UPPER(LEFT(MICASH!L1029,96))","v":""}]
["C",288,"00",{"$f":"TEXT(MICASH!D1030,\"0000000000\")","v":"0000000000"}," ",{"$f":"UPPER(MICASH!F1030)","v":""},{"$f":"UPPER(MICASH!G1030)","v":""}," ",{"$f":"TEXT(MICASH!I1030,\"0000000000\")","v":"0000000000"},{"$f":"TEXT(MICASH!J1030*100,\"0000000000\")","v":"0000000000"},{"$f":"TEXT(MONTH(MICASH!K1030),\"00\") & TEXT(DAY(MICASH!K1030),\"00\") & RIGHT(TEXT(YEAR(MICASH!K1030),\"00\"),2)","v":"010000"},{"$f":"UPPER(LEFT(MICASH!L1030,96))","v":""}]
["C",288,"00",{"$f":"TEXT(MICASH!D1031,\"0000000000\")","v":"0000000000"}," ",{"$f":"UPPER(MICASH!F1031)","v":""},{"$f":"UPPER(MICASH!G1031)","v":""}," ",{"$f":"TEXT(MICASH!I1031,\"0000000000\")","v":"0000000000"},{"$f":"TEXT(MICASH!J1031*100,\"0000000000\")","v":"0000000000"},{"$f":"TEXT(MONTH(MICASH!K1031),\"00\") & TEXT(DAY(MICASH!K1031),\"00\") & RIGHT(TEXT(YEAR(MICASH!K1031),\"00\"),2)","v":"010000"},{"$f":"UPPER(LEFT(MICASH!L1031,96))","v":""}]
["C",288,"00",{"$f":"TEXT(MICASH!D1032,\"0000000000\")","v":"0000000000"}," ",{"$f":"UPPER(MICASH!F1032)","v":""},{"$f":"UPPER(MICASH!G1032)","v":""}," ",{"$f":"TEXT(MICASH!I1032,\"0000000000\")","v":"0000000000"},{"$f":"TEXT(MICASH!J1032*100,\"0000000000\")","v":"0000000000"},{"$f":"TEXT(MONTH(MICASH!K1032),\"00\") & TEXT(DAY(MICASH!K1032),\"00\") & RIGHT(TEXT(YEAR(MICASH!K1032),\"00\"),2)","v":"010000"},{"$f":"UPPER(LEFT(MICASH!L1032,96))","v":""}]
["C",288,"00",{"$f":"TEXT(MICASH!D1033,\"0000000000\")","v":"0000000000"}," ",{"$f":"UPPER(MICASH!F1033)","v":""},{"$f":"UPPER(MICASH!G1033)","v":""}," ",{"$f":"TEXT(MICASH!I1033,\"0000000000\")","v":"0000000000"},{"$f":"TEXT(MICASH!J1033*100,\"0000000000\")","v":"0000000000"},{"$f":"TEXT(MONTH(MICASH!K1033),\"00\") & TEXT(DAY(MICASH!K1033),\"00\") & RIGHT(TEXT(YEAR(MICASH!K1033),\"00\"),2)","v":"010000"},{"$f":"UPPER(LEFT(MICASH!L1033,96))","v":""}]
["C",288,"00",{"$f":"TEXT(MICASH!D1034,\"0000000000\")","v":"0000000000"}," ",{"$f":"UPPER(MICASH!F1034)","v":""},{"$f":"UPPER(MICASH!G1034)","v":""}," ",{"$f":"TEXT(MICASH!I1034,\"0000000000\")","v":"0000000000"},{"$f":"TEXT(MICASH!J1034*100,\"0000000000\")","v":"0000000000"},{"$f":"TEXT(MONTH(MICASH!K1034),\"00\") & TEXT(DAY(MICASH!K1034),\"00\") & RIGHT(TEXT(YEAR(MICASH!K1034),\"00\"),2)","v":"010000"},{"$f":"UPPER(LEFT(MICASH!L1034,96))","v":""}]
["C",288,"00",{"$f":"TEXT(MICASH!D1035,\"0000000000\")","v":"0000000000"}," ",{"$f":"UPPER(MICASH!F1035)","v":""},{"$f":"UPPER(MICASH!G1035)","v":""}," ",{"$f":"TEXT(MICASH!I1035,\"0000000000\")","v":"0000000000"},{"$f":"TEXT(MICASH!J1035*100,\"0000000000\")","v":"0000000000"},{"$f":"TEXT(MONTH(MICASH!K1035),\"00\") & TEXT(DAY(MICASH!K1035),\"00\") & RIGHT(TEXT(YEAR(MICASH!K1035),\"00\"),2)","v":"010000"},{"$f":"UPPER(LEFT(MICASH!L1035,96))","v":""}]
["C",288,"00",{"$f":"TEXT(MICASH!D1036,\"0000000000\")","v":"0000000000"}," ",{"$f":"UPPER(MICASH!F1036)","v":""},{"$f":"UPPER(MICASH!G1036)","v":""}," ",{"$f":"TEXT(MICASH!I1036,\"0000000000\")","v":"0000000000"},{"$f":"TEXT(MICASH!J1036*100,\"0000000000\")","v":"0000000000"},{"$f":"TEXT(MONTH(MICASH!K1036),\"00\") & TEXT(DAY(MICASH!K1036),\"00\") & RIGHT(TEXT(YEAR(MICASH!K1036),\"00\"),2)","v":"010000"},{"$f":"UPPER(LEFT(MICASH!L1036,96))","v":""}]
["C",288,"00",{"$f":"TEXT(MICASH!D1037,\"0000000000\")","v":"0000000000"}," ",{"$f":"UPPER(MICASH!F1037)","v":""},{"$f":"UPPER(MICASH!G1037)","v":""}," ",{"$f":"TEXT(MICASH!I1037,\"0000000000\")","v":"0000000000"},{"$f":"TEXT(MICASH!J1037*100,\"0000000000\")","v":"0000000000"},{"$f":"TEXT(MONTH(MICASH!K1037),\"00\") & TEXT(DAY(MICASH!K1037),\"00\") & RIGHT(TEXT(YEAR(MICASH!K1037),\"00\"),2)","v":"010000"},{"$f":"UPPER(LEFT(MICASH!L1037,96))","v":""}]
["C",288,"00",{"$f":"TEXT(MICASH!D1038,\"0000000000\")","v":"0000000000"}," ",{"$f":"UPPER(MICASH!F1038)","v":""},{"$f":"UPPER(MICASH!G1038)","v":""}," ",{"$f":"TEXT(MICASH!I1038,\"0000000000\")","v":"0000000000"},{"$f":"TEXT(MICASH!J1038*100,\"0000000000\")","v":"0000000000"},{"$f":"TEXT(MONTH(MICASH!K1038),\"00\") & TEXT(DAY(MICASH!K1038),\"00\") & RIGHT(TEXT(YEAR(MICASH!K1038),\"00\"),2)","v":"010000"},{"$f":"UPPER(LEFT(MICASH!L1038,96))","v":""}]
["C",288,"00",{"$f":"TEXT(MICASH!D1039,\"0000000000\")","v":"0000000000"}," ",{"$f":"UPPER(MICASH!F1039)","v":""},{"$f":"UPPER(MICASH!G1039)","v":""}," ",{"$f":"TEXT(MICASH!I1039,\"0000000000\")","v":"0000000000"},{"$f":"TEXT(MICASH!J1039*100,\"0000000000\")","v":"0000000000"},{"$f":"TEXT(MONTH(MICASH!K1039),\"00\") & TEXT(DAY(MICASH!K1039),\"00\") & RIGHT(TEXT(YEAR(MICASH!K1039),\"00\"),2)","v":"010000"},{"$f":"UPPER(LEFT(MICASH!L1039,96))","v":""}]
["C",288,"00",{"$f":"TEXT(MICASH!D1040,\"0000000000\")","v":"0000000000"}," ",{"$f":"UPPER(MICASH!F1040)","v":""},{"$f":"UPPER(MICASH!G1040)","v":""}," ",{"$f":"TEXT(MICASH!I1040,\"0000000000\")","v":"0000000000"},{"$f":"TEXT(MICASH!J1040*100,\"0000000000\")","v":"0000000000"},{"$f":"TEXT(MONTH(MICASH!K1040),\"00\") & TEXT(DAY(MICASH!K1040),\"00\") & RIGHT(TEXT(YEAR(MICASH!K1040),\"00\"),2)","v":"010000"},{"$f":"UPPER(LEFT(MICASH!L1040,96))","v":""}]
["C",288,"00",{"$f":"TEXT(MICASH!D1041,\"0000000000\")","v":"0000000000"}," ",{"$f":"UPPER(MICASH!F1041)","v":""},{"$f":"UPPER(MICASH!G1041)","v":""}," ",{"$f":"TEXT(MICASH!I1041,\"0000000000\")","v":"0000000000"},{"$f":"TEXT(MICASH!J1041*100,\"0000000000\")","v":"0000000000"},{"$f":"TEXT(MONTH(MICASH!K1041),\"00\") & TEXT(DAY(MICASH!K1041),\"00\") & RIGHT(TEXT(YEAR(MICASH!K1041),\"00\"),2)","v":"010000"},{"$f":"UPPER(LEFT(MICASH!L1041,96))","v":""}]
["C",288,"00",{"$f":"TEXT(MICASH!D1042,\"0000000000\")","v":"0000000000"}," ",{"$f":"UPPER(MICASH!F1042)","v":""},{"$f":"UPPER(MICASH!G1042)","v":""}," ",{"$f":"TEXT(MICASH!I1042,\"0000000000\")","v":"0000000000"},{"$f":"TEXT(MICASH!J1042*100,\"0000000000\")","v":"0000000000"},{"$f":"TEXT(MONTH(MICASH!K1042),\"00\") & TEXT(DAY(MICASH!K1042),\"00\") & RIGHT(TEXT(YEAR(MICASH!K1042),\"00\"),2)","v":"010000"},{"$f":"UPPER(LEFT(MICASH!L1042,96))","v":""}]
["C",288,"00",{"$f":"TEXT(MICASH!D1043,\"0000000000\")","v":"0000000000"}," ",{"$f":"UPPER(MICASH!F1043)","v":""},{"$f":"UPPER(MICASH!G1043)","v":""}," ",{"$f":"TEXT(MICASH!I1043,\"0000000000\")","v":"0000000000"},{"$f":"TEXT(MICASH!J1043*100,\"0000000000\")","v":"0000000000"},{"$f":"TEXT(MONTH(MICASH!K1043),\"00\") & TEXT(DAY(MICASH!K1043),\"00\") & RIGHT(TEXT(YEAR(MICASH!K1043),\"00\"),2)","v":"010000"},{"$f":"UPPER(LEFT(MICASH!L1043,96))","v":""}]
["C",288,"00",{"$f":"TEXT(MICASH!D1044,\"0000000000\")","v":"0000000000"}," ",{"$f":"UPPER(MICASH!F1044)","v":""},{"$f":"UPPER(MICASH!G1044)","v":""}," ",{"$f":"TEXT(MICASH!I1044,\"0000000000\")","v":"0000000000"},{"$f":"TEXT(MICASH!J1044*100,\"0000000000\")","v":"0000000000"},{"$f":"TEXT(MONTH(MICASH!K1044),\"00\") & TEXT(DAY(MICASH!K1044),\"00\") & RIGHT(TEXT(YEAR(MICASH!K1044),\"00\"),2)","v":"010000"},{"$f":"UPPER(LEFT(MICASH!L1044,96))","v":""}]
["C",288,"00",{"$f":"TEXT(MICASH!D1045,\"0000000000\")","v":"0000000000"}," ",{"$f":"UPPER(MICASH!F1045)","v":""},{"$f":"UPPER(MICASH!G1045)","v":""}," ",{"$f":"TEXT(MICASH!I1045,\"0000000000\")","v":"0000000000"},{"$f":"TEXT(MICASH!J1045*100,\"0000000000\")","v":"0000000000"},{"$f":"TEXT(MONTH(MICASH!K1045),\"00\") & TEXT(DAY(MICASH!K1045),\"00\") & RIGHT(TEXT(YEAR(MICASH!K1045),\"00\"),2)","v":"010000"},{"$f":"UPPER(LEFT(MICASH!L1045,96))","v":""}]
["C",288,"00",{"$f":"TEXT(MICASH!D1046,\"0000000000\")","v":"0000000000"}," ",{"$f":"UPPER(MICASH!F1046)","v":""},{"$f":"UPPER(MICASH!G1046)","v":""}," ",{"$f":"TEXT(MICASH!I1046,\"0000000000\")","v":"0000000000"},{"$f":"TEXT(MICASH!J1046*100,\"0000000000\")","v":"0000000000"},{"$f":"TEXT(MONTH(MICASH!K1046),\"00\") & TEXT(DAY(MICASH!K1046),\"00\") & RIGHT(TEXT(YEAR(MICASH!K1046),\"00\"),2)","v":"010000"},{"$f":"UPPER(LEFT(MICASH!L1046,96))","v":""}]
["C",288,"00",{"$f":"TEXT(MICASH!D1047,\"0000000000\")","v":"0000000000"}," ",{"$f":"UPPER(MICASH!F1047)","v":""},{"$f":"UPPER(MICASH!G1047)","v":""}," ",{"$f":"TEXT(MICASH!I1047,\"0000000000\")","v":"0000000000"},{"$f":"TEXT(MICASH!J1047*100,\"0000000000\")","v":"0000000000"},{"$f":"TEXT(MONTH(MICASH!K1047),\"00\") & TEXT(DAY(MICASH!K1047),\"00\") & RIGHT(TEXT(YEAR(MICASH!K1047),\"00\"),2)","v":"010000"},{"$f":"UPPER(LEFT(MICASH!L1047,96))","v":""}]
["C",288,"00",{"$f":"TEXT(MICASH!D1048,\"0000000000\")","v":"0000000000"}," ",{"$f":"UPPER(MICASH!F1048)","v":""},{"$f":"UPPER(MICASH!G1048)","v":""}," ",{"$f":"TEXT(MICASH!I1048,\"0000000000\")","v":"0000000000"},{"$f":"TEXT(MICASH!J1048*100,\"0000000000\")","v":"0000000000"},{"$f":"TEXT(MONTH(MICASH!K1048),\"00\") & TEXT(DAY(MICASH!K1048),\"00\") & RIGHT(TEXT(YEAR(MICASH!K1048),\"00\"),2)","v":"010000"},{"$f":"UPPER(LEFT(MICASH!L1048,96))","v":""}]
["C",288,"00",{"$f":"TEXT(MICASH!D1049,\"0000000000\")","v":"0000000000"}," ",{"$f":"UPPER(MICASH!F1049)","v":""},{"$f":"UPPER(MICASH!G1049)","v":""}," ",{"$f":"TEXT(MICASH!I1049,\"0000000000\")","v":"0000000000"},{"$f":"TEXT(MICASH!J1049*100,\"0000000000\")","v":"0000000000"},{"$f":"TEXT(MONTH(MICASH!K1049),\"00\") & TEXT(DAY(MICASH!K1049),\"00\") & RIGHT(TEXT(YEAR(MICASH!K1049),\"00\"),2)","v":"010000"},{"$f":"UPPER(LEFT(MICASH!L1049,96))","v":""}]
["C",288,"00",{"$f":"TEXT(MICASH!D1050,\"0000000000\")","v":"0000000000"}," ",{"$f":"UPPER(MICASH!F1050)","v":""},{"$f":"UPPER(MICASH!G1050)","v":""}," ",{"$f":"TEXT(MICASH!I1050,\"0000000000\")","v":"0000000000"},{"$f":"TEXT(MICASH!J1050*100,\"0000000000\")","v":"0000000000"},{"$f":"TEXT(MONTH(MICASH!K1050),\"00\") & TEXT(DAY(MICASH!K1050),\"00\") & RIGHT(TEXT(YEAR(MICASH!K1050),\"00\"),2)","v":"010000"},{"$f":"UPPER(LEFT(MICASH!L1050,96))","v":""}]
["C",288,"00",{"$f":"TEXT(MICASH!D1051,\"0000000000\")","v":"0000000000"}," ",{"$f":"UPPER(MICASH!F1051)","v":""},{"$f":"UPPER(MICASH!G1051)","v":""}," ",{"$f":"TEXT(MICASH!I1051,\"0000000000\")","v":"0000000000"},{"$f":"TEXT(MICASH!J1051*100,\"0000000000\")","v":"0000000000"},{"$f":"TEXT(MONTH(MICASH!K1051),\"00\") & TEXT(DAY(MICASH!K1051),\"00\") & RIGHT(TEXT(YEAR(MICASH!K1051),\"00\"),2)","v":"010000"},{"$f":"UPPER(LEFT(MICASH!L1051,96))","v":""}]
["C",288,"00",{"$f":"TEXT(MICASH!D1052,\"0000000000\")","v":"0000000000"}," ",{"$f":"UPPER(MICASH!F1052)","v":""},{"$f":"UPPER(MICASH!G1052)","v":""}," ",{"$f":"TEXT(MICASH!I1052,\"0000000000\")","v":"0000000000"},{"$f":"TEXT(MICASH!J1052*100,\"0000000000\")","v":"0000000000"},{"$f":"TEXT(MONTH(MICASH!K1052),\"00\") & TEXT(DAY(MICASH!K1052),\"00\") & RIGHT(TEXT(YEAR(MICASH!K1052),\"00\"),2)","v":"010000"},{"$f":"UPPER(LEFT(MICASH!L1052,96))","v":""}]
["C",288,"00",{"$f":"TEXT(MICASH!D1053,\"0000000000\")","v":"0000000000"}," ",{"$f":"UPPER(MICASH!F1053)","v":""},{"$f":"UPPER(MICASH!G1053)","v":""}," ",{"$f":"TEXT(MICASH!I1053,\"0000000000\")","v":"0000000000"},{"$f":"TEXT(MICASH!J1053*100,\"0000000000\")","v":"0000000000"},{"$f":"TEXT(MONTH(MICASH!K1053),\"00\") & TEXT(DAY(MICASH!K1053),\"00\") & RIGHT(TEXT(YEAR(MICASH!K1053),\"00\"),2)","v":"010000"},{"$f":"UPPER(LEFT(MICASH!L1053,96))","v":""}]
["C",288,"00",{"$f":"TEXT(MICASH!D1054,\"0000000000\")","v":"0000000000"}," ",{"$f":"UPPER(MICASH!F1054)","v":""},{"$f":"UPPER(MICASH!G1054)","v":""}," ",{"$f":"TEXT(MICASH!I1054,\"0000000000\")","v":"0000000000"},{"$f":"TEXT(MICASH!J1054*100,\"0000000000\")","v":"0000000000"},{"$f":"TEXT(MONTH(MICASH!K1054),\"00\") & TEXT(DAY(MICASH!K1054),\"00\") & RIGHT(TEXT(YEAR(MICASH!K1054),\"00\"),2)","v":"010000"},{"$f":"UPPER(LEFT(MICASH!L1054,96))","v":""}]
["C",288,"00",{"$f":"TEXT(MICASH!D1055,\"0000000000\")","v":"0000000000"}," ",{"$f":"UPPER(MICASH!F1055)","v":""},{"$f":"UPPER(MICASH!G1055)","v":""}," ",{"$f":"TEXT(MICASH!I1055,\"0000000000\")","v":"0000000000"},{"$f":"TEXT(MICASH!J1055*100,\"0000000000\")","v":"0000000000"},{"$f":"TEXT(MONTH(MICASH!K1055),\"00\") & TEXT(DAY(MICASH!K1055),\"00\") & RIGHT(TEXT(YEAR(MICASH!K1055),\"00\"),2)","v":"010000"},{"$f":"UPPER(LEFT(MICASH!L1055,96))","v":""}]
["C",288,"00",{"$f":"TEXT(MICASH!D1056,\"0000000000\")","v":"0000000000"}," ",{"$f":"UPPER(MICASH!F1056)","v":""},{"$f":"UPPER(MICASH!G1056)","v":""}," ",{"$f":"TEXT(MICASH!I1056,\"0000000000\")","v":"0000000000"},{"$f":"TEXT(MICASH!J1056*100,\"0000000000\")","v":"0000000000"},{"$f":"TEXT(MONTH(MICASH!K1056),\"00\") & TEXT(DAY(MICASH!K1056),\"00\") & RIGHT(TEXT(YEAR(MICASH!K1056),\"00\"),2)","v":"010000"},{"$f":"UPPER(LEFT(MICASH!L1056,96))","v":""}]
["C",288,"00",{"$f":"TEXT(MICASH!D1057,\"0000000000\")","v":"0000000000"}," ",{"$f":"UPPER(MICASH!F1057)","v":""},{"$f":"UPPER(MICASH!G1057)","v":""}," ",{"$f":"TEXT(MICASH!I1057,\"0000000000\")","v":"0000000000"},{"$f":"TEXT(MICASH!J1057*100,\"0000000000\")","v":"0000000000"},{"$f":"TEXT(MONTH(MICASH!K1057),\"00\") & TEXT(DAY(MICASH!K1057),\"00\") & RIGHT(TEXT(YEAR(MICASH!K1057),\"00\"),2)","v":"010000"},{"$f":"UPPER(LEFT(MICASH!L1057,96))","v":""}]
["C",288,"00",{"$f":"TEXT(MICASH!D1058,\"0000000000\")","v":"0000000000"}," ",{"$f":"UPPER(MICASH!F1058)","v":""},{"$f":"UPPER(MICASH!G1058)","v":""}," ",{"$f":"TEXT(MICASH!I1058,\"0000000000\")","v":"0000000000"},{"$f":"TEXT(MICASH!J1058*100,\"0000000000\")","v":"0000000000"},{"$f":"TEXT(MONTH(MICASH!K1058),\"00\") & TEXT(DAY(MICASH!K1058),\"00\") & RIGHT(TEXT(YEAR(MICASH!K1058),\"00\"),2)","v":"010000"},{"$f":"UPPER(LEFT(MICASH!L1058,96))","v":""}]
["C",288,"00",{"$f":"TEXT(MICASH!D1059,\"0000000000\")","v":"0000000000"}," ",{"$f":"UPPER(MICASH!F1059)","v":""},{"$f":"UPPER(MICASH!G1059)","v":""}," ",{"$f":"TEXT(MICASH!I1059,\"0000000000\")","v":"0000000000"},{"$f":"TEXT(MICASH!J1059*100,\"0000000000\")","v":"0000000000"},{"$f":"TEXT(MONTH(MICASH!K1059),\"00\") & TEXT(DAY(MICASH!K1059),\"00\") & RIGHT(TEXT(YEAR(MICASH!K1059),\"00\"),2)","v":"010000"},{"$f":"UPPER(LEFT(MICASH!L1059,96))","v":""}]
["C",288,"00",{"$f":"TEXT(MICASH!D1060,\"0000000000\")","v":"0000000000"}," ",{"$f":"UPPER(MICASH!F1060)","v":""},{"$f":"UPPER(MICASH!G1060)","v":""}," ",{"$f":"TEXT(MICASH!I1060,\"0000000000\")","v":"0000000000"},{"$f":"TEXT(MICASH!J1060*100,\"0000000000\")","v":"0000000000"},{"$f":"TEXT(MONTH(MICASH!K1060),\"00\") & TEXT(DAY(MICASH!K1060),\"00\") & RIGHT(TEXT(YEAR(MICASH!K1060),\"00\"),2)","v":"010000"},{"$f":"UPPER(LEFT(MICASH!L1060,96))","v":""}]
["C",288,"00",{"$f":"TEXT(MICASH!D1061,\"0000000000\")","v":"0000000000"}," ",{"$f":"UPPER(MICASH!F1061)","v":""},{"$f":"UPPER(MICASH!G1061)","v":""}," ",{"$f":"TEXT(MICASH!I1061,\"0000000000\")","v":"0000000000"},{"$f":"TEXT(MICASH!J1061*100,\"0000000000\")","v":"0000000000"},{"$f":"TEXT(MONTH(MICASH!K1061),\"00\") & TEXT(DAY(MICASH!K1061),\"00\") & RIGHT(TEXT(YEAR(MICASH!K1061),\"00\"),2)","v":"010000"},{"$f":"UPPER(LEFT(MICASH!L1061,96))","v":""}]
["C",288,"00",{"$f":"TEXT(MICASH!D1062,\"0000000000\")","v":"0000000000"}," ",{"$f":"UPPER(MICASH!F1062)","v":""},{"$f":"UPPER(MICASH!G1062)","v":""}," ",{"$f":"TEXT(MICASH!I1062,\"0000000000\")","v":"0000000000"},{"$f":"TEXT(MICASH!J1062*100,\"0000000000\")","v":"0000000000"},{"$f":"TEXT(MONTH(MICASH!K1062),\"00\") & TEXT(DAY(MICASH!K1062),\"00\") & RIGHT(TEXT(YEAR(MICASH!K1062),\"00\"),2)","v":"010000"},{"$f":"UPPER(LEFT(MICASH!L1062,96))","v":""}]
["C",288,"00",{"$f":"TEXT(MICASH!D1063,\"0000000000\")","v":"0000000000"}," ",{"$f":"UPPER(MICASH!F1063)","v":""},{"$f":"UPPER(MICASH!G1063)","v":""}," ",{"$f":"TEXT(MICASH!I1063,\"0000000000\")","v":"0000000000"},{"$f":"TEXT(MICASH!J1063*100,\"0000000000\")","v":"0000000000"},{"$f":"TEXT(MONTH(MICASH!K1063),\"00\") & TEXT(DAY(MICASH!K1063),\"00\") & RIGHT(TEXT(YEAR(MICASH!K1063),\"00\"),2)","v":"010000"},{"$f":"UPPER(LEFT(MICASH!L1063,96))","v":""}]
["C",288,"00",{"$f":"TEXT(MICASH!D1064,\"0000000000\")","v":"0000000000"}," ",{"$f":"UPPER(MICASH!F1064)","v":""},{"$f":"UPPER(MICASH!G1064)","v":""}," ",{"$f":"TEXT(MICASH!I1064,\"0000000000\")","v":"0000000000"},{"$f":"TEXT(MICASH!J1064*100,\"0000000000\")","v":"0000000000"},{"$f":"TEXT(MONTH(MICASH!K1064),\"00\") & TEXT(DAY(MICASH!K1064),\"00\") & RIGHT(TEXT(YEAR(MICASH!K1064),\"00\"),2)","v":"010000"},{"$f":"UPPER(LEFT(MICASH!L1064,96))","v":""}]
["C",288,"00",{"$f":"TEXT(MICASH!D1065,\"0000000000\")","v":"0000000000"}," ",{"$f":"UPPER(MICASH!F1065)","v":""},{"$f":"UPPER(MICASH!G1065)","v":""}," ",{"$f":"TEXT(MICASH!I1065,\"0000000000\")","v":"0000000000"},{"$f":"TEXT(MICASH!J1065*100,\"0000000000\")","v":"0000000000"},{"$f":"TEXT(MONTH(MICASH!K1065),\"00\") & TEXT(DAY(MICASH!K1065),\"00\") & RIGHT(TEXT(YEAR(MICASH!K1065),\"00\"),2)","v":"010000"},{"$f":"UPPER(LEFT(MICASH!L1065,96))","v":""}]
["C",288,"00",{"$f":"TEXT(MICASH!D1066,\"0000000000\")","v":"0000000000"}," ",{"$f":"UPPER(MICASH!F1066)","v":""},{"$f":"UPPER(MICASH!G1066)","v":""}," ",{"$f":"TEXT(MICASH!I1066,\"0000000000\")","v":"0000000000"},{"$f":"TEXT(MICASH!J1066*100,\"0000000000\")","v":"0000000000"},{"$f":"TEXT(MONTH(MICASH!K1066),\"00\") & TEXT(DAY(MICASH!K1066),\"00\") & RIGHT(TEXT(YEAR(MICASH!K1066),\"00\"),2)","v":"010000"},{"$f":"UPPER(LEFT(MICASH!L1066,96))","v":""}]
["C",288,"00",{"$f":"TEXT(MICASH!D1067,\"0000000000\")","v":"0000000000"}," ",{"$f":"UPPER(MICASH!F1067)","v":""},{"$f":"UPPER(MICASH!G1067)","v":""}," ",{"$f":"TEXT(MICASH!I1067,\"0000000000\")","v":"0000000000"},{"$f":"TEXT(MICASH!J1067*100,\"0000000000\")","v":"0000000000"},{"$f":"TEXT(MONTH(MICASH!K1067),\"00\") & TEXT(DAY(MICASH!K1067),\"00\") & RIGHT(TEXT(YEAR(MICASH!K1067),\"00\"),2)","v":"010000"},{"$f":"UPPER(LEFT(MICASH!L1067,96))","v":""}]
["C",288,"00",{"$f":"TEXT(MICASH!D1068,\"0000000000\")","v":"0000000000"}," ",{"$f":"UPPER(MICASH!F1068)","v":""},{"$f":"UPPER(MICASH!G1068)","v":""}," ",{"$f":"TEXT(MICASH!I1068,\"0000000000\")","v":"0000000000"},{"$f":"TEXT(MICASH!J1068*100,\"0000000000\")","v":"0000000000"},{"$f":"TEXT(MONTH(MICASH!K1068),\"00\") & TEXT(DAY(MICASH!K1068),\"00\") & RIGHT(TEXT(YEAR(MICASH!K1068),\"00\"),2)","v":"010000"},{"$f":"UPPER(LEFT(MICASH!L1068,96))","v":""}]
["C",288,"00",{"$f":"TEXT(MICASH!D1069,\"0000000000\")","v":"0000000000"}," ",{"$f":"UPPER(MICASH!F1069)","v":""},{"$f":"UPPER(MICASH!G1069)","v":""}," ",{"$f":"TEXT(MICASH!I1069,\"0000000000\")","v":"0000000000"},{"$f":"TEXT(MICASH!J1069*100,\"0000000000\")","v":"0000000000"},{"$f":"TEXT(MONTH(MICASH!K1069),\"00\") & TEXT(DAY(MICASH!K1069),\"00\") & RIGHT(TEXT(YEAR(MICASH!K1069),\"00\"),2)","v":"010000"},{"$f":"UPPER(LEFT(MICASH!L1069,96))","v":""}]
["C",288,"00",{"$f":"TEXT(MICASH!D1070,\"0000000000\")","v":"0000000000"}," ",{"$f":"UPPER(MICASH!F1070)","v":""},{"$f":"UPPER(MICASH!G1070)","v":""}," ",{"$f":"TEXT(MICASH!I1070,\"0000000000\")","v":"0000000000"},{"$f":"TEXT(MICASH!J1070*100,\"0000000000\")","v":"0000000000"},{"$f":"TEXT(MONTH(MICASH!K1070),\"00\") & TEXT(DAY(MICASH!K1070),\"00\") & RIGHT(TEXT(YEAR(MICASH!K1070),\"00\"),2)","v":"010000"},{"$f":"UPPER(LEFT(MICASH!L1070,96))","v":""}]
["C",288,"00",{"$f":"TEXT(MICASH!D1071,\"0000000000\")","v":"0000000000"}," ",{"$f":"UPPER(MICASH!F1071)","v":""},{"$f":"UPPER(MICASH!G1071)","v":""}," ",{"$f":"TEXT(MICASH!I1071,\"0000000000\")","v":"0000000000"},{"$f":"TEXT(MICASH!J1071*100,\"0000000000\")","v":"0000000000"},{"$f":"TEXT(MONTH(MICASH!K1071),\"00\") & TEXT(DAY(MICASH!K1071),\"00\") & RIGHT(TEXT(YEAR(MICASH!K1071),\"00\"),2)","v":"010000"},{"$f":"UPPER(LEFT(MICASH!L1071,96))","v":""}]
["C",288,"00",{"$f":"TEXT(MICASH!D1072,\"0000000000\")","v":"0000000000"}," ",{"$f":"UPPER(MICASH!F1072)","v":""},{"$f":"UPPER(MICASH!G1072)","v":""}," ",{"$f":"TEXT(MICASH!I1072,\"0000000000\")","v":"0000000000"},{"$f":"TEXT(MICASH!J1072*100,\"0000000000\")","v":"0000000000"},{"$f":"TEXT(MONTH(MICASH!K1072),\"00\") & TEXT(DAY(MICASH!K1072),\"00\") & RIGHT(TEXT(YEAR(MICASH!K1072),\"00\"),2)","v":"010000"},{"$f":"UPPER(LEFT(MICASH!L1072,96))","v":""}]
["C",288,"00",{"$f":"TEXT(MICASH!D1073,\"0000000000\")","v":"0000000000"}," ",{"$f":"UPPER(MICASH!F1073)","v":""},{"$f":"UPPER(MICASH!G1073)","v":""}," ",{"$f":"TEXT(MICASH!I1073,\"0000000000\")","v":"0000000000"},{"$f":"TEXT(MICASH!J1073*100,\"0000000000\")","v":"0000000000"},{"$f":"TEXT(MONTH(MICASH!K1073),\"00\") & TEXT(DAY(MICASH!K1073),\"00\") & RIGHT(TEXT(YEAR(MICASH!K1073),\"00\"),2)","v":"010000"},{"$f":"UPPER(LEFT(MICASH!L1073,96))","v":""}]
["C",288,"00",{"$f":"TEXT(MICASH!D1074,\"0000000000\")","v":"0000000000"}," ",{"$f":"UPPER(MICASH!F1074)","v":""},{"$f":"UPPER(MICASH!G1074)","v":""}," ",{"$f":"TEXT(MICASH!I1074,\"0000000000\")","v":"0000000000"},{"$f":"TEXT(MICASH!J1074*100,\"0000000000\")","v":"0000000000"},{"$f":"TEXT(MONTH(MICASH!K1074),\"00\") & TEXT(DAY(MICASH!K1074),\"00\") & RIGHT(TEXT(YEAR(MICASH!K1074),\"00\"),2)","v":"010000"},{"$f":"UPPER(LEFT(MICASH!L1074,96))","v":""}]
["C",288,"00",{"$f":"TEXT(MICASH!D1075,\"0000000000\")","v":"0000000000"}," ",{"$f":"UPPER(MICASH!F1075)","v":""},{"$f":"UPPER(MICASH!G1075)","v":""}," ",{"$f":"TEXT(MICASH!I1075,\"0000000000\")","v":"0000000000"},{"$f":"TEXT(MICASH!J1075*100,\"0000000000\")","v":"0000000000"},{"$f":"TEXT(MONTH(MICASH!K1075),\"00\") & TEXT(DAY(MICASH!K1075),\"00\") & RIGHT(TEXT(YEAR(MICASH!K1075),\"00\"),2)","v":"010000"},{"$f":"UPPER(LEFT(MICASH!L1075,96))","v":""}]
["C",288,"00",{"$f":"TEXT(MICASH!D1076,\"0000000000\")","v":"0000000000"}," ",{"$f":"UPPER(MICASH!F1076)","v":""},{"$f":"UPPER(MICASH!G1076)","v":""}," ",{"$f":"TEXT(MICASH!I1076,\"0000000000\")","v":"0000000000"},{"$f":"TEXT(MICASH!J1076*100,\"0000000000\")","v":"0000000000"},{"$f":"TEXT(MONTH(MICASH!K1076),\"00\") & TEXT(DAY(MICASH!K1076),\"00\") & RIGHT(TEXT(YEAR(MICASH!K1076),\"00\"),2)","v":"010000"},{"$f":"UPPER(LEFT(MICASH!L1076,96))","v":""}]
["C",288,"00",{"$f":"TEXT(MICASH!D1077,\"0000000000\")","v":"0000000000"}," ",{"$f":"UPPER(MICASH!F1077)","v":""},{"$f":"UPPER(MICASH!G1077)","v":""}," ",{"$f":"TEXT(MICASH!I1077,\"0000000000\")","v":"0000000000"},{"$f":"TEXT(MICASH!J1077*100,\"0000000000\")","v":"0000000000"},{"$f":"TEXT(MONTH(MICASH!K1077),\"00\") & TEXT(DAY(MICASH!K1077),\"00\") & RIGHT(TEXT(YEAR(MICASH!K1077),\"00\"),2)","v":"010000"},{"$f":"UPPER(LEFT(MICASH!L1077,96))","v":""}]
["C",288,"00",{"$f":"TEXT(MICASH!D1078,\"0000000000\")","v":"0000000000"}," ",{"$f":"UPPER(MICASH!F1078)","v":""},{"$f":"UPPER(MICASH!G1078)","v":""}," ",{"$f":"TEXT(MICASH!I1078,\"0000000000\")","v":"0000000000"},{"$f":"TEXT(MICASH!J1078*100,\"0000000000\")","v":"0000000000"},{"$f":"TEXT(MONTH(MICASH!K1078),\"00\") & TEXT(DAY(MICASH!K1078),\"00\") & RIGHT(TEXT(YEAR(MICASH!K1078),\"00\"),2)","v":"010000"},{"$f":"UPPER(LEFT(MICASH!L1078,96))","v":""}]
["C",288,"00",{"$f":"TEXT(MICASH!D1079,\"0000000000\")","v":"0000000000"}," ",{"$f":"UPPER(MICASH!F1079)","v":""},{"$f":"UPPER(MICASH!G1079)","v":""}," ",{"$f":"TEXT(MICASH!I1079,\"0000000000\")","v":"0000000000"},{"$f":"TEXT(MICASH!J1079*100,\"0000000000\")","v":"0000000000"},{"$f":"TEXT(MONTH(MICASH!K1079),\"00\") & TEXT(DAY(MICASH!K1079),\"00\") & RIGHT(TEXT(YEAR(MICASH!K1079),\"00\"),2)","v":"010000"},{"$f":"UPPER(LEFT(MICASH!L1079,96))","v":""}]
["C",288,"00",{"$f":"TEXT(MICASH!D1080,\"0000000000\")","v":"0000000000"}," ",{"$f":"UPPER(MICASH!F1080)","v":""},{"$f":"UPPER(MICASH!G1080)","v":""}," ",{"$f":"TEXT(MICASH!I1080,\"0000000000\")","v":"0000000000"},{"$f":"TEXT(MICASH!J1080*100,\"0000000000\")","v":"0000000000"},{"$f":"TEXT(MONTH(MICASH!K1080),\"00\") & TEXT(DAY(MICASH!K1080),\"00\") & RIGHT(TEXT(YEAR(MICASH!K1080),\"00\"),2)","v":"010000"},{"$f":"UPPER(LEFT(MICASH!L1080,96))","v":""}]
["C",288,"00",{"$f":"TEXT(MICASH!D1081,\"0000000000\")","v":"0000000000"}," ",{"$f":"UPPER(MICASH!F1081)","v":""},{"$f":"UPPER(MICASH!G1081)","v":""}," ",{"$f":"TEXT(MICASH!I1081,\"0000000000\")","v":"0000000000"},{"$f":"TEXT(MICASH!J1081*100,\"0000000000\")","v":"0000000000"},{"$f":"TEXT(MONTH(MICASH!K1081),\"00\") & TEXT(DAY(MICASH!K1081),\"00\") & RIGHT(TEXT(YEAR(MICASH!K1081),\"00\"),2)","v":"010000"},{"$f":"UPPER(LEFT(MICASH!L1081,96))","v":""}]
["C",288,"00",{"$f":"TEXT(MICASH!D1082,\"0000000000\")","v":"0000000000"}," ",{"$f":"UPPER(MICASH!F1082)","v":""},{"$f":"UPPER(MICASH!G1082)","v":""}," ",{"$f":"TEXT(MICASH!I1082,\"0000000000\")","v":"0000000000"},{"$f":"TEXT(MICASH!J1082*100,\"0000000000\")","v":"0000000000"},{"$f":"TEXT(MONTH(MICASH!K1082),\"00\") & TEXT(DAY(MICASH!K1082),\"00\") & RIGHT(TEXT(YEAR(MICASH!K1082),\"00\"),2)","v":"010000"},{"$f":"UPPER(LEFT(MICASH!L1082,96))","v":""}]
["C",288,"00",{"$f":"TEXT(MICASH!D1083,\"0000000000\")","v":"0000000000"}," ",{"$f":"UPPER(MICASH!F1083)","v":""},{"$f":"UPPER(MICASH!G1083)","v":""}," ",{"$f":"TEXT(MICASH!I1083,\"0000000000\")","v":"0000000000"},{"$f":"TEXT(MICASH!J1083*100,\"0000000000\")","v":"0000000000"},{"$f":"TEXT(MONTH(MICASH!K1083),\"00\") & TEXT(DAY(MICASH!K1083),\"00\") & RIGHT(TEXT(YEAR(MICASH!K1083),\"00\"),2)","v":"010000"},{"$f":"UPPER(LEFT(MICASH!L1083,96))","v":""}]
["C",288,"00",{"$f":"TEXT(MICASH!D1084,\"0000000000\")","v":"0000000000"}," ",{"$f":"UPPER(MICASH!F1084)","v":""},{"$f":"UPPER(MICASH!G1084)","v":""}," ",{"$f":"TEXT(MICASH!I1084,\"0000000000\")","v":"0000000000"},{"$f":"TEXT(MICASH!J1084*100,\"0000000000\")","v":"0000000000"},{"$f":"TEXT(MONTH(MICASH!K1084),\"00\") & TEXT(DAY(MICASH!K1084),\"00\") & RIGHT(TEXT(YEAR(MICASH!K1084),\"00\"),2)","v":"010000"},{"$f":"UPPER(LEFT(MICASH!L1084,96))","v":""}]
["C",288,"00",{"$f":"TEXT(MICASH!D1085,\"0000000000\")","v":"0000000000"}," ",{"$f":"UPPER(MICASH!F1085)","v":""},{"$f":"UPPER(MICASH!G1085)","v":""}," ",{"$f":"TEXT(MICASH!I1085,\"0000000000\")","v":"0000000000"},{"$f":"TEXT(MICASH!J1085*100,\"0000000000\")","v":"0000000000"},{"$f":"TEXT(MONTH(MICASH!K1085),\"00\") & TEXT(DAY(MICASH!K1085),\"00\") & RIGHT(TEXT(YEAR(MICASH!K1085),\"00\"),2)","v":"010000"},{"$f":"UPPER(LEFT(MICASH!L1085,96))","v":""}]
["C",288,"00",{"$f":"TEXT(MICASH!D1086,\"0000000000\")","v":"0000000000"}," ",{"$f":"UPPER(MICASH!F1086)","v":""},{"$f":"UPPER(MICASH!G1086)","v":""}," ",{"$f":"TEXT(MICASH!I1086,\"0000000000\")","v":"0000000000"},{"$f":"TEXT(MICASH!J1086*100,\"0000000000\")","v":"0000000000"},{"$f":"TEXT(MONTH(MICASH!K1086),\"00\") & TEXT(DAY(MICASH!K1086),\"00\") & RIGHT(TEXT(YEAR(MICASH!K1086),\"00\"),2)","v":"010000"},{"$f":"UPPER(LEFT(MICASH!L1086,96))","v":""}]
["C",288,"00",{"$f":"TEXT(MICASH!D1087,\"0000000000\")","v":"0000000000"}," ",{"$f":"UPPER(MICASH!F1087)","v":""},{"$f":"UPPER(MICASH!G1087)","v":""}," ",{"$f":"TEXT(MICASH!I1087,\"0000000000\")","v":"0000000000"},{"$f":"TEXT(MICASH!J1087*100,\"0000000000\")","v":"0000000000"},{"$f":"TEXT(MONTH(MICASH!K1087),\"00\") & TEXT(DAY(MICASH!K1087),\"00\") & RIGHT(TEXT(YEAR(MICASH!K1087),\"00\"),2)","v":"010000"},{"$f":"UPPER(LEFT(MICASH!L1087,96))","v":""}]
["C",288,"00",{"$f":"TEXT(MICASH!D1088,\"0000000000\")","v":"0000000000"}," ",{"$f":"UPPER(MICASH!F1088)","v":""},{"$f":"UPPER(MICASH!G1088)","v":""}," ",{"$f":"TEXT(MICASH!I1088,\"0000000000\")","v":"0000000000"},{"$f":"TEXT(MICASH!J1088*100,\"0000000000\")","v":"0000000000"},{"$f":"TEXT(MONTH(MICASH!K1088),\"00\") & TEXT(DAY(MICASH!K1088),\"00\") & RIGHT(TEXT(YEAR(MICASH!K1088),\"00\"),2)","v":"010000"},{"$f":"UPPER(LEFT(MICASH!L1088,96))","v":""}]
["C",288,"00",{"$f":"TEXT(MICASH!D1089,\"0000000000\")","v":"0000000000"}," ",{"$f":"UPPER(MICASH!F1089)","v":""},{"$f":"UPPER(MICASH!G1089)","v":""}," ",{"$f":"TEXT(MICASH!I1089,\"0000000000\")","v":"0000000000"},{"$f":"TEXT(MICASH!J1089*100,\"0000000000\")","v":"0000000000"},{"$f":"TEXT(MONTH(MICASH!K1089),\"00\") & TEXT(DAY(MICASH!K1089),\"00\") & RIGHT(TEXT(YEAR(MICASH!K1089),\"00\"),2)","v":"010000"},{"$f":"UPPER(LEFT(MICASH!L1089,96))","v":""}]
["C",288,"00",{"$f":"TEXT(MICASH!D1090,\"0000000000\")","v":"0000000000"}," ",{"$f":"UPPER(MICASH!F1090)","v":""},{"$f":"UPPER(MICASH!G1090)","v":""}," ",{"$f":"TEXT(MICASH!I1090,\"0000000000\")","v":"0000000000"},{"$f":"TEXT(MICASH!J1090*100,\"0000000000\")","v":"0000000000"},{"$f":"TEXT(MONTH(MICASH!K1090),\"00\") & TEXT(DAY(MICASH!K1090),\"00\") & RIGHT(TEXT(YEAR(MICASH!K1090),\"00\"),2)","v":"010000"},{"$f":"UPPER(LEFT(MICASH!L1090,96))","v":""}]
["C",288,"00",{"$f":"TEXT(MICASH!D1091,\"0000000000\")","v":"0000000000"}," ",{"$f":"UPPER(MICASH!F1091)","v":""},{"$f":"UPPER(MICASH!G1091)","v":""}," ",{"$f":"TEXT(MICASH!I1091,\"0000000000\")","v":"0000000000"},{"$f":"TEXT(MICASH!J1091*100,\"0000000000\")","v":"0000000000"},{"$f":"TEXT(MONTH(MICASH!K1091),\"00\") & TEXT(DAY(MICASH!K1091),\"00\") & RIGHT(TEXT(YEAR(MICASH!K1091),\"00\"),2)","v":"010000"},{"$f":"UPPER(LEFT(MICASH!L1091,96))","v":""}]
["C",288,"00",{"$f":"TEXT(MICASH!D1092,\"0000000000\")","v":"0000000000"}," ",{"$f":"UPPER(MICASH!F1092)","v":""},{"$f":"UPPER(MICASH!G1092)","v":""}," ",{"$f":"TEXT(MICASH!I1092,\"0000000000\")","v":"0000000000"},{"$f":"TEXT(MICASH!J1092*100,\"0000000000\")","v":"0000000000"},{"$f":"TEXT(MONTH(MICASH!K1092),\"00\") & TEXT(DAY(MICASH!K1092),\"00\") & RIGHT(TEXT(YEAR(MICASH!K1092),\"00\"),2)","v":"010000"},{"$f":"UPPER(LEFT(MICASH!L1092,96))","v":""}]
["C",288,"00",{"$f":"TEXT(MICASH!D1093,\"0000000000\")","v":"0000000000"}," ",{"$f":"UPPER(MICASH!F1093)","v":""},{"$f":"UPPER(MICASH!G1093)","v":""}," ",{"$f":"TEXT(MICASH!I1093,\"0000000000\")","v":"0000000000"},{"$f":"TEXT(MICASH!J1093*100,\"0000000000\")","v":"0000000000"},{"$f":"TEXT(MONTH(MICASH!K1093),\"00\") & TEXT(DAY(MICASH!K1093),\"00\") & RIGHT(TEXT(YEAR(MICASH!K1093),\"00\"),2)","v":"010000"},{"$f":"UPPER(LEFT(MICASH!L1093,96))","v":""}]
["C",288,"00",{"$f":"TEXT(MICASH!D1094,\"0000000000\")","v":"0000000000"}," ",{"$f":"UPPER(MICASH!F1094)","v":""},{"$f":"UPPER(MICASH!G1094)","v":""}," ",{"$f":"TEXT(MICASH!I1094,\"0000000000\")","v":"0000000000"},{"$f":"TEXT(MICASH!J1094*100,\"0000000000\")","v":"0000000000"},{"$f":"TEXT(MONTH(MICASH!K1094),\"00\") & TEXT(DAY(MICASH!K1094),\"00\") & RIGHT(TEXT(YEAR(MICASH!K1094),\"00\"),2)","v":"010000"},{"$f":"UPPER(LEFT(MICASH!L1094,96))","v":""}]
["C",288,"00",{"$f":"TEXT(MICASH!D1095,\"0000000000\")","v":"0000000000"}," ",{"$f":"UPPER(MICASH!F1095)","v":""},{"$f":"UPPER(MICASH!G1095)","v":""}," ",{"$f":"TEXT(MICASH!I1095,\"0000000000\")","v":"0000000000"},{"$f":"TEXT(MICASH!J1095*100,\"0000000000\")","v":"0000000000"},{"$f":"TEXT(MONTH(MICASH!K1095),\"00\") & TEXT(DAY(MICASH!K1095),\"00\") & RIGHT(TEXT(YEAR(MICASH!K1095),\"00\"),2)","v":"010000"},{"$f":"UPPER(LEFT(MICASH!L1095,96))","v":""}]
["C",288,"00",{"$f":"TEXT(MICASH!D1096,\"0000000000\")","v":"0000000000"}," ",{"$f":"UPPER(MICASH!F1096)","v":""},{"$f":"UPPER(MICASH!G1096)","v":""}," ",{"$f":"TEXT(MICASH!I1096,\"0000000000\")","v":"0000000000"},{"$f":"TEXT(MICASH!J1096*100,\"0000000000\")","v":"0000000000"},{"$f":"TEXT(MONTH(MICASH!K1096),\"00\") & TEXT(DAY(MICASH!K1096),\"00\") & RIGHT(TEXT(YEAR(MICASH!K1096),\"00\"),2)","v":"010000"},{"$f":"UPPER(LEFT(MICASH!L1096,96))","v":""}]
["C",288,"00",{"$f":"TEXT(MICASH!D1097,\"0000000000\")","v":"0000000000"}," ",{"$f":"UPPER(MICASH!F1097)","v":""},{"$f":"UPPER(MICASH!G1097)","v":""}," ",{"$f":"TEXT(MICASH!I1097,\"0000000000\")","v":"0000000000"},{"$f":"TEXT(MICASH!J1097*100,\"0000000000\")","v":"0000000000"},{"$f":"TEXT(MONTH(MICASH!K1097),\"00\") & TEXT(DAY(MICASH!K1097),\"00\") & RIGHT(TEXT(YEAR(MICASH!K1097),\"00\"),2)","v":"010000"},{"$f":"UPPER(LEFT(MICASH!L1097,96))","v":""}]
["C",288,"00",{"$f":"TEXT(MICASH!D1098,\"0000000000\")","v":"0000000000"}," ",{"$f":"UPPER(MICASH!F1098)","v":""},{"$f":"UPPER(MICASH!G1098)","v":""}," ",{"$f":"TEXT(MICASH!I1098,\"0000000000\")","v":"0000000000"},{"$f":"TEXT(MICASH!J1098*100,\"0000000000\")","v":"0000000000"},{"$f":"TEXT(MONTH(MICASH!K1098),\"00\") & TEXT(DAY(MICASH!K1098),\"00\") & RIGHT(TEXT(YEAR(MICASH!K1098),\"00\"),2)","v":"010000"},{"$f":"UPPER(LEFT(MICASH!L1098,96))","v":""}]
["C",288,"00",{"$f":"TEXT(MICASH!D1099,\"0000000000\")","v":"0000000000"}," ",{"$f":"UPPER(MICASH!F1099)","v":""},{"$f":"UPPER(MICASH!G1099)","v":""}," ",{"$f":"TEXT(MICASH!I1099,\"0000000000\")","v":"0000000000"},{"$f":"TEXT(MICASH!J1099*100,\"0000000000\")","v":"0000000000"},{"$f":"TEXT(MONTH(MICASH!K1099),\"00\") & TEXT(DAY(MICASH!K1099),\"00\") & RIGHT(TEXT(YEAR(MICASH!K1099),\"00\"),2)","v":"010000"},{"$f":"UPPER(LEFT(MICASH!L1099,96))","v":""}]
["C",288,"00",{"$f":"TEXT(MICASH!D1100,\"0000000000\")","v":"0000000000"}," ",{"$f":"UPPER(MICASH!F1100)","v":""},{"$f":"UPPER(MICASH!G1100)","v":""}," ",{"$f":"TEXT(MICASH!I1100,\"0000000000\")","v":"0000000000"},{"$f":"TEXT(MICASH!J1100*100,\"0000000000\")","v":"0000000000"},{"$f":"TEXT(MONTH(MICASH!K1100),\"00\") & TEXT(DAY(MICASH!K1100),\"00\") & RIGHT(TEXT(YEAR(MICASH!K1100),\"00\"),2)","v":"010000"},{"$f":"UPPER(LEFT(MICASH!L1100,96))","v":""}]
["C",288,"00",{"$f":"TEXT(MICASH!D1101,\"0000000000\")","v":"0000000000"}," ",{"$f":"UPPER(MICASH!F1101)","v":""},{"$f":"UPPER(MICASH!G1101)","v":""}," ",{"$f":"TEXT(MICASH!I1101,\"0000000000\")","v":"0000000000"},{"$f":"TEXT(MICASH!J1101*100,\"0000000000\")","v":"0000000000"},{"$f":"TEXT(MONTH(MICASH!K1101),\"00\") & TEXT(DAY(MICASH!K1101),\"00\") & RIGHT(TEXT(YEAR(MICASH!K1101),\"00\"),2)","v":"010000"},{"$f":"UPPER(LEFT(MICASH!L1101,96))","v":""}]
["C",288,"00",{"$f":"TEXT(MICASH!D1102,\"0000000000\")","v":"0000000000"}," ",{"$f":"UPPER(MICASH!F1102)","v":""},{"$f":"UPPER(MICASH!G1102)","v":""}," ",{"$f":"TEXT(MICASH!I1102,\"0000000000\")","v":"0000000000"},{"$f":"TEXT(MICASH!J1102*100,\"0000000000\")","v":"0000000000"},{"$f":"TEXT(MONTH(MICASH!K1102),\"00\") & TEXT(DAY(MICASH!K1102),\"00\") & RIGHT(TEXT(YEAR(MICASH!K1102),\"00\"),2)","v":"010000"},{"$f":"UPPER(LEFT(MICASH!L1102,96))","v":""}]
["C",288,"00",{"$f":"TEXT(MICASH!D1103,\"0000000000\")","v":"0000000000"}," ",{"$f":"UPPER(MICASH!F1103)","v":""},{"$f":"UPPER(MICASH!G1103)","v":""}," ",{"$f":"TEXT(MICASH!I1103,\"0000000000\")","v":"0000000000"},{"$f":"TEXT(MICASH!J1103*100,\"0000000000\")","v":"0000000000"},{"$f":"TEXT(MONTH(MICASH!K1103),\"00\") & TEXT(DAY(MICASH!K1103),\"00\") & RIGHT(TEXT(YEAR(MICASH!K1103),\"00\"),2)","v":"010000"},{"$f":"UPPER(LEFT(MICASH!L1103,96))","v":""}]
["C",288,"00",{"$f":"TEXT(MICASH!D1104,\"0000000000\")","v":"0000000000"}," ",{"$f":"UPPER(MICASH!F1104)","v":""},{"$f":"UPPER(MICASH!G1104)","v":""}," ",{"$f":"TEXT(MICASH!I1104,\"0000000000\")","v":"0000000000"},{"$f":"TEXT(MICASH!J1104*100,\"0000000000\")","v":"0000000000"},{"$f":"TEXT(MONTH(MICASH!K1104),\"00\") & TEXT(DAY(MICASH!K1104),\"00\") & RIGHT(TEXT(YEAR(MICASH!K1104),\"00\"),2)","v":"010000"},{"$f":"UPPER(LEFT(MICASH!L1104,96))","v":""}]
["C",288,"00",{"$f":"TEXT(MICASH!D1105,\"0000000000\")","v":"0000000000"}," ",{"$f":"UPPER(MICASH!F1105)","v":""},{"$f":"UPPER(MICASH!G1105)","v":""}," ",{"$f":"TEXT(MICASH!I1105,\"0000000000\")","v":"0000000000"},{"$f":"TEXT(MICASH!J1105*100,\"0000000000\")","v":"0000000000"},{"$f":"TEXT(MONTH(MICASH!K1105),\"00\") & TEXT(DAY(MICASH!K1105),\"00\") & RIGHT(TEXT(YEAR(MICASH!K1105),\"00\"),2)","v":"010000"},{"$f":"UPPER(LEFT(MICASH!L1105,96))","v":""}]
["C",288,"00",{"$f":"TEXT(MICASH!D1106,\"0000000000\")","v":"0000000000"}," ",{"$f":"UPPER(MICASH!F1106)","v":""},{"$f":"UPPER(MICASH!G1106)","v":""}," ",{"$f":"TEXT(MICASH!I1106,\"0000000000\")","v":"0000000000"},{"$f":"TEXT(MICASH!J1106*100,\"0000000000\")","v":"0000000000"},{"$f":"TEXT(MONTH(MICASH!K1106),\"00\") & TEXT(DAY(MICASH!K1106),\"00\") & RIGHT(TEXT(YEAR(MICASH!K1106),\"00\"),2)","v":"010000"},{"$f":"UPPER(LEFT(MICASH!L1106,96))","v":""}]
["C",288,"00",{"$f":"TEXT(MICASH!D1107,\"0000000000\")","v":"0000000000"}," ",{"$f":"UPPER(MICASH!F1107)","v":""},{"$f":"UPPER(MICASH!G1107)","v":""}," ",{"$f":"TEXT(MICASH!I1107,\"0000000000\")","v":"0000000000"},{"$f":"TEXT(MICASH!J1107*100,\"0000000000\")","v":"0000000000"},{"$f":"TEXT(MONTH(MICASH!K1107),\"00\") & TEXT(DAY(MICASH!K1107),\"00\") & RIGHT(TEXT(YEAR(MICASH!K1107),\"00\"),2)","v":"010000"},{"$f":"UPPER(LEFT(MICASH!L1107,96))","v":""}]
["C",288,"00",{"$f":"TEXT(MICASH!D1108,\"0000000000\")","v":"0000000000"}," ",{"$f":"UPPER(MICASH!F1108)","v":""},{"$f":"UPPER(MICASH!G1108)","v":""}," ",{"$f":"TEXT(MICASH!I1108,\"0000000000\")","v":"0000000000"},{"$f":"TEXT(MICASH!J1108*100,\"0000000000\")","v":"0000000000"},{"$f":"TEXT(MONTH(MICASH!K1108),\"00\") & TEXT(DAY(MICASH!K1108),\"00\") & RIGHT(TEXT(YEAR(MICASH!K1108),\"00\"),2)","v":"010000"},{"$f":"UPPER(LEFT(MICASH!L1108,96))","v":""}]
["C",288,"00",{"$f":"TEXT(MICASH!D1109,\"0000000000\")","v":"0000000000"}," ",{"$f":"UPPER(MICASH!F1109)","v":""},{"$f":"UPPER(MICASH!G1109)","v":""}," ",{"$f":"TEXT(MICASH!I1109,\"0000000000\")","v":"0000000000"},{"$f":"TEXT(MICASH!J1109*100,\"0000000000\")","v":"0000000000"},{"$f":"TEXT(MONTH(MICASH!K1109),\"00\") & TEXT(DAY(MICASH!K1109),\"00\") & RIGHT(TEXT(YEAR(MICASH!K1109),\"00\"),2)","v":"010000"},{"$f":"UPPER(LEFT(MICASH!L1109,96))","v":""}]
["C",288,"00",{"$f":"TEXT(MICASH!D1110,\"0000000000\")","v":"0000000000"}," ",{"$f":"UPPER(MICASH!F1110)","v":""},{"$f":"UPPER(MICASH!G1110)","v":""}," ",{"$f":"TEXT(MICASH!I1110,\"0000000000\")","v":"0000000000"},{"$f":"TEXT(MICASH!J1110*100,\"0000000000\")","v":"0000000000"},{"$f":"TEXT(MONTH(MICASH!K1110),\"00\") & TEXT(DAY(MICASH!K1110),\"00\") & RIGHT(TEXT(YEAR(MICASH!K1110),\"00\"),2)","v":"010000"},{"$f":"UPPER(LEFT(MICASH!L1110,96))","v":""}]
["C",288,"00",{"$f":"TEXT(MICASH!D1111,\"0000000000\")","v":"0000000000"}," ",{"$f":"UPPER(MICASH!F1111)","v":""},{"$f":"UPPER(MICASH!G1111)","v":""}," ",{"$f":"TEXT(MICASH!I1111,\"0000000000\")","v":"0000000000"},{"$f":"TEXT(MICASH!J1111*100,\"0000000000\")","v":"0000000000"},{"$f":"TEXT(MONTH(MICASH!K1111),\"00\") & TEXT(DAY(MICASH!K1111),\"00\") & RIGHT(TEXT(YEAR(MICASH!K1111),\"00\"),2)","v":"010000"},{"$f":"UPPER(LEFT(MICASH!L1111,96))","v":""}]
["C",288,"00",{"$f":"TEXT(MICASH!D1112,\"0000000000\")","v":"0000000000"}," ",{"$f":"UPPER(MICASH!F1112)","v":""},{"$f":"UPPER(MICASH!G1112)","v":""}," ",{"$f":"TEXT(MICASH!I1112,\"0000000000\")","v":"0000000000"},{"$f":"TEXT(MICASH!J1112*100,\"0000000000\")","v":"0000000000"},{"$f":"TEXT(MONTH(MICASH!K1112),\"00\") & TEXT(DAY(MICASH!K1112),\"00\") & RIGHT(TEXT(YEAR(MICASH!K1112),\"00\"),2)","v":"010000"},{"$f":"UPPER(LEFT(MICASH!L1112,96))","v":""}]
["C",288,"00",{"$f":"TEXT(MICASH!D1113,\"0000000000\")","v":"0000000000"}," ",{"$f":"UPPER(MICASH!F1113)","v":""},{"$f":"UPPER(MICASH!G1113)","v":""}," ",{"$f":"TEXT(MICASH!I1113,\"0000000000\")","v":"0000000000"},{"$f":"TEXT(MICASH!J1113*100,\"0000000000\")","v":"0000000000"},{"$f":"TEXT(MONTH(MICASH!K1113),\"00\") & TEXT(DAY(MICASH!K1113),\"00\") & RIGHT(TEXT(YEAR(MICASH!K1113),\"00\"),2)","v":"010000"},{"$f":"UPPER(LEFT(MICASH!L1113,96))","v":""}]
["C",288,"00",{"$f":"TEXT(MICASH!D1114,\"0000000000\")","v":"0000000000"}," ",{"$f":"UPPER(MICASH!F1114)","v":""},{"$f":"UPPER(MICASH!G1114)","v":""}," ",{"$f":"TEXT(MICASH!I1114,\"0000000000\")","v":"0000000000"},{"$f":"TEXT(MICASH!J1114*100,\"0000000000\")","v":"0000000000"},{"$f":"TEXT(MONTH(MICASH!K1114),\"00\") & TEXT(DAY(MICASH!K1114),\"00\") & RIGHT(TEXT(YEAR(MICASH!K1114),\"00\"),2)","v":"010000"},{"$f":"UPPER(LEFT(MICASH!L1114,96))","v":""}]
["C",288,"00",{"$f":"TEXT(MICASH!D1115,\"0000000000\")","v":"0000000000"}," ",{"$f":"UPPER(MICASH!F1115)","v":""},{"$f":"UPPER(MICASH!G1115)","v":""}," ",{"$f":"TEXT(MICASH!I1115,\"0000000000\")","v":"0000000000"},{"$f":"TEXT(MICASH!J1115*100,\"0000000000\")","v":"0000000000"},{"$f":"TEXT(MONTH(MICASH!K1115),\"00\") & TEXT(DAY(MICASH!K1115),\"00\") & RIGHT(TEXT(YEAR(MICASH!K1115),\"00\"),2)","v":"010000"},{"$f":"UPPER(LEFT(MICASH!L1115,96))","v":""}]
["C",288,"00",{"$f":"TEXT(MICASH!D1116,\"0000000000\")","v":"0000000000"}," ",{"$f":"UPPER(MICASH!F1116)","v":""},{"$f":"UPPER(MICASH!G1116)","v":""}," ",{"$f":"TEXT(MICASH!I1116,\"0000000000\")","v":"0000000000"},{"$f":"TEXT(MICASH!J1116*100,\"0000000000\")","v":"0000000000"},{"$f":"TEXT(MONTH(MICASH!K1116),\"00\") & TEXT(DAY(MICASH!K1116),\"00\") & RIGHT(TEXT(YEAR(MICASH!K1116),\"00\"),2)","v":"010000"},{"$f":"UPPER(LEFT(MICASH!L1116,96))","v":""}]
["C",288,"00",{"$f":"TEXT(MICASH!D1117,\"0000000000\")","v":"0000000000"}," ",{"$f":"UPPER(MICASH!F1117)","v":""},{"$f":"UPPER(MICASH!G1117)","v":""}," ",{"$f":"TEXT(MICASH!I1117,\"0000000000\")","v":"0000000000"},{"$f":"TEXT(MICASH!J1117*100,\"0000000000\")","v":"0000000000"},{"$f":"TEXT(MONTH(MICASH!K1117),\"00\") & TEXT(DAY(MICASH!K1117),\"00\") & RIGHT(TEXT(YEAR(MICASH!K1117),\"00\"),2)","v":"010000"},{"$f":"UPPER(LEFT(MICASH!L1117,96))","v":""}]
["C",288,"00",{"$f":"TEXT(MICASH!D1118,\"0000000000\")","v":"0000000000"}," ",{"$f":"UPPER(MICASH!F1118)","v":""},{"$f":"UPPER(MICASH!G1118)","v":""}," ",{"$f":"TEXT(MICASH!I1118,\"0000000000\")","v":"0000000000"},{"$f":"TEXT(MICASH!J1118*100,\"0000000000\")","v":"0000000000"},{"$f":"TEXT(MONTH(MICASH!K1118),\"00\") & TEXT(DAY(MICASH!K1118),\"00\") & RIGHT(TEXT(YEAR(MICASH!K1118),\"00\"),2)","v":"010000"},{"$f":"UPPER(LEFT(MICASH!L1118,96))","v":""}]
["C",288,"00",{"$f":"TEXT(MICASH!D1119,\"0000000000\")","v":"0000000000"}," ",{"$f":"UPPER(MICASH!F1119)","v":""},{"$f":"UPPER(MICASH!G1119)","v":""}," ",{"$f":"TEXT(MICASH!I1119,\"0000000000\")","v":"0000000000"},{"$f":"TEXT(MICASH!J1119*100,\"0000000000\")","v":"0000000000"},{"$f":"TEXT(MONTH(MICASH!K1119),\"00\") & TEXT(DAY(MICASH!K1119),\"00\") & RIGHT(TEXT(YEAR(MICASH!K1119),\"00\"),2)","v":"010000"},{"$f":"UPPER(LEFT(MICASH!L1119,96))","v":""}]
["C",288,"00",{"$f":"TEXT(MICASH!D1120,\"0000000000\")","v":"0000000000"}," ",{"$f":"UPPER(MICASH!F1120)","v":""},{"$f":"UPPER(MICASH!G1120)","v":""}," ",{"$f":"TEXT(MICASH!I1120,\"0000000000\")","v":"0000000000"},{"$f":"TEXT(MICASH!J1120*100,\"0000000000\")","v":"0000000000"},{"$f":"TEXT(MONTH(MICASH!K1120),\"00\") & TEXT(DAY(MICASH!K1120),\"00\") & RIGHT(TEXT(YEAR(MICASH!K1120),\"00\"),2)","v":"010000"},{"$f":"UPPER(LEFT(MICASH!L1120,96))","v":""}]
["C",288,"00",{"$f":"TEXT(MICASH!D1121,\"0000000000\")","v":"0000000000"}," ",{"$f":"UPPER(MICASH!F1121)","v":""},{"$f":"UPPER(MICASH!G1121)","v":""}," ",{"$f":"TEXT(MICASH!I1121,\"0000000000\")","v":"0000000000"},{"$f":"TEXT(MICASH!J1121*100,\"0000000000\")","v":"0000000000"},{"$f":"TEXT(MONTH(MICASH!K1121),\"00\") & TEXT(DAY(MICASH!K1121),\"00\") & RIGHT(TEXT(YEAR(MICASH!K1121),\"00\"),2)","v":"010000"},{"$f":"UPPER(LEFT(MICASH!L1121,96))","v":""}]
["C",288,"00",{"$f":"TEXT(MICASH!D1122,\"0000000000\")","v":"0000000000"}," ",{"$f":"UPPER(MICASH!F1122)","v":""},{"$f":"UPPER(MICASH!G1122)","v":""}," ",{"$f":"TEXT(MICASH!I1122,\"0000000000\")","v":"0000000000"},{"$f":"TEXT(MICASH!J1122*100,\"0000000000\")","v":"0000000000"},{"$f":"TEXT(MONTH(MICASH!K1122),\"00\") & TEXT(DAY(MICASH!K1122),\"00\") & RIGHT(TEXT(YEAR(MICASH!K1122),\"00\"),2)","v":"010000"},{"$f":"UPPER(LEFT(MICASH!L1122,96))","v":""}]
["C",288,"00",{"$f":"TEXT(MICASH!D1123,\"0000000000\")","v":"0000000000"}," ",{"$f":"UPPER(MICASH!F1123)","v":""},{"$f":"UPPER(MICASH!G1123)","v":""}," ",{"$f":"TEXT(MICASH!I1123,\"0000000000\")","v":"0000000000"},{"$f":"TEXT(MICASH!J1123*100,\"0000000000\")","v":"0000000000"},{"$f":"TEXT(MONTH(MICASH!K1123),\"00\") & TEXT(DAY(MICASH!K1123),\"00\") & RIGHT(TEXT(YEAR(MICASH!K1123),\"00\"),2)","v":"010000"},{"$f":"UPPER(LEFT(MICASH!L1123,96))","v":""}]
["C",288,"00",{"$f":"TEXT(MICASH!D1124,\"0000000000\")","v":"0000000000"}," ",{"$f":"UPPER(MICASH!F1124)","v":""},{"$f":"UPPER(MICASH!G1124)","v":""}," ",{"$f":"TEXT(MICASH!I1124,\"0000000000\")","v":"0000000000"},{"$f":"TEXT(MICASH!J1124*100,\"0000000000\")","v":"0000000000"},{"$f":"TEXT(MONTH(MICASH!K1124),\"00\") & TEXT(DAY(MICASH!K1124),\"00\") & RIGHT(TEXT(YEAR(MICASH!K1124),\"00\"),2)","v":"010000"},{"$f":"UPPER(LEFT(MICASH!L1124,96))","v":""}]
["C",288,"00",{"$f":"TEXT(MICASH!D1125,\"0000000000\")","v":"0000000000"}," ",{"$f":"UPPER(MICASH!F1125)","v":""},{"$f":"UPPER(MICASH!G1125)","v":""}," ",{"$f":"TEXT(MICASH!I1125,\"0000000000\")","v":"0000000000"},{"$f":"TEXT(MICASH!J1125*100,\"0000000000\")","v":"0000000000"},{"$f":"TEXT(MONTH(MICASH!K1125),\"00\") & TEXT(DAY(MICASH!K1125),\"00\") & RIGHT(TEXT(YEAR(MICASH!K1125),\"00\"),2)","v":"010000"},{"$f":"UPPER(LEFT(MICASH!L1125,96))","v":""}]
["C",288,"00",{"$f":"TEXT(MICASH!D1126,\"0000000000\")","v":"0000000000"}," ",{"$f":"UPPER(MICASH!F1126)","v":""},{"$f":"UPPER(MICASH!G1126)","v":""}," ",{"$f":"TEXT(MICASH!I1126,\"0000000000\")","v":"0000000000"},{"$f":"TEXT(MICASH!J1126*100,\"0000000000\")","v":"0000000000"},{"$f":"TEXT(MONTH(MICASH!K1126),\"00\") & TEXT(DAY(MICASH!K1126),\"00\") & RIGHT(TEXT(YEAR(MICASH!K1126),\"00\"),2)","v":"010000"},{"$f":"UPPER(LEFT(MICASH!L1126,96))","v":""}]
["C",288,"00",{"$f":"TEXT(MICASH!D1127,\"0000000000\")","v":"0000000000"}," ",{"$f":"UPPER(MICASH!F1127)","v":""},{"$f":"UPPER(MICASH!G1127)","v":""}," ",{"$f":"TEXT(MICASH!I1127,\"0000000000\")","v":"0000000000"},{"$f":"TEXT(MICASH!J1127*100,\"0000000000\")","v":"0000000000"},{"$f":"TEXT(MONTH(MICASH!K1127),\"00\") & TEXT(DAY(MICASH!K1127),\"00\") & RIGHT(TEXT(YEAR(MICASH!K1127),\"00\"),2)","v":"010000"},{"$f":"UPPER(LEFT(MICASH!L1127,96))","v":""}]
["C",288,"00",{"$f":"TEXT(MICASH!D1128,\"0000000000\")","v":"0000000000"}," ",{"$f":"UPPER(MICASH!F1128)","v":""},{"$f":"UPPER(MICASH!G1128)","v":""}," ",{"$f":"TEXT(MICASH!I1128,\"0000000000\")","v":"0000000000"},{"$f":"TEXT(MICASH!J1128*100,\"0000000000\")","v":"0000000000"},{"$f":"TEXT(MONTH(MICASH!K1128),\"00\") & TEXT(DAY(MICASH!K1128),\"00\") & RIGHT(TEXT(YEAR(MICASH!K1128),\"00\"),2)","v":"010000"},{"$f":"UPPER(LEFT(MICASH!L1128,96))","v":""}]
["C",288,"00",{"$f":"TEXT(MICASH!D1129,\"0000000000\")","v":"0000000000"}," ",{"$f":"UPPER(MICASH!F1129)","v":""},{"$f":"UPPER(MICASH!G1129)","v":""}," ",{"$f":"TEXT(MICASH!I1129,\"0000000000\")","v":"0000000000"},{"$f":"TEXT(MICASH!J1129*100,\"0000000000\")","v":"0000000000"},{"$f":"TEXT(MONTH(MICASH!K1129),\"00\") & TEXT(DAY(MICASH!K1129),\"00\") & RIGHT(TEXT(YEAR(MICASH!K1129),\"00\"),2)","v":"010000"},{"$f":"UPPER(LEFT(MICASH!L1129,96))","v":""}]
["C",288,"00",{"$f":"TEXT(MICASH!D1130,\"0000000000\")","v":"0000000000"}," ",{"$f":"UPPER(MICASH!F1130)","v":""},{"$f":"UPPER(MICASH!G1130)","v":""}," ",{"$f":"TEXT(MICASH!I1130,\"0000000000\")","v":"0000000000"},{"$f":"TEXT(MICASH!J1130*100,\"0000000000\")","v":"0000000000"},{"$f":"TEXT(MONTH(MICASH!K1130),\"00\") & TEXT(DAY(MICASH!K1130),\"00\") & RIGHT(TEXT(YEAR(MICASH!K1130),\"00\"),2)","v":"010000"},{"$f":"UPPER(LEFT(MICASH!L1130,96))","v":""}]
["C",288,"00",{"$f":"TEXT(MICASH!D1131,\"0000000000\")","v":"0000000000"}," ",{"$f":"UPPER(MICASH!F1131)","v":""},{"$f":"UPPER(MICASH!G1131)","v":""}," ",{"$f":"TEXT(MICASH!I1131,\"0000000000\")","v":"0000000000"},{"$f":"TEXT(MICASH!J1131*100,\"0000000000\")","v":"0000000000"},{"$f":"TEXT(MONTH(MICASH!K1131),\"00\") & TEXT(DAY(MICASH!K1131),\"00\") & RIGHT(TEXT(YEAR(MICASH!K1131),\"00\"),2)","v":"010000"},{"$f":"UPPER(LEFT(MICASH!L1131,96))","v":""}]
["C",288,"00",{"$f":"TEXT(MICASH!D1132,\"0000000000\")","v":"0000000000"}," ",{"$f":"UPPER(MICASH!F1132)","v":""},{"$f":"UPPER(MICASH!G1132)","v":""}," ",{"$f":"TEXT(MICASH!I1132,\"0000000000\")","v":"0000000000"},{"$f":"TEXT(MICASH!J1132*100,\"0000000000\")","v":"0000000000"},{"$f":"TEXT(MONTH(MICASH!K1132),\"00\") & TEXT(DAY(MICASH!K1132),\"00\") & RIGHT(TEXT(YEAR(MICASH!K1132),\"00\"),2)","v":"010000"},{"$f":"UPPER(LEFT(MICASH!L1132,96))","v":""}]
["C",288,"00",{"$f":"TEXT(MICASH!D1133,\"0000000000\")","v":"0000000000"}," ",{"$f":"UPPER(MICASH!F1133)","v":""},{"$f":"UPPER(MICASH!G1133)","v":""}," ",{"$f":"TEXT(MICASH!I1133,\"0000000000\")","v":"0000000000"},{"$f":"TEXT(MICASH!J1133*100,\"0000000000\")","v":"0000000000"},{"$f":"TEXT(MONTH(MICASH!K1133),\"00\") & TEXT(DAY(MICASH!K1133),\"00\") & RIGHT(TEXT(YEAR(MICASH!K1133),\"00\"),2)","v":"010000"},{"$f":"UPPER(LEFT(MICASH!L1133,96))","v":""}]
["C",288,"00",{"$f":"TEXT(MICASH!D1134,\"0000000000\")","v":"0000000000"}," ",{"$f":"UPPER(MICASH!F1134)","v":""},{"$f":"UPPER(MICASH!G1134)","v":""}," ",{"$f":"TEXT(MICASH!I1134,\"0000000000\")","v":"0000000000"},{"$f":"TEXT(MICASH!J1134*100,\"0000000000\")","v":"0000000000"},{"$f":"TEXT(MONTH(MICASH!K1134),\"00\") & TEXT(DAY(MICASH!K1134),\"00\") & RIGHT(TEXT(YEAR(MICASH!K1134),\"00\"),2)","v":"010000"},{"$f":"UPPER(LEFT(MICASH!L1134,96))","v":""}]
["C",288,"00",{"$f":"TEXT(MICASH!D1135,\"0000000000\")","v":"0000000000"}," ",{"$f":"UPPER(MICASH!F1135)","v":""},{"$f":"UPPER(MICASH!G1135)","v":""}," ",{"$f":"TEXT(MICASH!I1135,\"0000000000\")","v":"0000000000"},{"$f":"TEXT(MICASH!J1135*100,\"0000000000\")","v":"0000000000"},{"$f":"TEXT(MONTH(MICASH!K1135),\"00\") & TEXT(DAY(MICASH!K1135),\"00\") & RIGHT(TEXT(YEAR(MICASH!K1135),\"00\"),2)","v":"010000"},{"$f":"UPPER(LEFT(MICASH!L1135,96))","v":""}]
["C",288,"00",{"$f":"TEXT(MICASH!D1136,\"0000000000\")","v":"0000000000"}," ",{"$f":"UPPER(MICASH!F1136)","v":""},{"$f":"UPPER(MICASH!G1136)","v":""}," ",{"$f":"TEXT(MICASH!I1136,\"0000000000\")","v":"0000000000"},{"$f":"TEXT(MICASH!J1136*100,\"0000000000\")","v":"0000000000"},{"$f":"TEXT(MONTH(MICASH!K1136),\"00\") & TEXT(DAY(MICASH!K1136),\"00\") & RIGHT(TEXT(YEAR(MICASH!K1136),\"00\"),2)","v":"010000"},{"$f":"UPPER(LEFT(MICASH!L1136,96))","v":""}]
["C",288,"00",{"$f":"TEXT(MICASH!D1137,\"0000000000\")","v":"0000000000"}," ",{"$f":"UPPER(MICASH!F1137)","v":""},{"$f":"UPPER(MICASH!G1137)","v":""}," ",{"$f":"TEXT(MICASH!I1137,\"0000000000\")","v":"0000000000"},{"$f":"TEXT(MICASH!J1137*100,\"0000000000\")","v":"0000000000"},{"$f":"TEXT(MONTH(MICASH!K1137),\"00\") & TEXT(DAY(MICASH!K1137),\"00\") & RIGHT(TEXT(YEAR(MICASH!K1137),\"00\"),2)","v":"010000"},{"$f":"UPPER(LEFT(MICASH!L1137,96))","v":""}]
["C",288,"00",{"$f":"TEXT(MICASH!D1138,\"0000000000\")","v":"0000000000"}," ",{"$f":"UPPER(MICASH!F1138)","v":""},{"$f":"UPPER(MICASH!G1138)","v":""}," ",{"$f":"TEXT(MICASH!I1138,\"0000000000\")","v":"0000000000"},{"$f":"TEXT(MICASH!J1138*100,\"0000000000\")","v":"0000000000"},{"$f":"TEXT(MONTH(MICASH!K1138),\"00\") & TEXT(DAY(MICASH!K1138),\"00\") & RIGHT(TEXT(YEAR(MICASH!K1138),\"00\"),2)","v":"010000"},{"$f":"UPPER(LEFT(MICASH!L1138,96))","v":""}]
["C",288,"00",{"$f":"TEXT(MICASH!D1139,\"0000000000\")","v":"0000000000"}," ",{"$f":"UPPER(MICASH!F1139)","v":""},{"$f":"UPPER(MICASH!G1139)","v":""}," ",{"$f":"TEXT(MICASH!I1139,\"0000000000\")","v":"0000000000"},{"$f":"TEXT(MICASH!J1139*100,\"0000000000\")","v":"0000000000"},{"$f":"TEXT(MONTH(MICASH!K1139),\"00\") & TEXT(DAY(MICASH!K1139),\"00\") & RIGHT(TEXT(YEAR(MICASH!K1139),\"00\"),2)","v":"010000"},{"$f":"UPPER(LEFT(MICASH!L1139,96))","v":""}]
["C",288,"00",{"$f":"TEXT(MICASH!D1140,\"0000000000\")","v":"0000000000"}," ",{"$f":"UPPER(MICASH!F1140)","v":""},{"$f":"UPPER(MICASH!G1140)","v":""}," ",{"$f":"TEXT(MICASH!I1140,\"0000000000\")","v":"0000000000"},{"$f":"TEXT(MICASH!J1140*100,\"0000000000\")","v":"0000000000"},{"$f":"TEXT(MONTH(MICASH!K1140),\"00\") & TEXT(DAY(MICASH!K1140),\"00\") & RIGHT(TEXT(YEAR(MICASH!K1140),\"00\"),2)","v":"010000"},{"$f":"UPPER(LEFT(MICASH!L1140,96))","v":""}]
["C",288,"00",{"$f":"TEXT(MICASH!D1141,\"0000000000\")","v":"0000000000"}," ",{"$f":"UPPER(MICASH!F1141)","v":""},{"$f":"UPPER(MICASH!G1141)","v":""}," ",{"$f":"TEXT(MICASH!I1141,\"0000000000\")","v":"0000000000"},{"$f":"TEXT(MICASH!J1141*100,\"0000000000\")","v":"0000000000"},{"$f":"TEXT(MONTH(MICASH!K1141),\"00\") & TEXT(DAY(MICASH!K1141),\"00\") & RIGHT(TEXT(YEAR(MICASH!K1141),\"00\"),2)","v":"010000"},{"$f":"UPPER(LEFT(MICASH!L1141,96))","v":""}]
["C",288,"00",{"$f":"TEXT(MICASH!D1142,\"0000000000\")","v":"0000000000"}," ",{"$f":"UPPER(MICASH!F1142)","v":""},{"$f":"UPPER(MICASH!G1142)","v":""}," ",{"$f":"TEXT(MICASH!I1142,\"0000000000\")","v":"0000000000"},{"$f":"TEXT(MICASH!J1142*100,\"0000000000\")","v":"0000000000"},{"$f":"TEXT(MONTH(MICASH!K1142),\"00\") & TEXT(DAY(MICASH!K1142),\"00\") & RIGHT(TEXT(YEAR(MICASH!K1142),\"00\"),2)","v":"010000"},{"$f":"UPPER(LEFT(MICASH!L1142,96))","v":""}]
["C",288,"00",{"$f":"TEXT(MICASH!D1143,\"0000000000\")","v":"0000000000"}," ",{"$f":"UPPER(MICASH!F1143)","v":""},{"$f":"UPPER(MICASH!G1143)","v":""}," ",{"$f":"TEXT(MICASH!I1143,\"0000000000\")","v":"0000000000"},{"$f":"TEXT(MICASH!J1143*100,\"0000000000\")","v":"0000000000"},{"$f":"TEXT(MONTH(MICASH!K1143),\"00\") & TEXT(DAY(MICASH!K1143),\"00\") & RIGHT(TEXT(YEAR(MICASH!K1143),\"00\"),2)","v":"010000"},{"$f":"UPPER(LEFT(MICASH!L1143,96))","v":""}]
["C",288,"00",{"$f":"TEXT(MICASH!D1144,\"0000000000\")","v":"0000000000"}," ",{"$f":"UPPER(MICASH!F1144)","v":""},{"$f":"UPPER(MICASH!G1144)","v":""}," ",{"$f":"TEXT(MICASH!I1144,\"0000000000\")","v":"0000000000"},{"$f":"TEXT(MICASH!J1144*100,\"0000000000\")","v":"0000000000"},{"$f":"TEXT(MONTH(MICASH!K1144),\"00\") & TEXT(DAY(MICASH!K1144),\"00\") & RIGHT(TEXT(YEAR(MICASH!K1144),\"00\"),2)","v":"010000"},{"$f":"UPPER(LEFT(MICASH!L1144,96))","v":""}]
["C",288,"00",{"$f":"TEXT(MICASH!D1145,\"0000000000\")","v":"0000000000"}," ",{"$f":"UPPER(MICASH!F1145)","v":""},{"$f":"UPPER(MICASH!G1145)","v":""}," ",{"$f":"TEXT(MICASH!I1145,\"0000000000\")","v":"0000000000"},{"$f":"TEXT(MICASH!J1145*100,\"0000000000\")","v":"0000000000"},{"$f":"TEXT(MONTH(MICASH!K1145),\"00\") & TEXT(DAY(MICASH!K1145),\"00\") & RIGHT(TEXT(YEAR(MICASH!K1145),\"00\"),2)","v":"010000"},{"$f":"UPPER(LEFT(MICASH!L1145,96))","v":""}]
["C",288,"00",{"$f":"TEXT(MICASH!D1146,\"0000000000\")","v":"0000000000"}," ",{"$f":"UPPER(MICASH!F1146)","v":""},{"$f":"UPPER(MICASH!G1146)","v":""}," ",{"$f":"TEXT(MICASH!I1146,\"0000000000\")","v":"0000000000"},{"$f":"TEXT(MICASH!J1146*100,\"0000000000\")","v":"0000000000"},{"$f":"TEXT(MONTH(MICASH!K1146),\"00\") & TEXT(DAY(MICASH!K1146),\"00\") & RIGHT(TEXT(YEAR(MICASH!K1146),\"00\"),2)","v":"010000"},{"$f":"UPPER(LEFT(MICASH!L1146,96))","v":""}]
["C",288,"00",{"$f":"TEXT(MICASH!D1147,\"0000000000\")","v":"0000000000"}," ",{"$f":"UPPER(MICASH!F1147)","v":""},{"$f":"UPPER(MICASH!G1147)","v":""}," ",{"$f":"TEXT(MICASH!I1147,\"0000000000\")","v":"0000000000"},{"$f":"TEXT(MICASH!J1147*100,\"0000000000\")","v":"0000000000"},{"$f":"TEXT(MONTH(MICASH!K1147),\"00\") & TEXT(DAY(MICASH!K1147),\"00\") & RIGHT(TEXT(YEAR(MICASH!K1147),\"00\"),2)","v":"010000"},{"$f":"UPPER(LEFT(MICASH!L1147,96))","v":""}]
["C",288,"00",{"$f":"TEXT(MICASH!D1148,\"0000000000\")","v":"0000000000"}," ",{"$f":"UPPER(MICASH!F1148)","v":""},{"$f":"UPPER(MICASH!G1148)","v":""}," ",{"$f":"TEXT(MICASH!I1148,\"0000000000\")","v":"0000000000"},{"$f":"TEXT(MICASH!J1148*100,\"0000000000\")","v":"0000000000"},{"$f":"TEXT(MONTH(MICASH!K1148),\"00\") & TEXT(DAY(MICASH!K1148),\"00\") & RIGHT(TEXT(YEAR(MICASH!K1148),\"00\"),2)","v":"010000"},{"$f":"UPPER(LEFT(MICASH!L1148,96))","v":""}]
["C",288,"00",{"$f":"TEXT(MICASH!D1149,\"0000000000\")","v":"0000000000"}," ",{"$f":"UPPER(MICASH!F1149)","v":""},{"$f":"UPPER(MICASH!G1149)","v":""}," ",{"$f":"TEXT(MICASH!I1149,\"0000000000\")","v":"0000000000"},{"$f":"TEXT(MICASH!J1149*100,\"0000000000\")","v":"0000000000"},{"$f":"TEXT(MONTH(MICASH!K1149),\"00\") & TEXT(DAY(MICASH!K1149),\"00\") & RIGHT(TEXT(YEAR(MICASH!K1149),\"00\"),2)","v":"010000"},{"$f":"UPPER(LEFT(MICASH!L1149,96))","v":""}]
["C",288,"00",{"$f":"TEXT(MICASH!D1150,\"0000000000\")","v":"0000000000"}," ",{"$f":"UPPER(MICASH!F1150)","v":""},{"$f":"UPPER(MICASH!G1150)","v":""}," ",{"$f":"TEXT(MICASH!I1150,\"0000000000\")","v":"0000000000"},{"$f":"TEXT(MICASH!J1150*100,\"0000000000\")","v":"0000000000"},{"$f":"TEXT(MONTH(MICASH!K1150),\"00\") & TEXT(DAY(MICASH!K1150),\"00\") & RIGHT(TEXT(YEAR(MICASH!K1150),\"00\"),2)","v":"010000"},{"$f":"UPPER(LEFT(MICASH!L1150,96))","v":""}]
["C",288,"00",{"$f":"TEXT(MICASH!D1151,\"0000000000\")","v":"0000000000"}," ",{"$f":"UPPER(MICASH!F1151)","v":""},{"$f":"UPPER(MICASH!G1151)","v":""}," ",{"$f":"TEXT(MICASH!I1151,\"0000000000\")","v":"0000000000"},{"$f":"TEXT(MICASH!J1151*100,\"0000000000\")","v":"0000000000"},{"$f":"TEXT(MONTH(MICASH!K1151),\"00\") & TEXT(DAY(MICASH!K1151),\"00\") & RIGHT(TEXT(YEAR(MICASH!K1151),\"00\"),2)","v":"010000"},{"$f":"UPPER(LEFT(MICASH!L1151,96))","v":""}]
["C",288,"00",{"$f":"TEXT(MICASH!D1152,\"0000000000\")","v":"0000000000"}," ",{"$f":"UPPER(MICASH!F1152)","v":""},{"$f":"UPPER(MICASH!G1152)","v":""}," ",{"$f":"TEXT(MICASH!I1152,\"0000000000\")","v":"0000000000"},{"$f":"TEXT(MICASH!J1152*100,\"0000000000\")","v":"0000000000"},{"$f":"TEXT(MONTH(MICASH!K1152),\"00\") & TEXT(DAY(MICASH!K1152),\"00\") & RIGHT(TEXT(YEAR(MICASH!K1152),\"00\"),2)","v":"010000"},{"$f":"UPPER(LEFT(MICASH!L1152,96))","v":""}]
["C",288,"00",{"$f":"TEXT(MICASH!D1153,\"0000000000\")","v":"0000000000"}," ",{"$f":"UPPER(MICASH!F1153)","v":""},{"$f":"UPPER(MICASH!G1153)","v":""}," ",{"$f":"TEXT(MICASH!I1153,\"0000000000\")","v":"0000000000"},{"$f":"TEXT(MICASH!J1153*100,\"0000000000\")","v":"0000000000"},{"$f":"TEXT(MONTH(MICASH!K1153),\"00\") & TEXT(DAY(MICASH!K1153),\"00\") & RIGHT(TEXT(YEAR(MICASH!K1153),\"00\"),2)","v":"010000"},{"$f":"UPPER(LEFT(MICASH!L1153,96))","v":""}]
["C",288,"00",{"$f":"TEXT(MICASH!D1154,\"0000000000\")","v":"0000000000"}," ",{"$f":"UPPER(MICASH!F1154)","v":""},{"$f":"UPPER(MICASH!G1154)","v":""}," ",{"$f":"TEXT(MICASH!I1154,\"0000000000\")","v":"0000000000"},{"$f":"TEXT(MICASH!J1154*100,\"0000000000\")","v":"0000000000"},{"$f":"TEXT(MONTH(MICASH!K1154),\"00\") & TEXT(DAY(MICASH!K1154),\"00\") & RIGHT(TEXT(YEAR(MICASH!K1154),\"00\"),2)","v":"010000"},{"$f":"UPPER(LEFT(MICASH!L1154,96))","v":""}]
["C",288,"00",{"$f":"TEXT(MICASH!D1155,\"0000000000\")","v":"0000000000"}," ",{"$f":"UPPER(MICASH!F1155)","v":""},{"$f":"UPPER(MICASH!G1155)","v":""}," ",{"$f":"TEXT(MICASH!I1155,\"0000000000\")","v":"0000000000"},{"$f":"TEXT(MICASH!J1155*100,\"0000000000\")","v":"0000000000"},{"$f":"TEXT(MONTH(MICASH!K1155),\"00\") & TEXT(DAY(MICASH!K1155),\"00\") & RIGHT(TEXT(YEAR(MICASH!K1155),\"00\"),2)","v":"010000"},{"$f":"UPPER(LEFT(MICASH!L1155,96))","v":""}]
["C",288,"00",{"$f":"TEXT(MICASH!D1156,\"0000000000\")","v":"0000000000"}," ",{"$f":"UPPER(MICASH!F1156)","v":""},{"$f":"UPPER(MICASH!G1156)","v":""}," ",{"$f":"TEXT(MICASH!I1156,\"0000000000\")","v":"0000000000"},{"$f":"TEXT(MICASH!J1156*100,\"0000000000\")","v":"0000000000"},{"$f":"TEXT(MONTH(MICASH!K1156),\"00\") & TEXT(DAY(MICASH!K1156),\"00\") & RIGHT(TEXT(YEAR(MICASH!K1156),\"00\"),2)","v":"010000"},{"$f":"UPPER(LEFT(MICASH!L1156,96))","v":""}]
["C",288,"00",{"$f":"TEXT(MICASH!D1157,\"0000000000\")","v":"0000000000"}," ",{"$f":"UPPER(MICASH!F1157)","v":""},{"$f":"UPPER(MICASH!G1157)","v":""}," ",{"$f":"TEXT(MICASH!I1157,\"0000000000\")","v":"0000000000"},{"$f":"TEXT(MICASH!J1157*100,\"0000000000\")","v":"0000000000"},{"$f":"TEXT(MONTH(MICASH!K1157),\"00\") & TEXT(DAY(MICASH!K1157),\"00\") & RIGHT(TEXT(YEAR(MICASH!K1157),\"00\"),2)","v":"010000"},{"$f":"UPPER(LEFT(MICASH!L1157,96))","v":""}]
["C",288,"00",{"$f":"TEXT(MICASH!D1158,\"0000000000\")","v":"0000000000"}," ",{"$f":"UPPER(MICASH!F1158)","v":""},{"$f":"UPPER(MICASH!G1158)","v":""}," ",{"$f":"TEXT(MICASH!I1158,\"0000000000\")","v":"0000000000"},{"$f":"TEXT(MICASH!J1158*100,\"0000000000\")","v":"0000000000"},{"$f":"TEXT(MONTH(MICASH!K1158),\"00\") & TEXT(DAY(MICASH!K1158),\"00\") & RIGHT(TEXT(YEAR(MICASH!K1158),\"00\"),2)","v":"010000"},{"$f":"UPPER(LEFT(MICASH!L1158,96))","v":""}]
["C",288,"00",{"$f":"TEXT(MICASH!D1159,\"0000000000\")","v":"0000000000"}," ",{"$f":"UPPER(MICASH!F1159)","v":""},{"$f":"UPPER(MICASH!G1159)","v":""}," ",{"$f":"TEXT(MICASH!I1159,\"0000000000\")","v":"0000000000"},{"$f":"TEXT(MICASH!J1159*100,\"0000000000\")","v":"0000000000"},{"$f":"TEXT(MONTH(MICASH!K1159),\"00\") & TEXT(DAY(MICASH!K1159),\"00\") & RIGHT(TEXT(YEAR(MICASH!K1159),\"00\"),2)","v":"010000"},{"$f":"UPPER(LEFT(MICASH!L1159,96))","v":""}]
["C",288,"00",{"$f":"TEXT(MICASH!D1160,\"0000000000\")","v":"0000000000"}," ",{"$f":"UPPER(MICASH!F1160)","v":""},{"$f":"UPPER(MICASH!G1160)","v":""}," ",{"$f":"TEXT(MICASH!I1160,\"0000000000\")","v":"0000000000"},{"$f":"TEXT(MICASH!J1160*100,\"0000000000\")","v":"0000000000"},{"$f":"TEXT(MONTH(MICASH!K1160),\"00\") & TEXT(DAY(MICASH!K1160),\"00\") & RIGHT(TEXT(YEAR(MICASH!K1160),\"00\"),2)","v":"010000"},{"$f":"UPPER(LEFT(MICASH!L1160,96))","v":""}]
["C",288,"00",{"$f":"TEXT(MICASH!D1161,\"0000000000\")","v":"0000000000"}," ",{"$f":"UPPER(MICASH!F1161)","v":""},{"$f":"UPPER(MICASH!G1161)","v":""}," ",{"$f":"TEXT(MICASH!I1161,\"0000000000\")","v":"0000000000"},{"$f":"TEXT(MICASH!J1161*100,\"0000000000\")","v":"0000000000"},{"$f":"TEXT(MONTH(MICASH!K1161),\"00\") & TEXT(DAY(MICASH!K1161),\"00\") & RIGHT(TEXT(YEAR(MICASH!K1161),\"00\"),2)","v":"010000"},{"$f":"UPPER(LEFT(MICASH!L1161,96))","v":""}]
["C",288,"00",{"$f":"TEXT(MICASH!D1162,\"0000000000\")","v":"0000000000"}," ",{"$f":"UPPER(MICASH!F1162)","v":""},{"$f":"UPPER(MICASH!G1162)","v":""}," ",{"$f":"TEXT(MICASH!I1162,\"0000000000\")","v":"0000000000"},{"$f":"TEXT(MICASH!J1162*100,\"0000000000\")","v":"0000000000"},{"$f":"TEXT(MONTH(MICASH!K1162),\"00\") & TEXT(DAY(MICASH!K1162),\"00\") & RIGHT(TEXT(YEAR(MICASH!K1162),\"00\"),2)","v":"010000"},{"$f":"UPPER(LEFT(MICASH!L1162,96))","v":""}]
["C",288,"00",{"$f":"TEXT(MICASH!D1163,\"0000000000\")","v":"0000000000"}," ",{"$f":"UPPER(MICASH!F1163)","v":""},{"$f":"UPPER(MICASH!G1163)","v":""}," ",{"$f":"TEXT(MICASH!I1163,\"0000000000\")","v":"0000000000"},{"$f":"TEXT(MICASH!J1163*100,\"0000000000\")","v":"0000000000"},{"$f":"TEXT(MONTH(MICASH!K1163),\"00\") & TEXT(DAY(MICASH!K1163),\"00\") & RIGHT(TEXT(YEAR(MICASH!K1163),\"00\"),2)","v":"010000"},{"$f":"UPPER(LEFT(MICASH!L1163,96))","v":""}]
["C",288,"00",{"$f":"TEXT(MICASH!D1164,\"0000000000\")","v":"0000000000"}," ",{"$f":"UPPER(MICASH!F1164)","v":""},{"$f":"UPPER(MICASH!G1164)","v":""}," ",{"$f":"TEXT(MICASH!I1164,\"0000000000\")","v":"0000000000"},{"$f":"TEXT(MICASH!J1164*100,\"0000000000\")","v":"0000000000"},{"$f":"TEXT(MONTH(MICASH!K1164),\"00\") & TEXT(DAY(MICASH!K1164),\"00\") & RIGHT(TEXT(YEAR(MICASH!K1164),\"00\"),2)","v":"010000"},{"$f":"UPPER(LEFT(MICASH!L1164,96))","v":""}]
["C",288,"00",{"$f":"TEXT(MICASH!D1165,\"0000000000\")","v":"0000000000"}," ",{"$f":"UPPER(MICASH!F1165)","v":""},{"$f":"UPPER(MICASH!G1165)","v":""}," ",{"$f":"TEXT(MICASH!I1165,\"0000000000\")","v":"0000000000"},{"$f":"TEXT(MICASH!J1165*100,\"0000000000\")","v":"0000000000"},{"$f":"TEXT(MONTH(MICASH!K1165),\"00\") & TEXT(DAY(MICASH!K1165),\"00\") & RIGHT(TEXT(YEAR(MICASH!K1165),\"00\"),2)","v":"010000"},{"$f":"UPPER(LEFT(MICASH!L1165,96))","v":""}]
["C",288,"00",{"$f":"TEXT(MICASH!D1166,\"0000000000\")","v":"0000000000"}," ",{"$f":"UPPER(MICASH!F1166)","v":""},{"$f":"UPPER(MICASH!G1166)","v":""}," ",{"$f":"TEXT(MICASH!I1166,\"0000000000\")","v":"0000000000"},{"$f":"TEXT(MICASH!J1166*100,\"0000000000\")","v":"0000000000"},{"$f":"TEXT(MONTH(MICASH!K1166),\"00\") & TEXT(DAY(MICASH!K1166),\"00\") & RIGHT(TEXT(YEAR(MICASH!K1166),\"00\"),2)","v":"010000"},{"$f":"UPPER(LEFT(MICASH!L1166,96))","v":""}]
["C",288,"00",{"$f":"TEXT(MICASH!D1167,\"0000000000\")","v":"0000000000"}," ",{"$f":"UPPER(MICASH!F1167)","v":""},{"$f":"UPPER(MICASH!G1167)","v":""}," ",{"$f":"TEXT(MICASH!I1167,\"0000000000\")","v":"0000000000"},{"$f":"TEXT(MICASH!J1167*100,\"0000000000\")","v":"0000000000"},{"$f":"TEXT(MONTH(MICASH!K1167),\"00\") & TEXT(DAY(MICASH!K1167),\"00\") & RIGHT(TEXT(YEAR(MICASH!K1167),\"00\"),2)","v":"010000"},{"$f":"UPPER(LEFT(MICASH!L1167,96))","v":""}]
["C",288,"00",{"$f":"TEXT(MICASH!D1168,\"0000000000\")","v":"0000000000"}," ",{"$f":"UPPER(MICASH!F1168)","v":""},{"$f":"UPPER(MICASH!G1168)","v":""}," ",{"$f":"TEXT(MICASH!I1168,\"0000000000\")","v":"0000000000"},{"$f":"TEXT(MICASH!J1168*100,\"0000000000\")","v":"0000000000"},{"$f":"TEXT(MONTH(MICASH!K1168),\"00\") & TEXT(DAY(MICASH!K1168),\"00\") & RIGHT(TEXT(YEAR(MICASH!K1168),\"00\"),2)","v":"010000"},{"$f":"UPPER(LEFT(MICASH!L1168,96))","v":""}]
["C",288,"00",{"$f":"TEXT(MICASH!D1169,\"0000000000\")","v":"0000000000"}," ",{"$f":"UPPER(MICASH!F1169)","v":""},{"$f":"UPPER(MICASH!G1169)","v":""}," ",{"$f":"TEXT(MICASH!I1169,\"0000000000\")","v":"0000000000"},{"$f":"TEXT(MICASH!J1169*100,\"0000000000\")","v":"0000000000"},{"$f":"TEXT(MONTH(MICASH!K1169),\"00\") & TEXT(DAY(MICASH!K1169),\"00\") & RIGHT(TEXT(YEAR(MICASH!K1169),\"00\"),2)","v":"010000"},{"$f":"UPPER(LEFT(MICASH!L1169,96))","v":""}]
["C",288,"00",{"$f":"TEXT(MICASH!D1170,\"0000000000\")","v":"0000000000"}," ",{"$f":"UPPER(MICASH!F1170)","v":""},{"$f":"UPPER(MICASH!G1170)","v":""}," ",{"$f":"TEXT(MICASH!I1170,\"0000000000\")","v":"0000000000"},{"$f":"TEXT(MICASH!J1170*100,\"0000000000\")","v":"0000000000"},{"$f":"TEXT(MONTH(MICASH!K1170),\"00\") & TEXT(DAY(MICASH!K1170),\"00\") & RIGHT(TEXT(YEAR(MICASH!K1170),\"00\"),2)","v":"010000"},{"$f":"UPPER(LEFT(MICASH!L1170,96))","v":""}]
["C",288,"00",{"$f":"TEXT(MICASH!D1171,\"0000000000\")","v":"0000000000"}," ",{"$f":"UPPER(MICASH!F1171)","v":""},{"$f":"UPPER(MICASH!G1171)","v":""}," ",{"$f":"TEXT(MICASH!I1171,\"0000000000\")","v":"0000000000"},{"$f":"TEXT(MICASH!J1171*100,\"0000000000\")","v":"0000000000"},{"$f":"TEXT(MONTH(MICASH!K1171),\"00\") & TEXT(DAY(MICASH!K1171),\"00\") & RIGHT(TEXT(YEAR(MICASH!K1171),\"00\"),2)","v":"010000"},{"$f":"UPPER(LEFT(MICASH!L1171,96))","v":""}]
["C",288,"00",{"$f":"TEXT(MICASH!D1172,\"0000000000\")","v":"0000000000"}," ",{"$f":"UPPER(MICASH!F1172)","v":""},{"$f":"UPPER(MICASH!G1172)","v":""}," ",{"$f":"TEXT(MICASH!I1172,\"0000000000\")","v":"0000000000"},{"$f":"TEXT(MICASH!J1172*100,\"0000000000\")","v":"0000000000"},{"$f":"TEXT(MONTH(MICASH!K1172),\"00\") & TEXT(DAY(MICASH!K1172),\"00\") & RIGHT(TEXT(YEAR(MICASH!K1172),\"00\"),2)","v":"010000"},{"$f":"UPPER(LEFT(MICASH!L1172,96))","v":""}]
["C",288,"00",{"$f":"TEXT(MICASH!D1173,\"0000000000\")","v":"0000000000"}," ",{"$f":"UPPER(MICASH!F1173)","v":""},{"$f":"UPPER(MICASH!G1173)","v":""}," ",{"$f":"TEXT(MICASH!I1173,\"0000000000\")","v":"0000000000"},{"$f":"TEXT(MICASH!J1173*100,\"0000000000\")","v":"0000000000"},{"$f":"TEXT(MONTH(MICASH!K1173),\"00\") & TEXT(DAY(MICASH!K1173),\"00\") & RIGHT(TEXT(YEAR(MICASH!K1173),\"00\"),2)","v":"010000"},{"$f":"UPPER(LEFT(MICASH!L1173,96))","v":""}]
["C",288,"00",{"$f":"TEXT(MICASH!D1174,\"0000000000\")","v":"0000000000"}," ",{"$f":"UPPER(MICASH!F1174)","v":""},{"$f":"UPPER(MICASH!G1174)","v":""}," ",{"$f":"TEXT(MICASH!I1174,\"0000000000\")","v":"0000000000"},{"$f":"TEXT(MICASH!J1174*100,\"0000000000\")","v":"0000000000"},{"$f":"TEXT(MONTH(MICASH!K1174),\"00\") & TEXT(DAY(MICASH!K1174),\"00\") & RIGHT(TEXT(YEAR(MICASH!K1174),\"00\"),2)","v":"010000"},{"$f":"UPPER(LEFT(MICASH!L1174,96))","v":""}]
["C",288,"00",{"$f":"TEXT(MICASH!D1175,\"0000000000\")","v":"0000000000"}," ",{"$f":"UPPER(MICASH!F1175)","v":""},{"$f":"UPPER(MICASH!G1175)","v":""}," ",{"$f":"TEXT(MICASH!I1175,\"0000000000\")","v":"0000000000"},{"$f":"TEXT(MICASH!J1175*100,\"0000000000\")","v":"0000000000"},{"$f":"TEXT(MONTH(MICASH!K1175),\"00\") & TEXT(DAY(MICASH!K1175),\"00\") & RIGHT(TEXT(YEAR(MICASH!K1175),\"00\"),2)","v":"010000"},{"$f":"UPPER(LEFT(MICASH!L1175,96))","v":""}]
["C",288,"00",{"$f":"TEXT(MICASH!D1176,\"0000000000\")","v":"0000000000"}," ",{"$f":"UPPER(MICASH!F1176)","v":""},{"$f":"UPPER(MICASH!G1176)","v":""}," ",{"$f":"TEXT(MICASH!I1176,\"0000000000\")","v":"0000000000"},{"$f":"TEXT(MICASH!J1176*100,\"0000000000\")","v":"0000000000"},{"$f":"TEXT(MONTH(MICASH!K1176),\"00\") & TEXT(DAY(MICASH!K1176),\"00\") & RIGHT(TEXT(YEAR(MICASH!K1176),\"00\"),2)","v":"010000"},{"$f":"UPPER(LEFT(MICASH!L1176,96))","v":""}]
["C",288,"00",{"$f":"TEXT(MICASH!D1177,\"0000000000\")","v":"0000000000"}," ",{"$f":"UPPER(MICASH!F1177)","v":""},{"$f":"UPPER(MICASH!G1177)","v":""}," ",{"$f":"TEXT(MICASH!I1177,\"0000000000\")","v":"0000000000"},{"$f":"TEXT(MICASH!J1177*100,\"0000000000\")","v":"0000000000"},{"$f":"TEXT(MONTH(MICASH!K1177),\"00\") & TEXT(DAY(MICASH!K1177),\"00\") & RIGHT(TEXT(YEAR(MICASH!K1177),\"00\"),2)","v":"010000"},{"$f":"UPPER(LEFT(MICASH!L1177,96))","v":""}]
["C",288,"00",{"$f":"TEXT(MICASH!D1178,\"0000000000\")","v":"0000000000"}," ",{"$f":"UPPER(MICASH!F1178)","v":""},{"$f":"UPPER(MICASH!G1178)","v":""}," ",{"$f":"TEXT(MICASH!I1178,\"0000000000\")","v":"0000000000"},{"$f":"TEXT(MICASH!J1178*100,\"0000000000\")","v":"0000000000"},{"$f":"TEXT(MONTH(MICASH!K1178),\"00\") & TEXT(DAY(MICASH!K1178),\"00\") & RIGHT(TEXT(YEAR(MICASH!K1178),\"00\"),2)","v":"010000"},{"$f":"UPPER(LEFT(MICASH!L1178,96))","v":""}]
["C",288,"00",{"$f":"TEXT(MICASH!D1179,\"0000000000\")","v":"0000000000"}," ",{"$f":"UPPER(MICASH!F1179)","v":""},{"$f":"UPPER(MICASH!G1179)","v":""}," ",{"$f":"TEXT(MICASH!I1179,\"0000000000\")","v":"0000000000"},{"$f":"TEXT(MICASH!J1179*100,\"0000000000\")","v":"0000000000"},{"$f":"TEXT(MONTH(MICASH!K1179),\"00\") & TEXT(DAY(MICASH!K1179),\"00\") & RIGHT(TEXT(YEAR(MICASH!K1179),\"00\"),2)","v":"010000"},{"$f":"UPPER(LEFT(MICASH!L1179,96))","v":""}]
["C",288,"00",{"$f":"TEXT(MICASH!D1180,\"0000000000\")","v":"0000000000"}," ",{"$f":"UPPER(MICASH!F1180)","v":""},{"$f":"UPPER(MICASH!G1180)","v":""}," ",{"$f":"TEXT(MICASH!I1180,\"0000000000\")","v":"0000000000"},{"$f":"TEXT(MICASH!J1180*100,\"0000000000\")","v":"0000000000"},{"$f":"TEXT(MONTH(MICASH!K1180),\"00\") & TEXT(DAY(MICASH!K1180),\"00\") & RIGHT(TEXT(YEAR(MICASH!K1180),\"00\"),2)","v":"010000"},{"$f":"UPPER(LEFT(MICASH!L1180,96))","v":""}]
["C",288,"00",{"$f":"TEXT(MICASH!D1181,\"0000000000\")","v":"0000000000"}," ",{"$f":"UPPER(MICASH!F1181)","v":""},{"$f":"UPPER(MICASH!G1181)","v":""}," ",{"$f":"TEXT(MICASH!I1181,\"0000000000\")","v":"0000000000"},{"$f":"TEXT(MICASH!J1181*100,\"0000000000\")","v":"0000000000"},{"$f":"TEXT(MONTH(MICASH!K1181),\"00\") & TEXT(DAY(MICASH!K1181),\"00\") & RIGHT(TEXT(YEAR(MICASH!K1181),\"00\"),2)","v":"010000"},{"$f":"UPPER(LEFT(MICASH!L1181,96))","v":""}]
["C",288,"00",{"$f":"TEXT(MICASH!D1182,\"0000000000\")","v":"0000000000"}," ",{"$f":"UPPER(MICASH!F1182)","v":""},{"$f":"UPPER(MICASH!G1182)","v":""}," ",{"$f":"TEXT(MICASH!I1182,\"0000000000\")","v":"0000000000"},{"$f":"TEXT(MICASH!J1182*100,\"0000000000\")","v":"0000000000"},{"$f":"TEXT(MONTH(MICASH!K1182),\"00\") & TEXT(DAY(MICASH!K1182),\"00\") & RIGHT(TEXT(YEAR(MICASH!K1182),\"00\"),2)","v":"010000"},{"$f":"UPPER(LEFT(MICASH!L1182,96))","v":""}]
["C",288,"00",{"$f":"TEXT(MICASH!D1183,\"0000000000\")","v":"0000000000"}," ",{"$f":"UPPER(MICASH!F1183)","v":""},{"$f":"UPPER(MICASH!G1183)","v":""}," ",{"$f":"TEXT(MICASH!I1183,\"0000000000\")","v":"0000000000"},{"$f":"TEXT(MICASH!J1183*100,\"0000000000\")","v":"0000000000"},{"$f":"TEXT(MONTH(MICASH!K1183),\"00\") & TEXT(DAY(MICASH!K1183),\"00\") & RIGHT(TEXT(YEAR(MICASH!K1183),\"00\"),2)","v":"010000"},{"$f":"UPPER(LEFT(MICASH!L1183,96))","v":""}]
["C",288,"00",{"$f":"TEXT(MICASH!D1184,\"0000000000\")","v":"0000000000"}," ",{"$f":"UPPER(MICASH!F1184)","v":""},{"$f":"UPPER(MICASH!G1184)","v":""}," ",{"$f":"TEXT(MICASH!I1184,\"0000000000\")","v":"0000000000"},{"$f":"TEXT(MICASH!J1184*100,\"0000000000\")","v":"0000000000"},{"$f":"TEXT(MONTH(MICASH!K1184),\"00\") & TEXT(DAY(MICASH!K1184),\"00\") & RIGHT(TEXT(YEAR(MICASH!K1184),\"00\"),2)","v":"010000"},{"$f":"UPPER(LEFT(MICASH!L1184,96))","v":""}]
["C",288,"00",{"$f":"TEXT(MICASH!D1185,\"0000000000\")","v":"0000000000"}," ",{"$f":"UPPER(MICASH!F1185)","v":""},{"$f":"UPPER(MICASH!G1185)","v":""}," ",{"$f":"TEXT(MICASH!I1185,\"0000000000\")","v":"0000000000"},{"$f":"TEXT(MICASH!J1185*100,\"0000000000\")","v":"0000000000"},{"$f":"TEXT(MONTH(MICASH!K1185),\"00\") & TEXT(DAY(MICASH!K1185),\"00\") & RIGHT(TEXT(YEAR(MICASH!K1185),\"00\"),2)","v":"010000"},{"$f":"UPPER(LEFT(MICASH!L1185,96))","v":""}]
["C",288,"00",{"$f":"TEXT(MICASH!D1186,\"0000000000\")","v":"0000000000"}," ",{"$f":"UPPER(MICASH!F1186)","v":""},{"$f":"UPPER(MICASH!G1186)","v":""}," ",{"$f":"TEXT(MICASH!I1186,\"0000000000\")","v":"0000000000"},{"$f":"TEXT(MICASH!J1186*100,\"0000000000\")","v":"0000000000"},{"$f":"TEXT(MONTH(MICASH!K1186),\"00\") & TEXT(DAY(MICASH!K1186),\"00\") & RIGHT(TEXT(YEAR(MICASH!K1186),\"00\"),2)","v":"010000"},{"$f":"UPPER(LEFT(MICASH!L1186,96))","v":""}]
["C",288,"00",{"$f":"TEXT(MICASH!D1187,\"0000000000\")","v":"0000000000"}," ",{"$f":"UPPER(MICASH!F1187)","v":""},{"$f":"UPPER(MICASH!G1187)","v":""}," ",{"$f":"TEXT(MICASH!I1187,\"0000000000\")","v":"0000000000"},{"$f":"TEXT(MICASH!J1187*100,\"0000000000\")","v":"0000000000"},{"$f":"TEXT(MONTH(MICASH!K1187),\"00\") & TEXT(DAY(MICASH!K1187),\"00\") & RIGHT(TEXT(YEAR(MICASH!K1187),\"00\"),2)","v":"010000"},{"$f":"UPPER(LEFT(MICASH!L1187,96))","v":""}]
["C",288,"00",{"$f":"TEXT(MICASH!D1188,\"0000000000\")","v":"0000000000"}," ",{"$f":"UPPER(MICASH!F1188)","v":""},{"$f":"UPPER(MICASH!G1188)","v":""}," ",{"$f":"TEXT(MICASH!I1188,\"0000000000\")","v":"0000000000"},{"$f":"TEXT(MICASH!J1188*100,\"0000000000\")","v":"0000000000"},{"$f":"TEXT(MONTH(MICASH!K1188),\"00\") & TEXT(DAY(MICASH!K1188),\"00\") & RIGHT(TEXT(YEAR(MICASH!K1188),\"00\"),2)","v":"010000"},{"$f":"UPPER(LEFT(MICASH!L1188,96))","v":""}]
["C",288,"00",{"$f":"TEXT(MICASH!D1189,\"0000000000\")","v":"0000000000"}," ",{"$f":"UPPER(MICASH!F1189)","v":""},{"$f":"UPPER(MICASH!G1189)","v":""}," ",{"$f":"TEXT(MICASH!I1189,\"0000000000\")","v":"0000000000"},{"$f":"TEXT(MICASH!J1189*100,\"0000000000\")","v":"0000000000"},{"$f":"TEXT(MONTH(MICASH!K1189),\"00\") & TEXT(DAY(MICASH!K1189),\"00\") & RIGHT(TEXT(YEAR(MICASH!K1189),\"00\"),2)","v":"010000"},{"$f":"UPPER(LEFT(MICASH!L1189,96))","v":""}]
["C",288,"00",{"$f":"TEXT(MICASH!D1190,\"0000000000\")","v":"0000000000"}," ",{"$f":"UPPER(MICASH!F1190)","v":""},{"$f":"UPPER(MICASH!G1190)","v":""}," ",{"$f":"TEXT(MICASH!I1190,\"0000000000\")","v":"0000000000"},{"$f":"TEXT(MICASH!J1190*100,\"0000000000\")","v":"0000000000"},{"$f":"TEXT(MONTH(MICASH!K1190),\"00\") & TEXT(DAY(MICASH!K1190),\"00\") & RIGHT(TEXT(YEAR(MICASH!K1190),\"00\"),2)","v":"010000"},{"$f":"UPPER(LEFT(MICASH!L1190,96))","v":""}]
["C",288,"00",{"$f":"TEXT(MICASH!D1191,\"0000000000\")","v":"0000000000"}," ",{"$f":"UPPER(MICASH!F1191)","v":""},{"$f":"UPPER(MICASH!G1191)","v":""}," ",{"$f":"TEXT(MICASH!I1191,\"0000000000\")","v":"0000000000"},{"$f":"TEXT(MICASH!J1191*100,\"0000000000\")","v":"0000000000"},{"$f":"TEXT(MONTH(MICASH!K1191),\"00\") & TEXT(DAY(MICASH!K1191),\"00\") & RIGHT(TEXT(YEAR(MICASH!K1191),\"00\"),2)","v":"010000"},{"$f":"UPPER(LEFT(MICASH!L1191,96))","v":""}]
["C",288,"00",{"$f":"TEXT(MICASH!D1192,\"0000000000\")","v":"0000000000"}," ",{"$f":"UPPER(MICASH!F1192)","v":""},{"$f":"UPPER(MICASH!G1192)","v":""}," ",{"$f":"TEXT(MICASH!I1192,\"0000000000\")","v":"0000000000"},{"$f":"TEXT(MICASH!J1192*100,\"0000000000\")","v":"0000000000"},{"$f":"TEXT(MONTH(MICASH!K1192),\"00\") & TEXT(DAY(MICASH!K1192),\"00\") & RIGHT(TEXT(YEAR(MICASH!K1192),\"00\"),2)","v":"010000"},{"$f":"UPPER(LEFT(MICASH!L1192,96))","v":""}]
["C",288,"00",{"$f":"TEXT(MICASH!D1193,\"0000000000\")","v":"0000000000"}," ",{"$f":"UPPER(MICASH!F1193)","v":""},{"$f":"UPPER(MICASH!G1193)","v":""}," ",{"$f":"TEXT(MICASH!I1193,\"0000000000\")","v":"0000000000"},{"$f":"TEXT(MICASH!J1193*100,\"0000000000\")","v":"0000000000"},{"$f":"TEXT(MONTH(MICASH!K1193),\"00\") & TEXT(DAY(MICASH!K1193),\"00\") & RIGHT(TEXT(YEAR(MICASH!K1193),\"00\"),2)","v":"010000"},{"$f":"UPPER(LEFT(MICASH!L1193,96))","v":""}]
["C",288,"00",{"$f":"TEXT(MICASH!D1194,\"0000000000\")","v":"0000000000"}," ",{"$f":"UPPER(MICASH!F1194)","v":""},{"$f":"UPPER(MICASH!G1194)","v":""}," ",{"$f":"TEXT(MICASH!I1194,\"0000000000\")","v":"0000000000"},{"$f":"TEXT(MICASH!J1194*100,\"0000000000\")","v":"0000000000"},{"$f":"TEXT(MONTH(MICASH!K1194),\"00\") & TEXT(DAY(MICASH!K1194),\"00\") & RIGHT(TEXT(YEAR(MICASH!K1194),\"00\"),2)","v":"010000"},{"$f":"UPPER(LEFT(MICASH!L1194,96))","v":""}]
["C",288,"00",{"$f":"TEXT(MICASH!D1195,\"0000000000\")","v":"0000000000"}," ",{"$f":"UPPER(MICASH!F1195)","v":""},{"$f":"UPPER(MICASH!G1195)","v":""}," ",{"$f":"TEXT(MICASH!I1195,\"0000000000\")","v":"0000000000"},{"$f":"TEXT(MICASH!J1195*100,\"0000000000\")","v":"0000000000"},{"$f":"TEXT(MONTH(MICASH!K1195),\"00\") & TEXT(DAY(MICASH!K1195),\"00\") & RIGHT(TEXT(YEAR(MICASH!K1195),\"00\"),2)","v":"010000"},{"$f":"UPPER(LEFT(MICASH!L1195,96))","v":""}]
["C",288,"00",{"$f":"TEXT(MICASH!D1196,\"0000000000\")","v":"0000000000"}," ",{"$f":"UPPER(MICASH!F1196)","v":""},{"$f":"UPPER(MICASH!G1196)","v":""}," ",{"$f":"TEXT(MICASH!I1196,\"0000000000\")","v":"0000000000"},{"$f":"TEXT(MICASH!J1196*100,\"0000000000\")","v":"0000000000"},{"$f":"TEXT(MONTH(MICASH!K1196),\"00\") & TEXT(DAY(MICASH!K1196),\"00\") & RIGHT(TEXT(YEAR(MICASH!K1196),\"00\"),2)","v":"010000"},{"$f":"UPPER(LEFT(MICASH!L1196,96))","v":""}]
["C",288,"00",{"$f":"TEXT(MICASH!D1197,\"0000000000\")","v":"0000000000"}," ",{"$f":"UPPER(MICASH!F1197)","v":""},{"$f":"UPPER(MICASH!G1197)","v":""}," ",{"$f":"TEXT(MICASH!I1197,\"0000000000\")","v":"0000000000"},{"$f":"TEXT(MICASH!J1197*100,\"0000000000\")","v":"0000000000"},{"$f":"TEXT(MONTH(MICASH!K1197),\"00\") & TEXT(DAY(MICASH!K1197),\"00\") & RIGHT(TEXT(YEAR(MICASH!K1197),\"00\"),2)","v":"010000"},{"$f":"UPPER(LEFT(MICASH!L1197,96))","v":""}]
["C",288,"00",{"$f":"TEXT(MICASH!D1198,\"0000000000\")","v":"0000000000"}," ",{"$f":"UPPER(MICASH!F1198)","v":""},{"$f":"UPPER(MICASH!G1198)","v":""}," ",{"$f":"TEXT(MICASH!I1198,\"0000000000\")","v":"0000000000"},{"$f":"TEXT(MICASH!J1198*100,\"0000000000\")","v":"0000000000"},{"$f":"TEXT(MONTH(MICASH!K1198),\"00\") & TEXT(DAY(MICASH!K1198),\"00\") & RIGHT(TEXT(YEAR(MICASH!K1198),\"00\"),2)","v":"010000"},{"$f":"UPPER(LEFT(MICASH!L1198,96))","v":""}]
["C",288,"00",{"$f":"TEXT(MICASH!D1199,\"0000000000\")","v":"0000000000"}," ",{"$f":"UPPER(MICASH!F1199)","v":""},{"$f":"UPPER(MICASH!G1199)","v":""}," ",{"$f":"TEXT(MICASH!I1199,\"0000000000\")","v":"0000000000"},{"$f":"TEXT(MICASH!J1199*100,\"0000000000\")","v":"0000000000"},{"$f":"TEXT(MONTH(MICASH!K1199),\"00\") & TEXT(DAY(MICASH!K1199),\"00\") & RIGHT(TEXT(YEAR(MICASH!K1199),\"00\"),2)","v":"010000"},{"$f":"UPPER(LEFT(MICASH!L1199,96))","v":""}]
["C",288,"00",{"$f":"TEXT(MICASH!D1200,\"0000000000\")","v":"0000000000"}," ",{"$f":"UPPER(MICASH!F1200)","v":""},{"$f":"UPPER(MICASH!G1200)","v":""}," ",{"$f":"TEXT(MICASH!I1200,\"0000000000\")","v":"0000000000"},{"$f":"TEXT(MICASH!J1200*100,\"0000000000\")","v":"0000000000"},{"$f":"TEXT(MONTH(MICASH!K1200),\"00\") & TEXT(DAY(MICASH!K1200),\"00\") & RIGHT(TEXT(YEAR(MICASH!K1200),\"00\"),2)","v":"010000"},{"$f":"UPPER(LEFT(MICASH!L1200,96))","v":""}]
["C",288,"00",{"$f":"TEXT(MICASH!D1201,\"0000000000\")","v":"0000000000"}," ",{"$f":"UPPER(MICASH!F1201)","v":""},{"$f":"UPPER(MICASH!G1201)","v":""}," ",{"$f":"TEXT(MICASH!I1201,\"0000000000\")","v":"0000000000"},{"$f":"TEXT(MICASH!J1201*100,\"0000000000\")","v":"0000000000"},{"$f":"TEXT(MONTH(MICASH!K1201),\"00\") & TEXT(DAY(MICASH!K1201),\"00\") & RIGHT(TEXT(YEAR(MICASH!K1201),\"00\"),2)","v":"010000"},{"$f":"UPPER(LEFT(MICASH!L1201,96))","v":""}]
["C",288,"00",{"$f":"TEXT(MICASH!D1202,\"0000000000\")","v":"0000000000"}," ",{"$f":"UPPER(MICASH!F1202)","v":""},{"$f":"UPPER(MICASH!G1202)","v":""}," ",{"$f":"TEXT(MICASH!I1202,\"0000000000\")","v":"0000000000"},{"$f":"TEXT(MICASH!J1202*100,\"0000000000\")","v":"0000000000"},{"$f":"TEXT(MONTH(MICASH!K1202),\"00\") & TEXT(DAY(MICASH!K1202),\"00\") & RIGHT(TEXT(YEAR(MICASH!K1202),\"00\"),2)","v":"010000"},{"$f":"UPPER(LEFT(MICASH!L1202,96))","v":""}]
["C",288,"00",{"$f":"TEXT(MICASH!D1203,\"0000000000\")","v":"0000000000"}," ",{"$f":"UPPER(MICASH!F1203)","v":""},{"$f":"UPPER(MICASH!G1203)","v":""}," ",{"$f":"TEXT(MICASH!I1203,\"0000000000\")","v":"0000000000"},{"$f":"TEXT(MICASH!J1203*100,\"0000000000\")","v":"0000000000"},{"$f":"TEXT(MONTH(MICASH!K1203),\"00\") & TEXT(DAY(MICASH!K1203),\"00\") & RIGHT(TEXT(YEAR(MICASH!K1203),\"00\"),2)","v":"010000"},{"$f":"UPPER(LEFT(MICASH!L1203,96))","v":""}]
["C",288,"00",{"$f":"TEXT(MICASH!D1204,\"0000000000\")","v":"0000000000"}," ",{"$f":"UPPER(MICASH!F1204)","v":""},{"$f":"UPPER(MICASH!G1204)","v":""}," ",{"$f":"TEXT(MICASH!I1204,\"0000000000\")","v":"0000000000"},{"$f":"TEXT(MICASH!J1204*100,\"0000000000\")","v":"0000000000"},{"$f":"TEXT(MONTH(MICASH!K1204),\"00\") & TEXT(DAY(MICASH!K1204),\"00\") & RIGHT(TEXT(YEAR(MICASH!K1204),\"00\"),2)","v":"010000"},{"$f":"UPPER(LEFT(MICASH!L1204,96))","v":""}]
["C",288,"00",{"$f":"TEXT(MICASH!D1205,\"0000000000\")","v":"0000000000"}," ",{"$f":"UPPER(MICASH!F1205)","v":""},{"$f":"UPPER(MICASH!G1205)","v":""}," ",{"$f":"TEXT(MICASH!I1205,\"0000000000\")","v":"0000000000"},{"$f":"TEXT(MICASH!J1205*100,\"0000000000\")","v":"0000000000"},{"$f":"TEXT(MONTH(MICASH!K1205),\"00\") & TEXT(DAY(MICASH!K1205),\"00\") & RIGHT(TEXT(YEAR(MICASH!K1205),\"00\"),2)","v":"010000"},{"$f":"UPPER(LEFT(MICASH!L1205,96))","v":""}]
["C",288,"00",{"$f":"TEXT(MICASH!D1206,\"0000000000\")","v":"0000000000"}," ",{"$f":"UPPER(MICASH!F1206)","v":""},{"$f":"UPPER(MICASH!G1206)","v":""}," ",{"$f":"TEXT(MICASH!I1206,\"0000000000\")","v":"0000000000"},{"$f":"TEXT(MICASH!J1206*100,\"0000000000\")","v":"0000000000"},{"$f":"TEXT(MONTH(MICASH!K1206),\"00\") & TEXT(DAY(MICASH!K1206),\"00\") & RIGHT(TEXT(YEAR(MICASH!K1206),\"00\"),2)","v":"010000"},{"$f":"UPPER(LEFT(MICASH!L1206,96))","v":""}]
["C",288,"00",{"$f":"TEXT(MICASH!D1207,\"0000000000\")","v":"0000000000"}," ",{"$f":"UPPER(MICASH!F1207)","v":""},{"$f":"UPPER(MICASH!G1207)","v":""}," ",{"$f":"TEXT(MICASH!I1207,\"0000000000\")","v":"0000000000"},{"$f":"TEXT(MICASH!J1207*100,\"0000000000\")","v":"0000000000"},{"$f":"TEXT(MONTH(MICASH!K1207),\"00\") & TEXT(DAY(MICASH!K1207),\"00\") & RIGHT(TEXT(YEAR(MICASH!K1207),\"00\"),2)","v":"010000"},{"$f":"UPPER(LEFT(MICASH!L1207,96))","v":""}]
["C",288,"00",{"$f":"TEXT(MICASH!D1208,\"0000000000\")","v":"0000000000"}," ",{"$f":"UPPER(MICASH!F1208)","v":""},{"$f":"UPPER(MICASH!G1208)","v":""}," ",{"$f":"TEXT(MICASH!I1208,\"0000000000\")","v":"0000000000"},{"$f":"TEXT(MICASH!J1208*100,\"0000000000\")","v":"0000000000"},{"$f":"TEXT(MONTH(MICASH!K1208),\"00\") & TEXT(DAY(MICASH!K1208),\"00\") & RIGHT(TEXT(YEAR(MICASH!K1208),\"00\"),2)","v":"010000"},{"$f":"UPPER(LEFT(MICASH!L1208,96))","v":""}]
["C",288,"00",{"$f":"TEXT(MICASH!D1209,\"0000000000\")","v":"0000000000"}," ",{"$f":"UPPER(MICASH!F1209)","v":""},{"$f":"UPPER(MICASH!G1209)","v":""}," ",{"$f":"TEXT(MICASH!I1209,\"0000000000\")","v":"0000000000"},{"$f":"TEXT(MICASH!J1209*100,\"0000000000\")","v":"0000000000"},{"$f":"TEXT(MONTH(MICASH!K1209),\"00\") & TEXT(DAY(MICASH!K1209),\"00\") & RIGHT(TEXT(YEAR(MICASH!K1209),\"00\"),2)","v":"010000"},{"$f":"UPPER(LEFT(MICASH!L1209,96))","v":""}]
["C",288,"00",{"$f":"TEXT(MICASH!D1210,\"0000000000\")","v":"0000000000"}," ",{"$f":"UPPER(MICASH!F1210)","v":""},{"$f":"UPPER(MICASH!G1210)","v":""}," ",{"$f":"TEXT(MICASH!I1210,\"0000000000\")","v":"0000000000"},{"$f":"TEXT(MICASH!J1210*100,\"0000000000\")","v":"0000000000"},{"$f":"TEXT(MONTH(MICASH!K1210),\"00\") & TEXT(DAY(MICASH!K1210),\"00\") & RIGHT(TEXT(YEAR(MICASH!K1210),\"00\"),2)","v":"010000"},{"$f":"UPPER(LEFT(MICASH!L1210,96))","v":""}]
["C",288,"00",{"$f":"TEXT(MICASH!D1211,\"0000000000\")","v":"0000000000"}," ",{"$f":"UPPER(MICASH!F1211)","v":""},{"$f":"UPPER(MICASH!G1211)","v":""}," ",{"$f":"TEXT(MICASH!I1211,\"0000000000\")","v":"0000000000"},{"$f":"TEXT(MICASH!J1211*100,\"0000000000\")","v":"0000000000"},{"$f":"TEXT(MONTH(MICASH!K1211),\"00\") & TEXT(DAY(MICASH!K1211),\"00\") & RIGHT(TEXT(YEAR(MICASH!K1211),\"00\"),2)","v":"010000"},{"$f":"UPPER(LEFT(MICASH!L1211,96))","v":""}]
["C",288,"00",{"$f":"TEXT(MICASH!D1212,\"0000000000\")","v":"0000000000"}," ",{"$f":"UPPER(MICASH!F1212)","v":""},{"$f":"UPPER(MICASH!G1212)","v":""}," ",{"$f":"TEXT(MICASH!I1212,\"0000000000\")","v":"0000000000"},{"$f":"TEXT(MICASH!J1212*100,\"0000000000\")","v":"0000000000"},{"$f":"TEXT(MONTH(MICASH!K1212),\"00\") & TEXT(DAY(MICASH!K1212),\"00\") & RIGHT(TEXT(YEAR(MICASH!K1212),\"00\"),2)","v":"010000"},{"$f":"UPPER(LEFT(MICASH!L1212,96))","v":""}]
["C",288,"00",{"$f":"TEXT(MICASH!D1213,\"0000000000\")","v":"0000000000"}," ",{"$f":"UPPER(MICASH!F1213)","v":""},{"$f":"UPPER(MICASH!G1213)","v":""}," ",{"$f":"TEXT(MICASH!I1213,\"0000000000\")","v":"0000000000"},{"$f":"TEXT(MICASH!J1213*100,\"0000000000\")","v":"0000000000"},{"$f":"TEXT(MONTH(MICASH!K1213),\"00\") & TEXT(DAY(MICASH!K1213),\"00\") & RIGHT(TEXT(YEAR(MICASH!K1213),\"00\"),2)","v":"010000"},{"$f":"UPPER(LEFT(MICASH!L1213,96))","v":""}]
["C",288,"00",{"$f":"TEXT(MICASH!D1214,\"0000000000\")","v":"0000000000"}," ",{"$f":"UPPER(MICASH!F1214)","v":""},{"$f":"UPPER(MICASH!G1214)","v":""}," ",{"$f":"TEXT(MICASH!I1214,\"0000000000\")","v":"0000000000"},{"$f":"TEXT(MICASH!J1214*100,\"0000000000\")","v":"0000000000"},{"$f":"TEXT(MONTH(MICASH!K1214),\"00\") & TEXT(DAY(MICASH!K1214),\"00\") & RIGHT(TEXT(YEAR(MICASH!K1214),\"00\"),2)","v":"010000"},{"$f":"UPPER(LEFT(MICASH!L1214,96))","v":""}]
["C",288,"00",{"$f":"TEXT(MICASH!D1215,\"0000000000\")","v":"0000000000"}," ",{"$f":"UPPER(MICASH!F1215)","v":""},{"$f":"UPPER(MICASH!G1215)","v":""}," ",{"$f":"TEXT(MICASH!I1215,\"0000000000\")","v":"0000000000"},{"$f":"TEXT(MICASH!J1215*100,\"0000000000\")","v":"0000000000"},{"$f":"TEXT(MONTH(MICASH!K1215),\"00\") & TEXT(DAY(MICASH!K1215),\"00\") & RIGHT(TEXT(YEAR(MICASH!K1215),\"00\"),2)","v":"010000"},{"$f":"UPPER(LEFT(MICASH!L1215,96))","v":""}]
["C",288,"00",{"$f":"TEXT(MICASH!D1216,\"0000000000\")","v":"0000000000"}," ",{"$f":"UPPER(MICASH!F1216)","v":""},{"$f":"UPPER(MICASH!G1216)","v":""}," ",{"$f":"TEXT(MICASH!I1216,\"0000000000\")","v":"0000000000"},{"$f":"TEXT(MICASH!J1216*100,\"0000000000\")","v":"0000000000"},{"$f":"TEXT(MONTH(MICASH!K1216),\"00\") & TEXT(DAY(MICASH!K1216),\"00\") & RIGHT(TEXT(YEAR(MICASH!K1216),\"00\"),2)","v":"010000"},{"$f":"UPPER(LEFT(MICASH!L1216,96))","v":""}]
["C",288,"00",{"$f":"TEXT(MICASH!D1217,\"0000000000\")","v":"0000000000"}," ",{"$f":"UPPER(MICASH!F1217)","v":""},{"$f":"UPPER(MICASH!G1217)","v":""}," ",{"$f":"TEXT(MICASH!I1217,\"0000000000\")","v":"0000000000"},{"$f":"TEXT(MICASH!J1217*100,\"0000000000\")","v":"0000000000"},{"$f":"TEXT(MONTH(MICASH!K1217),\"00\") & TEXT(DAY(MICASH!K1217),\"00\") & RIGHT(TEXT(YEAR(MICASH!K1217),\"00\"),2)","v":"010000"},{"$f":"UPPER(LEFT(MICASH!L1217,96))","v":""}]
["C",288,"00",{"$f":"TEXT(MICASH!D1218,\"0000000000\")","v":"0000000000"}," ",{"$f":"UPPER(MICASH!F1218)","v":""},{"$f":"UPPER(MICASH!G1218)","v":""}," ",{"$f":"TEXT(MICASH!I1218,\"0000000000\")","v":"0000000000"},{"$f":"TEXT(MICASH!J1218*100,\"0000000000\")","v":"0000000000"},{"$f":"TEXT(MONTH(MICASH!K1218),\"00\") & TEXT(DAY(MICASH!K1218),\"00\") & RIGHT(TEXT(YEAR(MICASH!K1218),\"00\"),2)","v":"010000"},{"$f":"UPPER(LEFT(MICASH!L1218,96))","v":""}]
["C",288,"00",{"$f":"TEXT(MICASH!D1219,\"0000000000\")","v":"0000000000"}," ",{"$f":"UPPER(MICASH!F1219)","v":""},{"$f":"UPPER(MICASH!G1219)","v":""}," ",{"$f":"TEXT(MICASH!I1219,\"0000000000\")","v":"0000000000"},{"$f":"TEXT(MICASH!J1219*100,\"0000000000\")","v":"0000000000"},{"$f":"TEXT(MONTH(MICASH!K1219),\"00\") & TEXT(DAY(MICASH!K1219),\"00\") & RIGHT(TEXT(YEAR(MICASH!K1219),\"00\"),2)","v":"010000"},{"$f":"UPPER(LEFT(MICASH!L1219,96))","v":""}]
["C",288,"00",{"$f":"TEXT(MICASH!D1220,\"0000000000\")","v":"0000000000"}," ",{"$f":"UPPER(MICASH!F1220)","v":""},{"$f":"UPPER(MICASH!G1220)","v":""}," ",{"$f":"TEXT(MICASH!I1220,\"0000000000\")","v":"0000000000"},{"$f":"TEXT(MICASH!J1220*100,\"0000000000\")","v":"0000000000"},{"$f":"TEXT(MONTH(MICASH!K1220),\"00\") & TEXT(DAY(MICASH!K1220),\"00\") & RIGHT(TEXT(YEAR(MICASH!K1220),\"00\"),2)","v":"010000"},{"$f":"UPPER(LEFT(MICASH!L1220,96))","v":""}]
["C",288,"00",{"$f":"TEXT(MICASH!D1221,\"0000000000\")","v":"0000000000"}," ",{"$f":"UPPER(MICASH!F1221)","v":""},{"$f":"UPPER(MICASH!G1221)","v":""}," ",{"$f":"TEXT(MICASH!I1221,\"0000000000\")","v":"0000000000"},{"$f":"TEXT(MICASH!J1221*100,\"0000000000\")","v":"0000000000"},{"$f":"TEXT(MONTH(MICASH!K1221),\"00\") & TEXT(DAY(MICASH!K1221),\"00\") & RIGHT(TEXT(YEAR(MICASH!K1221),\"00\"),2)","v":"010000"},{"$f":"UPPER(LEFT(MICASH!L1221,96))","v":""}]
["C",288,"00",{"$f":"TEXT(MICASH!D1222,\"0000000000\")","v":"0000000000"}," ",{"$f":"UPPER(MICASH!F1222)","v":""},{"$f":"UPPER(MICASH!G1222)","v":""}," ",{"$f":"TEXT(MICASH!I1222,\"0000000000\")","v":"0000000000"},{"$f":"TEXT(MICASH!J1222*100,\"0000000000\")","v":"0000000000"},{"$f":"TEXT(MONTH(MICASH!K1222),\"00\") & TEXT(DAY(MICASH!K1222),\"00\") & RIGHT(TEXT(YEAR(MICASH!K1222),\"00\"),2)","v":"010000"},{"$f":"UPPER(LEFT(MICASH!L1222,96))","v":""}]
["C",288,"00",{"$f":"TEXT(MICASH!D1223,\"0000000000\")","v":"0000000000"}," ",{"$f":"UPPER(MICASH!F1223)","v":""},{"$f":"UPPER(MICASH!G1223)","v":""}," ",{"$f":"TEXT(MICASH!I1223,\"0000000000\")","v":"0000000000"},{"$f":"TEXT(MICASH!J1223*100,\"0000000000\")","v":"0000000000"},{"$f":"TEXT(MONTH(MICASH!K1223),\"00\") & TEXT(DAY(MICASH!K1223),\"00\") & RIGHT(TEXT(YEAR(MICASH!K1223),\"00\"),2)","v":"010000"},{"$f":"UPPER(LEFT(MICASH!L1223,96))","v":""}]
["C",288,"00",{"$f":"TEXT(MICASH!D1224,\"0000000000\")","v":"0000000000"}," ",{"$f":"UPPER(MICASH!F1224)","v":""},{"$f":"UPPER(MICASH!G1224)","v":""}," ",{"$f":"TEXT(MICASH!I1224,\"0000000000\")","v":"0000000000"},{"$f":"TEXT(MICASH!J1224*100,\"0000000000\")","v":"0000000000"},{"$f":"TEXT(MONTH(MICASH!K1224),\"00\") & TEXT(DAY(MICASH!K1224),\"00\") & RIGHT(TEXT(YEAR(MICASH!K1224),\"00\"),2)","v":"010000"},{"$f":"UPPER(LEFT(MICASH!L1224,96))","v":""}]
["C",288,"00",{"$f":"TEXT(MICASH!D1225,\"0000000000\")","v":"0000000000"}," ",{"$f":"UPPER(MICASH!F1225)","v":""},{"$f":"UPPER(MICASH!G1225)","v":""}," ",{"$f":"TEXT(MICASH!I1225,\"0000000000\")","v":"0000000000"},{"$f":"TEXT(MICASH!J1225*100,\"0000000000\")","v":"0000000000"},{"$f":"TEXT(MONTH(MICASH!K1225),\"00\") & TEXT(DAY(MICASH!K1225),\"00\") & RIGHT(TEXT(YEAR(MICASH!K1225),\"00\"),2)","v":"010000"},{"$f":"UPPER(LEFT(MICASH!L1225,96))","v":""}]
["C",288,"00",{"$f":"TEXT(MICASH!D1226,\"0000000000\")","v":"0000000000"}," ",{"$f":"UPPER(MICASH!F1226)","v":""},{"$f":"UPPER(MICASH!G1226)","v":""}," ",{"$f":"TEXT(MICASH!I1226,\"0000000000\")","v":"0000000000"},{"$f":"TEXT(MICASH!J1226*100,\"0000000000\")","v":"0000000000"},{"$f":"TEXT(MONTH(MICASH!K1226),\"00\") & TEXT(DAY(MICASH!K1226),\"00\") & RIGHT(TEXT(YEAR(MICASH!K1226),\"00\"),2)","v":"010000"},{"$f":"UPPER(LEFT(MICASH!L1226,96))","v":""}]
["C",288,"00",{"$f":"TEXT(MICASH!D1227,\"0000000000\")","v":"0000000000"}," ",{"$f":"UPPER(MICASH!F1227)","v":""},{"$f":"UPPER(MICASH!G1227)","v":""}," ",{"$f":"TEXT(MICASH!I1227,\"0000000000\")","v":"0000000000"},{"$f":"TEXT(MICASH!J1227*100,\"0000000000\")","v":"0000000000"},{"$f":"TEXT(MONTH(MICASH!K1227),\"00\") & TEXT(DAY(MICASH!K1227),\"00\") & RIGHT(TEXT(YEAR(MICASH!K1227),\"00\"),2)","v":"010000"},{"$f":"UPPER(LEFT(MICASH!L1227,96))","v":""}]
["C",288,"00",{"$f":"TEXT(MICASH!D1228,\"0000000000\")","v":"0000000000"}," ",{"$f":"UPPER(MICASH!F1228)","v":""},{"$f":"UPPER(MICASH!G1228)","v":""}," ",{"$f":"TEXT(MICASH!I1228,\"0000000000\")","v":"0000000000"},{"$f":"TEXT(MICASH!J1228*100,\"0000000000\")","v":"0000000000"},{"$f":"TEXT(MONTH(MICASH!K1228),\"00\") & TEXT(DAY(MICASH!K1228),\"00\") & RIGHT(TEXT(YEAR(MICASH!K1228),\"00\"),2)","v":"010000"},{"$f":"UPPER(LEFT(MICASH!L1228,96))","v":""}]
["C",288,"00",{"$f":"TEXT(MICASH!D1229,\"0000000000\")","v":"0000000000"}," ",{"$f":"UPPER(MICASH!F1229)","v":""},{"$f":"UPPER(MICASH!G1229)","v":""}," ",{"$f":"TEXT(MICASH!I1229,\"0000000000\")","v":"0000000000"},{"$f":"TEXT(MICASH!J1229*100,\"0000000000\")","v":"0000000000"},{"$f":"TEXT(MONTH(MICASH!K1229),\"00\") & TEXT(DAY(MICASH!K1229),\"00\") & RIGHT(TEXT(YEAR(MICASH!K1229),\"00\"),2)","v":"010000"},{"$f":"UPPER(LEFT(MICASH!L1229,96))","v":""}]
["C",288,"00",{"$f":"TEXT(MICASH!D1230,\"0000000000\")","v":"0000000000"}," ",{"$f":"UPPER(MICASH!F1230)","v":""},{"$f":"UPPER(MICASH!G1230)","v":""}," ",{"$f":"TEXT(MICASH!I1230,\"0000000000\")","v":"0000000000"},{"$f":"TEXT(MICASH!J1230*100,\"0000000000\")","v":"0000000000"},{"$f":"TEXT(MONTH(MICASH!K1230),\"00\") & TEXT(DAY(MICASH!K1230),\"00\") & RIGHT(TEXT(YEAR(MICASH!K1230),\"00\"),2)","v":"010000"},{"$f":"UPPER(LEFT(MICASH!L1230,96))","v":""}]
["C",288,"00",{"$f":"TEXT(MICASH!D1231,\"0000000000\")","v":"0000000000"}," ",{"$f":"UPPER(MICASH!F1231)","v":""},{"$f":"UPPER(MICASH!G1231)","v":""}," ",{"$f":"TEXT(MICASH!I1231,\"0000000000\")","v":"0000000000"},{"$f":"TEXT(MICASH!J1231*100,\"0000000000\")","v":"0000000000"},{"$f":"TEXT(MONTH(MICASH!K1231),\"00\") & TEXT(DAY(MICASH!K1231),\"00\") & RIGHT(TEXT(YEAR(MICASH!K1231),\"00\"),2)","v":"010000"},{"$f":"UPPER(LEFT(MICASH!L1231,96))","v":""}]
["C",288,"00",{"$f":"TEXT(MICASH!D1232,\"0000000000\")","v":"0000000000"}," ",{"$f":"UPPER(MICASH!F1232)","v":""},{"$f":"UPPER(MICASH!G1232)","v":""}," ",{"$f":"TEXT(MICASH!I1232,\"0000000000\")","v":"0000000000"},{"$f":"TEXT(MICASH!J1232*100,\"0000000000\")","v":"0000000000"},{"$f":"TEXT(MONTH(MICASH!K1232),\"00\") & TEXT(DAY(MICASH!K1232),\"00\") & RIGHT(TEXT(YEAR(MICASH!K1232),\"00\"),2)","v":"010000"},{"$f":"UPPER(LEFT(MICASH!L1232,96))","v":""}]
["C",288,"00",{"$f":"TEXT(MICASH!D1233,\"0000000000\")","v":"0000000000"}," ",{"$f":"UPPER(MICASH!F1233)","v":""},{"$f":"UPPER(MICASH!G1233)","v":""}," ",{"$f":"TEXT(MICASH!I1233,\"0000000000\")","v":"0000000000"},{"$f":"TEXT(MICASH!J1233*100,\"0000000000\")","v":"0000000000"},{"$f":"TEXT(MONTH(MICASH!K1233),\"00\") & TEXT(DAY(MICASH!K1233),\"00\") & RIGHT(TEXT(YEAR(MICASH!K1233),\"00\"),2)","v":"010000"},{"$f":"UPPER(LEFT(MICASH!L1233,96))","v":""}]
["C",288,"00",{"$f":"TEXT(MICASH!D1234,\"0000000000\")","v":"0000000000"}," ",{"$f":"UPPER(MICASH!F1234)","v":""},{"$f":"UPPER(MICASH!G1234)","v":""}," ",{"$f":"TEXT(MICASH!I1234,\"0000000000\")","v":"0000000000"},{"$f":"TEXT(MICASH!J1234*100,\"0000000000\")","v":"0000000000"},{"$f":"TEXT(MONTH(MICASH!K1234),\"00\") & TEXT(DAY(MICASH!K1234),\"00\") & RIGHT(TEXT(YEAR(MICASH!K1234),\"00\"),2)","v":"010000"},{"$f":"UPPER(LEFT(MICASH!L1234,96))","v":""}]
["C",288,"00",{"$f":"TEXT(MICASH!D1235,\"0000000000\")","v":"0000000000"}," ",{"$f":"UPPER(MICASH!F1235)","v":""},{"$f":"UPPER(MICASH!G1235)","v":""}," ",{"$f":"TEXT(MICASH!I1235,\"0000000000\")","v":"0000000000"},{"$f":"TEXT(MICASH!J1235*100,\"0000000000\")","v":"0000000000"},{"$f":"TEXT(MONTH(MICASH!K1235),\"00\") & TEXT(DAY(MICASH!K1235),\"00\") & RIGHT(TEXT(YEAR(MICASH!K1235),\"00\"),2)","v":"010000"},{"$f":"UPPER(LEFT(MICASH!L1235,96))","v":""}]
["C",288,"00",{"$f":"TEXT(MICASH!D1236,\"0000000000\")","v":"0000000000"}," ",{"$f":"UPPER(MICASH!F1236)","v":""},{"$f":"UPPER(MICASH!G1236)","v":""}," ",{"$f":"TEXT(MICASH!I1236,\"0000000000\")","v":"0000000000"},{"$f":"TEXT(MICASH!J1236*100,\"0000000000\")","v":"0000000000"},{"$f":"TEXT(MONTH(MICASH!K1236),\"00\") & TEXT(DAY(MICASH!K1236),\"00\") & RIGHT(TEXT(YEAR(MICASH!K1236),\"00\"),2)","v":"010000"},{"$f":"UPPER(LEFT(MICASH!L1236,96))","v":""}]
["C",288,"00",{"$f":"TEXT(MICASH!D1237,\"0000000000\")","v":"0000000000"}," ",{"$f":"UPPER(MICASH!F1237)","v":""},{"$f":"UPPER(MICASH!G1237)","v":""}," ",{"$f":"TEXT(MICASH!I1237,\"0000000000\")","v":"0000000000"},{"$f":"TEXT(MICASH!J1237*100,\"0000000000\")","v":"0000000000"},{"$f":"TEXT(MONTH(MICASH!K1237),\"00\") & TEXT(DAY(MICASH!K1237),\"00\") & RIGHT(TEXT(YEAR(MICASH!K1237),\"00\"),2)","v":"010000"},{"$f":"UPPER(LEFT(MICASH!L1237,96))","v":""}]
["C",288,"00",{"$f":"TEXT(MICASH!D1238,\"0000000000\")","v":"0000000000"}," ",{"$f":"UPPER(MICASH!F1238)","v":""},{"$f":"UPPER(MICASH!G1238)","v":""}," ",{"$f":"TEXT(MICASH!I1238,\"0000000000\")","v":"0000000000"},{"$f":"TEXT(MICASH!J1238*100,\"0000000000\")","v":"0000000000"},{"$f":"TEXT(MONTH(MICASH!K1238),\"00\") & TEXT(DAY(MICASH!K1238),\"00\") & RIGHT(TEXT(YEAR(MICASH!K1238),\"00\"),2)","v":"010000"},{"$f":"UPPER(LEFT(MICASH!L1238,96))","v":""}]
["C",288,"00",{"$f":"TEXT(MICASH!D1239,\"0000000000\")","v":"0000000000"}," ",{"$f":"UPPER(MICASH!F1239)","v":""},{"$f":"UPPER(MICASH!G1239)","v":""}," ",{"$f":"TEXT(MICASH!I1239,\"0000000000\")","v":"0000000000"},{"$f":"TEXT(MICASH!J1239*100,\"0000000000\")","v":"0000000000"},{"$f":"TEXT(MONTH(MICASH!K1239),\"00\") & TEXT(DAY(MICASH!K1239),\"00\") & RIGHT(TEXT(YEAR(MICASH!K1239),\"00\"),2)","v":"010000"},{"$f":"UPPER(LEFT(MICASH!L1239,96))","v":""}]
["C",288,"00",{"$f":"TEXT(MICASH!D1240,\"0000000000\")","v":"0000000000"}," ",{"$f":"UPPER(MICASH!F1240)","v":""},{"$f":"UPPER(MICASH!G1240)","v":""}," ",{"$f":"TEXT(MICASH!I1240,\"0000000000\")","v":"0000000000"},{"$f":"TEXT(MICASH!J1240*100,\"0000000000\")","v":"0000000000"},{"$f":"TEXT(MONTH(MICASH!K1240),\"00\") & TEXT(DAY(MICASH!K1240),\"00\") & RIGHT(TEXT(YEAR(MICASH!K1240),\"00\"),2)","v":"010000"},{"$f":"UPPER(LEFT(MICASH!L1240,96))","v":""}]
["C",288,"00",{"$f":"TEXT(MICASH!D1241,\"0000000000\")","v":"0000000000"}," ",{"$f":"UPPER(MICASH!F1241)","v":""},{"$f":"UPPER(MICASH!G1241)","v":""}," ",{"$f":"TEXT(MICASH!I1241,\"0000000000\")","v":"0000000000"},{"$f":"TEXT(MICASH!J1241*100,\"0000000000\")","v":"0000000000"},{"$f":"TEXT(MONTH(MICASH!K1241),\"00\") & TEXT(DAY(MICASH!K1241),\"00\") & RIGHT(TEXT(YEAR(MICASH!K1241),\"00\"),2)","v":"010000"},{"$f":"UPPER(LEFT(MICASH!L1241,96))","v":""}]
["C",288,"00",{"$f":"TEXT(MICASH!D1242,\"0000000000\")","v":"0000000000"}," ",{"$f":"UPPER(MICASH!F1242)","v":""},{"$f":"UPPER(MICASH!G1242)","v":""}," ",{"$f":"TEXT(MICASH!I1242,\"0000000000\")","v":"0000000000"},{"$f":"TEXT(MICASH!J1242*100,\"0000000000\")","v":"0000000000"},{"$f":"TEXT(MONTH(MICASH!K1242),\"00\") & TEXT(DAY(MICASH!K1242),\"00\") & RIGHT(TEXT(YEAR(MICASH!K1242),\"00\"),2)","v":"010000"},{"$f":"UPPER(LEFT(MICASH!L1242,96))","v":""}]
["C",288,"00",{"$f":"TEXT(MICASH!D1243,\"0000000000\")","v":"0000000000"}," ",{"$f":"UPPER(MICASH!F1243)","v":""},{"$f":"UPPER(MICASH!G1243)","v":""}," ",{"$f":"TEXT(MICASH!I1243,\"0000000000\")","v":"0000000000"},{"$f":"TEXT(MICASH!J1243*100,\"0000000000\")","v":"0000000000"},{"$f":"TEXT(MONTH(MICASH!K1243),\"00\") & TEXT(DAY(MICASH!K1243),\"00\") & RIGHT(TEXT(YEAR(MICASH!K1243),\"00\"),2)","v":"010000"},{"$f":"UPPER(LEFT(MICASH!L1243,96))","v":""}]
["C",288,"00",{"$f":"TEXT(MICASH!D1244,\"0000000000\")","v":"0000000000"}," ",{"$f":"UPPER(MICASH!F1244)","v":""},{"$f":"UPPER(MICASH!G1244)","v":""}," ",{"$f":"TEXT(MICASH!I1244,\"0000000000\")","v":"0000000000"},{"$f":"TEXT(MICASH!J1244*100,\"0000000000\")","v":"0000000000"},{"$f":"TEXT(MONTH(MICASH!K1244),\"00\") & TEXT(DAY(MICASH!K1244),\"00\") & RIGHT(TEXT(YEAR(MICASH!K1244),\"00\"),2)","v":"010000"},{"$f":"UPPER(LEFT(MICASH!L1244,96))","v":""}]
["C",288,"00",{"$f":"TEXT(MICASH!D1245,\"0000000000\")","v":"0000000000"}," ",{"$f":"UPPER(MICASH!F1245)","v":""},{"$f":"UPPER(MICASH!G1245)","v":""}," ",{"$f":"TEXT(MICASH!I1245,\"0000000000\")","v":"0000000000"},{"$f":"TEXT(MICASH!J1245*100,\"0000000000\")","v":"0000000000"},{"$f":"TEXT(MONTH(MICASH!K1245),\"00\") & TEXT(DAY(MICASH!K1245),\"00\") & RIGHT(TEXT(YEAR(MICASH!K1245),\"00\"),2)","v":"010000"},{"$f":"UPPER(LEFT(MICASH!L1245,96))","v":""}]
["C",288,"00",{"$f":"TEXT(MICASH!D1246,\"0000000000\")","v":"0000000000"}," ",{"$f":"UPPER(MICASH!F1246)","v":""},{"$f":"UPPER(MICASH!G1246)","v":""}," ",{"$f":"TEXT(MICASH!I1246,\"0000000000\")","v":"0000000000"},{"$f":"TEXT(MICASH!J1246*100,\"0000000000\")","v":"0000000000"},{"$f":"TEXT(MONTH(MICASH!K1246),\"00\") & TEXT(DAY(MICASH!K1246),\"00\") & RIGHT(TEXT(YEAR(MICASH!K1246),\"00\"),2)","v":"010000"},{"$f":"UPPER(LEFT(MICASH!L1246,96))","v":""}]
["C",288,"00",{"$f":"TEXT(MICASH!D1247,\"0000000000\")","v":"0000000000"}," ",{"$f":"UPPER(MICASH!F1247)","v":""},{"$f":"UPPER(MICASH!G1247)","v":""}," ",{"$f":"TEXT(MICASH!I1247,\"0000000000\")","v":"0000000000"},{"$f":"TEXT(MICASH!J1247*100,\"0000000000\")","v":"0000000000"},{"$f":"TEXT(MONTH(MICASH!K1247),\"00\") & TEXT(DAY(MICASH!K1247),\"00\") & RIGHT(TEXT(YEAR(MICASH!K1247),\"00\"),2)","v":"010000"},{"$f":"UPPER(LEFT(MICASH!L1247,96))","v":""}]
["C",288,"00",{"$f":"TEXT(MICASH!D1248,\"0000000000\")","v":"0000000000"}," ",{"$f":"UPPER(MICASH!F1248)","v":""},{"$f":"UPPER(MICASH!G1248)","v":""}," ",{"$f":"TEXT(MICASH!I1248,\"0000000000\")","v":"0000000000"},{"$f":"TEXT(MICASH!J1248*100,\"0000000000\")","v":"0000000000"},{"$f":"TEXT(MONTH(MICASH!K1248),\"00\") & TEXT(DAY(MICASH!K1248),\"00\") & RIGHT(TEXT(YEAR(MICASH!K1248),\"00\"),2)","v":"010000"},{"$f":"UPPER(LEFT(MICASH!L1248,96))","v":""}]
["C",288,"00",{"$f":"TEXT(MICASH!D1249,\"0000000000\")","v":"0000000000"}," ",{"$f":"UPPER(MICASH!F1249)","v":""},{"$f":"UPPER(MICASH!G1249)","v":""}," ",{"$f":"TEXT(MICASH!I1249,\"0000000000\")","v":"0000000000"},{"$f":"TEXT(MICASH!J1249*100,\"0000000000\")","v":"0000000000"},{"$f":"TEXT(MONTH(MICASH!K1249),\"00\") & TEXT(DAY(MICASH!K1249),\"00\") & RIGHT(TEXT(YEAR(MICASH!K1249),\"00\"),2)","v":"010000"},{"$f":"UPPER(LEFT(MICASH!L1249,96))","v":""}]
["C",288,"00",{"$f":"TEXT(MICASH!D1250,\"0000000000\")","v":"0000000000"}," ",{"$f":"UPPER(MICASH!F1250)","v":""},{"$f":"UPPER(MICASH!G1250)","v":""}," ",{"$f":"TEXT(MICASH!I1250,\"0000000000\")","v":"0000000000"},{"$f":"TEXT(MICASH!J1250*100,\"0000000000\")","v":"0000000000"},{"$f":"TEXT(MONTH(MICASH!K1250),\"00\") & TEXT(DAY(MICASH!K1250),\"00\") & RIGHT(TEXT(YEAR(MICASH!K1250),\"00\"),2)","v":"010000"},{"$f":"UPPER(LEFT(MICASH!L1250,96))","v":""}]
["C",288,"00",{"$f":"TEXT(MICASH!D1251,\"0000000000\")","v":"0000000000"}," ",{"$f":"UPPER(MICASH!F1251)","v":""},{"$f":"UPPER(MICASH!G1251)","v":""}," ",{"$f":"TEXT(MICASH!I1251,\"0000000000\")","v":"0000000000"},{"$f":"TEXT(MICASH!J1251*100,\"0000000000\")","v":"0000000000"},{"$f":"TEXT(MONTH(MICASH!K1251),\"00\") & TEXT(DAY(MICASH!K1251),\"00\") & RIGHT(TEXT(YEAR(MICASH!K1251),\"00\"),2)","v":"010000"},{"$f":"UPPER(LEFT(MICASH!L1251,96))","v":""}]
["C",288,"00",{"$f":"TEXT(MICASH!D1252,\"0000000000\")","v":"0000000000"}," ",{"$f":"UPPER(MICASH!F1252)","v":""},{"$f":"UPPER(MICASH!G1252)","v":""}," ",{"$f":"TEXT(MICASH!I1252,\"0000000000\")","v":"0000000000"},{"$f":"TEXT(MICASH!J1252*100,\"0000000000\")","v":"0000000000"},{"$f":"TEXT(MONTH(MICASH!K1252),\"00\") & TEXT(DAY(MICASH!K1252),\"00\") & RIGHT(TEXT(YEAR(MICASH!K1252),\"00\"),2)","v":"010000"},{"$f":"UPPER(LEFT(MICASH!L1252,96))","v":""}]
["C",288,"00",{"$f":"TEXT(MICASH!D1253,\"0000000000\")","v":"0000000000"}," ",{"$f":"UPPER(MICASH!F1253)","v":""},{"$f":"UPPER(MICASH!G1253)","v":""}," ",{"$f":"TEXT(MICASH!I1253,\"0000000000\")","v":"0000000000"},{"$f":"TEXT(MICASH!J1253*100,\"0000000000\")","v":"0000000000"},{"$f":"TEXT(MONTH(MICASH!K1253),\"00\") & TEXT(DAY(MICASH!K1253),\"00\") & RIGHT(TEXT(YEAR(MICASH!K1253),\"00\"),2)","v":"010000"},{"$f":"UPPER(LEFT(MICASH!L1253,96))","v":""}]
["C",288,"00",{"$f":"TEXT(MICASH!D1254,\"0000000000\")","v":"0000000000"}," ",{"$f":"UPPER(MICASH!F1254)","v":""},{"$f":"UPPER(MICASH!G1254)","v":""}," ",{"$f":"TEXT(MICASH!I1254,\"0000000000\")","v":"0000000000"},{"$f":"TEXT(MICASH!J1254*100,\"0000000000\")","v":"0000000000"},{"$f":"TEXT(MONTH(MICASH!K1254),\"00\") & TEXT(DAY(MICASH!K1254),\"00\") & RIGHT(TEXT(YEAR(MICASH!K1254),\"00\"),2)","v":"010000"},{"$f":"UPPER(LEFT(MICASH!L1254,96))","v":""}]
["C",288,"00",{"$f":"TEXT(MICASH!D1255,\"0000000000\")","v":"0000000000"}," ",{"$f":"UPPER(MICASH!F1255)","v":""},{"$f":"UPPER(MICASH!G1255)","v":""}," ",{"$f":"TEXT(MICASH!I1255,\"0000000000\")","v":"0000000000"},{"$f":"TEXT(MICASH!J1255*100,\"0000000000\")","v":"0000000000"},{"$f":"TEXT(MONTH(MICASH!K1255),\"00\") & TEXT(DAY(MICASH!K1255),\"00\") & RIGHT(TEXT(YEAR(MICASH!K1255),\"00\"),2)","v":"010000"},{"$f":"UPPER(LEFT(MICASH!L1255,96))","v":""}]
["C",288,"00",{"$f":"TEXT(MICASH!D1256,\"0000000000\")","v":"0000000000"}," ",{"$f":"UPPER(MICASH!F1256)","v":""},{"$f":"UPPER(MICASH!G1256)","v":""}," ",{"$f":"TEXT(MICASH!I1256,\"0000000000\")","v":"0000000000"},{"$f":"TEXT(MICASH!J1256*100,\"0000000000\")","v":"0000000000"},{"$f":"TEXT(MONTH(MICASH!K1256),\"00\") & TEXT(DAY(MICASH!K1256),\"00\") & RIGHT(TEXT(YEAR(MICASH!K1256),\"00\"),2)","v":"010000"},{"$f":"UPPER(LEFT(MICASH!L1256,96))","v":""}]
["C",288,"00",{"$f":"TEXT(MICASH!D1257,\"0000000000\")","v":"0000000000"}," ",{"$f":"UPPER(MICASH!F1257)","v":""},{"$f":"UPPER(MICASH!G1257)","v":""}," ",{"$f":"TEXT(MICASH!I1257,\"0000000000\")","v":"0000000000"},{"$f":"TEXT(MICASH!J1257*100,\"0000000000\")","v":"0000000000"},{"$f":"TEXT(MONTH(MICASH!K1257),\"00\") & TEXT(DAY(MICASH!K1257),\"00\") & RIGHT(TEXT(YEAR(MICASH!K1257),\"00\"),2)","v":"010000"},{"$f":"UPPER(LEFT(MICASH!L1257,96))","v":""}]
["C",288,"00",{"$f":"TEXT(MICASH!D1258,\"0000000000\")","v":"0000000000"}," ",{"$f":"UPPER(MICASH!F1258)","v":""},{"$f":"UPPER(MICASH!G1258)","v":""}," ",{"$f":"TEXT(MICASH!I1258,\"0000000000\")","v":"0000000000"},{"$f":"TEXT(MICASH!J1258*100,\"0000000000\")","v":"0000000000"},{"$f":"TEXT(MONTH(MICASH!K1258),\"00\") & TEXT(DAY(MICASH!K1258),\"00\") & RIGHT(TEXT(YEAR(MICASH!K1258),\"00\"),2)","v":"010000"},{"$f":"UPPER(LEFT(MICASH!L1258,96))","v":""}]
["C",288,"00",{"$f":"TEXT(MICASH!D1259,\"0000000000\")","v":"0000000000"}," ",{"$f":"UPPER(MICASH!F1259)","v":""},{"$f":"UPPER(MICASH!G1259)","v":""}," ",{"$f":"TEXT(MICASH!I1259,\"0000000000\")","v":"0000000000"},{"$f":"TEXT(MICASH!J1259*100,\"0000000000\")","v":"0000000000"},{"$f":"TEXT(MONTH(MICASH!K1259),\"00\") & TEXT(DAY(MICASH!K1259),\"00\") & RIGHT(TEXT(YEAR(MICASH!K1259),\"00\"),2)","v":"010000"},{"$f":"UPPER(LEFT(MICASH!L1259,96))","v":""}]
["C",288,"00",{"$f":"TEXT(MICASH!D1260,\"0000000000\")","v":"0000000000"}," ",{"$f":"UPPER(MICASH!F1260)","v":""},{"$f":"UPPER(MICASH!G1260)","v":""}," ",{"$f":"TEXT(MICASH!I1260,\"0000000000\")","v":"0000000000"},{"$f":"TEXT(MICASH!J1260*100,\"0000000000\")","v":"0000000000"},{"$f":"TEXT(MONTH(MICASH!K1260),\"00\") & TEXT(DAY(MICASH!K1260),\"00\") & RIGHT(TEXT(YEAR(MICASH!K1260),\"00\"),2)","v":"010000"},{"$f":"UPPER(LEFT(MICASH!L1260,96))","v":""}]
["C",288,"00",{"$f":"TEXT(MICASH!D1261,\"0000000000\")","v":"0000000000"}," ",{"$f":"UPPER(MICASH!F1261)","v":""},{"$f":"UPPER(MICASH!G1261)","v":""}," ",{"$f":"TEXT(MICASH!I1261,\"0000000000\")","v":"0000000000"},{"$f":"TEXT(MICASH!J1261*100,\"0000000000\")","v":"0000000000"},{"$f":"TEXT(MONTH(MICASH!K1261),\"00\") & TEXT(DAY(MICASH!K1261),\"00\") & RIGHT(TEXT(YEAR(MICASH!K1261),\"00\"),2)","v":"010000"},{"$f":"UPPER(LEFT(MICASH!L1261,96))","v":""}]
["C",288,"00",{"$f":"TEXT(MICASH!D1262,\"0000000000\")","v":"0000000000"}," ",{"$f":"UPPER(MICASH!F1262)","v":""},{"$f":"UPPER(MICASH!G1262)","v":""}," ",{"$f":"TEXT(MICASH!I1262,\"0000000000\")","v":"0000000000"},{"$f":"TEXT(MICASH!J1262*100,\"0000000000\")","v":"0000000000"},{"$f":"TEXT(MONTH(MICASH!K1262),\"00\") & TEXT(DAY(MICASH!K1262),\"00\") & RIGHT(TEXT(YEAR(MICASH!K1262),\"00\"),2)","v":"010000"},{"$f":"UPPER(LEFT(MICASH!L1262,96))","v":""}]
["C",288,"00",{"$f":"TEXT(MICASH!D1263,\"0000000000\")","v":"0000000000"}," ",{"$f":"UPPER(MICASH!F1263)","v":""},{"$f":"UPPER(MICASH!G1263)","v":""}," ",{"$f":"TEXT(MICASH!I1263,\"0000000000\")","v":"0000000000"},{"$f":"TEXT(MICASH!J1263*100,\"0000000000\")","v":"0000000000"},{"$f":"TEXT(MONTH(MICASH!K1263),\"00\") & TEXT(DAY(MICASH!K1263),\"00\") & RIGHT(TEXT(YEAR(MICASH!K1263),\"00\"),2)","v":"010000"},{"$f":"UPPER(LEFT(MICASH!L1263,96))","v":""}]
["C",288,"00",{"$f":"TEXT(MICASH!D1264,\"0000000000\")","v":"0000000000"}," ",{"$f":"UPPER(MICASH!F1264)","v":""},{"$f":"UPPER(MICASH!G1264)","v":""}," ",{"$f":"TEXT(MICASH!I1264,\"0000000000\")","v":"0000000000"},{"$f":"TEXT(MICASH!J1264*100,\"0000000000\")","v":"0000000000"},{"$f":"TEXT(MONTH(MICASH!K1264),\"00\") & TEXT(DAY(MICASH!K1264),\"00\") & RIGHT(TEXT(YEAR(MICASH!K1264),\"00\"),2)","v":"010000"},{"$f":"UPPER(LEFT(MICASH!L1264,96))","v":""}]
["C",288,"00",{"$f":"TEXT(MICASH!D1265,\"0000000000\")","v":"0000000000"}," ",{"$f":"UPPER(MICASH!F1265)","v":""},{"$f":"UPPER(MICASH!G1265)","v":""}," ",{"$f":"TEXT(MICASH!I1265,\"0000000000\")","v":"0000000000"},{"$f":"TEXT(MICASH!J1265*100,\"0000000000\")","v":"0000000000"},{"$f":"TEXT(MONTH(MICASH!K1265),\"00\") & TEXT(DAY(MICASH!K1265),\"00\") & RIGHT(TEXT(YEAR(MICASH!K1265),\"00\"),2)","v":"010000"},{"$f":"UPPER(LEFT(MICASH!L1265,96))","v":""}]
["C",288,"00",{"$f":"TEXT(MICASH!D1266,\"0000000000\")","v":"0000000000"}," ",{"$f":"UPPER(MICASH!F1266)","v":""},{"$f":"UPPER(MICASH!G1266)","v":""}," ",{"$f":"TEXT(MICASH!I1266,\"0000000000\")","v":"0000000000"},{"$f":"TEXT(MICASH!J1266*100,\"0000000000\")","v":"0000000000"},{"$f":"TEXT(MONTH(MICASH!K1266),\"00\") & TEXT(DAY(MICASH!K1266),\"00\") & RIGHT(TEXT(YEAR(MICASH!K1266),\"00\"),2)","v":"010000"},{"$f":"UPPER(LEFT(MICASH!L1266,96))","v":""}]
["C",288,"00",{"$f":"TEXT(MICASH!D1267,\"0000000000\")","v":"0000000000"}," ",{"$f":"UPPER(MICASH!F1267)","v":""},{"$f":"UPPER(MICASH!G1267)","v":""}," ",{"$f":"TEXT(MICASH!I1267,\"0000000000\")","v":"0000000000"},{"$f":"TEXT(MICASH!J1267*100,\"0000000000\")","v":"0000000000"},{"$f":"TEXT(MONTH(MICASH!K1267),\"00\") & TEXT(DAY(MICASH!K1267),\"00\") & RIGHT(TEXT(YEAR(MICASH!K1267),\"00\"),2)","v":"010000"},{"$f":"UPPER(LEFT(MICASH!L1267,96))","v":""}]
["C",288,"00",{"$f":"TEXT(MICASH!D1268,\"0000000000\")","v":"0000000000"}," ",{"$f":"UPPER(MICASH!F1268)","v":""},{"$f":"UPPER(MICASH!G1268)","v":""}," ",{"$f":"TEXT(MICASH!I1268,\"0000000000\")","v":"0000000000"},{"$f":"TEXT(MICASH!J1268*100,\"0000000000\")","v":"0000000000"},{"$f":"TEXT(MONTH(MICASH!K1268),\"00\") & TEXT(DAY(MICASH!K1268),\"00\") & RIGHT(TEXT(YEAR(MICASH!K1268),\"00\"),2)","v":"010000"},{"$f":"UPPER(LEFT(MICASH!L1268,96))","v":""}]
["C",288,"00",{"$f":"TEXT(MICASH!D1269,\"0000000000\")","v":"0000000000"}," ",{"$f":"UPPER(MICASH!F1269)","v":""},{"$f":"UPPER(MICASH!G1269)","v":""}," ",{"$f":"TEXT(MICASH!I1269,\"0000000000\")","v":"0000000000"},{"$f":"TEXT(MICASH!J1269*100,\"0000000000\")","v":"0000000000"},{"$f":"TEXT(MONTH(MICASH!K1269),\"00\") & TEXT(DAY(MICASH!K1269),\"00\") & RIGHT(TEXT(YEAR(MICASH!K1269),\"00\"),2)","v":"010000"},{"$f":"UPPER(LEFT(MICASH!L1269,96))","v":""}]
["C",288,"00",{"$f":"TEXT(MICASH!D1270,\"0000000000\")","v":"0000000000"}," ",{"$f":"UPPER(MICASH!F1270)","v":""},{"$f":"UPPER(MICASH!G1270)","v":""}," ",{"$f":"TEXT(MICASH!I1270,\"0000000000\")","v":"0000000000"},{"$f":"TEXT(MICASH!J1270*100,\"0000000000\")","v":"0000000000"},{"$f":"TEXT(MONTH(MICASH!K1270),\"00\") & TEXT(DAY(MICASH!K1270),\"00\") & RIGHT(TEXT(YEAR(MICASH!K1270),\"00\"),2)","v":"010000"},{"$f":"UPPER(LEFT(MICASH!L1270,96))","v":""}]
["C",288,"00",{"$f":"TEXT(MICASH!D1271,\"0000000000\")","v":"0000000000"}," ",{"$f":"UPPER(MICASH!F1271)","v":""},{"$f":"UPPER(MICASH!G1271)","v":""}," ",{"$f":"TEXT(MICASH!I1271,\"0000000000\")","v":"0000000000"},{"$f":"TEXT(MICASH!J1271*100,\"0000000000\")","v":"0000000000"},{"$f":"TEXT(MONTH(MICASH!K1271),\"00\") & TEXT(DAY(MICASH!K1271),\"00\") & RIGHT(TEXT(YEAR(MICASH!K1271),\"00\"),2)","v":"010000"},{"$f":"UPPER(LEFT(MICASH!L1271,96))","v":""}]
["C",288,"00",{"$f":"TEXT(MICASH!D1272,\"0000000000\")","v":"0000000000"}," ",{"$f":"UPPER(MICASH!F1272)","v":""},{"$f":"UPPER(MICASH!G1272)","v":""}," ",{"$f":"TEXT(MICASH!I1272,\"0000000000\")","v":"0000000000"},{"$f":"TEXT(MICASH!J1272*100,\"0000000000\")","v":"0000000000"},{"$f":"TEXT(MONTH(MICASH!K1272),\"00\") & TEXT(DAY(MICASH!K1272),\"00\") & RIGHT(TEXT(YEAR(MICASH!K1272),\"00\"),2)","v":"010000"},{"$f":"UPPER(LEFT(MICASH!L1272,96))","v":""}]
["C",288,"00",{"$f":"TEXT(MICASH!D1273,\"0000000000\")","v":"0000000000"}," ",{"$f":"UPPER(MICASH!F1273)","v":""},{"$f":"UPPER(MICASH!G1273)","v":""}," ",{"$f":"TEXT(MICASH!I1273,\"0000000000\")","v":"0000000000"},{"$f":"TEXT(MICASH!J1273*100,\"0000000000\")","v":"0000000000"},{"$f":"TEXT(MONTH(MICASH!K1273),\"00\") & TEXT(DAY(MICASH!K1273),\"00\") & RIGHT(TEXT(YEAR(MICASH!K1273),\"00\"),2)","v":"010000"},{"$f":"UPPER(LEFT(MICASH!L1273,96))","v":""}]
["C",288,"00",{"$f":"TEXT(MICASH!D1274,\"0000000000\")","v":"0000000000"}," ",{"$f":"UPPER(MICASH!F1274)","v":""},{"$f":"UPPER(MICASH!G1274)","v":""}," ",{"$f":"TEXT(MICASH!I1274,\"0000000000\")","v":"0000000000"},{"$f":"TEXT(MICASH!J1274*100,\"0000000000\")","v":"0000000000"},{"$f":"TEXT(MONTH(MICASH!K1274),\"00\") & TEXT(DAY(MICASH!K1274),\"00\") & RIGHT(TEXT(YEAR(MICASH!K1274),\"00\"),2)","v":"010000"},{"$f":"UPPER(LEFT(MICASH!L1274,96))","v":""}]
["C",288,"00",{"$f":"TEXT(MICASH!D1275,\"0000000000\")","v":"0000000000"}," ",{"$f":"UPPER(MICASH!F1275)","v":""},{"$f":"UPPER(MICASH!G1275)","v":""}," ",{"$f":"TEXT(MICASH!I1275,\"0000000000\")","v":"0000000000"},{"$f":"TEXT(MICASH!J1275*100,\"0000000000\")","v":"0000000000"},{"$f":"TEXT(MONTH(MICASH!K1275),\"00\") & TEXT(DAY(MICASH!K1275),\"00\") & RIGHT(TEXT(YEAR(MICASH!K1275),\"00\"),2)","v":"010000"},{"$f":"UPPER(LEFT(MICASH!L1275,96))","v":""}]
["C",288,"00",{"$f":"TEXT(MICASH!D1276,\"0000000000\")","v":"0000000000"}," ",{"$f":"UPPER(MICASH!F1276)","v":""},{"$f":"UPPER(MICASH!G1276)","v":""}," ",{"$f":"TEXT(MICASH!I1276,\"0000000000\")","v":"0000000000"},{"$f":"TEXT(MICASH!J1276*100,\"0000000000\")","v":"0000000000"},{"$f":"TEXT(MONTH(MICASH!K1276),\"00\") & TEXT(DAY(MICASH!K1276),\"00\") & RIGHT(TEXT(YEAR(MICASH!K1276),\"00\"),2)","v":"010000"},{"$f":"UPPER(LEFT(MICASH!L1276,96))","v":""}]
["C",288,"00",{"$f":"TEXT(MICASH!D1277,\"0000000000\")","v":"0000000000"}," ",{"$f":"UPPER(MICASH!F1277)","v":""},{"$f":"UPPER(MICASH!G1277)","v":""}," ",{"$f":"TEXT(MICASH!I1277,\"0000000000\")","v":"0000000000"},{"$f":"TEXT(MICASH!J1277*100,\"0000000000\")","v":"0000000000"},{"$f":"TEXT(MONTH(MICASH!K1277),\"00\") & TEXT(DAY(MICASH!K1277),\"00\") & RIGHT(TEXT(YEAR(MICASH!K1277),\"00\"),2)","v":"010000"},{"$f":"UPPER(LEFT(MICASH!L1277,96))","v":""}]
["C",288,"00",{"$f":"TEXT(MICASH!D1278,\"0000000000\")","v":"0000000000"}," ",{"$f":"UPPER(MICASH!F1278)","v":""},{"$f":"UPPER(MICASH!G1278)","v":""}," ",{"$f":"TEXT(MICASH!I1278,\"0000000000\")","v":"0000000000"},{"$f":"TEXT(MICASH!J1278*100,\"0000000000\")","v":"0000000000"},{"$f":"TEXT(MONTH(MICASH!K1278),\"00\") & TEXT(DAY(MICASH!K1278),\"00\") & RIGHT(TEXT(YEAR(MICASH!K1278),\"00\"),2)","v":"010000"},{"$f":"UPPER(LEFT(MICASH!L1278,96))","v":""}]
["C",288,"00",{"$f":"TEXT(MICASH!D1279,\"0000000000\")","v":"0000000000"}," ",{"$f":"UPPER(MICASH!F1279)","v":""},{"$f":"UPPER(MICASH!G1279)","v":""}," ",{"$f":"TEXT(MICASH!I1279,\"0000000000\")","v":"0000000000"},{"$f":"TEXT(MICASH!J1279*100,\"0000000000\")","v":"0000000000"},{"$f":"TEXT(MONTH(MICASH!K1279),\"00\") & TEXT(DAY(MICASH!K1279),\"00\") & RIGHT(TEXT(YEAR(MICASH!K1279),\"00\"),2)","v":"010000"},{"$f":"UPPER(LEFT(MICASH!L1279,96))","v":""}]
["C",288,"00",{"$f":"TEXT(MICASH!D1280,\"0000000000\")","v":"0000000000"}," ",{"$f":"UPPER(MICASH!F1280)","v":""},{"$f":"UPPER(MICASH!G1280)","v":""}," ",{"$f":"TEXT(MICASH!I1280,\"0000000000\")","v":"0000000000"},{"$f":"TEXT(MICASH!J1280*100,\"0000000000\")","v":"0000000000"},{"$f":"TEXT(MONTH(MICASH!K1280),\"00\") & TEXT(DAY(MICASH!K1280),\"00\") & RIGHT(TEXT(YEAR(MICASH!K1280),\"00\"),2)","v":"010000"},{"$f":"UPPER(LEFT(MICASH!L1280,96))","v":""}]
["C",288,"00",{"$f":"TEXT(MICASH!D1281,\"0000000000\")","v":"0000000000"}," ",{"$f":"UPPER(MICASH!F1281)","v":""},{"$f":"UPPER(MICASH!G1281)","v":""}," ",{"$f":"TEXT(MICASH!I1281,\"0000000000\")","v":"0000000000"},{"$f":"TEXT(MICASH!J1281*100,\"0000000000\")","v":"0000000000"},{"$f":"TEXT(MONTH(MICASH!K1281),\"00\") & TEXT(DAY(MICASH!K1281),\"00\") & RIGHT(TEXT(YEAR(MICASH!K1281),\"00\"),2)","v":"010000"},{"$f":"UPPER(LEFT(MICASH!L1281,96))","v":""}]
["C",288,"00",{"$f":"TEXT(MICASH!D1282,\"0000000000\")","v":"0000000000"}," ",{"$f":"UPPER(MICASH!F1282)","v":""},{"$f":"UPPER(MICASH!G1282)","v":""}," ",{"$f":"TEXT(MICASH!I1282,\"0000000000\")","v":"0000000000"},{"$f":"TEXT(MICASH!J1282*100,\"0000000000\")","v":"0000000000"},{"$f":"TEXT(MONTH(MICASH!K1282),\"00\") & TEXT(DAY(MICASH!K1282),\"00\") & RIGHT(TEXT(YEAR(MICASH!K1282),\"00\"),2)","v":"010000"},{"$f":"UPPER(LEFT(MICASH!L1282,96))","v":""}]
["C",288,"00",{"$f":"TEXT(MICASH!D1283,\"0000000000\")","v":"0000000000"}," ",{"$f":"UPPER(MICASH!F1283)","v":""},{"$f":"UPPER(MICASH!G1283)","v":""}," ",{"$f":"TEXT(MICASH!I1283,\"0000000000\")","v":"0000000000"},{"$f":"TEXT(MICASH!J1283*100,\"0000000000\")","v":"0000000000"},{"$f":"TEXT(MONTH(MICASH!K1283),\"00\") & TEXT(DAY(MICASH!K1283),\"00\") & RIGHT(TEXT(YEAR(MICASH!K1283),\"00\"),2)","v":"010000"},{"$f":"UPPER(LEFT(MICASH!L1283,96))","v":""}]
["C",288,"00",{"$f":"TEXT(MICASH!D1284,\"0000000000\")","v":"0000000000"}," ",{"$f":"UPPER(MICASH!F1284)","v":""},{"$f":"UPPER(MICASH!G1284)","v":""}," ",{"$f":"TEXT(MICASH!I1284,\"0000000000\")","v":"0000000000"},{"$f":"TEXT(MICASH!J1284*100,\"0000000000\")","v":"0000000000"},{"$f":"TEXT(MONTH(MICASH!K1284),\"00\") & TEXT(DAY(MICASH!K1284),\"00\") & RIGHT(TEXT(YEAR(MICASH!K1284),\"00\"),2)","v":"010000"},{"$f":"UPPER(LEFT(MICASH!L1284,96))","v":""}]
["C",288,"00",{"$f":"TEXT(MICASH!D1285,\"0000000000\")","v":"0000000000"}," ",{"$f":"UPPER(MICASH!F1285)","v":""},{"$f":"UPPER(MICASH!G1285)","v":""}," ",{"$f":"TEXT(MICASH!I1285,\"0000000000\")","v":"0000000000"},{"$f":"TEXT(MICASH!J1285*100,\"0000000000\")","v":"0000000000"},{"$f":"TEXT(MONTH(MICASH!K1285),\"00\") & TEXT(DAY(MICASH!K1285),\"00\") & RIGHT(TEXT(YEAR(MICASH!K1285),\"00\"),2)","v":"010000"},{"$f":"UPPER(LEFT(MICASH!L1285,96))","v":""}]
["C",288,"00",{"$f":"TEXT(MICASH!D1286,\"0000000000\")","v":"0000000000"}," ",{"$f":"UPPER(MICASH!F1286)","v":""},{"$f":"UPPER(MICASH!G1286)","v":""}," ",{"$f":"TEXT(MICASH!I1286,\"0000000000\")","v":"0000000000"},{"$f":"TEXT(MICASH!J1286*100,\"0000000000\")","v":"0000000000"},{"$f":"TEXT(MONTH(MICASH!K1286),\"00\") & TEXT(DAY(MICASH!K1286),\"00\") & RIGHT(TEXT(YEAR(MICASH!K1286),\"00\"),2)","v":"010000"},{"$f":"UPPER(LEFT(MICASH!L1286,96))","v":""}]
["C",288,"00",{"$f":"TEXT(MICASH!D1287,\"0000000000\")","v":"0000000000"}," ",{"$f":"UPPER(MICASH!F1287)","v":""},{"$f":"UPPER(MICASH!G1287)","v":""}," ",{"$f":"TEXT(MICASH!I1287,\"0000000000\")","v":"0000000000"},{"$f":"TEXT(MICASH!J1287*100,\"0000000000\")","v":"0000000000"},{"$f":"TEXT(MONTH(MICASH!K1287),\"00\") & TEXT(DAY(MICASH!K1287),\"00\") & RIGHT(TEXT(YEAR(MICASH!K1287),\"00\"),2)","v":"010000"},{"$f":"UPPER(LEFT(MICASH!L1287,96))","v":""}]
["C",288,"00",{"$f":"TEXT(MICASH!D1288,\"0000000000\")","v":"0000000000"}," ",{"$f":"UPPER(MICASH!F1288)","v":""},{"$f":"UPPER(MICASH!G1288)","v":""}," ",{"$f":"TEXT(MICASH!I1288,\"0000000000\")","v":"0000000000"},{"$f":"TEXT(MICASH!J1288*100,\"0000000000\")","v":"0000000000"},{"$f":"TEXT(MONTH(MICASH!K1288),\"00\") & TEXT(DAY(MICASH!K1288),\"00\") & RIGHT(TEXT(YEAR(MICASH!K1288),\"00\"),2)","v":"010000"},{"$f":"UPPER(LEFT(MICASH!L1288,96))","v":""}]
["C",288,"00",{"$f":"TEXT(MICASH!D1289,\"0000000000\")","v":"0000000000"}," ",{"$f":"UPPER(MICASH!F1289)","v":""},{"$f":"UPPER(MICASH!G1289)","v":""}," ",{"$f":"TEXT(MICASH!I1289,\"0000000000\")","v":"0000000000"},{"$f":"TEXT(MICASH!J1289*100,\"0000000000\")","v":"0000000000"},{"$f":"TEXT(MONTH(MICASH!K1289),\"00\") & TEXT(DAY(MICASH!K1289),\"00\") & RIGHT(TEXT(YEAR(MICASH!K1289),\"00\"),2)","v":"010000"},{"$f":"UPPER(LEFT(MICASH!L1289,96))","v":""}]
["C",288,"00",{"$f":"TEXT(MICASH!D1290,\"0000000000\")","v":"0000000000"}," ",{"$f":"UPPER(MICASH!F1290)","v":""},{"$f":"UPPER(MICASH!G1290)","v":""}," ",{"$f":"TEXT(MICASH!I1290,\"0000000000\")","v":"0000000000"},{"$f":"TEXT(MICASH!J1290*100,\"0000000000\")","v":"0000000000"},{"$f":"TEXT(MONTH(MICASH!K1290),\"00\") & TEXT(DAY(MICASH!K1290),\"00\") & RIGHT(TEXT(YEAR(MICASH!K1290),\"00\"),2)","v":"010000"},{"$f":"UPPER(LEFT(MICASH!L1290,96))","v":""}]
["C",288,"00",{"$f":"TEXT(MICASH!D1291,\"0000000000\")","v":"0000000000"}," ",{"$f":"UPPER(MICASH!F1291)","v":""},{"$f":"UPPER(MICASH!G1291)","v":""}," ",{"$f":"TEXT(MICASH!I1291,\"0000000000\")","v":"0000000000"},{"$f":"TEXT(MICASH!J1291*100,\"0000000000\")","v":"0000000000"},{"$f":"TEXT(MONTH(MICASH!K1291),\"00\") & TEXT(DAY(MICASH!K1291),\"00\") & RIGHT(TEXT(YEAR(MICASH!K1291),\"00\"),2)","v":"010000"},{"$f":"UPPER(LEFT(MICASH!L1291,96))","v":""}]
["C",288,"00",{"$f":"TEXT(MICASH!D1292,\"0000000000\")","v":"0000000000"}," ",{"$f":"UPPER(MICASH!F1292)","v":""},{"$f":"UPPER(MICASH!G1292)","v":""}," ",{"$f":"TEXT(MICASH!I1292,\"0000000000\")","v":"0000000000"},{"$f":"TEXT(MICASH!J1292*100,\"0000000000\")","v":"0000000000"},{"$f":"TEXT(MONTH(MICASH!K1292),\"00\") & TEXT(DAY(MICASH!K1292),\"00\") & RIGHT(TEXT(YEAR(MICASH!K1292),\"00\"),2)","v":"010000"},{"$f":"UPPER(LEFT(MICASH!L1292,96))","v":""}]
["C",288,"00",{"$f":"TEXT(MICASH!D1293,\"0000000000\")","v":"0000000000"}," ",{"$f":"UPPER(MICASH!F1293)","v":""},{"$f":"UPPER(MICASH!G1293)","v":""}," ",{"$f":"TEXT(MICASH!I1293,\"0000000000\")","v":"0000000000"},{"$f":"TEXT(MICASH!J1293*100,\"0000000000\")","v":"0000000000"},{"$f":"TEXT(MONTH(MICASH!K1293),\"00\") & TEXT(DAY(MICASH!K1293),\"00\") & RIGHT(TEXT(YEAR(MICASH!K1293),\"00\"),2)","v":"010000"},{"$f":"UPPER(LEFT(MICASH!L1293,96))","v":""}]
["C",288,"00",{"$f":"TEXT(MICASH!D1294,\"0000000000\")","v":"0000000000"}," ",{"$f":"UPPER(MICASH!F1294)","v":""},{"$f":"UPPER(MICASH!G1294)","v":""}," ",{"$f":"TEXT(MICASH!I1294,\"0000000000\")","v":"0000000000"},{"$f":"TEXT(MICASH!J1294*100,\"0000000000\")","v":"0000000000"},{"$f":"TEXT(MONTH(MICASH!K1294),\"00\") & TEXT(DAY(MICASH!K1294),\"00\") & RIGHT(TEXT(YEAR(MICASH!K1294),\"00\"),2)","v":"010000"},{"$f":"UPPER(LEFT(MICASH!L1294,96))","v":""}]
["C",288,"00",{"$f":"TEXT(MICASH!D1295,\"0000000000\")","v":"0000000000"}," ",{"$f":"UPPER(MICASH!F1295)","v":""},{"$f":"UPPER(MICASH!G1295)","v":""}," ",{"$f":"TEXT(MICASH!I1295,\"0000000000\")","v":"0000000000"},{"$f":"TEXT(MICASH!J1295*100,\"0000000000\")","v":"0000000000"},{"$f":"TEXT(MONTH(MICASH!K1295),\"00\") & TEXT(DAY(MICASH!K1295),\"00\") & RIGHT(TEXT(YEAR(MICASH!K1295),\"00\"),2)","v":"010000"},{"$f":"UPPER(LEFT(MICASH!L1295,96))","v":""}]
["C",288,"00",{"$f":"TEXT(MICASH!D1296,\"0000000000\")","v":"0000000000"}," ",{"$f":"UPPER(MICASH!F1296)","v":""},{"$f":"UPPER(MICASH!G1296)","v":""}," ",{"$f":"TEXT(MICASH!I1296,\"0000000000\")","v":"0000000000"},{"$f":"TEXT(MICASH!J1296*100,\"0000000000\")","v":"0000000000"},{"$f":"TEXT(MONTH(MICASH!K1296),\"00\") & TEXT(DAY(MICASH!K1296),\"00\") & RIGHT(TEXT(YEAR(MICASH!K1296),\"00\"),2)","v":"010000"},{"$f":"UPPER(LEFT(MICASH!L1296,96))","v":""}]
["C",288,"00",{"$f":"TEXT(MICASH!D1297,\"0000000000\")","v":"0000000000"}," ",{"$f":"UPPER(MICASH!F1297)","v":""},{"$f":"UPPER(MICASH!G1297)","v":""}," ",{"$f":"TEXT(MICASH!I1297,\"0000000000\")","v":"0000000000"},{"$f":"TEXT(MICASH!J1297*100,\"0000000000\")","v":"0000000000"},{"$f":"TEXT(MONTH(MICASH!K1297),\"00\") & TEXT(DAY(MICASH!K1297),\"00\") & RIGHT(TEXT(YEAR(MICASH!K1297),\"00\"),2)","v":"010000"},{"$f":"UPPER(LEFT(MICASH!L1297,96))","v":""}]
["C",288,"00",{"$f":"TEXT(MICASH!D1298,\"0000000000\")","v":"0000000000"}," ",{"$f":"UPPER(MICASH!F1298)","v":""},{"$f":"UPPER(MICASH!G1298)","v":""}," ",{"$f":"TEXT(MICASH!I1298,\"0000000000\")","v":"0000000000"},{"$f":"TEXT(MICASH!J1298*100,\"0000000000\")","v":"0000000000"},{"$f":"TEXT(MONTH(MICASH!K1298),\"00\") & TEXT(DAY(MICASH!K1298),\"00\") & RIGHT(TEXT(YEAR(MICASH!K1298),\"00\"),2)","v":"010000"},{"$f":"UPPER(LEFT(MICASH!L1298,96))","v":""}]
["C",288,"00",{"$f":"TEXT(MICASH!D1299,\"0000000000\")","v":"0000000000"}," ",{"$f":"UPPER(MICASH!F1299)","v":""},{"$f":"UPPER(MICASH!G1299)","v":""}," ",{"$f":"TEXT(MICASH!I1299,\"0000000000\")","v":"0000000000"},{"$f":"TEXT(MICASH!J1299*100,\"0000000000\")","v":"0000000000"},{"$f":"TEXT(MONTH(MICASH!K1299),\"00\") & TEXT(DAY(MICASH!K1299),\"00\") & RIGHT(TEXT(YEAR(MICASH!K1299),\"00\"),2)","v":"010000"},{"$f":"UPPER(LEFT(MICASH!L1299,96))","v":""}]
["C",288,"00",{"$f":"TEXT(MICASH!D1300,\"0000000000\")","v":"0000000000"}," ",{"$f":"UPPER(MICASH!F1300)","v":""},{"$f":"UPPER(MICASH!G1300)","v":""}," ",{"$f":"TEXT(MICASH!I1300,\"0000000000\")","v":"0000000000"},{"$f":"TEXT(MICASH!J1300*100,\"0000000000\")","v":"0000000000"},{"$f":"TEXT(MONTH(MICASH!K1300),\"00\") & TEXT(DAY(MICASH!K1300),\"00\") & RIGHT(TEXT(YEAR(MICASH!K1300),\"00\"),2)","v":"010000"},{"$f":"UPPER(LEFT(MICASH!L1300,96))","v":""}]
["C",288,"00",{"$f":"TEXT(MICASH!D1301,\"0000000000\")","v":"0000000000"}," ",{"$f":"UPPER(MICASH!F1301)","v":""},{"$f":"UPPER(MICASH!G1301)","v":""}," ",{"$f":"TEXT(MICASH!I1301,\"0000000000\")","v":"0000000000"},{"$f":"TEXT(MICASH!J1301*100,\"0000000000\")","v":"0000000000"},{"$f":"TEXT(MONTH(MICASH!K1301),\"00\") & TEXT(DAY(MICASH!K1301),\"00\") & RIGHT(TEXT(YEAR(MICASH!K1301),\"00\"),2)","v":"010000"},{"$f":"UPPER(LEFT(MICASH!L1301,96))","v":""}]
["C",288,"00",{"$f":"TEXT(MICASH!D1302,\"0000000000\")","v":"0000000000"}," ",{"$f":"UPPER(MICASH!F1302)","v":""},{"$f":"UPPER(MICASH!G1302)","v":""}," ",{"$f":"TEXT(MICASH!I1302,\"0000000000\")","v":"0000000000"},{"$f":"TEXT(MICASH!J1302*100,\"0000000000\")","v":"0000000000"},{"$f":"TEXT(MONTH(MICASH!K1302),\"00\") & TEXT(DAY(MICASH!K1302),\"00\") & RIGHT(TEXT(YEAR(MICASH!K1302),\"00\"),2)","v":"010000"},{"$f":"UPPER(LEFT(MICASH!L1302,96))","v":""}]
["C",288,"00",{"$f":"TEXT(MICASH!D1303,\"0000000000\")","v":"0000000000"}," ",{"$f":"UPPER(MICASH!F1303)","v":""},{"$f":"UPPER(MICASH!G1303)","v":""}," ",{"$f":"TEXT(MICASH!I1303,\"0000000000\")","v":"0000000000"},{"$f":"TEXT(MICASH!J1303*100,\"0000000000\")","v":"0000000000"},{"$f":"TEXT(MONTH(MICASH!K1303),\"00\") & TEXT(DAY(MICASH!K1303),\"00\") & RIGHT(TEXT(YEAR(MICASH!K1303),\"00\"),2)","v":"010000"},{"$f":"UPPER(LEFT(MICASH!L1303,96))","v":""}]
["C",288,"00",{"$f":"TEXT(MICASH!D1304,\"0000000000\")","v":"0000000000"}," ",{"$f":"UPPER(MICASH!F1304)","v":""},{"$f":"UPPER(MICASH!G1304)","v":""}," ",{"$f":"TEXT(MICASH!I1304,\"0000000000\")","v":"0000000000"},{"$f":"TEXT(MICASH!J1304*100,\"0000000000\")","v":"0000000000"},{"$f":"TEXT(MONTH(MICASH!K1304),\"00\") & TEXT(DAY(MICASH!K1304),\"00\") & RIGHT(TEXT(YEAR(MICASH!K1304),\"00\"),2)","v":"010000"},{"$f":"UPPER(LEFT(MICASH!L1304,96))","v":""}]
["C",288,"00",{"$f":"TEXT(MICASH!D1305,\"0000000000\")","v":"0000000000"}," ",{"$f":"UPPER(MICASH!F1305)","v":""},{"$f":"UPPER(MICASH!G1305)","v":""}," ",{"$f":"TEXT(MICASH!I1305,\"0000000000\")","v":"0000000000"},{"$f":"TEXT(MICASH!J1305*100,\"0000000000\")","v":"0000000000"},{"$f":"TEXT(MONTH(MICASH!K1305),\"00\") & TEXT(DAY(MICASH!K1305),\"00\") & RIGHT(TEXT(YEAR(MICASH!K1305),\"00\"),2)","v":"010000"},{"$f":"UPPER(LEFT(MICASH!L1305,96))","v":""}]
["C",288,"00",{"$f":"TEXT(MICASH!D1306,\"0000000000\")","v":"0000000000"}," ",{"$f":"UPPER(MICASH!F1306)","v":""},{"$f":"UPPER(MICASH!G1306)","v":""}," ",{"$f":"TEXT(MICASH!I1306,\"0000000000\")","v":"0000000000"},{"$f":"TEXT(MICASH!J1306*100,\"0000000000\")","v":"0000000000"},{"$f":"TEXT(MONTH(MICASH!K1306),\"00\") & TEXT(DAY(MICASH!K1306),\"00\") & RIGHT(TEXT(YEAR(MICASH!K1306),\"00\"),2)","v":"010000"},{"$f":"UPPER(LEFT(MICASH!L1306,96))","v":""}]
["C",288,"00",{"$f":"TEXT(MICASH!D1307,\"0000000000\")","v":"0000000000"}," ",{"$f":"UPPER(MICASH!F1307)","v":""},{"$f":"UPPER(MICASH!G1307)","v":""}," ",{"$f":"TEXT(MICASH!I1307,\"0000000000\")","v":"0000000000"},{"$f":"TEXT(MICASH!J1307*100,\"0000000000\")","v":"0000000000"},{"$f":"TEXT(MONTH(MICASH!K1307),\"00\") & TEXT(DAY(MICASH!K1307),\"00\") & RIGHT(TEXT(YEAR(MICASH!K1307),\"00\"),2)","v":"010000"},{"$f":"UPPER(LEFT(MICASH!L1307,96))","v":""}]
["C",288,"00",{"$f":"TEXT(MICASH!D1308,\"0000000000\")","v":"0000000000"}," ",{"$f":"UPPER(MICASH!F1308)","v":""},{"$f":"UPPER(MICASH!G1308)","v":""}," ",{"$f":"TEXT(MICASH!I1308,\"0000000000\")","v":"0000000000"},{"$f":"TEXT(MICASH!J1308*100,\"0000000000\")","v":"0000000000"},{"$f":"TEXT(MONTH(MICASH!K1308),\"00\") & TEXT(DAY(MICASH!K1308),\"00\") & RIGHT(TEXT(YEAR(MICASH!K1308),\"00\"),2)","v":"010000"},{"$f":"UPPER(LEFT(MICASH!L1308,96))","v":""}]
["C",288,"00",{"$f":"TEXT(MICASH!D1309,\"0000000000\")","v":"0000000000"}," ",{"$f":"UPPER(MICASH!F1309)","v":""},{"$f":"UPPER(MICASH!G1309)","v":""}," ",{"$f":"TEXT(MICASH!I1309,\"0000000000\")","v":"0000000000"},{"$f":"TEXT(MICASH!J1309*100,\"0000000000\")","v":"0000000000"},{"$f":"TEXT(MONTH(MICASH!K1309),\"00\") & TEXT(DAY(MICASH!K1309),\"00\") & RIGHT(TEXT(YEAR(MICASH!K1309),\"00\"),2)","v":"010000"},{"$f":"UPPER(LEFT(MICASH!L1309,96))","v":""}]
["C",288,"00",{"$f":"TEXT(MICASH!D1310,\"0000000000\")","v":"0000000000"}," ",{"$f":"UPPER(MICASH!F1310)","v":""},{"$f":"UPPER(MICASH!G1310)","v":""}," ",{"$f":"TEXT(MICASH!I1310,\"0000000000\")","v":"0000000000"},{"$f":"TEXT(MICASH!J1310*100,\"0000000000\")","v":"0000000000"},{"$f":"TEXT(MONTH(MICASH!K1310),\"00\") & TEXT(DAY(MICASH!K1310),\"00\") & RIGHT(TEXT(YEAR(MICASH!K1310),\"00\"),2)","v":"010000"},{"$f":"UPPER(LEFT(MICASH!L1310,96))","v":""}]
["C",288,"00",{"$f":"TEXT(MICASH!D1311,\"0000000000\")","v":"0000000000"}," ",{"$f":"UPPER(MICASH!F1311)","v":""},{"$f":"UPPER(MICASH!G1311)","v":""}," ",{"$f":"TEXT(MICASH!I1311,\"0000000000\")","v":"0000000000"},{"$f":"TEXT(MICASH!J1311*100,\"0000000000\")","v":"0000000000"},{"$f":"TEXT(MONTH(MICASH!K1311),\"00\") & TEXT(DAY(MICASH!K1311),\"00\") & RIGHT(TEXT(YEAR(MICASH!K1311),\"00\"),2)","v":"010000"},{"$f":"UPPER(LEFT(MICASH!L1311,96))","v":""}]
["C",288,"00",{"$f":"TEXT(MICASH!D1312,\"0000000000\")","v":"0000000000"}," ",{"$f":"UPPER(MICASH!F1312)","v":""},{"$f":"UPPER(MICASH!G1312)","v":""}," ",{"$f":"TEXT(MICASH!I1312,\"0000000000\")","v":"0000000000"},{"$f":"TEXT(MICASH!J1312*100,\"0000000000\")","v":"0000000000"},{"$f":"TEXT(MONTH(MICASH!K1312),\"00\") & TEXT(DAY(MICASH!K1312),\"00\") & RIGHT(TEXT(YEAR(MICASH!K1312),\"00\"),2)","v":"010000"},{"$f":"UPPER(LEFT(MICASH!L1312,96))","v":""}]
["C",288,"00",{"$f":"TEXT(MICASH!D1313,\"0000000000\")","v":"0000000000"}," ",{"$f":"UPPER(MICASH!F1313)","v":""},{"$f":"UPPER(MICASH!G1313)","v":""}," ",{"$f":"TEXT(MICASH!I1313,\"0000000000\")","v":"0000000000"},{"$f":"TEXT(MICASH!J1313*100,\"0000000000\")","v":"0000000000"},{"$f":"TEXT(MONTH(MICASH!K1313),\"00\") & TEXT(DAY(MICASH!K1313),\"00\") & RIGHT(TEXT(YEAR(MICASH!K1313),\"00\"),2)","v":"010000"},{"$f":"UPPER(LEFT(MICASH!L1313,96))","v":""}]
["C",288,"00",{"$f":"TEXT(MICASH!D1314,\"0000000000\")","v":"0000000000"}," ",{"$f":"UPPER(MICASH!F1314)","v":""},{"$f":"UPPER(MICASH!G1314)","v":""}," ",{"$f":"TEXT(MICASH!I1314,\"0000000000\")","v":"0000000000"},{"$f":"TEXT(MICASH!J1314*100,\"0000000000\")","v":"0000000000"},{"$f":"TEXT(MONTH(MICASH!K1314),\"00\") & TEXT(DAY(MICASH!K1314),\"00\") & RIGHT(TEXT(YEAR(MICASH!K1314),\"00\"),2)","v":"010000"},{"$f":"UPPER(LEFT(MICASH!L1314,96))","v":""}]
["C",288,"00",{"$f":"TEXT(MICASH!D1315,\"0000000000\")","v":"0000000000"}," ",{"$f":"UPPER(MICASH!F1315)","v":""},{"$f":"UPPER(MICASH!G1315)","v":""}," ",{"$f":"TEXT(MICASH!I1315,\"0000000000\")","v":"0000000000"},{"$f":"TEXT(MICASH!J1315*100,\"0000000000\")","v":"0000000000"},{"$f":"TEXT(MONTH(MICASH!K1315),\"00\") & TEXT(DAY(MICASH!K1315),\"00\") & RIGHT(TEXT(YEAR(MICASH!K1315),\"00\"),2)","v":"010000"},{"$f":"UPPER(LEFT(MICASH!L1315,96))","v":""}]
["C",288,"00",{"$f":"TEXT(MICASH!D1316,\"0000000000\")","v":"0000000000"}," ",{"$f":"UPPER(MICASH!F1316)","v":""},{"$f":"UPPER(MICASH!G1316)","v":""}," ",{"$f":"TEXT(MICASH!I1316,\"0000000000\")","v":"0000000000"},{"$f":"TEXT(MICASH!J1316*100,\"0000000000\")","v":"0000000000"},{"$f":"TEXT(MONTH(MICASH!K1316),\"00\") & TEXT(DAY(MICASH!K1316),\"00\") & RIGHT(TEXT(YEAR(MICASH!K1316),\"00\"),2)","v":"010000"},{"$f":"UPPER(LEFT(MICASH!L1316,96))","v":""}]
["C",288,"00",{"$f":"TEXT(MICASH!D1317,\"0000000000\")","v":"0000000000"}," ",{"$f":"UPPER(MICASH!F1317)","v":""},{"$f":"UPPER(MICASH!G1317)","v":""}," ",{"$f":"TEXT(MICASH!I1317,\"0000000000\")","v":"0000000000"},{"$f":"TEXT(MICASH!J1317*100,\"0000000000\")","v":"0000000000"},{"$f":"TEXT(MONTH(MICASH!K1317),\"00\") & TEXT(DAY(MICASH!K1317),\"00\") & RIGHT(TEXT(YEAR(MICASH!K1317),\"00\"),2)","v":"010000"},{"$f":"UPPER(LEFT(MICASH!L1317,96))","v":""}]
["C",288,"00",{"$f":"TEXT(MICASH!D1318,\"0000000000\")","v":"0000000000"}," ",{"$f":"UPPER(MICASH!F1318)","v":""},{"$f":"UPPER(MICASH!G1318)","v":""}," ",{"$f":"TEXT(MICASH!I1318,\"0000000000\")","v":"0000000000"},{"$f":"TEXT(MICASH!J1318*100,\"0000000000\")","v":"0000000000"},{"$f":"TEXT(MONTH(MICASH!K1318),\"00\") & TEXT(DAY(MICASH!K1318),\"00\") & RIGHT(TEXT(YEAR(MICASH!K1318),\"00\"),2)","v":"010000"},{"$f":"UPPER(LEFT(MICASH!L1318,96))","v":""}]
["C",288,"00",{"$f":"TEXT(MICASH!D1319,\"0000000000\")","v":"0000000000"}," ",{"$f":"UPPER(MICASH!F1319)","v":""},{"$f":"UPPER(MICASH!G1319)","v":""}," ",{"$f":"TEXT(MICASH!I1319,\"0000000000\")","v":"0000000000"},{"$f":"TEXT(MICASH!J1319*100,\"0000000000\")","v":"0000000000"},{"$f":"TEXT(MONTH(MICASH!K1319),\"00\") & TEXT(DAY(MICASH!K1319),\"00\") & RIGHT(TEXT(YEAR(MICASH!K1319),\"00\"),2)","v":"010000"},{"$f":"UPPER(LEFT(MICASH!L1319,96))","v":""}]
["C",288,"00",{"$f":"TEXT(MICASH!D1320,\"0000000000\")","v":"0000000000"}," ",{"$f":"UPPER(MICASH!F1320)","v":""},{"$f":"UPPER(MICASH!G1320)","v":""}," ",{"$f":"TEXT(MICASH!I1320,\"0000000000\")","v":"0000000000"},{"$f":"TEXT(MICASH!J1320*100,\"0000000000\")","v":"0000000000"},{"$f":"TEXT(MONTH(MICASH!K1320),\"00\") & TEXT(DAY(MICASH!K1320),\"00\") & RIGHT(TEXT(YEAR(MICASH!K1320),\"00\"),2)","v":"010000"},{"$f":"UPPER(LEFT(MICASH!L1320,96))","v":""}]
["C",288,"00",{"$f":"TEXT(MICASH!D1321,\"0000000000\")","v":"0000000000"}," ",{"$f":"UPPER(MICASH!F1321)","v":""},{"$f":"UPPER(MICASH!G1321)","v":""}," ",{"$f":"TEXT(MICASH!I1321,\"0000000000\")","v":"0000000000"},{"$f":"TEXT(MICASH!J1321*100,\"0000000000\")","v":"0000000000"},{"$f":"TEXT(MONTH(MICASH!K1321),\"00\") & TEXT(DAY(MICASH!K1321),\"00\") & RIGHT(TEXT(YEAR(MICASH!K1321),\"00\"),2)","v":"010000"},{"$f":"UPPER(LEFT(MICASH!L1321,96))","v":""}]
["C",288,"00",{"$f":"TEXT(MICASH!D1322,\"0000000000\")","v":"0000000000"}," ",{"$f":"UPPER(MICASH!F1322)","v":""},{"$f":"UPPER(MICASH!G1322)","v":""}," ",{"$f":"TEXT(MICASH!I1322,\"0000000000\")","v":"0000000000"},{"$f":"TEXT(MICASH!J1322*100,\"0000000000\")","v":"0000000000"},{"$f":"TEXT(MONTH(MICASH!K1322),\"00\") & TEXT(DAY(MICASH!K1322),\"00\") & RIGHT(TEXT(YEAR(MICASH!K1322),\"00\"),2)","v":"010000"},{"$f":"UPPER(LEFT(MICASH!L1322,96))","v":""}]
["C",288,"00",{"$f":"TEXT(MICASH!D1323,\"0000000000\")","v":"0000000000"}," ",{"$f":"UPPER(MICASH!F1323)","v":""},{"$f":"UPPER(MICASH!G1323)","v":""}," ",{"$f":"TEXT(MICASH!I1323,\"0000000000\")","v":"0000000000"},{"$f":"TEXT(MICASH!J1323*100,\"0000000000\")","v":"0000000000"},{"$f":"TEXT(MONTH(MICASH!K1323),\"00\") & TEXT(DAY(MICASH!K1323),\"00\") & RIGHT(TEXT(YEAR(MICASH!K1323),\"00\"),2)","v":"010000"},{"$f":"UPPER(LEFT(MICASH!L1323,96))","v":""}]
["C",288,"00",{"$f":"TEXT(MICASH!D1324,\"0000000000\")","v":"0000000000"}," ",{"$f":"UPPER(MICASH!F1324)","v":""},{"$f":"UPPER(MICASH!G1324)","v":""}," ",{"$f":"TEXT(MICASH!I1324,\"0000000000\")","v":"0000000000"},{"$f":"TEXT(MICASH!J1324*100,\"0000000000\")","v":"0000000000"},{"$f":"TEXT(MONTH(MICASH!K1324),\"00\") & TEXT(DAY(MICASH!K1324),\"00\") & RIGHT(TEXT(YEAR(MICASH!K1324),\"00\"),2)","v":"010000"},{"$f":"UPPER(LEFT(MICASH!L1324,96))","v":""}]
["C",288,"00",{"$f":"TEXT(MICASH!D1325,\"0000000000\")","v":"0000000000"}," ",{"$f":"UPPER(MICASH!F1325)","v":""},{"$f":"UPPER(MICASH!G1325)","v":""}," ",{"$f":"TEXT(MICASH!I1325,\"0000000000\")","v":"0000000000"},{"$f":"TEXT(MICASH!J1325*100,\"0000000000\")","v":"0000000000"},{"$f":"TEXT(MONTH(MICASH!K1325),\"00\") & TEXT(DAY(MICASH!K1325),\"00\") & RIGHT(TEXT(YEAR(MICASH!K1325),\"00\"),2)","v":"010000"},{"$f":"UPPER(LEFT(MICASH!L1325,96))","v":""}]
["C",288,"00",{"$f":"TEXT(MICASH!D1326,\"0000000000\")","v":"0000000000"}," ",{"$f":"UPPER(MICASH!F1326)","v":""},{"$f":"UPPER(MICASH!G1326)","v":""}," ",{"$f":"TEXT(MICASH!I1326,\"0000000000\")","v":"0000000000"},{"$f":"TEXT(MICASH!J1326*100,\"0000000000\")","v":"0000000000"},{"$f":"TEXT(MONTH(MICASH!K1326),\"00\") & TEXT(DAY(MICASH!K1326),\"00\") & RIGHT(TEXT(YEAR(MICASH!K1326),\"00\"),2)","v":"010000"},{"$f":"UPPER(LEFT(MICASH!L1326,96))","v":""}]
["C",288,"00",{"$f":"TEXT(MICASH!D1327,\"0000000000\")","v":"0000000000"}," ",{"$f":"UPPER(MICASH!F1327)","v":""},{"$f":"UPPER(MICASH!G1327)","v":""}," ",{"$f":"TEXT(MICASH!I1327,\"0000000000\")","v":"0000000000"},{"$f":"TEXT(MICASH!J1327*100,\"0000000000\")","v":"0000000000"},{"$f":"TEXT(MONTH(MICASH!K1327),\"00\") & TEXT(DAY(MICASH!K1327),\"00\") & RIGHT(TEXT(YEAR(MICASH!K1327),\"00\"),2)","v":"010000"},{"$f":"UPPER(LEFT(MICASH!L1327,96))","v":""}]
["C",288,"00",{"$f":"TEXT(MICASH!D1328,\"0000000000\")","v":"0000000000"}," ",{"$f":"UPPER(MICASH!F1328)","v":""},{"$f":"UPPER(MICASH!G1328)","v":""}," ",{"$f":"TEXT(MICASH!I1328,\"0000000000\")","v":"0000000000"},{"$f":"TEXT(MICASH!J1328*100,\"0000000000\")","v":"0000000000"},{"$f":"TEXT(MONTH(MICASH!K1328),\"00\") & TEXT(DAY(MICASH!K1328),\"00\") & RIGHT(TEXT(YEAR(MICASH!K1328),\"00\"),2)","v":"010000"},{"$f":"UPPER(LEFT(MICASH!L1328,96))","v":""}]
["C",288,"00",{"$f":"TEXT(MICASH!D1329,\"0000000000\")","v":"0000000000"}," ",{"$f":"UPPER(MICASH!F1329)","v":""},{"$f":"UPPER(MICASH!G1329)","v":""}," ",{"$f":"TEXT(MICASH!I1329,\"0000000000\")","v":"0000000000"},{"$f":"TEXT(MICASH!J1329*100,\"0000000000\")","v":"0000000000"},{"$f":"TEXT(MONTH(MICASH!K1329),\"00\") & TEXT(DAY(MICASH!K1329),\"00\") & RIGHT(TEXT(YEAR(MICASH!K1329),\"00\"),2)","v":"010000"},{"$f":"UPPER(LEFT(MICASH!L1329,96))","v":""}]
["C",288,"00",{"$f":"TEXT(MICASH!D1330,\"0000000000\")","v":"0000000000"}," ",{"$f":"UPPER(MICASH!F1330)","v":""},{"$f":"UPPER(MICASH!G1330)","v":""}," ",{"$f":"TEXT(MICASH!I1330,\"0000000000\")","v":"0000000000"},{"$f":"TEXT(MICASH!J1330*100,\"0000000000\")","v":"0000000000"},{"$f":"TEXT(MONTH(MICASH!K1330),\"00\") & TEXT(DAY(MICASH!K1330),\"00\") & RIGHT(TEXT(YEAR(MICASH!K1330),\"00\"),2)","v":"010000"},{"$f":"UPPER(LEFT(MICASH!L1330,96))","v":""}]
["C",288,"00",{"$f":"TEXT(MICASH!D1331,\"0000000000\")","v":"0000000000"}," ",{"$f":"UPPER(MICASH!F1331)","v":""},{"$f":"UPPER(MICASH!G1331)","v":""}," ",{"$f":"TEXT(MICASH!I1331,\"0000000000\")","v":"0000000000"},{"$f":"TEXT(MICASH!J1331*100,\"0000000000\")","v":"0000000000"},{"$f":"TEXT(MONTH(MICASH!K1331),\"00\") & TEXT(DAY(MICASH!K1331),\"00\") & RIGHT(TEXT(YEAR(MICASH!K1331),\"00\"),2)","v":"010000"},{"$f":"UPPER(LEFT(MICASH!L1331,96))","v":""}]
["C",288,"00",{"$f":"TEXT(MICASH!D1332,\"0000000000\")","v":"0000000000"}," ",{"$f":"UPPER(MICASH!F1332)","v":""},{"$f":"UPPER(MICASH!G1332)","v":""}," ",{"$f":"TEXT(MICASH!I1332,\"0000000000\")","v":"0000000000"},{"$f":"TEXT(MICASH!J1332*100,\"0000000000\")","v":"0000000000"},{"$f":"TEXT(MONTH(MICASH!K1332),\"00\") & TEXT(DAY(MICASH!K1332),\"00\") & RIGHT(TEXT(YEAR(MICASH!K1332),\"00\"),2)","v":"010000"},{"$f":"UPPER(LEFT(MICASH!L1332,96))","v":""}]
["C",288,"00",{"$f":"TEXT(MICASH!D1333,\"0000000000\")","v":"0000000000"}," ",{"$f":"UPPER(MICASH!F1333)","v":""},{"$f":"UPPER(MICASH!G1333)","v":""}," ",{"$f":"TEXT(MICASH!I1333,\"0000000000\")","v":"0000000000"},{"$f":"TEXT(MICASH!J1333*100,\"0000000000\")","v":"0000000000"},{"$f":"TEXT(MONTH(MICASH!K1333),\"00\") & TEXT(DAY(MICASH!K1333),\"00\") & RIGHT(TEXT(YEAR(MICASH!K1333),\"00\"),2)","v":"010000"},{"$f":"UPPER(LEFT(MICASH!L1333,96))","v":""}]
["C",288,"00",{"$f":"TEXT(MICASH!D1334,\"0000000000\")","v":"0000000000"}," ",{"$f":"UPPER(MICASH!F1334)","v":""},{"$f":"UPPER(MICASH!G1334)","v":""}," ",{"$f":"TEXT(MICASH!I1334,\"0000000000\")","v":"0000000000"},{"$f":"TEXT(MICASH!J1334*100,\"0000000000\")","v":"0000000000"},{"$f":"TEXT(MONTH(MICASH!K1334),\"00\") & TEXT(DAY(MICASH!K1334),\"00\") & RIGHT(TEXT(YEAR(MICASH!K1334),\"00\"),2)","v":"010000"},{"$f":"UPPER(LEFT(MICASH!L1334,96))","v":""}]
["C",288,"00",{"$f":"TEXT(MICASH!D1335,\"0000000000\")","v":"0000000000"}," ",{"$f":"UPPER(MICASH!F1335)","v":""},{"$f":"UPPER(MICASH!G1335)","v":""}," ",{"$f":"TEXT(MICASH!I1335,\"0000000000\")","v":"0000000000"},{"$f":"TEXT(MICASH!J1335*100,\"0000000000\")","v":"0000000000"},{"$f":"TEXT(MONTH(MICASH!K1335),\"00\") & TEXT(DAY(MICASH!K1335),\"00\") & RIGHT(TEXT(YEAR(MICASH!K1335),\"00\"),2)","v":"010000"},{"$f":"UPPER(LEFT(MICASH!L1335,96))","v":""}]
["C",288,"00",{"$f":"TEXT(MICASH!D1336,\"0000000000\")","v":"0000000000"}," ",{"$f":"UPPER(MICASH!F1336)","v":""},{"$f":"UPPER(MICASH!G1336)","v":""}," ",{"$f":"TEXT(MICASH!I1336,\"0000000000\")","v":"0000000000"},{"$f":"TEXT(MICASH!J1336*100,\"0000000000\")","v":"0000000000"},{"$f":"TEXT(MONTH(MICASH!K1336),\"00\") & TEXT(DAY(MICASH!K1336),\"00\") & RIGHT(TEXT(YEAR(MICASH!K1336),\"00\"),2)","v":"010000"},{"$f":"UPPER(LEFT(MICASH!L1336,96))","v":""}]
["C",288,"00",{"$f":"TEXT(MICASH!D1337,\"0000000000\")","v":"0000000000"}," ",{"$f":"UPPER(MICASH!F1337)","v":""},{"$f":"UPPER(MICASH!G1337)","v":""}," ",{"$f":"TEXT(MICASH!I1337,\"0000000000\")","v":"0000000000"},{"$f":"TEXT(MICASH!J1337*100,\"0000000000\")","v":"0000000000"},{"$f":"TEXT(MONTH(MICASH!K1337),\"00\") & TEXT(DAY(MICASH!K1337),\"00\") & RIGHT(TEXT(YEAR(MICASH!K1337),\"00\"),2)","v":"010000"},{"$f":"UPPER(LEFT(MICASH!L1337,96))","v":""}]
["C",288,"00",{"$f":"TEXT(MICASH!D1338,\"0000000000\")","v":"0000000000"}," ",{"$f":"UPPER(MICASH!F1338)","v":""},{"$f":"UPPER(MICASH!G1338)","v":""}," ",{"$f":"TEXT(MICASH!I1338,\"0000000000\")","v":"0000000000"},{"$f":"TEXT(MICASH!J1338*100,\"0000000000\")","v":"0000000000"},{"$f":"TEXT(MONTH(MICASH!K1338),\"00\") & TEXT(DAY(MICASH!K1338),\"00\") & RIGHT(TEXT(YEAR(MICASH!K1338),\"00\"),2)","v":"010000"},{"$f":"UPPER(LEFT(MICASH!L1338,96))","v":""}]
["C",288,"00",{"$f":"TEXT(MICASH!D1339,\"0000000000\")","v":"0000000000"}," ",{"$f":"UPPER(MICASH!F1339)","v":""},{"$f":"UPPER(MICASH!G1339)","v":""}," ",{"$f":"TEXT(MICASH!I1339,\"0000000000\")","v":"0000000000"},{"$f":"TEXT(MICASH!J1339*100,\"0000000000\")","v":"0000000000"},{"$f":"TEXT(MONTH(MICASH!K1339),\"00\") & TEXT(DAY(MICASH!K1339),\"00\") & RIGHT(TEXT(YEAR(MICASH!K1339),\"00\"),2)","v":"010000"},{"$f":"UPPER(LEFT(MICASH!L1339,96))","v":""}]
["C",288,"00",{"$f":"TEXT(MICASH!D1340,\"0000000000\")","v":"0000000000"}," ",{"$f":"UPPER(MICASH!F1340)","v":""},{"$f":"UPPER(MICASH!G1340)","v":""}," ",{"$f":"TEXT(MICASH!I1340,\"0000000000\")","v":"0000000000"},{"$f":"TEXT(MICASH!J1340*100,\"0000000000\")","v":"0000000000"},{"$f":"TEXT(MONTH(MICASH!K1340),\"00\") & TEXT(DAY(MICASH!K1340),\"00\") & RIGHT(TEXT(YEAR(MICASH!K1340),\"00\"),2)","v":"010000"},{"$f":"UPPER(LEFT(MICASH!L1340,96))","v":""}]
["C",288,"00",{"$f":"TEXT(MICASH!D1341,\"0000000000\")","v":"0000000000"}," ",{"$f":"UPPER(MICASH!F1341)","v":""},{"$f":"UPPER(MICASH!G1341)","v":""}," ",{"$f":"TEXT(MICASH!I1341,\"0000000000\")","v":"0000000000"},{"$f":"TEXT(MICASH!J1341*100,\"0000000000\")","v":"0000000000"},{"$f":"TEXT(MONTH(MICASH!K1341),\"00\") & TEXT(DAY(MICASH!K1341),\"00\") & RIGHT(TEXT(YEAR(MICASH!K1341),\"00\"),2)","v":"010000"},{"$f":"UPPER(LEFT(MICASH!L1341,96))","v":""}]
["C",288,"00",{"$f":"TEXT(MICASH!D1342,\"0000000000\")","v":"0000000000"}," ",{"$f":"UPPER(MICASH!F1342)","v":""},{"$f":"UPPER(MICASH!G1342)","v":""}," ",{"$f":"TEXT(MICASH!I1342,\"0000000000\")","v":"0000000000"},{"$f":"TEXT(MICASH!J1342*100,\"0000000000\")","v":"0000000000"},{"$f":"TEXT(MONTH(MICASH!K1342),\"00\") & TEXT(DAY(MICASH!K1342),\"00\") & RIGHT(TEXT(YEAR(MICASH!K1342),\"00\"),2)","v":"010000"},{"$f":"UPPER(LEFT(MICASH!L1342,96))","v":""}]
["C",288,"00",{"$f":"TEXT(MICASH!D1343,\"0000000000\")","v":"0000000000"}," ",{"$f":"UPPER(MICASH!F1343)","v":""},{"$f":"UPPER(MICASH!G1343)","v":""}," ",{"$f":"TEXT(MICASH!I1343,\"0000000000\")","v":"0000000000"},{"$f":"TEXT(MICASH!J1343*100,\"0000000000\")","v":"0000000000"},{"$f":"TEXT(MONTH(MICASH!K1343),\"00\") & TEXT(DAY(MICASH!K1343),\"00\") & RIGHT(TEXT(YEAR(MICASH!K1343),\"00\"),2)","v":"010000"},{"$f":"UPPER(LEFT(MICASH!L1343,96))","v":""}]
["C",288,"00",{"$f":"TEXT(MICASH!D1344,\"0000000000\")","v":"0000000000"}," ",{"$f":"UPPER(MICASH!F1344)","v":""},{"$f":"UPPER(MICASH!G1344)","v":""}," ",{"$f":"TEXT(MICASH!I1344,\"0000000000\")","v":"0000000000"},{"$f":"TEXT(MICASH!J1344*100,\"0000000000\")","v":"0000000000"},{"$f":"TEXT(MONTH(MICASH!K1344),\"00\") & TEXT(DAY(MICASH!K1344),\"00\") & RIGHT(TEXT(YEAR(MICASH!K1344),\"00\"),2)","v":"010000"},{"$f":"UPPER(LEFT(MICASH!L1344,96))","v":""}]
["C",288,"00",{"$f":"TEXT(MICASH!D1345,\"0000000000\")","v":"0000000000"}," ",{"$f":"UPPER(MICASH!F1345)","v":""},{"$f":"UPPER(MICASH!G1345)","v":""}," ",{"$f":"TEXT(MICASH!I1345,\"0000000000\")","v":"0000000000"},{"$f":"TEXT(MICASH!J1345*100,\"0000000000\")","v":"0000000000"},{"$f":"TEXT(MONTH(MICASH!K1345),\"00\") & TEXT(DAY(MICASH!K1345),\"00\") & RIGHT(TEXT(YEAR(MICASH!K1345),\"00\"),2)","v":"010000"},{"$f":"UPPER(LEFT(MICASH!L1345,96))","v":""}]
["C",288,"00",{"$f":"TEXT(MICASH!D1346,\"0000000000\")","v":"0000000000"}," ",{"$f":"UPPER(MICASH!F1346)","v":""},{"$f":"UPPER(MICASH!G1346)","v":""}," ",{"$f":"TEXT(MICASH!I1346,\"0000000000\")","v":"0000000000"},{"$f":"TEXT(MICASH!J1346*100,\"0000000000\")","v":"0000000000"},{"$f":"TEXT(MONTH(MICASH!K1346),\"00\") & TEXT(DAY(MICASH!K1346),\"00\") & RIGHT(TEXT(YEAR(MICASH!K1346),\"00\"),2)","v":"010000"},{"$f":"UPPER(LEFT(MICASH!L1346,96))","v":""}]
["C",288,"00",{"$f":"TEXT(MICASH!D1347,\"0000000000\")","v":"0000000000"}," ",{"$f":"UPPER(MICASH!F1347)","v":""},{"$f":"UPPER(MICASH!G1347)","v":""}," ",{"$f":"TEXT(MICASH!I1347,\"0000000000\")","v":"0000000000"},{"$f":"TEXT(MICASH!J1347*100,\"0000000000\")","v":"0000000000"},{"$f":"TEXT(MONTH(MICASH!K1347),\"00\") & TEXT(DAY(MICASH!K1347),\"00\") & RIGHT(TEXT(YEAR(MICASH!K1347),\"00\"),2)","v":"010000"},{"$f":"UPPER(LEFT(MICASH!L1347,96))","v":""}]
["C",288,"00",{"$f":"TEXT(MICASH!D1348,\"0000000000\")","v":"0000000000"}," ",{"$f":"UPPER(MICASH!F1348)","v":""},{"$f":"UPPER(MICASH!G1348)","v":""}," ",{"$f":"TEXT(MICASH!I1348,\"0000000000\")","v":"0000000000"},{"$f":"TEXT(MICASH!J1348*100,\"0000000000\")","v":"0000000000"},{"$f":"TEXT(MONTH(MICASH!K1348),\"00\") & TEXT(DAY(MICASH!K1348),\"00\") & RIGHT(TEXT(YEAR(MICASH!K1348),\"00\"),2)","v":"010000"},{"$f":"UPPER(LEFT(MICASH!L1348,96))","v":""}]
["C",288,"00",{"$f":"TEXT(MICASH!D1349,\"0000000000\")","v":"0000000000"}," ",{"$f":"UPPER(MICASH!F1349)","v":""},{"$f":"UPPER(MICASH!G1349)","v":""}," ",{"$f":"TEXT(MICASH!I1349,\"0000000000\")","v":"0000000000"},{"$f":"TEXT(MICASH!J1349*100,\"0000000000\")","v":"0000000000"},{"$f":"TEXT(MONTH(MICASH!K1349),\"00\") & TEXT(DAY(MICASH!K1349),\"00\") & RIGHT(TEXT(YEAR(MICASH!K1349),\"00\"),2)","v":"010000"},{"$f":"UPPER(LEFT(MICASH!L1349,96))","v":""}]
["C",288,"00",{"$f":"TEXT(MICASH!D1350,\"0000000000\")","v":"0000000000"}," ",{"$f":"UPPER(MICASH!F1350)","v":""},{"$f":"UPPER(MICASH!G1350)","v":""}," ",{"$f":"TEXT(MICASH!I1350,\"0000000000\")","v":"0000000000"},{"$f":"TEXT(MICASH!J1350*100,\"0000000000\")","v":"0000000000"},{"$f":"TEXT(MONTH(MICASH!K1350),\"00\") & TEXT(DAY(MICASH!K1350),\"00\") & RIGHT(TEXT(YEAR(MICASH!K1350),\"00\"),2)","v":"010000"},{"$f":"UPPER(LEFT(MICASH!L1350,96))","v":""}]
["C",288,"00",{"$f":"TEXT(MICASH!D1351,\"0000000000\")","v":"0000000000"}," ",{"$f":"UPPER(MICASH!F1351)","v":""},{"$f":"UPPER(MICASH!G1351)","v":""}," ",{"$f":"TEXT(MICASH!I1351,\"0000000000\")","v":"0000000000"},{"$f":"TEXT(MICASH!J1351*100,\"0000000000\")","v":"0000000000"},{"$f":"TEXT(MONTH(MICASH!K1351),\"00\") & TEXT(DAY(MICASH!K1351),\"00\") & RIGHT(TEXT(YEAR(MICASH!K1351),\"00\"),2)","v":"010000"},{"$f":"UPPER(LEFT(MICASH!L1351,96))","v":""}]
["C",288,"00",{"$f":"TEXT(MICASH!D1352,\"0000000000\")","v":"0000000000"}," ",{"$f":"UPPER(MICASH!F1352)","v":""},{"$f":"UPPER(MICASH!G1352)","v":""}," ",{"$f":"TEXT(MICASH!I1352,\"0000000000\")","v":"0000000000"},{"$f":"TEXT(MICASH!J1352*100,\"0000000000\")","v":"0000000000"},{"$f":"TEXT(MONTH(MICASH!K1352),\"00\") & TEXT(DAY(MICASH!K1352),\"00\") & RIGHT(TEXT(YEAR(MICASH!K1352),\"00\"),2)","v":"010000"},{"$f":"UPPER(LEFT(MICASH!L1352,96))","v":""}]
["C",288,"00",{"$f":"TEXT(MICASH!D1353,\"0000000000\")","v":"0000000000"}," ",{"$f":"UPPER(MICASH!F1353)","v":""},{"$f":"UPPER(MICASH!G1353)","v":""}," ",{"$f":"TEXT(MICASH!I1353,\"0000000000\")","v":"0000000000"},{"$f":"TEXT(MICASH!J1353*100,\"0000000000\")","v":"0000000000"},{"$f":"TEXT(MONTH(MICASH!K1353),\"00\") & TEXT(DAY(MICASH!K1353),\"00\") & RIGHT(TEXT(YEAR(MICASH!K1353),\"00\"),2)","v":"010000"},{"$f":"UPPER(LEFT(MICASH!L1353,96))","v":""}]
["C",288,"00",{"$f":"TEXT(MICASH!D1354,\"0000000000\")","v":"0000000000"}," ",{"$f":"UPPER(MICASH!F1354)","v":""},{"$f":"UPPER(MICASH!G1354)","v":""}," ",{"$f":"TEXT(MICASH!I1354,\"0000000000\")","v":"0000000000"},{"$f":"TEXT(MICASH!J1354*100,\"0000000000\")","v":"0000000000"},{"$f":"TEXT(MONTH(MICASH!K1354),\"00\") & TEXT(DAY(MICASH!K1354),\"00\") & RIGHT(TEXT(YEAR(MICASH!K1354),\"00\"),2)","v":"010000"},{"$f":"UPPER(LEFT(MICASH!L1354,96))","v":""}]
["C",288,"00",{"$f":"TEXT(MICASH!D1355,\"0000000000\")","v":"0000000000"}," ",{"$f":"UPPER(MICASH!F1355)","v":""},{"$f":"UPPER(MICASH!G1355)","v":""}," ",{"$f":"TEXT(MICASH!I1355,\"0000000000\")","v":"0000000000"},{"$f":"TEXT(MICASH!J1355*100,\"0000000000\")","v":"0000000000"},{"$f":"TEXT(MONTH(MICASH!K1355),\"00\") & TEXT(DAY(MICASH!K1355),\"00\") & RIGHT(TEXT(YEAR(MICASH!K1355),\"00\"),2)","v":"010000"},{"$f":"UPPER(LEFT(MICASH!L1355,96))","v":""}]
["C",288,"00",{"$f":"TEXT(MICASH!D1356,\"0000000000\")","v":"0000000000"}," ",{"$f":"UPPER(MICASH!F1356)","v":""},{"$f":"UPPER(MICASH!G1356)","v":""}," ",{"$f":"TEXT(MICASH!I1356,\"0000000000\")","v":"0000000000"},{"$f":"TEXT(MICASH!J1356*100,\"0000000000\")","v":"0000000000"},{"$f":"TEXT(MONTH(MICASH!K1356),\"00\") & TEXT(DAY(MICASH!K1356),\"00\") & RIGHT(TEXT(YEAR(MICASH!K1356),\"00\"),2)","v":"010000"},{"$f":"UPPER(LEFT(MICASH!L1356,96))","v":""}]
["C",288,"00",{"$f":"TEXT(MICASH!D1357,\"0000000000\")","v":"0000000000"}," ",{"$f":"UPPER(MICASH!F1357)","v":""},{"$f":"UPPER(MICASH!G1357)","v":""}," ",{"$f":"TEXT(MICASH!I1357,\"0000000000\")","v":"0000000000"},{"$f":"TEXT(MICASH!J1357*100,\"0000000000\")","v":"0000000000"},{"$f":"TEXT(MONTH(MICASH!K1357),\"00\") & TEXT(DAY(MICASH!K1357),\"00\") & RIGHT(TEXT(YEAR(MICASH!K1357),\"00\"),2)","v":"010000"},{"$f":"UPPER(LEFT(MICASH!L1357,96))","v":""}]
["C",288,"00",{"$f":"TEXT(MICASH!D1358,\"0000000000\")","v":"0000000000"}," ",{"$f":"UPPER(MICASH!F1358)","v":""},{"$f":"UPPER(MICASH!G1358)","v":""}," ",{"$f":"TEXT(MICASH!I1358,\"0000000000\")","v":"0000000000"},{"$f":"TEXT(MICASH!J1358*100,\"0000000000\")","v":"0000000000"},{"$f":"TEXT(MONTH(MICASH!K1358),\"00\") & TEXT(DAY(MICASH!K1358),\"00\") & RIGHT(TEXT(YEAR(MICASH!K1358),\"00\"),2)","v":"010000"},{"$f":"UPPER(LEFT(MICASH!L1358,96))","v":""}]
["C",288,"00",{"$f":"TEXT(MICASH!D1359,\"0000000000\")","v":"0000000000"}," ",{"$f":"UPPER(MICASH!F1359)","v":""},{"$f":"UPPER(MICASH!G1359)","v":""}," ",{"$f":"TEXT(MICASH!I1359,\"0000000000\")","v":"0000000000"},{"$f":"TEXT(MICASH!J1359*100,\"0000000000\")","v":"0000000000"},{"$f":"TEXT(MONTH(MICASH!K1359),\"00\") & TEXT(DAY(MICASH!K1359),\"00\") & RIGHT(TEXT(YEAR(MICASH!K1359),\"00\"),2)","v":"010000"},{"$f":"UPPER(LEFT(MICASH!L1359,96))","v":""}]
["C",288,"00",{"$f":"TEXT(MICASH!D1360,\"0000000000\")","v":"0000000000"}," ",{"$f":"UPPER(MICASH!F1360)","v":""},{"$f":"UPPER(MICASH!G1360)","v":""}," ",{"$f":"TEXT(MICASH!I1360,\"0000000000\")","v":"0000000000"},{"$f":"TEXT(MICASH!J1360*100,\"0000000000\")","v":"0000000000"},{"$f":"TEXT(MONTH(MICASH!K1360),\"00\") & TEXT(DAY(MICASH!K1360),\"00\") & RIGHT(TEXT(YEAR(MICASH!K1360),\"00\"),2)","v":"010000"},{"$f":"UPPER(LEFT(MICASH!L1360,96))","v":""}]
["C",288,"00",{"$f":"TEXT(MICASH!D1361,\"0000000000\")","v":"0000000000"}," ",{"$f":"UPPER(MICASH!F1361)","v":""},{"$f":"UPPER(MICASH!G1361)","v":""}," ",{"$f":"TEXT(MICASH!I1361,\"0000000000\")","v":"0000000000"},{"$f":"TEXT(MICASH!J1361*100,\"0000000000\")","v":"0000000000"},{"$f":"TEXT(MONTH(MICASH!K1361),\"00\") & TEXT(DAY(MICASH!K1361),\"00\") & RIGHT(TEXT(YEAR(MICASH!K1361),\"00\"),2)","v":"010000"},{"$f":"UPPER(LEFT(MICASH!L1361,96))","v":""}]
["C",288,"00",{"$f":"TEXT(MICASH!D1362,\"0000000000\")","v":"0000000000"}," ",{"$f":"UPPER(MICASH!F1362)","v":""},{"$f":"UPPER(MICASH!G1362)","v":""}," ",{"$f":"TEXT(MICASH!I1362,\"0000000000\")","v":"0000000000"},{"$f":"TEXT(MICASH!J1362*100,\"0000000000\")","v":"0000000000"},{"$f":"TEXT(MONTH(MICASH!K1362),\"00\") & TEXT(DAY(MICASH!K1362),\"00\") & RIGHT(TEXT(YEAR(MICASH!K1362),\"00\"),2)","v":"010000"},{"$f":"UPPER(LEFT(MICASH!L1362,96))","v":""}]
["C",288,"00",{"$f":"TEXT(MICASH!D1363,\"0000000000\")","v":"0000000000"}," ",{"$f":"UPPER(MICASH!F1363)","v":""},{"$f":"UPPER(MICASH!G1363)","v":""}," ",{"$f":"TEXT(MICASH!I1363,\"0000000000\")","v":"0000000000"},{"$f":"TEXT(MICASH!J1363*100,\"0000000000\")","v":"0000000000"},{"$f":"TEXT(MONTH(MICASH!K1363),\"00\") & TEXT(DAY(MICASH!K1363),\"00\") & RIGHT(TEXT(YEAR(MICASH!K1363),\"00\"),2)","v":"010000"},{"$f":"UPPER(LEFT(MICASH!L1363,96))","v":""}]
["C",288,"00",{"$f":"TEXT(MICASH!D1364,\"0000000000\")","v":"0000000000"}," ",{"$f":"UPPER(MICASH!F1364)","v":""},{"$f":"UPPER(MICASH!G1364)","v":""}," ",{"$f":"TEXT(MICASH!I1364,\"0000000000\")","v":"0000000000"},{"$f":"TEXT(MICASH!J1364*100,\"0000000000\")","v":"0000000000"},{"$f":"TEXT(MONTH(MICASH!K1364),\"00\") & TEXT(DAY(MICASH!K1364),\"00\") & RIGHT(TEXT(YEAR(MICASH!K1364),\"00\"),2)","v":"010000"},{"$f":"UPPER(LEFT(MICASH!L1364,96))","v":""}]
["C",288,"00",{"$f":"TEXT(MICASH!D1365,\"0000000000\")","v":"0000000000"}," ",{"$f":"UPPER(MICASH!F1365)","v":""},{"$f":"UPPER(MICASH!G1365)","v":""}," ",{"$f":"TEXT(MICASH!I1365,\"0000000000\")","v":"0000000000"},{"$f":"TEXT(MICASH!J1365*100,\"0000000000\")","v":"0000000000"},{"$f":"TEXT(MONTH(MICASH!K1365),\"00\") & TEXT(DAY(MICASH!K1365),\"00\") & RIGHT(TEXT(YEAR(MICASH!K1365),\"00\"),2)","v":"010000"},{"$f":"UPPER(LEFT(MICASH!L1365,96))","v":""}]
["C",288,"00",{"$f":"TEXT(MICASH!D1366,\"0000000000\")","v":"0000000000"}," ",{"$f":"UPPER(MICASH!F1366)","v":""},{"$f":"UPPER(MICASH!G1366)","v":""}," ",{"$f":"TEXT(MICASH!I1366,\"0000000000\")","v":"0000000000"},{"$f":"TEXT(MICASH!J1366*100,\"0000000000\")","v":"0000000000"},{"$f":"TEXT(MONTH(MICASH!K1366),\"00\") & TEXT(DAY(MICASH!K1366),\"00\") & RIGHT(TEXT(YEAR(MICASH!K1366),\"00\"),2)","v":"010000"},{"$f":"UPPER(LEFT(MICASH!L1366,96))","v":""}]
["C",288,"00",{"$f":"TEXT(MICASH!D1367,\"0000000000\")","v":"0000000000"}," ",{"$f":"UPPER(MICASH!F1367)","v":""},{"$f":"UPPER(MICASH!G1367)","v":""}," ",{"$f":"TEXT(MICASH!I1367,\"0000000000\")","v":"0000000000"},{"$f":"TEXT(MICASH!J1367*100,\"0000000000\")","v":"0000000000"},{"$f":"TEXT(MONTH(MICASH!K1367),\"00\") & TEXT(DAY(MICASH!K1367),\"00\") & RIGHT(TEXT(YEAR(MICASH!K1367),\"00\"),2)","v":"010000"},{"$f":"UPPER(LEFT(MICASH!L1367,96))","v":""}]
["C",288,"00",{"$f":"TEXT(MICASH!D1368,\"0000000000\")","v":"0000000000"}," ",{"$f":"UPPER(MICASH!F1368)","v":""},{"$f":"UPPER(MICASH!G1368)","v":""}," ",{"$f":"TEXT(MICASH!I1368,\"0000000000\")","v":"0000000000"},{"$f":"TEXT(MICASH!J1368*100,\"0000000000\")","v":"0000000000"},{"$f":"TEXT(MONTH(MICASH!K1368),\"00\") & TEXT(DAY(MICASH!K1368),\"00\") & RIGHT(TEXT(YEAR(MICASH!K1368),\"00\"),2)","v":"010000"},{"$f":"UPPER(LEFT(MICASH!L1368,96))","v":""}]
["C",288,"00",{"$f":"TEXT(MICASH!D1369,\"0000000000\")","v":"0000000000"}," ",{"$f":"UPPER(MICASH!F1369)","v":""},{"$f":"UPPER(MICASH!G1369)","v":""}," ",{"$f":"TEXT(MICASH!I1369,\"0000000000\")","v":"0000000000"},{"$f":"TEXT(MICASH!J1369*100,\"0000000000\")","v":"0000000000"},{"$f":"TEXT(MONTH(MICASH!K1369),\"00\") & TEXT(DAY(MICASH!K1369),\"00\") & RIGHT(TEXT(YEAR(MICASH!K1369),\"00\"),2)","v":"010000"},{"$f":"UPPER(LEFT(MICASH!L1369,96))","v":""}]
["C",288,"00",{"$f":"TEXT(MICASH!D1370,\"0000000000\")","v":"0000000000"}," ",{"$f":"UPPER(MICASH!F1370)","v":""},{"$f":"UPPER(MICASH!G1370)","v":""}," ",{"$f":"TEXT(MICASH!I1370,\"0000000000\")","v":"0000000000"},{"$f":"TEXT(MICASH!J1370*100,\"0000000000\")","v":"0000000000"},{"$f":"TEXT(MONTH(MICASH!K1370),\"00\") & TEXT(DAY(MICASH!K1370),\"00\") & RIGHT(TEXT(YEAR(MICASH!K1370),\"00\"),2)","v":"010000"},{"$f":"UPPER(LEFT(MICASH!L1370,96))","v":""}]
["C",288,"00",{"$f":"TEXT(MICASH!D1371,\"0000000000\")","v":"0000000000"}," ",{"$f":"UPPER(MICASH!F1371)","v":""},{"$f":"UPPER(MICASH!G1371)","v":""}," ",{"$f":"TEXT(MICASH!I1371,\"0000000000\")","v":"0000000000"},{"$f":"TEXT(MICASH!J1371*100,\"0000000000\")","v":"0000000000"},{"$f":"TEXT(MONTH(MICASH!K1371),\"00\") & TEXT(DAY(MICASH!K1371),\"00\") & RIGHT(TEXT(YEAR(MICASH!K1371),\"00\"),2)","v":"010000"},{"$f":"UPPER(LEFT(MICASH!L1371,96))","v":""}]
["C",288,"00",{"$f":"TEXT(MICASH!D1372,\"0000000000\")","v":"0000000000"}," ",{"$f":"UPPER(MICASH!F1372)","v":""},{"$f":"UPPER(MICASH!G1372)","v":""}," ",{"$f":"TEXT(MICASH!I1372,\"0000000000\")","v":"0000000000"},{"$f":"TEXT(MICASH!J1372*100,\"0000000000\")","v":"0000000000"},{"$f":"TEXT(MONTH(MICASH!K1372),\"00\") & TEXT(DAY(MICASH!K1372),\"00\") & RIGHT(TEXT(YEAR(MICASH!K1372),\"00\"),2)","v":"010000"},{"$f":"UPPER(LEFT(MICASH!L1372,96))","v":""}]
["C",288,"00",{"$f":"TEXT(MICASH!D1373,\"0000000000\")","v":"0000000000"}," ",{"$f":"UPPER(MICASH!F1373)","v":""},{"$f":"UPPER(MICASH!G1373)","v":""}," ",{"$f":"TEXT(MICASH!I1373,\"0000000000\")","v":"0000000000"},{"$f":"TEXT(MICASH!J1373*100,\"0000000000\")","v":"0000000000"},{"$f":"TEXT(MONTH(MICASH!K1373),\"00\") & TEXT(DAY(MICASH!K1373),\"00\") & RIGHT(TEXT(YEAR(MICASH!K1373),\"00\"),2)","v":"010000"},{"$f":"UPPER(LEFT(MICASH!L1373,96))","v":""}]
["C",288,"00",{"$f":"TEXT(MICASH!D1374,\"0000000000\")","v":"0000000000"}," ",{"$f":"UPPER(MICASH!F1374)","v":""},{"$f":"UPPER(MICASH!G1374)","v":""}," ",{"$f":"TEXT(MICASH!I1374,\"0000000000\")","v":"0000000000"},{"$f":"TEXT(MICASH!J1374*100,\"0000000000\")","v":"0000000000"},{"$f":"TEXT(MONTH(MICASH!K1374),\"00\") & TEXT(DAY(MICASH!K1374),\"00\") & RIGHT(TEXT(YEAR(MICASH!K1374),\"00\"),2)","v":"010000"},{"$f":"UPPER(LEFT(MICASH!L1374,96))","v":""}]
["C",288,"00",{"$f":"TEXT(MICASH!D1375,\"0000000000\")","v":"0000000000"}," ",{"$f":"UPPER(MICASH!F1375)","v":""},{"$f":"UPPER(MICASH!G1375)","v":""}," ",{"$f":"TEXT(MICASH!I1375,\"0000000000\")","v":"0000000000"},{"$f":"TEXT(MICASH!J1375*100,\"0000000000\")","v":"0000000000"},{"$f":"TEXT(MONTH(MICASH!K1375),\"00\") & TEXT(DAY(MICASH!K1375),\"00\") & RIGHT(TEXT(YEAR(MICASH!K1375),\"00\"),2)","v":"010000"},{"$f":"UPPER(LEFT(MICASH!L1375,96))","v":""}]
["C",288,"00",{"$f":"TEXT(MICASH!D1376,\"0000000000\")","v":"0000000000"}," ",{"$f":"UPPER(MICASH!F1376)","v":""},{"$f":"UPPER(MICASH!G1376)","v":""}," ",{"$f":"TEXT(MICASH!I1376,\"0000000000\")","v":"0000000000"},{"$f":"TEXT(MICASH!J1376*100,\"0000000000\")","v":"0000000000"},{"$f":"TEXT(MONTH(MICASH!K1376),\"00\") & TEXT(DAY(MICASH!K1376),\"00\") & RIGHT(TEXT(YEAR(MICASH!K1376),\"00\"),2)","v":"010000"},{"$f":"UPPER(LEFT(MICASH!L1376,96))","v":""}]
["C",288,"00",{"$f":"TEXT(MICASH!D1377,\"0000000000\")","v":"0000000000"}," ",{"$f":"UPPER(MICASH!F1377)","v":""},{"$f":"UPPER(MICASH!G1377)","v":""}," ",{"$f":"TEXT(MICASH!I1377,\"0000000000\")","v":"0000000000"},{"$f":"TEXT(MICASH!J1377*100,\"0000000000\")","v":"0000000000"},{"$f":"TEXT(MONTH(MICASH!K1377),\"00\") & TEXT(DAY(MICASH!K1377),\"00\") & RIGHT(TEXT(YEAR(MICASH!K1377),\"00\"),2)","v":"010000"},{"$f":"UPPER(LEFT(MICASH!L1377,96))","v":""}]
["C",288,"00",{"$f":"TEXT(MICASH!D1378,\"0000000000\")","v":"0000000000"}," ",{"$f":"UPPER(MICASH!F1378)","v":""},{"$f":"UPPER(MICASH!G1378)","v":""}," ",{"$f":"TEXT(MICASH!I1378,\"0000000000\")","v":"0000000000"},{"$f":"TEXT(MICASH!J1378*100,\"0000000000\")","v":"0000000000"},{"$f":"TEXT(MONTH(MICASH!K1378),\"00\") & TEXT(DAY(MICASH!K1378),\"00\") & RIGHT(TEXT(YEAR(MICASH!K1378),\"00\"),2)","v":"010000"},{"$f":"UPPER(LEFT(MICASH!L1378,96))","v":""}]
["C",288,"00",{"$f":"TEXT(MICASH!D1379,\"0000000000\")","v":"0000000000"}," ",{"$f":"UPPER(MICASH!F1379)","v":""},{"$f":"UPPER(MICASH!G1379)","v":""}," ",{"$f":"TEXT(MICASH!I1379,\"0000000000\")","v":"0000000000"},{"$f":"TEXT(MICASH!J1379*100,\"0000000000\")","v":"0000000000"},{"$f":"TEXT(MONTH(MICASH!K1379),\"00\") & TEXT(DAY(MICASH!K1379),\"00\") & RIGHT(TEXT(YEAR(MICASH!K1379),\"00\"),2)","v":"010000"},{"$f":"UPPER(LEFT(MICASH!L1379,96))","v":""}]
["C",288,"00",{"$f":"TEXT(MICASH!D1380,\"0000000000\")","v":"0000000000"}," ",{"$f":"UPPER(MICASH!F1380)","v":""},{"$f":"UPPER(MICASH!G1380)","v":""}," ",{"$f":"TEXT(MICASH!I1380,\"0000000000\")","v":"0000000000"},{"$f":"TEXT(MICASH!J1380*100,\"0000000000\")","v":"0000000000"},{"$f":"TEXT(MONTH(MICASH!K1380),\"00\") & TEXT(DAY(MICASH!K1380),\"00\") & RIGHT(TEXT(YEAR(MICASH!K1380),\"00\"),2)","v":"010000"},{"$f":"UPPER(LEFT(MICASH!L1380,96))","v":""}]
["C",288,"00",{"$f":"TEXT(MICASH!D1381,\"0000000000\")","v":"0000000000"}," ",{"$f":"UPPER(MICASH!F1381)","v":""},{"$f":"UPPER(MICASH!G1381)","v":""}," ",{"$f":"TEXT(MICASH!I1381,\"0000000000\")","v":"0000000000"},{"$f":"TEXT(MICASH!J1381*100,\"0000000000\")","v":"0000000000"},{"$f":"TEXT(MONTH(MICASH!K1381),\"00\") & TEXT(DAY(MICASH!K1381),\"00\") & RIGHT(TEXT(YEAR(MICASH!K1381),\"00\"),2)","v":"010000"},{"$f":"UPPER(LEFT(MICASH!L1381,96))","v":""}]
["C",288,"00",{"$f":"TEXT(MICASH!D1382,\"0000000000\")","v":"0000000000"}," ",{"$f":"UPPER(MICASH!F1382)","v":""},{"$f":"UPPER(MICASH!G1382)","v":""}," ",{"$f":"TEXT(MICASH!I1382,\"0000000000\")","v":"0000000000"},{"$f":"TEXT(MICASH!J1382*100,\"0000000000\")","v":"0000000000"},{"$f":"TEXT(MONTH(MICASH!K1382),\"00\") & TEXT(DAY(MICASH!K1382),\"00\") & RIGHT(TEXT(YEAR(MICASH!K1382),\"00\"),2)","v":"010000"},{"$f":"UPPER(LEFT(MICASH!L1382,96))","v":""}]
["C",288,"00",{"$f":"TEXT(MICASH!D1383,\"0000000000\")","v":"0000000000"}," ",{"$f":"UPPER(MICASH!F1383)","v":""},{"$f":"UPPER(MICASH!G1383)","v":""}," ",{"$f":"TEXT(MICASH!I1383,\"0000000000\")","v":"0000000000"},{"$f":"TEXT(MICASH!J1383*100,\"0000000000\")","v":"0000000000"},{"$f":"TEXT(MONTH(MICASH!K1383),\"00\") & TEXT(DAY(MICASH!K1383),\"00\") & RIGHT(TEXT(YEAR(MICASH!K1383),\"00\"),2)","v":"010000"},{"$f":"UPPER(LEFT(MICASH!L1383,96))","v":""}]
["C",288,"00",{"$f":"TEXT(MICASH!D1384,\"0000000000\")","v":"0000000000"}," ",{"$f":"UPPER(MICASH!F1384)","v":""},{"$f":"UPPER(MICASH!G1384)","v":""}," ",{"$f":"TEXT(MICASH!I1384,\"0000000000\")","v":"0000000000"},{"$f":"TEXT(MICASH!J1384*100,\"0000000000\")","v":"0000000000"},{"$f":"TEXT(MONTH(MICASH!K1384),\"00\") & TEXT(DAY(MICASH!K1384),\"00\") & RIGHT(TEXT(YEAR(MICASH!K1384),\"00\"),2)","v":"010000"},{"$f":"UPPER(LEFT(MICASH!L1384,96))","v":""}]
["C",288,"00",{"$f":"TEXT(MICASH!D1385,\"0000000000\")","v":"0000000000"}," ",{"$f":"UPPER(MICASH!F1385)","v":""},{"$f":"UPPER(MICASH!G1385)","v":""}," ",{"$f":"TEXT(MICASH!I1385,\"0000000000\")","v":"0000000000"},{"$f":"TEXT(MICASH!J1385*100,\"0000000000\")","v":"0000000000"},{"$f":"TEXT(MONTH(MICASH!K1385),\"00\") & TEXT(DAY(MICASH!K1385),\"00\") & RIGHT(TEXT(YEAR(MICASH!K1385),\"00\"),2)","v":"010000"},{"$f":"UPPER(LEFT(MICASH!L1385,96))","v":""}]
["C",288,"00",{"$f":"TEXT(MICASH!D1386,\"0000000000\")","v":"0000000000"}," ",{"$f":"UPPER(MICASH!F1386)","v":""},{"$f":"UPPER(MICASH!G1386)","v":""}," ",{"$f":"TEXT(MICASH!I1386,\"0000000000\")","v":"0000000000"},{"$f":"TEXT(MICASH!J1386*100,\"0000000000\")","v":"0000000000"},{"$f":"TEXT(MONTH(MICASH!K1386),\"00\") & TEXT(DAY(MICASH!K1386),\"00\") & RIGHT(TEXT(YEAR(MICASH!K1386),\"00\"),2)","v":"010000"},{"$f":"UPPER(LEFT(MICASH!L1386,96))","v":""}]
["C",288,"00",{"$f":"TEXT(MICASH!D1387,\"0000000000\")","v":"0000000000"}," ",{"$f":"UPPER(MICASH!F1387)","v":""},{"$f":"UPPER(MICASH!G1387)","v":""}," ",{"$f":"TEXT(MICASH!I1387,\"0000000000\")","v":"0000000000"},{"$f":"TEXT(MICASH!J1387*100,\"0000000000\")","v":"0000000000"},{"$f":"TEXT(MONTH(MICASH!K1387),\"00\") & TEXT(DAY(MICASH!K1387),\"00\") & RIGHT(TEXT(YEAR(MICASH!K1387),\"00\"),2)","v":"010000"},{"$f":"UPPER(LEFT(MICASH!L1387,96))","v":""}]
["C",288,"00",{"$f":"TEXT(MICASH!D1388,\"0000000000\")","v":"0000000000"}," ",{"$f":"UPPER(MICASH!F1388)","v":""},{"$f":"UPPER(MICASH!G1388)","v":""}," ",{"$f":"TEXT(MICASH!I1388,\"0000000000\")","v":"0000000000"},{"$f":"TEXT(MICASH!J1388*100,\"0000000000\")","v":"0000000000"},{"$f":"TEXT(MONTH(MICASH!K1388),\"00\") & TEXT(DAY(MICASH!K1388),\"00\") & RIGHT(TEXT(YEAR(MICASH!K1388),\"00\"),2)","v":"010000"},{"$f":"UPPER(LEFT(MICASH!L1388,96))","v":""}]
["C",288,"00",{"$f":"TEXT(MICASH!D1389,\"0000000000\")","v":"0000000000"}," ",{"$f":"UPPER(MICASH!F1389)","v":""},{"$f":"UPPER(MICASH!G1389)","v":""}," ",{"$f":"TEXT(MICASH!I1389,\"0000000000\")","v":"0000000000"},{"$f":"TEXT(MICASH!J1389*100,\"0000000000\")","v":"0000000000"},{"$f":"TEXT(MONTH(MICASH!K1389),\"00\") & TEXT(DAY(MICASH!K1389),\"00\") & RIGHT(TEXT(YEAR(MICASH!K1389),\"00\"),2)","v":"010000"},{"$f":"UPPER(LEFT(MICASH!L1389,96))","v":""}]
["C",288,"00",{"$f":"TEXT(MICASH!D1390,\"0000000000\")","v":"0000000000"}," ",{"$f":"UPPER(MICASH!F1390)","v":""},{"$f":"UPPER(MICASH!G1390)","v":""}," ",{"$f":"TEXT(MICASH!I1390,\"0000000000\")","v":"0000000000"},{"$f":"TEXT(MICASH!J1390*100,\"0000000000\")","v":"0000000000"},{"$f":"TEXT(MONTH(MICASH!K1390),\"00\") & TEXT(DAY(MICASH!K1390),\"00\") & RIGHT(TEXT(YEAR(MICASH!K1390),\"00\"),2)","v":"010000"},{"$f":"UPPER(LEFT(MICASH!L1390,96))","v":""}]
["C",288,"00",{"$f":"TEXT(MICASH!D1391,\"0000000000\")","v":"0000000000"}," ",{"$f":"UPPER(MICASH!F1391)","v":""},{"$f":"UPPER(MICASH!G1391)","v":""}," ",{"$f":"TEXT(MICASH!I1391,\"0000000000\")","v":"0000000000"},{"$f":"TEXT(MICASH!J1391*100,\"0000000000\")","v":"0000000000"},{"$f":"TEXT(MONTH(MICASH!K1391),\"00\") & TEXT(DAY(MICASH!K1391),\"00\") & RIGHT(TEXT(YEAR(MICASH!K1391),\"00\"),2)","v":"010000"},{"$f":"UPPER(LEFT(MICASH!L1391,96))","v":""}]
["C",288,"00",{"$f":"TEXT(MICASH!D1392,\"0000000000\")","v":"0000000000"}," ",{"$f":"UPPER(MICASH!F1392)","v":""},{"$f":"UPPER(MICASH!G1392)","v":""}," ",{"$f":"TEXT(MICASH!I1392,\"0000000000\")","v":"0000000000"},{"$f":"TEXT(MICASH!J1392*100,\"0000000000\")","v":"0000000000"},{"$f":"TEXT(MONTH(MICASH!K1392),\"00\") & TEXT(DAY(MICASH!K1392),\"00\") & RIGHT(TEXT(YEAR(MICASH!K1392),\"00\"),2)","v":"010000"},{"$f":"UPPER(LEFT(MICASH!L1392,96))","v":""}]
["C",288,"00",{"$f":"TEXT(MICASH!D1393,\"0000000000\")","v":"0000000000"}," ",{"$f":"UPPER(MICASH!F1393)","v":""},{"$f":"UPPER(MICASH!G1393)","v":""}," ",{"$f":"TEXT(MICASH!I1393,\"0000000000\")","v":"0000000000"},{"$f":"TEXT(MICASH!J1393*100,\"0000000000\")","v":"0000000000"},{"$f":"TEXT(MONTH(MICASH!K1393),\"00\") & TEXT(DAY(MICASH!K1393),\"00\") & RIGHT(TEXT(YEAR(MICASH!K1393),\"00\"),2)","v":"010000"},{"$f":"UPPER(LEFT(MICASH!L1393,96))","v":""}]
["C",288,"00",{"$f":"TEXT(MICASH!D1394,\"0000000000\")","v":"0000000000"}," ",{"$f":"UPPER(MICASH!F1394)","v":""},{"$f":"UPPER(MICASH!G1394)","v":""}," ",{"$f":"TEXT(MICASH!I1394,\"0000000000\")","v":"0000000000"},{"$f":"TEXT(MICASH!J1394*100,\"0000000000\")","v":"0000000000"},{"$f":"TEXT(MONTH(MICASH!K1394),\"00\") & TEXT(DAY(MICASH!K1394),\"00\") & RIGHT(TEXT(YEAR(MICASH!K1394),\"00\"),2)","v":"010000"},{"$f":"UPPER(LEFT(MICASH!L1394,96))","v":""}]
["C",288,"00",{"$f":"TEXT(MICASH!D1395,\"0000000000\")","v":"0000000000"}," ",{"$f":"UPPER(MICASH!F1395)","v":""},{"$f":"UPPER(MICASH!G1395)","v":""}," ",{"$f":"TEXT(MICASH!I1395,\"0000000000\")","v":"0000000000"},{"$f":"TEXT(MICASH!J1395*100,\"0000000000\")","v":"0000000000"},{"$f":"TEXT(MONTH(MICASH!K1395),\"00\") & TEXT(DAY(MICASH!K1395),\"00\") & RIGHT(TEXT(YEAR(MICASH!K1395),\"00\"),2)","v":"010000"},{"$f":"UPPER(LEFT(MICASH!L1395,96))","v":""}]
["C",288,"00",{"$f":"TEXT(MICASH!D1396,\"0000000000\")","v":"0000000000"}," ",{"$f":"UPPER(MICASH!F1396)","v":""},{"$f":"UPPER(MICASH!G1396)","v":""}," ",{"$f":"TEXT(MICASH!I1396,\"0000000000\")","v":"0000000000"},{"$f":"TEXT(MICASH!J1396*100,\"0000000000\")","v":"0000000000"},{"$f":"TEXT(MONTH(MICASH!K1396),\"00\") & TEXT(DAY(MICASH!K1396),\"00\") & RIGHT(TEXT(YEAR(MICASH!K1396),\"00\"),2)","v":"010000"},{"$f":"UPPER(LEFT(MICASH!L1396,96))","v":""}]
["C",288,"00",{"$f":"TEXT(MICASH!D1397,\"0000000000\")","v":"0000000000"}," ",{"$f":"UPPER(MICASH!F1397)","v":""},{"$f":"UPPER(MICASH!G1397)","v":""}," ",{"$f":"TEXT(MICASH!I1397,\"0000000000\")","v":"0000000000"},{"$f":"TEXT(MICASH!J1397*100,\"0000000000\")","v":"0000000000"},{"$f":"TEXT(MONTH(MICASH!K1397),\"00\") & TEXT(DAY(MICASH!K1397),\"00\") & RIGHT(TEXT(YEAR(MICASH!K1397),\"00\"),2)","v":"010000"},{"$f":"UPPER(LEFT(MICASH!L1397,96))","v":""}]
["C",288,"00",{"$f":"TEXT(MICASH!D1398,\"0000000000\")","v":"0000000000"}," ",{"$f":"UPPER(MICASH!F1398)","v":""},{"$f":"UPPER(MICASH!G1398)","v":""}," ",{"$f":"TEXT(MICASH!I1398,\"0000000000\")","v":"0000000000"},{"$f":"TEXT(MICASH!J1398*100,\"0000000000\")","v":"0000000000"},{"$f":"TEXT(MONTH(MICASH!K1398),\"00\") & TEXT(DAY(MICASH!K1398),\"00\") & RIGHT(TEXT(YEAR(MICASH!K1398),\"00\"),2)","v":"010000"},{"$f":"UPPER(LEFT(MICASH!L1398,96))","v":""}]
["C",288,"00",{"$f":"TEXT(MICASH!D1399,\"0000000000\")","v":"0000000000"}," ",{"$f":"UPPER(MICASH!F1399)","v":""},{"$f":"UPPER(MICASH!G1399)","v":""}," ",{"$f":"TEXT(MICASH!I1399,\"0000000000\")","v":"0000000000"},{"$f":"TEXT(MICASH!J1399*100,\"0000000000\")","v":"0000000000"},{"$f":"TEXT(MONTH(MICASH!K1399),\"00\") & TEXT(DAY(MICASH!K1399),\"00\") & RIGHT(TEXT(YEAR(MICASH!K1399),\"00\"),2)","v":"010000"},{"$f":"UPPER(LEFT(MICASH!L1399,96))","v":""}]
["C",288,"00",{"$f":"TEXT(MICASH!D1400,\"0000000000\")","v":"0000000000"}," ",{"$f":"UPPER(MICASH!F1400)","v":""},{"$f":"UPPER(MICASH!G1400)","v":""}," ",{"$f":"TEXT(MICASH!I1400,\"0000000000\")","v":"0000000000"},{"$f":"TEXT(MICASH!J1400*100,\"0000000000\")","v":"0000000000"},{"$f":"TEXT(MONTH(MICASH!K1400),\"00\") & TEXT(DAY(MICASH!K1400),\"00\") & RIGHT(TEXT(YEAR(MICASH!K1400),\"00\"),2)","v":"010000"},{"$f":"UPPER(LEFT(MICASH!L1400,96))","v":""}]
["C",288,"00",{"$f":"TEXT(MICASH!D1401,\"0000000000\")","v":"0000000000"}," ",{"$f":"UPPER(MICASH!F1401)","v":""},{"$f":"UPPER(MICASH!G1401)","v":""}," ",{"$f":"TEXT(MICASH!I1401,\"0000000000\")","v":"0000000000"},{"$f":"TEXT(MICASH!J1401*100,\"0000000000\")","v":"0000000000"},{"$f":"TEXT(MONTH(MICASH!K1401),\"00\") & TEXT(DAY(MICASH!K1401),\"00\") & RIGHT(TEXT(YEAR(MICASH!K1401),\"00\"),2)","v":"010000"},{"$f":"UPPER(LEFT(MICASH!L1401,96))","v":""}]
["C",288,"00",{"$f":"TEXT(MICASH!D1402,\"0000000000\")","v":"0000000000"}," ",{"$f":"UPPER(MICASH!F1402)","v":""},{"$f":"UPPER(MICASH!G1402)","v":""}," ",{"$f":"TEXT(MICASH!I1402,\"0000000000\")","v":"0000000000"},{"$f":"TEXT(MICASH!J1402*100,\"0000000000\")","v":"0000000000"},{"$f":"TEXT(MONTH(MICASH!K1402),\"00\") & TEXT(DAY(MICASH!K1402),\"00\") & RIGHT(TEXT(YEAR(MICASH!K1402),\"00\"),2)","v":"010000"},{"$f":"UPPER(LEFT(MICASH!L1402,96))","v":""}]
["C",288,"00",{"$f":"TEXT(MICASH!D1403,\"0000000000\")","v":"0000000000"}," ",{"$f":"UPPER(MICASH!F1403)","v":""},{"$f":"UPPER(MICASH!G1403)","v":""}," ",{"$f":"TEXT(MICASH!I1403,\"0000000000\")","v":"0000000000"},{"$f":"TEXT(MICASH!J1403*100,\"0000000000\")","v":"0000000000"},{"$f":"TEXT(MONTH(MICASH!K1403),\"00\") & TEXT(DAY(MICASH!K1403),\"00\") & RIGHT(TEXT(YEAR(MICASH!K1403),\"00\"),2)","v":"010000"},{"$f":"UPPER(LEFT(MICASH!L1403,96))","v":""}]
["C",288,"00",{"$f":"TEXT(MICASH!D1404,\"0000000000\")","v":"0000000000"}," ",{"$f":"UPPER(MICASH!F1404)","v":""},{"$f":"UPPER(MICASH!G1404)","v":""}," ",{"$f":"TEXT(MICASH!I1404,\"0000000000\")","v":"0000000000"},{"$f":"TEXT(MICASH!J1404*100,\"0000000000\")","v":"0000000000"},{"$f":"TEXT(MONTH(MICASH!K1404),\"00\") & TEXT(DAY(MICASH!K1404),\"00\") & RIGHT(TEXT(YEAR(MICASH!K1404),\"00\"),2)","v":"010000"},{"$f":"UPPER(LEFT(MICASH!L1404,96))","v":""}]
["C",288,"00",{"$f":"TEXT(MICASH!D1405,\"0000000000\")","v":"0000000000"}," ",{"$f":"UPPER(MICASH!F1405)","v":""},{"$f":"UPPER(MICASH!G1405)","v":""}," ",{"$f":"TEXT(MICASH!I1405,\"0000000000\")","v":"0000000000"},{"$f":"TEXT(MICASH!J1405*100,\"0000000000\")","v":"0000000000"},{"$f":"TEXT(MONTH(MICASH!K1405),\"00\") & TEXT(DAY(MICASH!K1405),\"00\") & RIGHT(TEXT(YEAR(MICASH!K1405),\"00\"),2)","v":"010000"},{"$f":"UPPER(LEFT(MICASH!L1405,96))","v":""}]
["C",288,"00",{"$f":"TEXT(MICASH!D1406,\"0000000000\")","v":"0000000000"}," ",{"$f":"UPPER(MICASH!F1406)","v":""},{"$f":"UPPER(MICASH!G1406)","v":""}," ",{"$f":"TEXT(MICASH!I1406,\"0000000000\")","v":"0000000000"},{"$f":"TEXT(MICASH!J1406*100,\"0000000000\")","v":"0000000000"},{"$f":"TEXT(MONTH(MICASH!K1406),\"00\") & TEXT(DAY(MICASH!K1406),\"00\") & RIGHT(TEXT(YEAR(MICASH!K1406),\"00\"),2)","v":"010000"},{"$f":"UPPER(LEFT(MICASH!L1406,96))","v":""}]
["C",288,"00",{"$f":"TEXT(MICASH!D1407,\"0000000000\")","v":"0000000000"}," ",{"$f":"UPPER(MICASH!F1407)","v":""},{"$f":"UPPER(MICASH!G1407)","v":""}," ",{"$f":"TEXT(MICASH!I1407,\"0000000000\")","v":"0000000000"},{"$f":"TEXT(MICASH!J1407*100,\"0000000000\")","v":"0000000000"},{"$f":"TEXT(MONTH(MICASH!K1407),\"00\") & TEXT(DAY(MICASH!K1407),\"00\") & RIGHT(TEXT(YEAR(MICASH!K1407),\"00\"),2)","v":"010000"},{"$f":"UPPER(LEFT(MICASH!L1407,96))","v":""}]
["C",288,"00",{"$f":"TEXT(MICASH!D1408,\"0000000000\")","v":"0000000000"}," ",{"$f":"UPPER(MICASH!F1408)","v":""},{"$f":"UPPER(MICASH!G1408)","v":""}," ",{"$f":"TEXT(MICASH!I1408,\"0000000000\")","v":"0000000000"},{"$f":"TEXT(MICASH!J1408*100,\"0000000000\")","v":"0000000000"},{"$f":"TEXT(MONTH(MICASH!K1408),\"00\") & TEXT(DAY(MICASH!K1408),\"00\") & RIGHT(TEXT(YEAR(MICASH!K1408),\"00\"),2)","v":"010000"},{"$f":"UPPER(LEFT(MICASH!L1408,96))","v":""}]
["C",288,"00",{"$f":"TEXT(MICASH!D1409,\"0000000000\")","v":"0000000000"}," ",{"$f":"UPPER(MICASH!F1409)","v":""},{"$f":"UPPER(MICASH!G1409)","v":""}," ",{"$f":"TEXT(MICASH!I1409,\"0000000000\")","v":"0000000000"},{"$f":"TEXT(MICASH!J1409*100,\"0000000000\")","v":"0000000000"},{"$f":"TEXT(MONTH(MICASH!K1409),\"00\") & TEXT(DAY(MICASH!K1409),\"00\") & RIGHT(TEXT(YEAR(MICASH!K1409),\"00\"),2)","v":"010000"},{"$f":"UPPER(LEFT(MICASH!L1409,96))","v":""}]
["C",288,"00",{"$f":"TEXT(MICASH!D1410,\"0000000000\")","v":"0000000000"}," ",{"$f":"UPPER(MICASH!F1410)","v":""},{"$f":"UPPER(MICASH!G1410)","v":""}," ",{"$f":"TEXT(MICASH!I1410,\"0000000000\")","v":"0000000000"},{"$f":"TEXT(MICASH!J1410*100,\"0000000000\")","v":"0000000000"},{"$f":"TEXT(MONTH(MICASH!K1410),\"00\") & TEXT(DAY(MICASH!K1410),\"00\") & RIGHT(TEXT(YEAR(MICASH!K1410),\"00\"),2)","v":"010000"},{"$f":"UPPER(LEFT(MICASH!L1410,96))","v":""}]
["C",288,"00",{"$f":"TEXT(MICASH!D1411,\"0000000000\")","v":"0000000000"}," ",{"$f":"UPPER(MICASH!F1411)","v":""},{"$f":"UPPER(MICASH!G1411)","v":""}," ",{"$f":"TEXT(MICASH!I1411,\"0000000000\")","v":"0000000000"},{"$f":"TEXT(MICASH!J1411*100,\"0000000000\")","v":"0000000000"},{"$f":"TEXT(MONTH(MICASH!K1411),\"00\") & TEXT(DAY(MICASH!K1411),\"00\") & RIGHT(TEXT(YEAR(MICASH!K1411),\"00\"),2)","v":"010000"},{"$f":"UPPER(LEFT(MICASH!L1411,96))","v":""}]
["C",288,"00",{"$f":"TEXT(MICASH!D1412,\"0000000000\")","v":"0000000000"}," ",{"$f":"UPPER(MICASH!F1412)","v":""},{"$f":"UPPER(MICASH!G1412)","v":""}," ",{"$f":"TEXT(MICASH!I1412,\"0000000000\")","v":"0000000000"},{"$f":"TEXT(MICASH!J1412*100,\"0000000000\")","v":"0000000000"},{"$f":"TEXT(MONTH(MICASH!K1412),\"00\") & TEXT(DAY(MICASH!K1412),\"00\") & RIGHT(TEXT(YEAR(MICASH!K1412),\"00\"),2)","v":"010000"},{"$f":"UPPER(LEFT(MICASH!L1412,96))","v":""}]
["C",288,"00",{"$f":"TEXT(MICASH!D1413,\"0000000000\")","v":"0000000000"}," ",{"$f":"UPPER(MICASH!F1413)","v":""},{"$f":"UPPER(MICASH!G1413)","v":""}," ",{"$f":"TEXT(MICASH!I1413,\"0000000000\")","v":"0000000000"},{"$f":"TEXT(MICASH!J1413*100,\"0000000000\")","v":"0000000000"},{"$f":"TEXT(MONTH(MICASH!K1413),\"00\") & TEXT(DAY(MICASH!K1413),\"00\") & RIGHT(TEXT(YEAR(MICASH!K1413),\"00\"),2)","v":"010000"},{"$f":"UPPER(LEFT(MICASH!L1413,96))","v":""}]
["C",288,"00",{"$f":"TEXT(MICASH!D1414,\"0000000000\")","v":"0000000000"}," ",{"$f":"UPPER(MICASH!F1414)","v":""},{"$f":"UPPER(MICASH!G1414)","v":""}," ",{"$f":"TEXT(MICASH!I1414,\"0000000000\")","v":"0000000000"},{"$f":"TEXT(MICASH!J1414*100,\"0000000000\")","v":"0000000000"},{"$f":"TEXT(MONTH(MICASH!K1414),\"00\") & TEXT(DAY(MICASH!K1414),\"00\") & RIGHT(TEXT(YEAR(MICASH!K1414),\"00\"),2)","v":"010000"},{"$f":"UPPER(LEFT(MICASH!L1414,96))","v":""}]
["C",288,"00",{"$f":"TEXT(MICASH!D1415,\"0000000000\")","v":"0000000000"}," ",{"$f":"UPPER(MICASH!F1415)","v":""},{"$f":"UPPER(MICASH!G1415)","v":""}," ",{"$f":"TEXT(MICASH!I1415,\"0000000000\")","v":"0000000000"},{"$f":"TEXT(MICASH!J1415*100,\"0000000000\")","v":"0000000000"},{"$f":"TEXT(MONTH(MICASH!K1415),\"00\") & TEXT(DAY(MICASH!K1415),\"00\") & RIGHT(TEXT(YEAR(MICASH!K1415),\"00\"),2)","v":"010000"},{"$f":"UPPER(LEFT(MICASH!L1415,96))","v":""}]
["C",288,"00",{"$f":"TEXT(MICASH!D1416,\"0000000000\")","v":"0000000000"}," ",{"$f":"UPPER(MICASH!F1416)","v":""},{"$f":"UPPER(MICASH!G1416)","v":""}," ",{"$f":"TEXT(MICASH!I1416,\"0000000000\")","v":"0000000000"},{"$f":"TEXT(MICASH!J1416*100,\"0000000000\")","v":"0000000000"},{"$f":"TEXT(MONTH(MICASH!K1416),\"00\") & TEXT(DAY(MICASH!K1416),\"00\") & RIGHT(TEXT(YEAR(MICASH!K1416),\"00\"),2)","v":"010000"},{"$f":"UPPER(LEFT(MICASH!L1416,96))","v":""}]
["C",288,"00",{"$f":"TEXT(MICASH!D1417,\"0000000000\")","v":"0000000000"}," ",{"$f":"UPPER(MICASH!F1417)","v":""},{"$f":"UPPER(MICASH!G1417)","v":""}," ",{"$f":"TEXT(MICASH!I1417,\"0000000000\")","v":"0000000000"},{"$f":"TEXT(MICASH!J1417*100,\"0000000000\")","v":"0000000000"},{"$f":"TEXT(MONTH(MICASH!K1417),\"00\") & TEXT(DAY(MICASH!K1417),\"00\") & RIGHT(TEXT(YEAR(MICASH!K1417),\"00\"),2)","v":"010000"},{"$f":"UPPER(LEFT(MICASH!L1417,96))","v":""}]
["C",288,"00",{"$f":"TEXT(MICASH!D1418,\"0000000000\")","v":"0000000000"}," ",{"$f":"UPPER(MICASH!F1418)","v":""},{"$f":"UPPER(MICASH!G1418)","v":""}," ",{"$f":"TEXT(MICASH!I1418,\"0000000000\")","v":"0000000000"},{"$f":"TEXT(MICASH!J1418*100,\"0000000000\")","v":"0000000000"},{"$f":"TEXT(MONTH(MICASH!K1418),\"00\") & TEXT(DAY(MICASH!K1418),\"00\") & RIGHT(TEXT(YEAR(MICASH!K1418),\"00\"),2)","v":"010000"},{"$f":"UPPER(LEFT(MICASH!L1418,96))","v":""}]
["C",288,"00",{"$f":"TEXT(MICASH!D1419,\"0000000000\")","v":"0000000000"}," ",{"$f":"UPPER(MICASH!F1419)","v":""},{"$f":"UPPER(MICASH!G1419)","v":""}," ",{"$f":"TEXT(MICASH!I1419,\"0000000000\")","v":"0000000000"},{"$f":"TEXT(MICASH!J1419*100,\"0000000000\")","v":"0000000000"},{"$f":"TEXT(MONTH(MICASH!K1419),\"00\") & TEXT(DAY(MICASH!K1419),\"00\") & RIGHT(TEXT(YEAR(MICASH!K1419),\"00\"),2)","v":"010000"},{"$f":"UPPER(LEFT(MICASH!L1419,96))","v":""}]
["C",288,"00",{"$f":"TEXT(MICASH!D1420,\"0000000000\")","v":"0000000000"}," ",{"$f":"UPPER(MICASH!F1420)","v":""},{"$f":"UPPER(MICASH!G1420)","v":""}," ",{"$f":"TEXT(MICASH!I1420,\"0000000000\")","v":"0000000000"},{"$f":"TEXT(MICASH!J1420*100,\"0000000000\")","v":"0000000000"},{"$f":"TEXT(MONTH(MICASH!K1420),\"00\") & TEXT(DAY(MICASH!K1420),\"00\") & RIGHT(TEXT(YEAR(MICASH!K1420),\"00\"),2)","v":"010000"},{"$f":"UPPER(LEFT(MICASH!L1420,96))","v":""}]
["C",288,"00",{"$f":"TEXT(MICASH!D1421,\"0000000000\")","v":"0000000000"}," ",{"$f":"UPPER(MICASH!F1421)","v":""},{"$f":"UPPER(MICASH!G1421)","v":""}," ",{"$f":"TEXT(MICASH!I1421,\"0000000000\")","v":"0000000000"},{"$f":"TEXT(MICASH!J1421*100,\"0000000000\")","v":"0000000000"},{"$f":"TEXT(MONTH(MICASH!K1421),\"00\") & TEXT(DAY(MICASH!K1421),\"00\") & RIGHT(TEXT(YEAR(MICASH!K1421),\"00\"),2)","v":"010000"},{"$f":"UPPER(LEFT(MICASH!L1421,96))","v":""}]
["C",288,"00",{"$f":"TEXT(MICASH!D1422,\"0000000000\")","v":"0000000000"}," ",{"$f":"UPPER(MICASH!F1422)","v":""},{"$f":"UPPER(MICASH!G1422)","v":""}," ",{"$f":"TEXT(MICASH!I1422,\"0000000000\")","v":"0000000000"},{"$f":"TEXT(MICASH!J1422*100,\"0000000000\")","v":"0000000000"},{"$f":"TEXT(MONTH(MICASH!K1422),\"00\") & TEXT(DAY(MICASH!K1422),\"00\") & RIGHT(TEXT(YEAR(MICASH!K1422),\"00\"),2)","v":"010000"},{"$f":"UPPER(LEFT(MICASH!L1422,96))","v":""}]
["C",288,"00",{"$f":"TEXT(MICASH!D1423,\"0000000000\")","v":"0000000000"}," ",{"$f":"UPPER(MICASH!F1423)","v":""},{"$f":"UPPER(MICASH!G1423)","v":""}," ",{"$f":"TEXT(MICASH!I1423,\"0000000000\")","v":"0000000000"},{"$f":"TEXT(MICASH!J1423*100,\"0000000000\")","v":"0000000000"},{"$f":"TEXT(MONTH(MICASH!K1423),\"00\") & TEXT(DAY(MICASH!K1423),\"00\") & RIGHT(TEXT(YEAR(MICASH!K1423),\"00\"),2)","v":"010000"},{"$f":"UPPER(LEFT(MICASH!L1423,96))","v":""}]
["C",288,"00",{"$f":"TEXT(MICASH!D1424,\"0000000000\")","v":"0000000000"}," ",{"$f":"UPPER(MICASH!F1424)","v":""},{"$f":"UPPER(MICASH!G1424)","v":""}," ",{"$f":"TEXT(MICASH!I1424,\"0000000000\")","v":"0000000000"},{"$f":"TEXT(MICASH!J1424*100,\"0000000000\")","v":"0000000000"},{"$f":"TEXT(MONTH(MICASH!K1424),\"00\") & TEXT(DAY(MICASH!K1424),\"00\") & RIGHT(TEXT(YEAR(MICASH!K1424),\"00\"),2)","v":"010000"},{"$f":"UPPER(LEFT(MICASH!L1424,96))","v":""}]
["C",288,"00",{"$f":"TEXT(MICASH!D1425,\"0000000000\")","v":"0000000000"}," ",{"$f":"UPPER(MICASH!F1425)","v":""},{"$f":"UPPER(MICASH!G1425)","v":""}," ",{"$f":"TEXT(MICASH!I1425,\"0000000000\")","v":"0000000000"},{"$f":"TEXT(MICASH!J1425*100,\"0000000000\")","v":"0000000000"},{"$f":"TEXT(MONTH(MICASH!K1425),\"00\") & TEXT(DAY(MICASH!K1425),\"00\") & RIGHT(TEXT(YEAR(MICASH!K1425),\"00\"),2)","v":"010000"},{"$f":"UPPER(LEFT(MICASH!L1425,96))","v":""}]
["C",288,"00",{"$f":"TEXT(MICASH!D1426,\"0000000000\")","v":"0000000000"}," ",{"$f":"UPPER(MICASH!F1426)","v":""},{"$f":"UPPER(MICASH!G1426)","v":""}," ",{"$f":"TEXT(MICASH!I1426,\"0000000000\")","v":"0000000000"},{"$f":"TEXT(MICASH!J1426*100,\"0000000000\")","v":"0000000000"},{"$f":"TEXT(MONTH(MICASH!K1426),\"00\") & TEXT(DAY(MICASH!K1426),\"00\") & RIGHT(TEXT(YEAR(MICASH!K1426),\"00\"),2)","v":"010000"},{"$f":"UPPER(LEFT(MICASH!L1426,96))","v":""}]
["C",288,"00",{"$f":"TEXT(MICASH!D1427,\"0000000000\")","v":"0000000000"}," ",{"$f":"UPPER(MICASH!F1427)","v":""},{"$f":"UPPER(MICASH!G1427)","v":""}," ",{"$f":"TEXT(MICASH!I1427,\"0000000000\")","v":"0000000000"},{"$f":"TEXT(MICASH!J1427*100,\"0000000000\")","v":"0000000000"},{"$f":"TEXT(MONTH(MICASH!K1427),\"00\") & TEXT(DAY(MICASH!K1427),\"00\") & RIGHT(TEXT(YEAR(MICASH!K1427),\"00\"),2)","v":"010000"},{"$f":"UPPER(LEFT(MICASH!L1427,96))","v":""}]
["C",288,"00",{"$f":"TEXT(MICASH!D1428,\"0000000000\")","v":"0000000000"}," ",{"$f":"UPPER(MICASH!F1428)","v":""},{"$f":"UPPER(MICASH!G1428)","v":""}," ",{"$f":"TEXT(MICASH!I1428,\"0000000000\")","v":"0000000000"},{"$f":"TEXT(MICASH!J1428*100,\"0000000000\")","v":"0000000000"},{"$f":"TEXT(MONTH(MICASH!K1428),\"00\") & TEXT(DAY(MICASH!K1428),\"00\") & RIGHT(TEXT(YEAR(MICASH!K1428),\"00\"),2)","v":"010000"},{"$f":"UPPER(LEFT(MICASH!L1428,96))","v":""}]
["C",288,"00",{"$f":"TEXT(MICASH!D1429,\"0000000000\")","v":"0000000000"}," ",{"$f":"UPPER(MICASH!F1429)","v":""},{"$f":"UPPER(MICASH!G1429)","v":""}," ",{"$f":"TEXT(MICASH!I1429,\"0000000000\")","v":"0000000000"},{"$f":"TEXT(MICASH!J1429*100,\"0000000000\")","v":"0000000000"},{"$f":"TEXT(MONTH(MICASH!K1429),\"00\") & TEXT(DAY(MICASH!K1429),\"00\") & RIGHT(TEXT(YEAR(MICASH!K1429),\"00\"),2)","v":"010000"},{"$f":"UPPER(LEFT(MICASH!L1429,96))","v":""}]
["C",288,"00",{"$f":"TEXT(MICASH!D1430,\"0000000000\")","v":"0000000000"}," ",{"$f":"UPPER(MICASH!F1430)","v":""},{"$f":"UPPER(MICASH!G1430)","v":""}," ",{"$f":"TEXT(MICASH!I1430,\"0000000000\")","v":"0000000000"},{"$f":"TEXT(MICASH!J1430*100,\"0000000000\")","v":"0000000000"},{"$f":"TEXT(MONTH(MICASH!K1430),\"00\") & TEXT(DAY(MICASH!K1430),\"00\") & RIGHT(TEXT(YEAR(MICASH!K1430),\"00\"),2)","v":"010000"},{"$f":"UPPER(LEFT(MICASH!L1430,96))","v":""}]
["C",288,"00",{"$f":"TEXT(MICASH!D1431,\"0000000000\")","v":"0000000000"}," ",{"$f":"UPPER(MICASH!F1431)","v":""},{"$f":"UPPER(MICASH!G1431)","v":""}," ",{"$f":"TEXT(MICASH!I1431,\"0000000000\")","v":"0000000000"},{"$f":"TEXT(MICASH!J1431*100,\"0000000000\")","v":"0000000000"},{"$f":"TEXT(MONTH(MICASH!K1431),\"00\") & TEXT(DAY(MICASH!K1431),\"00\") & RIGHT(TEXT(YEAR(MICASH!K1431),\"00\"),2)","v":"010000"},{"$f":"UPPER(LEFT(MICASH!L1431,96))","v":""}]
["C",288,"00",{"$f":"TEXT(MICASH!D1432,\"0000000000\")","v":"0000000000"}," ",{"$f":"UPPER(MICASH!F1432)","v":""},{"$f":"UPPER(MICASH!G1432)","v":""}," ",{"$f":"TEXT(MICASH!I1432,\"0000000000\")","v":"0000000000"},{"$f":"TEXT(MICASH!J1432*100,\"0000000000\")","v":"0000000000"},{"$f":"TEXT(MONTH(MICASH!K1432),\"00\") & TEXT(DAY(MICASH!K1432),\"00\") & RIGHT(TEXT(YEAR(MICASH!K1432),\"00\"),2)","v":"010000"},{"$f":"UPPER(LEFT(MICASH!L1432,96))","v":""}]
["C",288,"00",{"$f":"TEXT(MICASH!D1433,\"0000000000\")","v":"0000000000"}," ",{"$f":"UPPER(MICASH!F1433)","v":""},{"$f":"UPPER(MICASH!G1433)","v":""}," ",{"$f":"TEXT(MICASH!I1433,\"0000000000\")","v":"0000000000"},{"$f":"TEXT(MICASH!J1433*100,\"0000000000\")","v":"0000000000"},{"$f":"TEXT(MONTH(MICASH!K1433),\"00\") & TEXT(DAY(MICASH!K1433),\"00\") & RIGHT(TEXT(YEAR(MICASH!K1433),\"00\"),2)","v":"010000"},{"$f":"UPPER(LEFT(MICASH!L1433,96))","v":""}]
["C",288,"00",{"$f":"TEXT(MICASH!D1434,\"0000000000\")","v":"0000000000"}," ",{"$f":"UPPER(MICASH!F1434)","v":""},{"$f":"UPPER(MICASH!G1434)","v":""}," ",{"$f":"TEXT(MICASH!I1434,\"0000000000\")","v":"0000000000"},{"$f":"TEXT(MICASH!J1434*100,\"0000000000\")","v":"0000000000"},{"$f":"TEXT(MONTH(MICASH!K1434),\"00\") & TEXT(DAY(MICASH!K1434),\"00\") & RIGHT(TEXT(YEAR(MICASH!K1434),\"00\"),2)","v":"010000"},{"$f":"UPPER(LEFT(MICASH!L1434,96))","v":""}]
["C",288,"00",{"$f":"TEXT(MICASH!D1435,\"0000000000\")","v":"0000000000"}," ",{"$f":"UPPER(MICASH!F1435)","v":""},{"$f":"UPPER(MICASH!G1435)","v":""}," ",{"$f":"TEXT(MICASH!I1435,\"0000000000\")","v":"0000000000"},{"$f":"TEXT(MICASH!J1435*100,\"0000000000\")","v":"0000000000"},{"$f":"TEXT(MONTH(MICASH!K1435),\"00\") & TEXT(DAY(MICASH!K1435),\"00\") & RIGHT(TEXT(YEAR(MICASH!K1435),\"00\"),2)","v":"010000"},{"$f":"UPPER(LEFT(MICASH!L1435,96))","v":""}]
["C",288,"00",{"$f":"TEXT(MICASH!D1436,\"0000000000\")","v":"0000000000"}," ",{"$f":"UPPER(MICASH!F1436)","v":""},{"$f":"UPPER(MICASH!G1436)","v":""}," ",{"$f":"TEXT(MICASH!I1436,\"0000000000\")","v":"0000000000"},{"$f":"TEXT(MICASH!J1436*100,\"0000000000\")","v":"0000000000"},{"$f":"TEXT(MONTH(MICASH!K1436),\"00\") & TEXT(DAY(MICASH!K1436),\"00\") & RIGHT(TEXT(YEAR(MICASH!K1436),\"00\"),2)","v":"010000"},{"$f":"UPPER(LEFT(MICASH!L1436,96))","v":""}]
["C",288,"00",{"$f":"TEXT(MICASH!D1437,\"0000000000\")","v":"0000000000"}," ",{"$f":"UPPER(MICASH!F1437)","v":""},{"$f":"UPPER(MICASH!G1437)","v":""}," ",{"$f":"TEXT(MICASH!I1437,\"0000000000\")","v":"0000000000"},{"$f":"TEXT(MICASH!J1437*100,\"0000000000\")","v":"0000000000"},{"$f":"TEXT(MONTH(MICASH!K1437),\"00\") & TEXT(DAY(MICASH!K1437),\"00\") & RIGHT(TEXT(YEAR(MICASH!K1437),\"00\"),2)","v":"010000"},{"$f":"UPPER(LEFT(MICASH!L1437,96))","v":""}]
["C",288,"00",{"$f":"TEXT(MICASH!D1438,\"0000000000\")","v":"0000000000"}," ",{"$f":"UPPER(MICASH!F1438)","v":""},{"$f":"UPPER(MICASH!G1438)","v":""}," ",{"$f":"TEXT(MICASH!I1438,\"0000000000\")","v":"0000000000"},{"$f":"TEXT(MICASH!J1438*100,\"0000000000\")","v":"0000000000"},{"$f":"TEXT(MONTH(MICASH!K1438),\"00\") & TEXT(DAY(MICASH!K1438),\"00\") & RIGHT(TEXT(YEAR(MICASH!K1438),\"00\"),2)","v":"010000"},{"$f":"UPPER(LEFT(MICASH!L1438,96))","v":""}]
["C",288,"00",{"$f":"TEXT(MICASH!D1439,\"0000000000\")","v":"0000000000"}," ",{"$f":"UPPER(MICASH!F1439)","v":""},{"$f":"UPPER(MICASH!G1439)","v":""}," ",{"$f":"TEXT(MICASH!I1439,\"0000000000\")","v":"0000000000"},{"$f":"TEXT(MICASH!J1439*100,\"0000000000\")","v":"0000000000"},{"$f":"TEXT(MONTH(MICASH!K1439),\"00\") & TEXT(DAY(MICASH!K1439),\"00\") & RIGHT(TEXT(YEAR(MICASH!K1439),\"00\"),2)","v":"010000"},{"$f":"UPPER(LEFT(MICASH!L1439,96))","v":""}]
["C",288,"00",{"$f":"TEXT(MICASH!D1440,\"0000000000\")","v":"0000000000"}," ",{"$f":"UPPER(MICASH!F1440)","v":""},{"$f":"UPPER(MICASH!G1440)","v":""}," ",{"$f":"TEXT(MICASH!I1440,\"0000000000\")","v":"0000000000"},{"$f":"TEXT(MICASH!J1440*100,\"0000000000\")","v":"0000000000"},{"$f":"TEXT(MONTH(MICASH!K1440),\"00\") & TEXT(DAY(MICASH!K1440),\"00\") & RIGHT(TEXT(YEAR(MICASH!K1440),\"00\"),2)","v":"010000"},{"$f":"UPPER(LEFT(MICASH!L1440,96))","v":""}]
["C",288,"00",{"$f":"TEXT(MICASH!D1441,\"0000000000\")","v":"0000000000"}," ",{"$f":"UPPER(MICASH!F1441)","v":""},{"$f":"UPPER(MICASH!G1441)","v":""}," ",{"$f":"TEXT(MICASH!I1441,\"0000000000\")","v":"0000000000"},{"$f":"TEXT(MICASH!J1441*100,\"0000000000\")","v":"0000000000"},{"$f":"TEXT(MONTH(MICASH!K1441),\"00\") & TEXT(DAY(MICASH!K1441),\"00\") & RIGHT(TEXT(YEAR(MICASH!K1441),\"00\"),2)","v":"010000"},{"$f":"UPPER(LEFT(MICASH!L1441,96))","v":""}]
["C",288,"00",{"$f":"TEXT(MICASH!D1442,\"0000000000\")","v":"0000000000"}," ",{"$f":"UPPER(MICASH!F1442)","v":""},{"$f":"UPPER(MICASH!G1442)","v":""}," ",{"$f":"TEXT(MICASH!I1442,\"0000000000\")","v":"0000000000"},{"$f":"TEXT(MICASH!J1442*100,\"0000000000\")","v":"0000000000"},{"$f":"TEXT(MONTH(MICASH!K1442),\"00\") & TEXT(DAY(MICASH!K1442),\"00\") & RIGHT(TEXT(YEAR(MICASH!K1442),\"00\"),2)","v":"010000"},{"$f":"UPPER(LEFT(MICASH!L1442,96))","v":""}]
["C",288,"00",{"$f":"TEXT(MICASH!D1443,\"0000000000\")","v":"0000000000"}," ",{"$f":"UPPER(MICASH!F1443)","v":""},{"$f":"UPPER(MICASH!G1443)","v":""}," ",{"$f":"TEXT(MICASH!I1443,\"0000000000\")","v":"0000000000"},{"$f":"TEXT(MICASH!J1443*100,\"0000000000\")","v":"0000000000"},{"$f":"TEXT(MONTH(MICASH!K1443),\"00\") & TEXT(DAY(MICASH!K1443),\"00\") & RIGHT(TEXT(YEAR(MICASH!K1443),\"00\"),2)","v":"010000"},{"$f":"UPPER(LEFT(MICASH!L1443,96))","v":""}]
["C",288,"00",{"$f":"TEXT(MICASH!D1444,\"0000000000\")","v":"0000000000"}," ",{"$f":"UPPER(MICASH!F1444)","v":""},{"$f":"UPPER(MICASH!G1444)","v":""}," ",{"$f":"TEXT(MICASH!I1444,\"0000000000\")","v":"0000000000"},{"$f":"TEXT(MICASH!J1444*100,\"0000000000\")","v":"0000000000"},{"$f":"TEXT(MONTH(MICASH!K1444),\"00\") & TEXT(DAY(MICASH!K1444),\"00\") & RIGHT(TEXT(YEAR(MICASH!K1444),\"00\"),2)","v":"010000"},{"$f":"UPPER(LEFT(MICASH!L1444,96))","v":""}]
["C",288,"00",{"$f":"TEXT(MICASH!D1445,\"0000000000\")","v":"0000000000"}," ",{"$f":"UPPER(MICASH!F1445)","v":""},{"$f":"UPPER(MICASH!G1445)","v":""}," ",{"$f":"TEXT(MICASH!I1445,\"0000000000\")","v":"0000000000"},{"$f":"TEXT(MICASH!J1445*100,\"0000000000\")","v":"0000000000"},{"$f":"TEXT(MONTH(MICASH!K1445),\"00\") & TEXT(DAY(MICASH!K1445),\"00\") & RIGHT(TEXT(YEAR(MICASH!K1445),\"00\"),2)","v":"010000"},{"$f":"UPPER(LEFT(MICASH!L1445,96))","v":""}]
["C",288,"00",{"$f":"TEXT(MICASH!D1446,\"0000000000\")","v":"0000000000"}," ",{"$f":"UPPER(MICASH!F1446)","v":""},{"$f":"UPPER(MICASH!G1446)","v":""}," ",{"$f":"TEXT(MICASH!I1446,\"0000000000\")","v":"0000000000"},{"$f":"TEXT(MICASH!J1446*100,\"0000000000\")","v":"0000000000"},{"$f":"TEXT(MONTH(MICASH!K1446),\"00\") & TEXT(DAY(MICASH!K1446),\"00\") & RIGHT(TEXT(YEAR(MICASH!K1446),\"00\"),2)","v":"010000"},{"$f":"UPPER(LEFT(MICASH!L1446,96))","v":""}]
["C",288,"00",{"$f":"TEXT(MICASH!D1447,\"0000000000\")","v":"0000000000"}," ",{"$f":"UPPER(MICASH!F1447)","v":""},{"$f":"UPPER(MICASH!G1447)","v":""}," ",{"$f":"TEXT(MICASH!I1447,\"0000000000\")","v":"0000000000"},{"$f":"TEXT(MICASH!J1447*100,\"0000000000\")","v":"0000000000"},{"$f":"TEXT(MONTH(MICASH!K1447),\"00\") & TEXT(DAY(MICASH!K1447),\"00\") & RIGHT(TEXT(YEAR(MICASH!K1447),\"00\"),2)","v":"010000"},{"$f":"UPPER(LEFT(MICASH!L1447,96))","v":""}]
["C",288,"00",{"$f":"TEXT(MICASH!D1448,\"0000000000\")","v":"0000000000"}," ",{"$f":"UPPER(MICASH!F1448)","v":""},{"$f":"UPPER(MICASH!G1448)","v":""}," ",{"$f":"TEXT(MICASH!I1448,\"0000000000\")","v":"0000000000"},{"$f":"TEXT(MICASH!J1448*100,\"0000000000\")","v":"0000000000"},{"$f":"TEXT(MONTH(MICASH!K1448),\"00\") & TEXT(DAY(MICASH!K1448),\"00\") & RIGHT(TEXT(YEAR(MICASH!K1448),\"00\"),2)","v":"010000"},{"$f":"UPPER(LEFT(MICASH!L1448,96))","v":""}]
["C",288,"00",{"$f":"TEXT(MICASH!D1449,\"0000000000\")","v":"0000000000"}," ",{"$f":"UPPER(MICASH!F1449)","v":""},{"$f":"UPPER(MICASH!G1449)","v":""}," ",{"$f":"TEXT(MICASH!I1449,\"0000000000\")","v":"0000000000"},{"$f":"TEXT(MICASH!J1449*100,\"0000000000\")","v":"0000000000"},{"$f":"TEXT(MONTH(MICASH!K1449),\"00\") & TEXT(DAY(MICASH!K1449),\"00\") & RIGHT(TEXT(YEAR(MICASH!K1449),\"00\"),2)","v":"010000"},{"$f":"UPPER(LEFT(MICASH!L1449,96))","v":""}]
["C",288,"00",{"$f":"TEXT(MICASH!D1450,\"0000000000\")","v":"0000000000"}," ",{"$f":"UPPER(MICASH!F1450)","v":""},{"$f":"UPPER(MICASH!G1450)","v":""}," ",{"$f":"TEXT(MICASH!I1450,\"0000000000\")","v":"0000000000"},{"$f":"TEXT(MICASH!J1450*100,\"0000000000\")","v":"0000000000"},{"$f":"TEXT(MONTH(MICASH!K1450),\"00\") & TEXT(DAY(MICASH!K1450),\"00\") & RIGHT(TEXT(YEAR(MICASH!K1450),\"00\"),2)","v":"010000"},{"$f":"UPPER(LEFT(MICASH!L1450,96))","v":""}]
["C",288,"00",{"$f":"TEXT(MICASH!D1451,\"0000000000\")","v":"0000000000"}," ",{"$f":"UPPER(MICASH!F1451)","v":""},{"$f":"UPPER(MICASH!G1451)","v":""}," ",{"$f":"TEXT(MICASH!I1451,\"0000000000\")","v":"0000000000"},{"$f":"TEXT(MICASH!J1451*100,\"0000000000\")","v":"0000000000"},{"$f":"TEXT(MONTH(MICASH!K1451),\"00\") & TEXT(DAY(MICASH!K1451),\"00\") & RIGHT(TEXT(YEAR(MICASH!K1451),\"00\"),2)","v":"010000"},{"$f":"UPPER(LEFT(MICASH!L1451,96))","v":""}]
["C",288,"00",{"$f":"TEXT(MICASH!D1452,\"0000000000\")","v":"0000000000"}," ",{"$f":"UPPER(MICASH!F1452)","v":""},{"$f":"UPPER(MICASH!G1452)","v":""}," ",{"$f":"TEXT(MICASH!I1452,\"0000000000\")","v":"0000000000"},{"$f":"TEXT(MICASH!J1452*100,\"0000000000\")","v":"0000000000"},{"$f":"TEXT(MONTH(MICASH!K1452),\"00\") & TEXT(DAY(MICASH!K1452),\"00\") & RIGHT(TEXT(YEAR(MICASH!K1452),\"00\"),2)","v":"010000"},{"$f":"UPPER(LEFT(MICASH!L1452,96))","v":""}]
["C",288,"00",{"$f":"TEXT(MICASH!D1453,\"0000000000\")","v":"0000000000"}," ",{"$f":"UPPER(MICASH!F1453)","v":""},{"$f":"UPPER(MICASH!G1453)","v":""}," ",{"$f":"TEXT(MICASH!I1453,\"0000000000\")","v":"0000000000"},{"$f":"TEXT(MICASH!J1453*100,\"0000000000\")","v":"0000000000"},{"$f":"TEXT(MONTH(MICASH!K1453),\"00\") & TEXT(DAY(MICASH!K1453),\"00\") & RIGHT(TEXT(YEAR(MICASH!K1453),\"00\"),2)","v":"010000"},{"$f":"UPPER(LEFT(MICASH!L1453,96))","v":""}]
["C",288,"00",{"$f":"TEXT(MICASH!D1454,\"0000000000\")","v":"0000000000"}," ",{"$f":"UPPER(MICASH!F1454)","v":""},{"$f":"UPPER(MICASH!G1454)","v":""}," ",{"$f":"TEXT(MICASH!I1454,\"0000000000\")","v":"0000000000"},{"$f":"TEXT(MICASH!J1454*100,\"0000000000\")","v":"0000000000"},{"$f":"TEXT(MONTH(MICASH!K1454),\"00\") & TEXT(DAY(MICASH!K1454),\"00\") & RIGHT(TEXT(YEAR(MICASH!K1454),\"00\"),2)","v":"010000"},{"$f":"UPPER(LEFT(MICASH!L1454,96))","v":""}]
["C",288,"00",{"$f":"TEXT(MICASH!D1455,\"0000000000\")","v":"0000000000"}," ",{"$f":"UPPER(MICASH!F1455)","v":""},{"$f":"UPPER(MICASH!G1455)","v":""}," ",{"$f":"TEXT(MICASH!I1455,\"0000000000\")","v":"0000000000"},{"$f":"TEXT(MICASH!J1455*100,\"0000000000\")","v":"0000000000"},{"$f":"TEXT(MONTH(MICASH!K1455),\"00\") & TEXT(DAY(MICASH!K1455),\"00\") & RIGHT(TEXT(YEAR(MICASH!K1455),\"00\"),2)","v":"010000"},{"$f":"UPPER(LEFT(MICASH!L1455,96))","v":""}]
["C",288,"00",{"$f":"TEXT(MICASH!D1456,\"0000000000\")","v":"0000000000"}," ",{"$f":"UPPER(MICASH!F1456)","v":""},{"$f":"UPPER(MICASH!G1456)","v":""}," ",{"$f":"TEXT(MICASH!I1456,\"0000000000\")","v":"0000000000"},{"$f":"TEXT(MICASH!J1456*100,\"0000000000\")","v":"0000000000"},{"$f":"TEXT(MONTH(MICASH!K1456),\"00\") & TEXT(DAY(MICASH!K1456),\"00\") & RIGHT(TEXT(YEAR(MICASH!K1456),\"00\"),2)","v":"010000"},{"$f":"UPPER(LEFT(MICASH!L1456,96))","v":""}]
["C",288,"00",{"$f":"TEXT(MICASH!D1457,\"0000000000\")","v":"0000000000"}," ",{"$f":"UPPER(MICASH!F1457)","v":""},{"$f":"UPPER(MICASH!G1457)","v":""}," ",{"$f":"TEXT(MICASH!I1457,\"0000000000\")","v":"0000000000"},{"$f":"TEXT(MICASH!J1457*100,\"0000000000\")","v":"0000000000"},{"$f":"TEXT(MONTH(MICASH!K1457),\"00\") & TEXT(DAY(MICASH!K1457),\"00\") & RIGHT(TEXT(YEAR(MICASH!K1457),\"00\"),2)","v":"010000"},{"$f":"UPPER(LEFT(MICASH!L1457,96))","v":""}]
["C",288,"00",{"$f":"TEXT(MICASH!D1458,\"0000000000\")","v":"0000000000"}," ",{"$f":"UPPER(MICASH!F1458)","v":""},{"$f":"UPPER(MICASH!G1458)","v":""}," ",{"$f":"TEXT(MICASH!I1458,\"0000000000\")","v":"0000000000"},{"$f":"TEXT(MICASH!J1458*100,\"0000000000\")","v":"0000000000"},{"$f":"TEXT(MONTH(MICASH!K1458),\"00\") & TEXT(DAY(MICASH!K1458),\"00\") & RIGHT(TEXT(YEAR(MICASH!K1458),\"00\"),2)","v":"010000"},{"$f":"UPPER(LEFT(MICASH!L1458,96))","v":""}]
["C",288,"00",{"$f":"TEXT(MICASH!D1459,\"0000000000\")","v":"0000000000"}," ",{"$f":"UPPER(MICASH!F1459)","v":""},{"$f":"UPPER(MICASH!G1459)","v":""}," ",{"$f":"TEXT(MICASH!I1459,\"0000000000\")","v":"0000000000"},{"$f":"TEXT(MICASH!J1459*100,\"0000000000\")","v":"0000000000"},{"$f":"TEXT(MONTH(MICASH!K1459),\"00\") & TEXT(DAY(MICASH!K1459),\"00\") & RIGHT(TEXT(YEAR(MICASH!K1459),\"00\"),2)","v":"010000"},{"$f":"UPPER(LEFT(MICASH!L1459,96))","v":""}]
["C",288,"00",{"$f":"TEXT(MICASH!D1460,\"0000000000\")","v":"0000000000"}," ",{"$f":"UPPER(MICASH!F1460)","v":""},{"$f":"UPPER(MICASH!G1460)","v":""}," ",{"$f":"TEXT(MICASH!I1460,\"0000000000\")","v":"0000000000"},{"$f":"TEXT(MICASH!J1460*100,\"0000000000\")","v":"0000000000"},{"$f":"TEXT(MONTH(MICASH!K1460),\"00\") & TEXT(DAY(MICASH!K1460),\"00\") & RIGHT(TEXT(YEAR(MICASH!K1460),\"00\"),2)","v":"010000"},{"$f":"UPPER(LEFT(MICASH!L1460,96))","v":""}]
["C",288,"00",{"$f":"TEXT(MICASH!D1461,\"0000000000\")","v":"0000000000"}," ",{"$f":"UPPER(MICASH!F1461)","v":""},{"$f":"UPPER(MICASH!G1461)","v":""}," ",{"$f":"TEXT(MICASH!I1461,\"0000000000\")","v":"0000000000"},{"$f":"TEXT(MICASH!J1461*100,\"0000000000\")","v":"0000000000"},{"$f":"TEXT(MONTH(MICASH!K1461),\"00\") & TEXT(DAY(MICASH!K1461),\"00\") & RIGHT(TEXT(YEAR(MICASH!K1461),\"00\"),2)","v":"010000"},{"$f":"UPPER(LEFT(MICASH!L1461,96))","v":""}]
["C",288,"00",{"$f":"TEXT(MICASH!D1462,\"0000000000\")","v":"0000000000"}," ",{"$f":"UPPER(MICASH!F1462)","v":""},{"$f":"UPPER(MICASH!G1462)","v":""}," ",{"$f":"TEXT(MICASH!I1462,\"0000000000\")","v":"0000000000"},{"$f":"TEXT(MICASH!J1462*100,\"0000000000\")","v":"0000000000"},{"$f":"TEXT(MONTH(MICASH!K1462),\"00\") & TEXT(DAY(MICASH!K1462),\"00\") & RIGHT(TEXT(YEAR(MICASH!K1462),\"00\"),2)","v":"010000"},{"$f":"UPPER(LEFT(MICASH!L1462,96))","v":""}]
["C",288,"00",{"$f":"TEXT(MICASH!D1463,\"0000000000\")","v":"0000000000"}," ",{"$f":"UPPER(MICASH!F1463)","v":""},{"$f":"UPPER(MICASH!G1463)","v":""}," ",{"$f":"TEXT(MICASH!I1463,\"0000000000\")","v":"0000000000"},{"$f":"TEXT(MICASH!J1463*100,\"0000000000\")","v":"0000000000"},{"$f":"TEXT(MONTH(MICASH!K1463),\"00\") & TEXT(DAY(MICASH!K1463),\"00\") & RIGHT(TEXT(YEAR(MICASH!K1463),\"00\"),2)","v":"010000"},{"$f":"UPPER(LEFT(MICASH!L1463,96))","v":""}]
["C",288,"00",{"$f":"TEXT(MICASH!D1464,\"0000000000\")","v":"0000000000"}," ",{"$f":"UPPER(MICASH!F1464)","v":""},{"$f":"UPPER(MICASH!G1464)","v":""}," ",{"$f":"TEXT(MICASH!I1464,\"0000000000\")","v":"0000000000"},{"$f":"TEXT(MICASH!J1464*100,\"0000000000\")","v":"0000000000"},{"$f":"TEXT(MONTH(MICASH!K1464),\"00\") & TEXT(DAY(MICASH!K1464),\"00\") & RIGHT(TEXT(YEAR(MICASH!K1464),\"00\"),2)","v":"010000"},{"$f":"UPPER(LEFT(MICASH!L1464,96))","v":""}]
["C",288,"00",{"$f":"TEXT(MICASH!D1465,\"0000000000\")","v":"0000000000"}," ",{"$f":"UPPER(MICASH!F1465)","v":""},{"$f":"UPPER(MICASH!G1465)","v":""}," ",{"$f":"TEXT(MICASH!I1465,\"0000000000\")","v":"0000000000"},{"$f":"TEXT(MICASH!J1465*100,\"0000000000\")","v":"0000000000"},{"$f":"TEXT(MONTH(MICASH!K1465),\"00\") & TEXT(DAY(MICASH!K1465),\"00\") & RIGHT(TEXT(YEAR(MICASH!K1465),\"00\"),2)","v":"010000"},{"$f":"UPPER(LEFT(MICASH!L1465,96))","v":""}]
["C",288,"00",{"$f":"TEXT(MICASH!D1466,\"0000000000\")","v":"0000000000"}," ",{"$f":"UPPER(MICASH!F1466)","v":""},{"$f":"UPPER(MICASH!G1466)","v":""}," ",{"$f":"TEXT(MICASH!I1466,\"0000000000\")","v":"0000000000"},{"$f":"TEXT(MICASH!J1466*100,\"0000000000\")","v":"0000000000"},{"$f":"TEXT(MONTH(MICASH!K1466),\"00\") & TEXT(DAY(MICASH!K1466),\"00\") & RIGHT(TEXT(YEAR(MICASH!K1466),\"00\"),2)","v":"010000"},{"$f":"UPPER(LEFT(MICASH!L1466,96))","v":""}]
["C",288,"00",{"$f":"TEXT(MICASH!D1467,\"0000000000\")","v":"0000000000"}," ",{"$f":"UPPER(MICASH!F1467)","v":""},{"$f":"UPPER(MICASH!G1467)","v":""}," ",{"$f":"TEXT(MICASH!I1467,\"0000000000\")","v":"0000000000"},{"$f":"TEXT(MICASH!J1467*100,\"0000000000\")","v":"0000000000"},{"$f":"TEXT(MONTH(MICASH!K1467),\"00\") & TEXT(DAY(MICASH!K1467),\"00\") & RIGHT(TEXT(YEAR(MICASH!K1467),\"00\"),2)","v":"010000"},{"$f":"UPPER(LEFT(MICASH!L1467,96))","v":""}]
["C",288,"00",{"$f":"TEXT(MICASH!D1468,\"0000000000\")","v":"0000000000"}," ",{"$f":"UPPER(MICASH!F1468)","v":""},{"$f":"UPPER(MICASH!G1468)","v":""}," ",{"$f":"TEXT(MICASH!I1468,\"0000000000\")","v":"0000000000"},{"$f":"TEXT(MICASH!J1468*100,\"0000000000\")","v":"0000000000"},{"$f":"TEXT(MONTH(MICASH!K1468),\"00\") & TEXT(DAY(MICASH!K1468),\"00\") & RIGHT(TEXT(YEAR(MICASH!K1468),\"00\"),2)","v":"010000"},{"$f":"UPPER(LEFT(MICASH!L1468,96))","v":""}]
["C",288,"00",{"$f":"TEXT(MICASH!D1469,\"0000000000\")","v":"0000000000"}," ",{"$f":"UPPER(MICASH!F1469)","v":""},{"$f":"UPPER(MICASH!G1469)","v":""}," ",{"$f":"TEXT(MICASH!I1469,\"0000000000\")","v":"0000000000"},{"$f":"TEXT(MICASH!J1469*100,\"0000000000\")","v":"0000000000"},{"$f":"TEXT(MONTH(MICASH!K1469),\"00\") & TEXT(DAY(MICASH!K1469),\"00\") & RIGHT(TEXT(YEAR(MICASH!K1469),\"00\"),2)","v":"010000"},{"$f":"UPPER(LEFT(MICASH!L1469,96))","v":""}]
["C",288,"00",{"$f":"TEXT(MICASH!D1470,\"0000000000\")","v":"0000000000"}," ",{"$f":"UPPER(MICASH!F1470)","v":""},{"$f":"UPPER(MICASH!G1470)","v":""}," ",{"$f":"TEXT(MICASH!I1470,\"0000000000\")","v":"0000000000"},{"$f":"TEXT(MICASH!J1470*100,\"0000000000\")","v":"0000000000"},{"$f":"TEXT(MONTH(MICASH!K1470),\"00\") & TEXT(DAY(MICASH!K1470),\"00\") & RIGHT(TEXT(YEAR(MICASH!K1470),\"00\"),2)","v":"010000"},{"$f":"UPPER(LEFT(MICASH!L1470,96))","v":""}]
["C",288,"00",{"$f":"TEXT(MICASH!D1471,\"0000000000\")","v":"0000000000"}," ",{"$f":"UPPER(MICASH!F1471)","v":""},{"$f":"UPPER(MICASH!G1471)","v":""}," ",{"$f":"TEXT(MICASH!I1471,\"0000000000\")","v":"0000000000"},{"$f":"TEXT(MICASH!J1471*100,\"0000000000\")","v":"0000000000"},{"$f":"TEXT(MONTH(MICASH!K1471),\"00\") & TEXT(DAY(MICASH!K1471),\"00\") & RIGHT(TEXT(YEAR(MICASH!K1471),\"00\"),2)","v":"010000"},{"$f":"UPPER(LEFT(MICASH!L1471,96))","v":""}]
["C",288,"00",{"$f":"TEXT(MICASH!D1472,\"0000000000\")","v":"0000000000"}," ",{"$f":"UPPER(MICASH!F1472)","v":""},{"$f":"UPPER(MICASH!G1472)","v":""}," ",{"$f":"TEXT(MICASH!I1472,\"0000000000\")","v":"0000000000"},{"$f":"TEXT(MICASH!J1472*100,\"0000000000\")","v":"0000000000"},{"$f":"TEXT(MONTH(MICASH!K1472),\"00\") & TEXT(DAY(MICASH!K1472),\"00\") & RIGHT(TEXT(YEAR(MICASH!K1472),\"00\"),2)","v":"010000"},{"$f":"UPPER(LEFT(MICASH!L1472,96))","v":""}]
["C",288,"00",{"$f":"TEXT(MICASH!D1473,\"0000000000\")","v":"0000000000"}," ",{"$f":"UPPER(MICASH!F1473)","v":""},{"$f":"UPPER(MICASH!G1473)","v":""}," ",{"$f":"TEXT(MICASH!I1473,\"0000000000\")","v":"0000000000"},{"$f":"TEXT(MICASH!J1473*100,\"0000000000\")","v":"0000000000"},{"$f":"TEXT(MONTH(MICASH!K1473),\"00\") & TEXT(DAY(MICASH!K1473),\"00\") & RIGHT(TEXT(YEAR(MICASH!K1473),\"00\"),2)","v":"010000"},{"$f":"UPPER(LEFT(MICASH!L1473,96))","v":""}]
["C",288,"00",{"$f":"TEXT(MICASH!D1474,\"0000000000\")","v":"0000000000"}," ",{"$f":"UPPER(MICASH!F1474)","v":""},{"$f":"UPPER(MICASH!G1474)","v":""}," ",{"$f":"TEXT(MICASH!I1474,\"0000000000\")","v":"0000000000"},{"$f":"TEXT(MICASH!J1474*100,\"0000000000\")","v":"0000000000"},{"$f":"TEXT(MONTH(MICASH!K1474),\"00\") & TEXT(DAY(MICASH!K1474),\"00\") & RIGHT(TEXT(YEAR(MICASH!K1474),\"00\"),2)","v":"010000"},{"$f":"UPPER(LEFT(MICASH!L1474,96))","v":""}]
["C",288,"00",{"$f":"TEXT(MICASH!D1475,\"0000000000\")","v":"0000000000"}," ",{"$f":"UPPER(MICASH!F1475)","v":""},{"$f":"UPPER(MICASH!G1475)","v":""}," ",{"$f":"TEXT(MICASH!I1475,\"0000000000\")","v":"0000000000"},{"$f":"TEXT(MICASH!J1475*100,\"0000000000\")","v":"0000000000"},{"$f":"TEXT(MONTH(MICASH!K1475),\"00\") & TEXT(DAY(MICASH!K1475),\"00\") & RIGHT(TEXT(YEAR(MICASH!K1475),\"00\"),2)","v":"010000"},{"$f":"UPPER(LEFT(MICASH!L1475,96))","v":""}]
["C",288,"00",{"$f":"TEXT(MICASH!D1476,\"0000000000\")","v":"0000000000"}," ",{"$f":"UPPER(MICASH!F1476)","v":""},{"$f":"UPPER(MICASH!G1476)","v":""}," ",{"$f":"TEXT(MICASH!I1476,\"0000000000\")","v":"0000000000"},{"$f":"TEXT(MICASH!J1476*100,\"0000000000\")","v":"0000000000"},{"$f":"TEXT(MONTH(MICASH!K1476),\"00\") & TEXT(DAY(MICASH!K1476),\"00\") & RIGHT(TEXT(YEAR(MICASH!K1476),\"00\"),2)","v":"010000"},{"$f":"UPPER(LEFT(MICASH!L1476,96))","v":""}]
["C",288,"00",{"$f":"TEXT(MICASH!D1477,\"0000000000\")","v":"0000000000"}," ",{"$f":"UPPER(MICASH!F1477)","v":""},{"$f":"UPPER(MICASH!G1477)","v":""}," ",{"$f":"TEXT(MICASH!I1477,\"0000000000\")","v":"0000000000"},{"$f":"TEXT(MICASH!J1477*100,\"0000000000\")","v":"0000000000"},{"$f":"TEXT(MONTH(MICASH!K1477),\"00\") & TEXT(DAY(MICASH!K1477),\"00\") & RIGHT(TEXT(YEAR(MICASH!K1477),\"00\"),2)","v":"010000"},{"$f":"UPPER(LEFT(MICASH!L1477,96))","v":""}]
["C",288,"00",{"$f":"TEXT(MICASH!D1478,\"0000000000\")","v":"0000000000"}," ",{"$f":"UPPER(MICASH!F1478)","v":""},{"$f":"UPPER(MICASH!G1478)","v":""}," ",{"$f":"TEXT(MICASH!I1478,\"0000000000\")","v":"0000000000"},{"$f":"TEXT(MICASH!J1478*100,\"0000000000\")","v":"0000000000"},{"$f":"TEXT(MONTH(MICASH!K1478),\"00\") & TEXT(DAY(MICASH!K1478),\"00\") & RIGHT(TEXT(YEAR(MICASH!K1478),\"00\"),2)","v":"010000"},{"$f":"UPPER(LEFT(MICASH!L1478,96))","v":""}]
["C",288,"00",{"$f":"TEXT(MICASH!D1479,\"0000000000\")","v":"0000000000"}," ",{"$f":"UPPER(MICASH!F1479)","v":""},{"$f":"UPPER(MICASH!G1479)","v":""}," ",{"$f":"TEXT(MICASH!I1479,\"0000000000\")","v":"0000000000"},{"$f":"TEXT(MICASH!J1479*100,\"0000000000\")","v":"0000000000"},{"$f":"TEXT(MONTH(MICASH!K1479),\"00\") & TEXT(DAY(MICASH!K1479),\"00\") & RIGHT(TEXT(YEAR(MICASH!K1479),\"00\"),2)","v":"010000"},{"$f":"UPPER(LEFT(MICASH!L1479,96))","v":""}]
["C",288,"00",{"$f":"TEXT(MICASH!D1480,\"0000000000\")","v":"0000000000"}," ",{"$f":"UPPER(MICASH!F1480)","v":""},{"$f":"UPPER(MICASH!G1480)","v":""}," ",{"$f":"TEXT(MICASH!I1480,\"0000000000\")","v":"0000000000"},{"$f":"TEXT(MICASH!J1480*100,\"0000000000\")","v":"0000000000"},{"$f":"TEXT(MONTH(MICASH!K1480),\"00\") & TEXT(DAY(MICASH!K1480),\"00\") & RIGHT(TEXT(YEAR(MICASH!K1480),\"00\"),2)","v":"010000"},{"$f":"UPPER(LEFT(MICASH!L1480,96))","v":""}]
["C",288,"00",{"$f":"TEXT(MICASH!D1481,\"0000000000\")","v":"0000000000"}," ",{"$f":"UPPER(MICASH!F1481)","v":""},{"$f":"UPPER(MICASH!G1481)","v":""}," ",{"$f":"TEXT(MICASH!I1481,\"0000000000\")","v":"0000000000"},{"$f":"TEXT(MICASH!J1481*100,\"0000000000\")","v":"0000000000"},{"$f":"TEXT(MONTH(MICASH!K1481),\"00\") & TEXT(DAY(MICASH!K1481),\"00\") & RIGHT(TEXT(YEAR(MICASH!K1481),\"00\"),2)","v":"010000"},{"$f":"UPPER(LEFT(MICASH!L1481,96))","v":""}]
["C",288,"00",{"$f":"TEXT(MICASH!D1482,\"0000000000\")","v":"0000000000"}," ",{"$f":"UPPER(MICASH!F1482)","v":""},{"$f":"UPPER(MICASH!G1482)","v":""}," ",{"$f":"TEXT(MICASH!I1482,\"0000000000\")","v":"0000000000"},{"$f":"TEXT(MICASH!J1482*100,\"0000000000\")","v":"0000000000"},{"$f":"TEXT(MONTH(MICASH!K1482),\"00\") & TEXT(DAY(MICASH!K1482),\"00\") & RIGHT(TEXT(YEAR(MICASH!K1482),\"00\"),2)","v":"010000"},{"$f":"UPPER(LEFT(MICASH!L1482,96))","v":""}]
["C",288,"00",{"$f":"TEXT(MICASH!D1483,\"0000000000\")","v":"0000000000"}," ",{"$f":"UPPER(MICASH!F1483)","v":""},{"$f":"UPPER(MICASH!G1483)","v":""}," ",{"$f":"TEXT(MICASH!I1483,\"0000000000\")","v":"0000000000"},{"$f":"TEXT(MICASH!J1483*100,\"0000000000\")","v":"0000000000"},{"$f":"TEXT(MONTH(MICASH!K1483),\"00\") & TEXT(DAY(MICASH!K1483),\"00\") & RIGHT(TEXT(YEAR(MICASH!K1483),\"00\"),2)","v":"010000"},{"$f":"UPPER(LEFT(MICASH!L1483,96))","v":""}]
["C",288,"00",{"$f":"TEXT(MICASH!D1484,\"0000000000\")","v":"0000000000"}," ",{"$f":"UPPER(MICASH!F1484)","v":""},{"$f":"UPPER(MICASH!G1484)","v":""}," ",{"$f":"TEXT(MICASH!I1484,\"0000000000\")","v":"0000000000"},{"$f":"TEXT(MICASH!J1484*100,\"0000000000\")","v":"0000000000"},{"$f":"TEXT(MONTH(MICASH!K1484),\"00\") & TEXT(DAY(MICASH!K1484),\"00\") & RIGHT(TEXT(YEAR(MICASH!K1484),\"00\"),2)","v":"010000"},{"$f":"UPPER(LEFT(MICASH!L1484,96))","v":""}]
["C",288,"00",{"$f":"TEXT(MICASH!D1485,\"0000000000\")","v":"0000000000"}," ",{"$f":"UPPER(MICASH!F1485)","v":""},{"$f":"UPPER(MICASH!G1485)","v":""}," ",{"$f":"TEXT(MICASH!I1485,\"0000000000\")","v":"0000000000"},{"$f":"TEXT(MICASH!J1485*100,\"0000000000\")","v":"0000000000"},{"$f":"TEXT(MONTH(MICASH!K1485),\"00\") & TEXT(DAY(MICASH!K1485),\"00\") & RIGHT(TEXT(YEAR(MICASH!K1485),\"00\"),2)","v":"010000"},{"$f":"UPPER(LEFT(MICASH!L1485,96))","v":""}]
["C",288,"00",{"$f":"TEXT(MICASH!D1486,\"0000000000\")","v":"0000000000"}," ",{"$f":"UPPER(MICASH!F1486)","v":""},{"$f":"UPPER(MICASH!G1486)","v":""}," ",{"$f":"TEXT(MICASH!I1486,\"0000000000\")","v":"0000000000"},{"$f":"TEXT(MICASH!J1486*100,\"0000000000\")","v":"0000000000"},{"$f":"TEXT(MONTH(MICASH!K1486),\"00\") & TEXT(DAY(MICASH!K1486),\"00\") & RIGHT(TEXT(YEAR(MICASH!K1486),\"00\"),2)","v":"010000"},{"$f":"UPPER(LEFT(MICASH!L1486,96))","v":""}]
["C",288,"00",{"$f":"TEXT(MICASH!D1487,\"0000000000\")","v":"0000000000"}," ",{"$f":"UPPER(MICASH!F1487)","v":""},{"$f":"UPPER(MICASH!G1487)","v":""}," ",{"$f":"TEXT(MICASH!I1487,\"0000000000\")","v":"0000000000"},{"$f":"TEXT(MICASH!J1487*100,\"0000000000\")","v":"0000000000"},{"$f":"TEXT(MONTH(MICASH!K1487),\"00\") & TEXT(DAY(MICASH!K1487),\"00\") & RIGHT(TEXT(YEAR(MICASH!K1487),\"00\"),2)","v":"010000"},{"$f":"UPPER(LEFT(MICASH!L1487,96))","v":""}]
["C",288,"00",{"$f":"TEXT(MICASH!D1488,\"0000000000\")","v":"0000000000"}," ",{"$f":"UPPER(MICASH!F1488)","v":""},{"$f":"UPPER(MICASH!G1488)","v":""}," ",{"$f":"TEXT(MICASH!I1488,\"0000000000\")","v":"0000000000"},{"$f":"TEXT(MICASH!J1488*100,\"0000000000\")","v":"0000000000"},{"$f":"TEXT(MONTH(MICASH!K1488),\"00\") & TEXT(DAY(MICASH!K1488),\"00\") & RIGHT(TEXT(YEAR(MICASH!K1488),\"00\"),2)","v":"010000"},{"$f":"UPPER(LEFT(MICASH!L1488,96))","v":""}]
["C",288,"00",{"$f":"TEXT(MICASH!D1489,\"0000000000\")","v":"0000000000"}," ",{"$f":"UPPER(MICASH!F1489)","v":""},{"$f":"UPPER(MICASH!G1489)","v":""}," ",{"$f":"TEXT(MICASH!I1489,\"0000000000\")","v":"0000000000"},{"$f":"TEXT(MICASH!J1489*100,\"0000000000\")","v":"0000000000"},{"$f":"TEXT(MONTH(MICASH!K1489),\"00\") & TEXT(DAY(MICASH!K1489),\"00\") & RIGHT(TEXT(YEAR(MICASH!K1489),\"00\"),2)","v":"010000"},{"$f":"UPPER(LEFT(MICASH!L1489,96))","v":""}]
["C",288,"00",{"$f":"TEXT(MICASH!D1490,\"0000000000\")","v":"0000000000"}," ",{"$f":"UPPER(MICASH!F1490)","v":""},{"$f":"UPPER(MICASH!G1490)","v":""}," ",{"$f":"TEXT(MICASH!I1490,\"0000000000\")","v":"0000000000"},{"$f":"TEXT(MICASH!J1490*100,\"0000000000\")","v":"0000000000"},{"$f":"TEXT(MONTH(MICASH!K1490),\"00\") & TEXT(DAY(MICASH!K1490),\"00\") & RIGHT(TEXT(YEAR(MICASH!K1490),\"00\"),2)","v":"010000"},{"$f":"UPPER(LEFT(MICASH!L1490,96))","v":""}]
["C",288,"00",{"$f":"TEXT(MICASH!D1491,\"0000000000\")","v":"0000000000"}," ",{"$f":"UPPER(MICASH!F1491)","v":""},{"$f":"UPPER(MICASH!G1491)","v":""}," ",{"$f":"TEXT(MICASH!I1491,\"0000000000\")","v":"0000000000"},{"$f":"TEXT(MICASH!J1491*100,\"0000000000\")","v":"0000000000"},{"$f":"TEXT(MONTH(MICASH!K1491),\"00\") & TEXT(DAY(MICASH!K1491),\"00\") & RIGHT(TEXT(YEAR(MICASH!K1491),\"00\"),2)","v":"010000"},{"$f":"UPPER(LEFT(MICASH!L1491,96))","v":""}]
["C",288,"00",{"$f":"TEXT(MICASH!D1492,\"0000000000\")","v":"0000000000"}," ",{"$f":"UPPER(MICASH!F1492)","v":""},{"$f":"UPPER(MICASH!G1492)","v":""}," ",{"$f":"TEXT(MICASH!I1492,\"0000000000\")","v":"0000000000"},{"$f":"TEXT(MICASH!J1492*100,\"0000000000\")","v":"0000000000"},{"$f":"TEXT(MONTH(MICASH!K1492),\"00\") & TEXT(DAY(MICASH!K1492),\"00\") & RIGHT(TEXT(YEAR(MICASH!K1492),\"00\"),2)","v":"010000"},{"$f":"UPPER(LEFT(MICASH!L1492,96))","v":""}]
["C",288,"00",{"$f":"TEXT(MICASH!D1493,\"0000000000\")","v":"0000000000"}," ",{"$f":"UPPER(MICASH!F1493)","v":""},{"$f":"UPPER(MICASH!G1493)","v":""}," ",{"$f":"TEXT(MICASH!I1493,\"0000000000\")","v":"0000000000"},{"$f":"TEXT(MICASH!J1493*100,\"0000000000\")","v":"0000000000"},{"$f":"TEXT(MONTH(MICASH!K1493),\"00\") & TEXT(DAY(MICASH!K1493),\"00\") & RIGHT(TEXT(YEAR(MICASH!K1493),\"00\"),2)","v":"010000"},{"$f":"UPPER(LEFT(MICASH!L1493,96))","v":""}]
["C",288,"00",{"$f":"TEXT(MICASH!D1494,\"0000000000\")","v":"0000000000"}," ",{"$f":"UPPER(MICASH!F1494)","v":""},{"$f":"UPPER(MICASH!G1494)","v":""}," ",{"$f":"TEXT(MICASH!I1494,\"0000000000\")","v":"0000000000"},{"$f":"TEXT(MICASH!J1494*100,\"0000000000\")","v":"0000000000"},{"$f":"TEXT(MONTH(MICASH!K1494),\"00\") & TEXT(DAY(MICASH!K1494),\"00\") & RIGHT(TEXT(YEAR(MICASH!K1494),\"00\"),2)","v":"010000"},{"$f":"UPPER(LEFT(MICASH!L1494,96))","v":""}]
["C",288,"00",{"$f":"TEXT(MICASH!D1495,\"0000000000\")","v":"0000000000"}," ",{"$f":"UPPER(MICASH!F1495)","v":""},{"$f":"UPPER(MICASH!G1495)","v":""}," ",{"$f":"TEXT(MICASH!I1495,\"0000000000\")","v":"0000000000"},{"$f":"TEXT(MICASH!J1495*100,\"0000000000\")","v":"0000000000"},{"$f":"TEXT(MONTH(MICASH!K1495),\"00\") & TEXT(DAY(MICASH!K1495),\"00\") & RIGHT(TEXT(YEAR(MICASH!K1495),\"00\"),2)","v":"010000"},{"$f":"UPPER(LEFT(MICASH!L1495,96))","v":""}]
["C",288,"00",{"$f":"TEXT(MICASH!D1496,\"0000000000\")","v":"0000000000"}," ",{"$f":"UPPER(MICASH!F1496)","v":""},{"$f":"UPPER(MICASH!G1496)","v":""}," ",{"$f":"TEXT(MICASH!I1496,\"0000000000\")","v":"0000000000"},{"$f":"TEXT(MICASH!J1496*100,\"0000000000\")","v":"0000000000"},{"$f":"TEXT(MONTH(MICASH!K1496),\"00\") & TEXT(DAY(MICASH!K1496),\"00\") & RIGHT(TEXT(YEAR(MICASH!K1496),\"00\"),2)","v":"010000"},{"$f":"UPPER(LEFT(MICASH!L1496,96))","v":""}]
["C",288,"00",{"$f":"TEXT(MICASH!D1497,\"0000000000\")","v":"0000000000"}," ",{"$f":"UPPER(MICASH!F1497)","v":""},{"$f":"UPPER(MICASH!G1497)","v":""}," ",{"$f":"TEXT(MICASH!I1497,\"0000000000\")","v":"0000000000"},{"$f":"TEXT(MICASH!J1497*100,\"0000000000\")","v":"0000000000"},{"$f":"TEXT(MONTH(MICASH!K1497),\"00\") & TEXT(DAY(MICASH!K1497),\"00\") & RIGHT(TEXT(YEAR(MICASH!K1497),\"00\"),2)","v":"010000"},{"$f":"UPPER(LEFT(MICASH!L1497,96))","v":""}]
["C",288,"00",{"$f":"TEXT(MICASH!D1498,\"0000000000\")","v":"0000000000"}," ",{"$f":"UPPER(MICASH!F1498)","v":""},{"$f":"UPPER(MICASH!G1498)","v":""}," ",{"$f":"TEXT(MICASH!I1498,\"0000000000\")","v":"0000000000"},{"$f":"TEXT(MICASH!J1498*100,\"0000000000\")","v":"0000000000"},{"$f":"TEXT(MONTH(MICASH!K1498),\"00\") & TEXT(DAY(MICASH!K1498),\"00\") & RIGHT(TEXT(YEAR(MICASH!K1498),\"00\"),2)","v":"010000"},{"$f":"UPPER(LEFT(MICASH!L1498,96))","v":""}]
["C",288,"00",{"$f":"TEXT(MICASH!D1499,\"0000000000\")","v":"0000000000"}," ",{"$f":"UPPER(MICASH!F1499)","v":""},{"$f":"UPPER(MICASH!G1499)","v":""}," ",{"$f":"TEXT(MICASH!I1499,\"0000000000\")","v":"0000000000"},{"$f":"TEXT(MICASH!J1499*100,\"0000000000\")","v":"0000000000"},{"$f":"TEXT(MONTH(MICASH!K1499),\"00\") & TEXT(DAY(MICASH!K1499),\"00\") & RIGHT(TEXT(YEAR(MICASH!K1499),\"00\"),2)","v":"010000"},{"$f":"UPPER(LEFT(MICASH!L1499,96))","v":""}]
["C",288,"00",{"$f":"TEXT(MICASH!D1500,\"0000000000\")","v":"0000000000"}," ",{"$f":"UPPER(MICASH!F1500)","v":""},{"$f":"UPPER(MICASH!G1500)","v":""}," ",{"$f":"TEXT(MICASH!I1500,\"0000000000\")","v":"0000000000"},{"$f":"TEXT(MICASH!J1500*100,\"0000000000\")","v":"0000000000"},{"$f":"TEXT(MONTH(MICASH!K1500),\"00\") & TEXT(DAY(MICASH!K1500),\"00\") & RIGHT(TEXT(YEAR(MICASH!K1500),\"00\"),2)","v":"010000"},{"$f":"UPPER(LEFT(MICASH!L1500,96))","v":""}]
["C",288,"00",{"$f":"TEXT(MICASH!D1501,\"0000000000\")","v":"0000000000"}," ",{"$f":"UPPER(MICASH!F1501)","v":""},{"$f":"UPPER(MICASH!G1501)","v":""}," ",{"$f":"TEXT(MICASH!I1501,\"0000000000\")","v":"0000000000"},{"$f":"TEXT(MICASH!J1501*100,\"0000000000\")","v":"0000000000"},{"$f":"TEXT(MONTH(MICASH!K1501),\"00\") & TEXT(DAY(MICASH!K1501),\"00\") & RIGHT(TEXT(YEAR(MICASH!K1501),\"00\"),2)","v":"010000"},{"$f":"UPPER(LEFT(MICASH!L1501,96))","v":""}]
["C",288,"00",{"$f":"TEXT(MICASH!D1502,\"0000000000\")","v":"0000000000"}," ",{"$f":"UPPER(MICASH!F1502)","v":""},{"$f":"UPPER(MICASH!G1502)","v":""}," ",{"$f":"TEXT(MICASH!I1502,\"0000000000\")","v":"0000000000"},{"$f":"TEXT(MICASH!J1502*100,\"0000000000\")","v":"0000000000"},{"$f":"TEXT(MONTH(MICASH!K1502),\"00\") & TEXT(DAY(MICASH!K1502),\"00\") & RIGHT(TEXT(YEAR(MICASH!K1502),\"00\"),2)","v":"010000"},{"$f":"UPPER(LEFT(MICASH!L1502,96))","v":""}]
["C",288,"00",{"$f":"TEXT(MICASH!D1503,\"0000000000\")","v":"0000000000"}," ",{"$f":"UPPER(MICASH!F1503)","v":""},{"$f":"UPPER(MICASH!G1503)","v":""}," ",{"$f":"TEXT(MICASH!I1503,\"0000000000\")","v":"0000000000"},{"$f":"TEXT(MICASH!J1503*100,\"0000000000\")","v":"0000000000"},{"$f":"TEXT(MONTH(MICASH!K1503),\"00\") & TEXT(DAY(MICASH!K1503),\"00\") & RIGHT(TEXT(YEAR(MICASH!K1503),\"00\"),2)","v":"010000"},{"$f":"UPPER(LEFT(MICASH!L1503,96))","v":""}]
["C",288,"00",{"$f":"TEXT(MICASH!D1504,\"0000000000\")","v":"0000000000"}," ",{"$f":"UPPER(MICASH!F1504)","v":""},{"$f":"UPPER(MICASH!G1504)","v":""}," ",{"$f":"TEXT(MICASH!I1504,\"0000000000\")","v":"0000000000"},{"$f":"TEXT(MICASH!J1504*100,\"0000000000\")","v":"0000000000"},{"$f":"TEXT(MONTH(MICASH!K1504),\"00\") & TEXT(DAY(MICASH!K1504),\"00\") & RIGHT(TEXT(YEAR(MICASH!K1504),\"00\"),2)","v":"010000"},{"$f":"UPPER(LEFT(MICASH!L1504,96))","v":""}]
["C",288,"00",{"$f":"TEXT(MICASH!D1505,\"0000000000\")","v":"0000000000"}," ",{"$f":"UPPER(MICASH!F1505)","v":""},{"$f":"UPPER(MICASH!G1505)","v":""}," ",{"$f":"TEXT(MICASH!I1505,\"0000000000\")","v":"0000000000"},{"$f":"TEXT(MICASH!J1505*100,\"0000000000\")","v":"0000000000"},{"$f":"TEXT(MONTH(MICASH!K1505),\"00\") & TEXT(DAY(MICASH!K1505),\"00\") & RIGHT(TEXT(YEAR(MICASH!K1505),\"00\"),2)","v":"010000"},{"$f":"UPPER(LEFT(MICASH!L1505,96))","v":""}]
["C",288,"00",{"$f":"TEXT(MICASH!D1506,\"0000000000\")","v":"0000000000"}," ",{"$f":"UPPER(MICASH!F1506)","v":""},{"$f":"UPPER(MICASH!G1506)","v":""}," ",{"$f":"TEXT(MICASH!I1506,\"0000000000\")","v":"0000000000"},{"$f":"TEXT(MICASH!J1506*100,\"0000000000\")","v":"0000000000"},{"$f":"TEXT(MONTH(MICASH!K1506),\"00\") & TEXT(DAY(MICASH!K1506),\"00\") & RIGHT(TEXT(YEAR(MICASH!K1506),\"00\"),2)","v":"010000"},{"$f":"UPPER(LEFT(MICASH!L1506,96))","v":""}]
["C",288,"00",{"$f":"TEXT(MICASH!D1507,\"0000000000\")","v":"0000000000"}," ",{"$f":"UPPER(MICASH!F1507)","v":""},{"$f":"UPPER(MICASH!G1507)","v":""}," ",{"$f":"TEXT(MICASH!I1507,\"0000000000\")","v":"0000000000"},{"$f":"TEXT(MICASH!J1507*100,\"0000000000\")","v":"0000000000"},{"$f":"TEXT(MONTH(MICASH!K1507),\"00\") & TEXT(DAY(MICASH!K1507),\"00\") & RIGHT(TEXT(YEAR(MICASH!K1507),\"00\"),2)","v":"010000"},{"$f":"UPPER(LEFT(MICASH!L1507,96))","v":""}]
["C",288,"00",{"$f":"TEXT(MICASH!D1508,\"0000000000\")","v":"0000000000"}," ",{"$f":"UPPER(MICASH!F1508)","v":""},{"$f":"UPPER(MICASH!G1508)","v":""}," ",{"$f":"TEXT(MICASH!I1508,\"0000000000\")","v":"0000000000"},{"$f":"TEXT(MICASH!J1508*100,\"0000000000\")","v":"0000000000"},{"$f":"TEXT(MONTH(MICASH!K1508),\"00\") & TEXT(DAY(MICASH!K1508),\"00\") & RIGHT(TEXT(YEAR(MICASH!K1508),\"00\"),2)","v":"010000"},{"$f":"UPPER(LEFT(MICASH!L1508,96))","v":""}]
["C",288,"00",{"$f":"TEXT(MICASH!D1509,\"0000000000\")","v":"0000000000"}," ",{"$f":"UPPER(MICASH!F1509)","v":""},{"$f":"UPPER(MICASH!G1509)","v":""}," ",{"$f":"TEXT(MICASH!I1509,\"0000000000\")","v":"0000000000"},{"$f":"TEXT(MICASH!J1509*100,\"0000000000\")","v":"0000000000"},{"$f":"TEXT(MONTH(MICASH!K1509),\"00\") & TEXT(DAY(MICASH!K1509),\"00\") & RIGHT(TEXT(YEAR(MICASH!K1509),\"00\"),2)","v":"010000"},{"$f":"UPPER(LEFT(MICASH!L1509,96))","v":""}]
["C",288,"00",{"$f":"TEXT(MICASH!D1510,\"0000000000\")","v":"0000000000"}," ",{"$f":"UPPER(MICASH!F1510)","v":""},{"$f":"UPPER(MICASH!G1510)","v":""}," ",{"$f":"TEXT(MICASH!I1510,\"0000000000\")","v":"0000000000"},{"$f":"TEXT(MICASH!J1510*100,\"0000000000\")","v":"0000000000"},{"$f":"TEXT(MONTH(MICASH!K1510),\"00\") & TEXT(DAY(MICASH!K1510),\"00\") & RIGHT(TEXT(YEAR(MICASH!K1510),\"00\"),2)","v":"010000"},{"$f":"UPPER(LEFT(MICASH!L1510,96))","v":""}]
["C",288,"00",{"$f":"TEXT(MICASH!D1511,\"0000000000\")","v":"0000000000"}," ",{"$f":"UPPER(MICASH!F1511)","v":""},{"$f":"UPPER(MICASH!G1511)","v":""}," ",{"$f":"TEXT(MICASH!I1511,\"0000000000\")","v":"0000000000"},{"$f":"TEXT(MICASH!J1511*100,\"0000000000\")","v":"0000000000"},{"$f":"TEXT(MONTH(MICASH!K1511),\"00\") & TEXT(DAY(MICASH!K1511),\"00\") & RIGHT(TEXT(YEAR(MICASH!K1511),\"00\"),2)","v":"010000"},{"$f":"UPPER(LEFT(MICASH!L1511,96))","v":""}]
["C",288,"00",{"$f":"TEXT(MICASH!D1512,\"0000000000\")","v":"0000000000"}," ",{"$f":"UPPER(MICASH!F1512)","v":""},{"$f":"UPPER(MICASH!G1512)","v":""}," ",{"$f":"TEXT(MICASH!I1512,\"0000000000\")","v":"0000000000"},{"$f":"TEXT(MICASH!J1512*100,\"0000000000\")","v":"0000000000"},{"$f":"TEXT(MONTH(MICASH!K1512),\"00\") & TEXT(DAY(MICASH!K1512),\"00\") & RIGHT(TEXT(YEAR(MICASH!K1512),\"00\"),2)","v":"010000"},{"$f":"UPPER(LEFT(MICASH!L1512,96))","v":""}]
["C",288,"00",{"$f":"TEXT(MICASH!D1513,\"0000000000\")","v":"0000000000"}," ",{"$f":"UPPER(MICASH!F1513)","v":""},{"$f":"UPPER(MICASH!G1513)","v":""}," ",{"$f":"TEXT(MICASH!I1513,\"0000000000\")","v":"0000000000"},{"$f":"TEXT(MICASH!J1513*100,\"0000000000\")","v":"0000000000"},{"$f":"TEXT(MONTH(MICASH!K1513),\"00\") & TEXT(DAY(MICASH!K1513),\"00\") & RIGHT(TEXT(YEAR(MICASH!K1513),\"00\"),2)","v":"010000"},{"$f":"UPPER(LEFT(MICASH!L1513,96))","v":""}]
["C",288,"00",{"$f":"TEXT(MICASH!D1514,\"0000000000\")","v":"0000000000"}," ",{"$f":"UPPER(MICASH!F1514)","v":""},{"$f":"UPPER(MICASH!G1514)","v":""}," ",{"$f":"TEXT(MICASH!I1514,\"0000000000\")","v":"0000000000"},{"$f":"TEXT(MICASH!J1514*100,\"0000000000\")","v":"0000000000"},{"$f":"TEXT(MONTH(MICASH!K1514),\"00\") & TEXT(DAY(MICASH!K1514),\"00\") & RIGHT(TEXT(YEAR(MICASH!K1514),\"00\"),2)","v":"010000"},{"$f":"UPPER(LEFT(MICASH!L1514,96))","v":""}]
["C",288,"00",{"$f":"TEXT(MICASH!D1515,\"0000000000\")","v":"0000000000"}," ",{"$f":"UPPER(MICASH!F1515)","v":""},{"$f":"UPPER(MICASH!G1515)","v":""}," ",{"$f":"TEXT(MICASH!I1515,\"0000000000\")","v":"0000000000"},{"$f":"TEXT(MICASH!J1515*100,\"0000000000\")","v":"0000000000"},{"$f":"TEXT(MONTH(MICASH!K1515),\"00\") & TEXT(DAY(MICASH!K1515),\"00\") & RIGHT(TEXT(YEAR(MICASH!K1515),\"00\"),2)","v":"010000"},{"$f":"UPPER(LEFT(MICASH!L1515,96))","v":""}]
["C",288,"00",{"$f":"TEXT(MICASH!D1516,\"0000000000\")","v":"0000000000"}," ",{"$f":"UPPER(MICASH!F1516)","v":""},{"$f":"UPPER(MICASH!G1516)","v":""}," ",{"$f":"TEXT(MICASH!I1516,\"0000000000\")","v":"0000000000"},{"$f":"TEXT(MICASH!J1516*100,\"0000000000\")","v":"0000000000"},{"$f":"TEXT(MONTH(MICASH!K1516),\"00\") & TEXT(DAY(MICASH!K1516),\"00\") & RIGHT(TEXT(YEAR(MICASH!K1516),\"00\"),2)","v":"010000"},{"$f":"UPPER(LEFT(MICASH!L1516,96))","v":""}]
["C",288,"00",{"$f":"TEXT(MICASH!D1517,\"0000000000\")","v":"0000000000"}," ",{"$f":"UPPER(MICASH!F1517)","v":""},{"$f":"UPPER(MICASH!G1517)","v":""}," ",{"$f":"TEXT(MICASH!I1517,\"0000000000\")","v":"0000000000"},{"$f":"TEXT(MICASH!J1517*100,\"0000000000\")","v":"0000000000"},{"$f":"TEXT(MONTH(MICASH!K1517),\"00\") & TEXT(DAY(MICASH!K1517),\"00\") & RIGHT(TEXT(YEAR(MICASH!K1517),\"00\"),2)","v":"010000"},{"$f":"UPPER(LEFT(MICASH!L1517,96))","v":""}]
["C",288,"00",{"$f":"TEXT(MICASH!D1518,\"0000000000\")","v":"0000000000"}," ",{"$f":"UPPER(MICASH!F1518)","v":""},{"$f":"UPPER(MICASH!G1518)","v":""}," ",{"$f":"TEXT(MICASH!I1518,\"0000000000\")","v":"0000000000"},{"$f":"TEXT(MICASH!J1518*100,\"0000000000\")","v":"0000000000"},{"$f":"TEXT(MONTH(MICASH!K1518),\"00\") & TEXT(DAY(MICASH!K1518),\"00\") & RIGHT(TEXT(YEAR(MICASH!K1518),\"00\"),2)","v":"010000"},{"$f":"UPPER(LEFT(MICASH!L1518,96))","v":""}]
["C",288,"00",{"$f":"TEXT(MICASH!D1519,\"0000000000\")","v":"0000000000"}," ",{"$f":"UPPER(MICASH!F1519)","v":""},{"$f":"UPPER(MICASH!G1519)","v":""}," ",{"$f":"TEXT(MICASH!I1519,\"0000000000\")","v":"0000000000"},{"$f":"TEXT(MICASH!J1519*100,\"0000000000\")","v":"0000000000"},{"$f":"TEXT(MONTH(MICASH!K1519),\"00\") & TEXT(DAY(MICASH!K1519),\"00\") & RIGHT(TEXT(YEAR(MICASH!K1519),\"00\"),2)","v":"010000"},{"$f":"UPPER(LEFT(MICASH!L1519,96))","v":""}]
["C",288,"00",{"$f":"TEXT(MICASH!D1520,\"0000000000\")","v":"0000000000"}," ",{"$f":"UPPER(MICASH!F1520)","v":""},{"$f":"UPPER(MICASH!G1520)","v":""}," ",{"$f":"TEXT(MICASH!I1520,\"0000000000\")","v":"0000000000"},{"$f":"TEXT(MICASH!J1520*100,\"0000000000\")","v":"0000000000"},{"$f":"TEXT(MONTH(MICASH!K1520),\"00\") & TEXT(DAY(MICASH!K1520),\"00\") & RIGHT(TEXT(YEAR(MICASH!K1520),\"00\"),2)","v":"010000"},{"$f":"UPPER(LEFT(MICASH!L1520,96))","v":""}]
["C",288,"00",{"$f":"TEXT(MICASH!D1521,\"0000000000\")","v":"0000000000"}," ",{"$f":"UPPER(MICASH!F1521)","v":""},{"$f":"UPPER(MICASH!G1521)","v":""}," ",{"$f":"TEXT(MICASH!I1521,\"0000000000\")","v":"0000000000"},{"$f":"TEXT(MICASH!J1521*100,\"0000000000\")","v":"0000000000"},{"$f":"TEXT(MONTH(MICASH!K1521),\"00\") & TEXT(DAY(MICASH!K1521),\"00\") & RIGHT(TEXT(YEAR(MICASH!K1521),\"00\"),2)","v":"010000"},{"$f":"UPPER(LEFT(MICASH!L1521,96))","v":""}]
["C",288,"00",{"$f":"TEXT(MICASH!D1522,\"0000000000\")","v":"0000000000"}," ",{"$f":"UPPER(MICASH!F1522)","v":""},{"$f":"UPPER(MICASH!G1522)","v":""}," ",{"$f":"TEXT(MICASH!I1522,\"0000000000\")","v":"0000000000"},{"$f":"TEXT(MICASH!J1522*100,\"0000000000\")","v":"0000000000"},{"$f":"TEXT(MONTH(MICASH!K1522),\"00\") & TEXT(DAY(MICASH!K1522),\"00\") & RIGHT(TEXT(YEAR(MICASH!K1522),\"00\"),2)","v":"010000"},{"$f":"UPPER(LEFT(MICASH!L1522,96))","v":""}]
["C",288,"00",{"$f":"TEXT(MICASH!D1523,\"0000000000\")","v":"0000000000"}," ",{"$f":"UPPER(MICASH!F1523)","v":""},{"$f":"UPPER(MICASH!G1523)","v":""}," ",{"$f":"TEXT(MICASH!I1523,\"0000000000\")","v":"0000000000"},{"$f":"TEXT(MICASH!J1523*100,\"0000000000\")","v":"0000000000"},{"$f":"TEXT(MONTH(MICASH!K1523),\"00\") & TEXT(DAY(MICASH!K1523),\"00\") & RIGHT(TEXT(YEAR(MICASH!K1523),\"00\"),2)","v":"010000"},{"$f":"UPPER(LEFT(MICASH!L1523,96))","v":""}]
["C",288,"00",{"$f":"TEXT(MICASH!D1524,\"0000000000\")","v":"0000000000"}," ",{"$f":"UPPER(MICASH!F1524)","v":""},{"$f":"UPPER(MICASH!G1524)","v":""}," ",{"$f":"TEXT(MICASH!I1524,\"0000000000\")","v":"0000000000"},{"$f":"TEXT(MICASH!J1524*100,\"0000000000\")","v":"0000000000"},{"$f":"TEXT(MONTH(MICASH!K1524),\"00\") & TEXT(DAY(MICASH!K1524),\"00\") & RIGHT(TEXT(YEAR(MICASH!K1524),\"00\"),2)","v":"010000"},{"$f":"UPPER(LEFT(MICASH!L1524,96))","v":""}]
["C",288,"00",{"$f":"TEXT(MICASH!D1525,\"0000000000\")","v":"0000000000"}," ",{"$f":"UPPER(MICASH!F1525)","v":""},{"$f":"UPPER(MICASH!G1525)","v":""}," ",{"$f":"TEXT(MICASH!I1525,\"0000000000\")","v":"0000000000"},{"$f":"TEXT(MICASH!J1525*100,\"0000000000\")","v":"0000000000"},{"$f":"TEXT(MONTH(MICASH!K1525),\"00\") & TEXT(DAY(MICASH!K1525),\"00\") & RIGHT(TEXT(YEAR(MICASH!K1525),\"00\"),2)","v":"010000"},{"$f":"UPPER(LEFT(MICASH!L1525,96))","v":""}]
["C",288,"00",{"$f":"TEXT(MICASH!D1526,\"0000000000\")","v":"0000000000"}," ",{"$f":"UPPER(MICASH!F1526)","v":""},{"$f":"UPPER(MICASH!G1526)","v":""}," ",{"$f":"TEXT(MICASH!I1526,\"0000000000\")","v":"0000000000"},{"$f":"TEXT(MICASH!J1526*100,\"0000000000\")","v":"0000000000"},{"$f":"TEXT(MONTH(MICASH!K1526),\"00\") & TEXT(DAY(MICASH!K1526),\"00\") & RIGHT(TEXT(YEAR(MICASH!K1526),\"00\"),2)","v":"010000"},{"$f":"UPPER(LEFT(MICASH!L1526,96))","v":""}]
["C",288,"00",{"$f":"TEXT(MICASH!D1527,\"0000000000\")","v":"0000000000"}," ",{"$f":"UPPER(MICASH!F1527)","v":""},{"$f":"UPPER(MICASH!G1527)","v":""}," ",{"$f":"TEXT(MICASH!I1527,\"0000000000\")","v":"0000000000"},{"$f":"TEXT(MICASH!J1527*100,\"0000000000\")","v":"0000000000"},{"$f":"TEXT(MONTH(MICASH!K1527),\"00\") & TEXT(DAY(MICASH!K1527),\"00\") & RIGHT(TEXT(YEAR(MICASH!K1527),\"00\"),2)","v":"010000"},{"$f":"UPPER(LEFT(MICASH!L1527,96))","v":""}]
["C",288,"00",{"$f":"TEXT(MICASH!D1528,\"0000000000\")","v":"0000000000"}," ",{"$f":"UPPER(MICASH!F1528)","v":""},{"$f":"UPPER(MICASH!G1528)","v":""}," ",{"$f":"TEXT(MICASH!I1528,\"0000000000\")","v":"0000000000"},{"$f":"TEXT(MICASH!J1528*100,\"0000000000\")","v":"0000000000"},{"$f":"TEXT(MONTH(MICASH!K1528),\"00\") & TEXT(DAY(MICASH!K1528),\"00\") & RIGHT(TEXT(YEAR(MICASH!K1528),\"00\"),2)","v":"010000"},{"$f":"UPPER(LEFT(MICASH!L1528,96))","v":""}]
["C",288,"00",{"$f":"TEXT(MICASH!D1529,\"0000000000\")","v":"0000000000"}," ",{"$f":"UPPER(MICASH!F1529)","v":""},{"$f":"UPPER(MICASH!G1529)","v":""}," ",{"$f":"TEXT(MICASH!I1529,\"0000000000\")","v":"0000000000"},{"$f":"TEXT(MICASH!J1529*100,\"0000000000\")","v":"0000000000"},{"$f":"TEXT(MONTH(MICASH!K1529),\"00\") & TEXT(DAY(MICASH!K1529),\"00\") & RIGHT(TEXT(YEAR(MICASH!K1529),\"00\"),2)","v":"010000"},{"$f":"UPPER(LEFT(MICASH!L1529,96))","v":""}]
["C",288,"00",{"$f":"TEXT(MICASH!D1530,\"0000000000\")","v":"0000000000"}," ",{"$f":"UPPER(MICASH!F1530)","v":""},{"$f":"UPPER(MICASH!G1530)","v":""}," ",{"$f":"TEXT(MICASH!I1530,\"0000000000\")","v":"0000000000"},{"$f":"TEXT(MICASH!J1530*100,\"0000000000\")","v":"0000000000"},{"$f":"TEXT(MONTH(MICASH!K1530),\"00\") & TEXT(DAY(MICASH!K1530),\"00\") & RIGHT(TEXT(YEAR(MICASH!K1530),\"00\"),2)","v":"010000"},{"$f":"UPPER(LEFT(MICASH!L1530,96))","v":""}]
["C",288,"00",{"$f":"TEXT(MICASH!D1531,\"0000000000\")","v":"0000000000"}," ",{"$f":"UPPER(MICASH!F1531)","v":""},{"$f":"UPPER(MICASH!G1531)","v":""}," ",{"$f":"TEXT(MICASH!I1531,\"0000000000\")","v":"0000000000"},{"$f":"TEXT(MICASH!J1531*100,\"0000000000\")","v":"0000000000"},{"$f":"TEXT(MONTH(MICASH!K1531),\"00\") & TEXT(DAY(MICASH!K1531),\"00\") & RIGHT(TEXT(YEAR(MICASH!K1531),\"00\"),2)","v":"010000"},{"$f":"UPPER(LEFT(MICASH!L1531,96))","v":""}]
["C",288,"00",{"$f":"TEXT(MICASH!D1532,\"0000000000\")","v":"0000000000"}," ",{"$f":"UPPER(MICASH!F1532)","v":""},{"$f":"UPPER(MICASH!G1532)","v":""}," ",{"$f":"TEXT(MICASH!I1532,\"0000000000\")","v":"0000000000"},{"$f":"TEXT(MICASH!J1532*100,\"0000000000\")","v":"0000000000"},{"$f":"TEXT(MONTH(MICASH!K1532),\"00\") & TEXT(DAY(MICASH!K1532),\"00\") & RIGHT(TEXT(YEAR(MICASH!K1532),\"00\"),2)","v":"010000"},{"$f":"UPPER(LEFT(MICASH!L1532,96))","v":""}]
["C",288,"00",{"$f":"TEXT(MICASH!D1533,\"0000000000\")","v":"0000000000"}," ",{"$f":"UPPER(MICASH!F1533)","v":""},{"$f":"UPPER(MICASH!G1533)","v":""}," ",{"$f":"TEXT(MICASH!I1533,\"0000000000\")","v":"0000000000"},{"$f":"TEXT(MICASH!J1533*100,\"0000000000\")","v":"0000000000"},{"$f":"TEXT(MONTH(MICASH!K1533),\"00\") & TEXT(DAY(MICASH!K1533),\"00\") & RIGHT(TEXT(YEAR(MICASH!K1533),\"00\"),2)","v":"010000"},{"$f":"UPPER(LEFT(MICASH!L1533,96))","v":""}]
["C",288,"00",{"$f":"TEXT(MICASH!D1534,\"0000000000\")","v":"0000000000"}," ",{"$f":"UPPER(MICASH!F1534)","v":""},{"$f":"UPPER(MICASH!G1534)","v":""}," ",{"$f":"TEXT(MICASH!I1534,\"0000000000\")","v":"0000000000"},{"$f":"TEXT(MICASH!J1534*100,\"0000000000\")","v":"0000000000"},{"$f":"TEXT(MONTH(MICASH!K1534),\"00\") & TEXT(DAY(MICASH!K1534),\"00\") & RIGHT(TEXT(YEAR(MICASH!K1534),\"00\"),2)","v":"010000"},{"$f":"UPPER(LEFT(MICASH!L1534,96))","v":""}]
["C",288,"00",{"$f":"TEXT(MICASH!D1535,\"0000000000\")","v":"0000000000"}," ",{"$f":"UPPER(MICASH!F1535)","v":""},{"$f":"UPPER(MICASH!G1535)","v":""}," ",{"$f":"TEXT(MICASH!I1535,\"0000000000\")","v":"0000000000"},{"$f":"TEXT(MICASH!J1535*100,\"0000000000\")","v":"0000000000"},{"$f":"TEXT(MONTH(MICASH!K1535),\"00\") & TEXT(DAY(MICASH!K1535),\"00\") & RIGHT(TEXT(YEAR(MICASH!K1535),\"00\"),2)","v":"010000"},{"$f":"UPPER(LEFT(MICASH!L1535,96))","v":""}]
["C",288,"00",{"$f":"TEXT(MICASH!D1536,\"0000000000\")","v":"0000000000"}," ",{"$f":"UPPER(MICASH!F1536)","v":""},{"$f":"UPPER(MICASH!G1536)","v":""}," ",{"$f":"TEXT(MICASH!I1536,\"0000000000\")","v":"0000000000"},{"$f":"TEXT(MICASH!J1536*100,\"0000000000\")","v":"0000000000"},{"$f":"TEXT(MONTH(MICASH!K1536),\"00\") & TEXT(DAY(MICASH!K1536),\"00\") & RIGHT(TEXT(YEAR(MICASH!K1536),\"00\"),2)","v":"010000"},{"$f":"UPPER(LEFT(MICASH!L1536,96))","v":""}]
["C",288,"00",{"$f":"TEXT(MICASH!D1537,\"0000000000\")","v":"0000000000"}," ",{"$f":"UPPER(MICASH!F1537)","v":""},{"$f":"UPPER(MICASH!G1537)","v":""}," ",{"$f":"TEXT(MICASH!I1537,\"0000000000\")","v":"0000000000"},{"$f":"TEXT(MICASH!J1537*100,\"0000000000\")","v":"0000000000"},{"$f":"TEXT(MONTH(MICASH!K1537),\"00\") & TEXT(DAY(MICASH!K1537),\"00\") & RIGHT(TEXT(YEAR(MICASH!K1537),\"00\"),2)","v":"010000"},{"$f":"UPPER(LEFT(MICASH!L1537,96))","v":""}]
["C",288,"00",{"$f":"TEXT(MICASH!D1538,\"0000000000\")","v":"0000000000"}," ",{"$f":"UPPER(MICASH!F1538)","v":""},{"$f":"UPPER(MICASH!G1538)","v":""}," ",{"$f":"TEXT(MICASH!I1538,\"0000000000\")","v":"0000000000"},{"$f":"TEXT(MICASH!J1538*100,\"0000000000\")","v":"0000000000"},{"$f":"TEXT(MONTH(MICASH!K1538),\"00\") & TEXT(DAY(MICASH!K1538),\"00\") & RIGHT(TEXT(YEAR(MICASH!K1538),\"00\"),2)","v":"010000"},{"$f":"UPPER(LEFT(MICASH!L1538,96))","v":""}]
["C",288,"00",{"$f":"TEXT(MICASH!D1539,\"0000000000\")","v":"0000000000"}," ",{"$f":"UPPER(MICASH!F1539)","v":""},{"$f":"UPPER(MICASH!G1539)","v":""}," ",{"$f":"TEXT(MICASH!I1539,\"0000000000\")","v":"0000000000"},{"$f":"TEXT(MICASH!J1539*100,\"0000000000\")","v":"0000000000"},{"$f":"TEXT(MONTH(MICASH!K1539),\"00\") & TEXT(DAY(MICASH!K1539),\"00\") & RIGHT(TEXT(YEAR(MICASH!K1539),\"00\"),2)","v":"010000"},{"$f":"UPPER(LEFT(MICASH!L1539,96))","v":""}]
["C",288,"00",{"$f":"TEXT(MICASH!D1540,\"0000000000\")","v":"0000000000"}," ",{"$f":"UPPER(MICASH!F1540)","v":""},{"$f":"UPPER(MICASH!G1540)","v":""}," ",{"$f":"TEXT(MICASH!I1540,\"0000000000\")","v":"0000000000"},{"$f":"TEXT(MICASH!J1540*100,\"0000000000\")","v":"0000000000"},{"$f":"TEXT(MONTH(MICASH!K1540),\"00\") & TEXT(DAY(MICASH!K1540),\"00\") & RIGHT(TEXT(YEAR(MICASH!K1540),\"00\"),2)","v":"010000"},{"$f":"UPPER(LEFT(MICASH!L1540,96))","v":""}]
["C",288,"00",{"$f":"TEXT(MICASH!D1541,\"0000000000\")","v":"0000000000"}," ",{"$f":"UPPER(MICASH!F1541)","v":""},{"$f":"UPPER(MICASH!G1541)","v":""}," ",{"$f":"TEXT(MICASH!I1541,\"0000000000\")","v":"0000000000"},{"$f":"TEXT(MICASH!J1541*100,\"0000000000\")","v":"0000000000"},{"$f":"TEXT(MONTH(MICASH!K1541),\"00\") & TEXT(DAY(MICASH!K1541),\"00\") & RIGHT(TEXT(YEAR(MICASH!K1541),\"00\"),2)","v":"010000"},{"$f":"UPPER(LEFT(MICASH!L1541,96))","v":""}]
["C",288,"00",{"$f":"TEXT(MICASH!D1542,\"0000000000\")","v":"0000000000"}," ",{"$f":"UPPER(MICASH!F1542)","v":""},{"$f":"UPPER(MICASH!G1542)","v":""}," ",{"$f":"TEXT(MICASH!I1542,\"0000000000\")","v":"0000000000"},{"$f":"TEXT(MICASH!J1542*100,\"0000000000\")","v":"0000000000"},{"$f":"TEXT(MONTH(MICASH!K1542),\"00\") & TEXT(DAY(MICASH!K1542),\"00\") & RIGHT(TEXT(YEAR(MICASH!K1542),\"00\"),2)","v":"010000"},{"$f":"UPPER(LEFT(MICASH!L1542,96))","v":""}]
["C",288,"00",{"$f":"TEXT(MICASH!D1543,\"0000000000\")","v":"0000000000"}," ",{"$f":"UPPER(MICASH!F1543)","v":""},{"$f":"UPPER(MICASH!G1543)","v":""}," ",{"$f":"TEXT(MICASH!I1543,\"0000000000\")","v":"0000000000"},{"$f":"TEXT(MICASH!J1543*100,\"0000000000\")","v":"0000000000"},{"$f":"TEXT(MONTH(MICASH!K1543),\"00\") & TEXT(DAY(MICASH!K1543),\"00\") & RIGHT(TEXT(YEAR(MICASH!K1543),\"00\"),2)","v":"010000"},{"$f":"UPPER(LEFT(MICASH!L1543,96))","v":""}]
["C",288,"00",{"$f":"TEXT(MICASH!D1544,\"0000000000\")","v":"0000000000"}," ",{"$f":"UPPER(MICASH!F1544)","v":""},{"$f":"UPPER(MICASH!G1544)","v":""}," ",{"$f":"TEXT(MICASH!I1544,\"0000000000\")","v":"0000000000"},{"$f":"TEXT(MICASH!J1544*100,\"0000000000\")","v":"0000000000"},{"$f":"TEXT(MONTH(MICASH!K1544),\"00\") & TEXT(DAY(MICASH!K1544),\"00\") & RIGHT(TEXT(YEAR(MICASH!K1544),\"00\"),2)","v":"010000"},{"$f":"UPPER(LEFT(MICASH!L1544,96))","v":""}]
["C",288,"00",{"$f":"TEXT(MICASH!D1545,\"0000000000\")","v":"0000000000"}," ",{"$f":"UPPER(MICASH!F1545)","v":""},{"$f":"UPPER(MICASH!G1545)","v":""}," ",{"$f":"TEXT(MICASH!I1545,\"0000000000\")","v":"0000000000"},{"$f":"TEXT(MICASH!J1545*100,\"0000000000\")","v":"0000000000"},{"$f":"TEXT(MONTH(MICASH!K1545),\"00\") & TEXT(DAY(MICASH!K1545),\"00\") & RIGHT(TEXT(YEAR(MICASH!K1545),\"00\"),2)","v":"010000"},{"$f":"UPPER(LEFT(MICASH!L1545,96))","v":""}]
["C",288,"00",{"$f":"TEXT(MICASH!D1546,\"0000000000\")","v":"0000000000"}," ",{"$f":"UPPER(MICASH!F1546)","v":""},{"$f":"UPPER(MICASH!G1546)","v":""}," ",{"$f":"TEXT(MICASH!I1546,\"0000000000\")","v":"0000000000"},{"$f":"TEXT(MICASH!J1546*100,\"0000000000\")","v":"0000000000"},{"$f":"TEXT(MONTH(MICASH!K1546),\"00\") & TEXT(DAY(MICASH!K1546),\"00\") & RIGHT(TEXT(YEAR(MICASH!K1546),\"00\"),2)","v":"010000"},{"$f":"UPPER(LEFT(MICASH!L1546,96))","v":""}]
["C",288,"00",{"$f":"TEXT(MICASH!D1547,\"0000000000\")","v":"0000000000"}," ",{"$f":"UPPER(MICASH!F1547)","v":""},{"$f":"UPPER(MICASH!G1547)","v":""}," ",{"$f":"TEXT(MICASH!I1547,\"0000000000\")","v":"0000000000"},{"$f":"TEXT(MICASH!J1547*100,\"0000000000\")","v":"0000000000"},{"$f":"TEXT(MONTH(MICASH!K1547),\"00\") & TEXT(DAY(MICASH!K1547),\"00\") & RIGHT(TEXT(YEAR(MICASH!K1547),\"00\"),2)","v":"010000"},{"$f":"UPPER(LEFT(MICASH!L1547,96))","v":""}]
["C",288,"00",{"$f":"TEXT(MICASH!D1548,\"0000000000\")","v":"0000000000"}," ",{"$f":"UPPER(MICASH!F1548)","v":""},{"$f":"UPPER(MICASH!G1548)","v":""}," ",{"$f":"TEXT(MICASH!I1548,\"0000000000\")","v":"0000000000"},{"$f":"TEXT(MICASH!J1548*100,\"0000000000\")","v":"0000000000"},{"$f":"TEXT(MONTH(MICASH!K1548),\"00\") & TEXT(DAY(MICASH!K1548),\"00\") & RIGHT(TEXT(YEAR(MICASH!K1548),\"00\"),2)","v":"010000"},{"$f":"UPPER(LEFT(MICASH!L1548,96))","v":""}]
["C",288,"00",{"$f":"TEXT(MICASH!D1549,\"0000000000\")","v":"0000000000"}," ",{"$f":"UPPER(MICASH!F1549)","v":""},{"$f":"UPPER(MICASH!G1549)","v":""}," ",{"$f":"TEXT(MICASH!I1549,\"0000000000\")","v":"0000000000"},{"$f":"TEXT(MICASH!J1549*100,\"0000000000\")","v":"0000000000"},{"$f":"TEXT(MONTH(MICASH!K1549),\"00\") & TEXT(DAY(MICASH!K1549),\"00\") & RIGHT(TEXT(YEAR(MICASH!K1549),\"00\"),2)","v":"010000"},{"$f":"UPPER(LEFT(MICASH!L1549,96))","v":""}]
["C",288,"00",{"$f":"TEXT(MICASH!D1550,\"0000000000\")","v":"0000000000"}," ",{"$f":"UPPER(MICASH!F1550)","v":""},{"$f":"UPPER(MICASH!G1550)","v":""}," ",{"$f":"TEXT(MICASH!I1550,\"0000000000\")","v":"0000000000"},{"$f":"TEXT(MICASH!J1550*100,\"0000000000\")","v":"0000000000"},{"$f":"TEXT(MONTH(MICASH!K1550),\"00\") & TEXT(DAY(MICASH!K1550),\"00\") & RIGHT(TEXT(YEAR(MICASH!K1550),\"00\"),2)","v":"010000"},{"$f":"UPPER(LEFT(MICASH!L1550,96))","v":""}]
["C",288,"00",{"$f":"TEXT(MICASH!D1551,\"0000000000\")","v":"0000000000"}," ",{"$f":"UPPER(MICASH!F1551)","v":""},{"$f":"UPPER(MICASH!G1551)","v":""}," ",{"$f":"TEXT(MICASH!I1551,\"0000000000\")","v":"0000000000"},{"$f":"TEXT(MICASH!J1551*100,\"0000000000\")","v":"0000000000"},{"$f":"TEXT(MONTH(MICASH!K1551),\"00\") & TEXT(DAY(MICASH!K1551),\"00\") & RIGHT(TEXT(YEAR(MICASH!K1551),\"00\"),2)","v":"010000"},{"$f":"UPPER(LEFT(MICASH!L1551,96))","v":""}]
["C",288,"00",{"$f":"TEXT(MICASH!D1552,\"0000000000\")","v":"0000000000"}," ",{"$f":"UPPER(MICASH!F1552)","v":""},{"$f":"UPPER(MICASH!G1552)","v":""}," ",{"$f":"TEXT(MICASH!I1552,\"0000000000\")","v":"0000000000"},{"$f":"TEXT(MICASH!J1552*100,\"0000000000\")","v":"0000000000"},{"$f":"TEXT(MONTH(MICASH!K1552),\"00\") & TEXT(DAY(MICASH!K1552),\"00\") & RIGHT(TEXT(YEAR(MICASH!K1552),\"00\"),2)","v":"010000"},{"$f":"UPPER(LEFT(MICASH!L1552,96))","v":""}]
["C",288,"00",{"$f":"TEXT(MICASH!D1553,\"0000000000\")","v":"0000000000"}," ",{"$f":"UPPER(MICASH!F1553)","v":""},{"$f":"UPPER(MICASH!G1553)","v":""}," ",{"$f":"TEXT(MICASH!I1553,\"0000000000\")","v":"0000000000"},{"$f":"TEXT(MICASH!J1553*100,\"0000000000\")","v":"0000000000"},{"$f":"TEXT(MONTH(MICASH!K1553),\"00\") & TEXT(DAY(MICASH!K1553),\"00\") & RIGHT(TEXT(YEAR(MICASH!K1553),\"00\"),2)","v":"010000"},{"$f":"UPPER(LEFT(MICASH!L1553,96))","v":""}]
["C",288,"00",{"$f":"TEXT(MICASH!D1554,\"0000000000\")","v":"0000000000"}," ",{"$f":"UPPER(MICASH!F1554)","v":""},{"$f":"UPPER(MICASH!G1554)","v":""}," ",{"$f":"TEXT(MICASH!I1554,\"0000000000\")","v":"0000000000"},{"$f":"TEXT(MICASH!J1554*100,\"0000000000\")","v":"0000000000"},{"$f":"TEXT(MONTH(MICASH!K1554),\"00\") & TEXT(DAY(MICASH!K1554),\"00\") & RIGHT(TEXT(YEAR(MICASH!K1554),\"00\"),2)","v":"010000"},{"$f":"UPPER(LEFT(MICASH!L1554,96))","v":""}]
["C",288,"00",{"$f":"TEXT(MICASH!D1555,\"0000000000\")","v":"0000000000"}," ",{"$f":"UPPER(MICASH!F1555)","v":""},{"$f":"UPPER(MICASH!G1555)","v":""}," ",{"$f":"TEXT(MICASH!I1555,\"0000000000\")","v":"0000000000"},{"$f":"TEXT(MICASH!J1555*100,\"0000000000\")","v":"0000000000"},{"$f":"TEXT(MONTH(MICASH!K1555),\"00\") & TEXT(DAY(MICASH!K1555),\"00\") & RIGHT(TEXT(YEAR(MICASH!K1555),\"00\"),2)","v":"010000"},{"$f":"UPPER(LEFT(MICASH!L1555,96))","v":""}]
["C",288,"00",{"$f":"TEXT(MICASH!D1556,\"0000000000\")","v":"0000000000"}," ",{"$f":"UPPER(MICASH!F1556)","v":""},{"$f":"UPPER(MICASH!G1556)","v":""}," ",{"$f":"TEXT(MICASH!I1556,\"0000000000\")","v":"0000000000"},{"$f":"TEXT(MICASH!J1556*100,\"0000000000\")","v":"0000000000"},{"$f":"TEXT(MONTH(MICASH!K1556),\"00\") & TEXT(DAY(MICASH!K1556),\"00\") & RIGHT(TEXT(YEAR(MICASH!K1556),\"00\"),2)","v":"010000"},{"$f":"UPPER(LEFT(MICASH!L1556,96))","v":""}]
["C",288,"00",{"$f":"TEXT(MICASH!D1557,\"0000000000\")","v":"0000000000"}," ",{"$f":"UPPER(MICASH!F1557)","v":""},{"$f":"UPPER(MICASH!G1557)","v":""}," ",{"$f":"TEXT(MICASH!I1557,\"0000000000\")","v":"0000000000"},{"$f":"TEXT(MICASH!J1557*100,\"0000000000\")","v":"0000000000"},{"$f":"TEXT(MONTH(MICASH!K1557),\"00\") & TEXT(DAY(MICASH!K1557),\"00\") & RIGHT(TEXT(YEAR(MICASH!K1557),\"00\"),2)","v":"010000"},{"$f":"UPPER(LEFT(MICASH!L1557,96))","v":""}]
["C",288,"00",{"$f":"TEXT(MICASH!D1558,\"0000000000\")","v":"0000000000"}," ",{"$f":"UPPER(MICASH!F1558)","v":""},{"$f":"UPPER(MICASH!G1558)","v":""}," ",{"$f":"TEXT(MICASH!I1558,\"0000000000\")","v":"0000000000"},{"$f":"TEXT(MICASH!J1558*100,\"0000000000\")","v":"0000000000"},{"$f":"TEXT(MONTH(MICASH!K1558),\"00\") & TEXT(DAY(MICASH!K1558),\"00\") & RIGHT(TEXT(YEAR(MICASH!K1558),\"00\"),2)","v":"010000"},{"$f":"UPPER(LEFT(MICASH!L1558,96))","v":""}]
["C",288,"00",{"$f":"TEXT(MICASH!D1559,\"0000000000\")","v":"0000000000"}," ",{"$f":"UPPER(MICASH!F1559)","v":""},{"$f":"UPPER(MICASH!G1559)","v":""}," ",{"$f":"TEXT(MICASH!I1559,\"0000000000\")","v":"0000000000"},{"$f":"TEXT(MICASH!J1559*100,\"0000000000\")","v":"0000000000"},{"$f":"TEXT(MONTH(MICASH!K1559),\"00\") & TEXT(DAY(MICASH!K1559),\"00\") & RIGHT(TEXT(YEAR(MICASH!K1559),\"00\"),2)","v":"010000"},{"$f":"UPPER(LEFT(MICASH!L1559,96))","v":""}]
["C",288,"00",{"$f":"TEXT(MICASH!D1560,\"0000000000\")","v":"0000000000"}," ",{"$f":"UPPER(MICASH!F1560)","v":""},{"$f":"UPPER(MICASH!G1560)","v":""}," ",{"$f":"TEXT(MICASH!I1560,\"0000000000\")","v":"0000000000"},{"$f":"TEXT(MICASH!J1560*100,\"0000000000\")","v":"0000000000"},{"$f":"TEXT(MONTH(MICASH!K1560),\"00\") & TEXT(DAY(MICASH!K1560),\"00\") & RIGHT(TEXT(YEAR(MICASH!K1560),\"00\"),2)","v":"010000"},{"$f":"UPPER(LEFT(MICASH!L1560,96))","v":""}]
["C",288,"00",{"$f":"TEXT(MICASH!D1561,\"0000000000\")","v":"0000000000"}," ",{"$f":"UPPER(MICASH!F1561)","v":""},{"$f":"UPPER(MICASH!G1561)","v":""}," ",{"$f":"TEXT(MICASH!I1561,\"0000000000\")","v":"0000000000"},{"$f":"TEXT(MICASH!J1561*100,\"0000000000\")","v":"0000000000"},{"$f":"TEXT(MONTH(MICASH!K1561),\"00\") & TEXT(DAY(MICASH!K1561),\"00\") & RIGHT(TEXT(YEAR(MICASH!K1561),\"00\"),2)","v":"010000"},{"$f":"UPPER(LEFT(MICASH!L1561,96))","v":""}]
["C",288,"00",{"$f":"TEXT(MICASH!D1562,\"0000000000\")","v":"0000000000"}," ",{"$f":"UPPER(MICASH!F1562)","v":""},{"$f":"UPPER(MICASH!G1562)","v":""}," ",{"$f":"TEXT(MICASH!I1562,\"0000000000\")","v":"0000000000"},{"$f":"TEXT(MICASH!J1562*100,\"0000000000\")","v":"0000000000"},{"$f":"TEXT(MONTH(MICASH!K1562),\"00\") & TEXT(DAY(MICASH!K1562),\"00\") & RIGHT(TEXT(YEAR(MICASH!K1562),\"00\"),2)","v":"010000"},{"$f":"UPPER(LEFT(MICASH!L1562,96))","v":""}]
["C",288,"00",{"$f":"TEXT(MICASH!D1563,\"0000000000\")","v":"0000000000"}," ",{"$f":"UPPER(MICASH!F1563)","v":""},{"$f":"UPPER(MICASH!G1563)","v":""}," ",{"$f":"TEXT(MICASH!I1563,\"0000000000\")","v":"0000000000"},{"$f":"TEXT(MICASH!J1563*100,\"0000000000\")","v":"0000000000"},{"$f":"TEXT(MONTH(MICASH!K1563),\"00\") & TEXT(DAY(MICASH!K1563),\"00\") & RIGHT(TEXT(YEAR(MICASH!K1563),\"00\"),2)","v":"010000"},{"$f":"UPPER(LEFT(MICASH!L1563,96))","v":""}]
["C",288,"00",{"$f":"TEXT(MICASH!D1564,\"0000000000\")","v":"0000000000"}," ",{"$f":"UPPER(MICASH!F1564)","v":""},{"$f":"UPPER(MICASH!G1564)","v":""}," ",{"$f":"TEXT(MICASH!I1564,\"0000000000\")","v":"0000000000"},{"$f":"TEXT(MICASH!J1564*100,\"0000000000\")","v":"0000000000"},{"$f":"TEXT(MONTH(MICASH!K1564),\"00\") & TEXT(DAY(MICASH!K1564),\"00\") & RIGHT(TEXT(YEAR(MICASH!K1564),\"00\"),2)","v":"010000"},{"$f":"UPPER(LEFT(MICASH!L1564,96))","v":""}]
["C",288,"00",{"$f":"TEXT(MICASH!D1565,\"0000000000\")","v":"0000000000"}," ",{"$f":"UPPER(MICASH!F1565)","v":""},{"$f":"UPPER(MICASH!G1565)","v":""}," ",{"$f":"TEXT(MICASH!I1565,\"0000000000\")","v":"0000000000"},{"$f":"TEXT(MICASH!J1565*100,\"0000000000\")","v":"0000000000"},{"$f":"TEXT(MONTH(MICASH!K1565),\"00\") & TEXT(DAY(MICASH!K1565),\"00\") & RIGHT(TEXT(YEAR(MICASH!K1565),\"00\"),2)","v":"010000"},{"$f":"UPPER(LEFT(MICASH!L1565,96))","v":""}]
["C",288,"00",{"$f":"TEXT(MICASH!D1566,\"0000000000\")","v":"0000000000"}," ",{"$f":"UPPER(MICASH!F1566)","v":""},{"$f":"UPPER(MICASH!G1566)","v":""}," ",{"$f":"TEXT(MICASH!I1566,\"0000000000\")","v":"0000000000"},{"$f":"TEXT(MICASH!J1566*100,\"0000000000\")","v":"0000000000"},{"$f":"TEXT(MONTH(MICASH!K1566),\"00\") & TEXT(DAY(MICASH!K1566),\"00\") & RIGHT(TEXT(YEAR(MICASH!K1566),\"00\"),2)","v":"010000"},{"$f":"UPPER(LEFT(MICASH!L1566,96))","v":""}]
["C",288,"00",{"$f":"TEXT(MICASH!D1567,\"0000000000\")","v":"0000000000"}," ",{"$f":"UPPER(MICASH!F1567)","v":""},{"$f":"UPPER(MICASH!G1567)","v":""}," ",{"$f":"TEXT(MICASH!I1567,\"0000000000\")","v":"0000000000"},{"$f":"TEXT(MICASH!J1567*100,\"0000000000\")","v":"0000000000"},{"$f":"TEXT(MONTH(MICASH!K1567),\"00\") & TEXT(DAY(MICASH!K1567),\"00\") & RIGHT(TEXT(YEAR(MICASH!K1567),\"00\"),2)","v":"010000"},{"$f":"UPPER(LEFT(MICASH!L1567,96))","v":""}]
["C",288,"00",{"$f":"TEXT(MICASH!D1568,\"0000000000\")","v":"0000000000"}," ",{"$f":"UPPER(MICASH!F1568)","v":""},{"$f":"UPPER(MICASH!G1568)","v":""}," ",{"$f":"TEXT(MICASH!I1568,\"0000000000\")","v":"0000000000"},{"$f":"TEXT(MICASH!J1568*100,\"0000000000\")","v":"0000000000"},{"$f":"TEXT(MONTH(MICASH!K1568),\"00\") & TEXT(DAY(MICASH!K1568),\"00\") & RIGHT(TEXT(YEAR(MICASH!K1568),\"00\"),2)","v":"010000"},{"$f":"UPPER(LEFT(MICASH!L1568,96))","v":""}]
["C",288,"00",{"$f":"TEXT(MICASH!D1569,\"0000000000\")","v":"0000000000"}," ",{"$f":"UPPER(MICASH!F1569)","v":""},{"$f":"UPPER(MICASH!G1569)","v":""}," ",{"$f":"TEXT(MICASH!I1569,\"0000000000\")","v":"0000000000"},{"$f":"TEXT(MICASH!J1569*100,\"0000000000\")","v":"0000000000"},{"$f":"TEXT(MONTH(MICASH!K1569),\"00\") & TEXT(DAY(MICASH!K1569),\"00\") & RIGHT(TEXT(YEAR(MICASH!K1569),\"00\"),2)","v":"010000"},{"$f":"UPPER(LEFT(MICASH!L1569,96))","v":""}]
["C",288,"00",{"$f":"TEXT(MICASH!D1570,\"0000000000\")","v":"0000000000"}," ",{"$f":"UPPER(MICASH!F1570)","v":""},{"$f":"UPPER(MICASH!G1570)","v":""}," ",{"$f":"TEXT(MICASH!I1570,\"0000000000\")","v":"0000000000"},{"$f":"TEXT(MICASH!J1570*100,\"0000000000\")","v":"0000000000"},{"$f":"TEXT(MONTH(MICASH!K1570),\"00\") & TEXT(DAY(MICASH!K1570),\"00\") & RIGHT(TEXT(YEAR(MICASH!K1570),\"00\"),2)","v":"010000"},{"$f":"UPPER(LEFT(MICASH!L1570,96))","v":""}]
["C",288,"00",{"$f":"TEXT(MICASH!D1571,\"0000000000\")","v":"0000000000"}," ",{"$f":"UPPER(MICASH!F1571)","v":""},{"$f":"UPPER(MICASH!G1571)","v":""}," ",{"$f":"TEXT(MICASH!I1571,\"0000000000\")","v":"0000000000"},{"$f":"TEXT(MICASH!J1571*100,\"0000000000\")","v":"0000000000"},{"$f":"TEXT(MONTH(MICASH!K1571),\"00\") & TEXT(DAY(MICASH!K1571),\"00\") & RIGHT(TEXT(YEAR(MICASH!K1571),\"00\"),2)","v":"010000"},{"$f":"UPPER(LEFT(MICASH!L1571,96))","v":""}]
["C",288,"00",{"$f":"TEXT(MICASH!D1572,\"0000000000\")","v":"0000000000"}," ",{"$f":"UPPER(MICASH!F1572)","v":""},{"$f":"UPPER(MICASH!G1572)","v":""}," ",{"$f":"TEXT(MICASH!I1572,\"0000000000\")","v":"0000000000"},{"$f":"TEXT(MICASH!J1572*100,\"0000000000\")","v":"0000000000"},{"$f":"TEXT(MONTH(MICASH!K1572),\"00\") & TEXT(DAY(MICASH!K1572),\"00\") & RIGHT(TEXT(YEAR(MICASH!K1572),\"00\"),2)","v":"010000"},{"$f":"UPPER(LEFT(MICASH!L1572,96))","v":""}]
["C",288,"00",{"$f":"TEXT(MICASH!D1573,\"0000000000\")","v":"0000000000"}," ",{"$f":"UPPER(MICASH!F1573)","v":""},{"$f":"UPPER(MICASH!G1573)","v":""}," ",{"$f":"TEXT(MICASH!I1573,\"0000000000\")","v":"0000000000"},{"$f":"TEXT(MICASH!J1573*100,\"0000000000\")","v":"0000000000"},{"$f":"TEXT(MONTH(MICASH!K1573),\"00\") & TEXT(DAY(MICASH!K1573),\"00\") & RIGHT(TEXT(YEAR(MICASH!K1573),\"00\"),2)","v":"010000"},{"$f":"UPPER(LEFT(MICASH!L1573,96))","v":""}]
["C",288,"00",{"$f":"TEXT(MICASH!D1574,\"0000000000\")","v":"0000000000"}," ",{"$f":"UPPER(MICASH!F1574)","v":""},{"$f":"UPPER(MICASH!G1574)","v":""}," ",{"$f":"TEXT(MICASH!I1574,\"0000000000\")","v":"0000000000"},{"$f":"TEXT(MICASH!J1574*100,\"0000000000\")","v":"0000000000"},{"$f":"TEXT(MONTH(MICASH!K1574),\"00\") & TEXT(DAY(MICASH!K1574),\"00\") & RIGHT(TEXT(YEAR(MICASH!K1574),\"00\"),2)","v":"010000"},{"$f":"UPPER(LEFT(MICASH!L1574,96))","v":""}]
["C",288,"00",{"$f":"TEXT(MICASH!D1575,\"0000000000\")","v":"0000000000"}," ",{"$f":"UPPER(MICASH!F1575)","v":""},{"$f":"UPPER(MICASH!G1575)","v":""}," ",{"$f":"TEXT(MICASH!I1575,\"0000000000\")","v":"0000000000"},{"$f":"TEXT(MICASH!J1575*100,\"0000000000\")","v":"0000000000"},{"$f":"TEXT(MONTH(MICASH!K1575),\"00\") & TEXT(DAY(MICASH!K1575),\"00\") & RIGHT(TEXT(YEAR(MICASH!K1575),\"00\"),2)","v":"010000"},{"$f":"UPPER(LEFT(MICASH!L1575,96))","v":""}]
["C",288,"00",{"$f":"TEXT(MICASH!D1576,\"0000000000\")","v":"0000000000"}," ",{"$f":"UPPER(MICASH!F1576)","v":""},{"$f":"UPPER(MICASH!G1576)","v":""}," ",{"$f":"TEXT(MICASH!I1576,\"0000000000\")","v":"0000000000"},{"$f":"TEXT(MICASH!J1576*100,\"0000000000\")","v":"0000000000"},{"$f":"TEXT(MONTH(MICASH!K1576),\"00\") & TEXT(DAY(MICASH!K1576),\"00\") & RIGHT(TEXT(YEAR(MICASH!K1576),\"00\"),2)","v":"010000"},{"$f":"UPPER(LEFT(MICASH!L1576,96))","v":""}]
["C",288,"00",{"$f":"TEXT(MICASH!D1577,\"0000000000\")","v":"0000000000"}," ",{"$f":"UPPER(MICASH!F1577)","v":""},{"$f":"UPPER(MICASH!G1577)","v":""}," ",{"$f":"TEXT(MICASH!I1577,\"0000000000\")","v":"0000000000"},{"$f":"TEXT(MICASH!J1577*100,\"0000000000\")","v":"0000000000"},{"$f":"TEXT(MONTH(MICASH!K1577),\"00\") & TEXT(DAY(MICASH!K1577),\"00\") & RIGHT(TEXT(YEAR(MICASH!K1577),\"00\"),2)","v":"010000"},{"$f":"UPPER(LEFT(MICASH!L1577,96))","v":""}]
["C",288,"00",{"$f":"TEXT(MICASH!D1578,\"0000000000\")","v":"0000000000"}," ",{"$f":"UPPER(MICASH!F1578)","v":""},{"$f":"UPPER(MICASH!G1578)","v":""}," ",{"$f":"TEXT(MICASH!I1578,\"0000000000\")","v":"0000000000"},{"$f":"TEXT(MICASH!J1578*100,\"0000000000\")","v":"0000000000"},{"$f":"TEXT(MONTH(MICASH!K1578),\"00\") & TEXT(DAY(MICASH!K1578),\"00\") & RIGHT(TEXT(YEAR(MICASH!K1578),\"00\"),2)","v":"010000"},{"$f":"UPPER(LEFT(MICASH!L1578,96))","v":""}]
["C",288,"00",{"$f":"TEXT(MICASH!D1579,\"0000000000\")","v":"0000000000"}," ",{"$f":"UPPER(MICASH!F1579)","v":""},{"$f":"UPPER(MICASH!G1579)","v":""}," ",{"$f":"TEXT(MICASH!I1579,\"0000000000\")","v":"0000000000"},{"$f":"TEXT(MICASH!J1579*100,\"0000000000\")","v":"0000000000"},{"$f":"TEXT(MONTH(MICASH!K1579),\"00\") & TEXT(DAY(MICASH!K1579),\"00\") & RIGHT(TEXT(YEAR(MICASH!K1579),\"00\"),2)","v":"010000"},{"$f":"UPPER(LEFT(MICASH!L1579,96))","v":""}]
["C",288,"00",{"$f":"TEXT(MICASH!D1580,\"0000000000\")","v":"0000000000"}," ",{"$f":"UPPER(MICASH!F1580)","v":""},{"$f":"UPPER(MICASH!G1580)","v":""}," ",{"$f":"TEXT(MICASH!I1580,\"0000000000\")","v":"0000000000"},{"$f":"TEXT(MICASH!J1580*100,\"0000000000\")","v":"0000000000"},{"$f":"TEXT(MONTH(MICASH!K1580),\"00\") & TEXT(DAY(MICASH!K1580),\"00\") & RIGHT(TEXT(YEAR(MICASH!K1580),\"00\"),2)","v":"010000"},{"$f":"UPPER(LEFT(MICASH!L1580,96))","v":""}]
["C",288,"00",{"$f":"TEXT(MICASH!D1581,\"0000000000\")","v":"0000000000"}," ",{"$f":"UPPER(MICASH!F1581)","v":""},{"$f":"UPPER(MICASH!G1581)","v":""}," ",{"$f":"TEXT(MICASH!I1581,\"0000000000\")","v":"0000000000"},{"$f":"TEXT(MICASH!J1581*100,\"0000000000\")","v":"0000000000"},{"$f":"TEXT(MONTH(MICASH!K1581),\"00\") & TEXT(DAY(MICASH!K1581),\"00\") & RIGHT(TEXT(YEAR(MICASH!K1581),\"00\"),2)","v":"010000"},{"$f":"UPPER(LEFT(MICASH!L1581,96))","v":""}]
["C",288,"00",{"$f":"TEXT(MICASH!D1582,\"0000000000\")","v":"0000000000"}," ",{"$f":"UPPER(MICASH!F1582)","v":""},{"$f":"UPPER(MICASH!G1582)","v":""}," ",{"$f":"TEXT(MICASH!I1582,\"0000000000\")","v":"0000000000"},{"$f":"TEXT(MICASH!J1582*100,\"0000000000\")","v":"0000000000"},{"$f":"TEXT(MONTH(MICASH!K1582),\"00\") & TEXT(DAY(MICASH!K1582),\"00\") & RIGHT(TEXT(YEAR(MICASH!K1582),\"00\"),2)","v":"010000"},{"$f":"UPPER(LEFT(MICASH!L1582,96))","v":""}]
["C",288,"00",{"$f":"TEXT(MICASH!D1583,\"0000000000\")","v":"0000000000"}," ",{"$f":"UPPER(MICASH!F1583)","v":""},{"$f":"UPPER(MICASH!G1583)","v":""}," ",{"$f":"TEXT(MICASH!I1583,\"0000000000\")","v":"0000000000"},{"$f":"TEXT(MICASH!J1583*100,\"0000000000\")","v":"0000000000"},{"$f":"TEXT(MONTH(MICASH!K1583),\"00\") & TEXT(DAY(MICASH!K1583),\"00\") & RIGHT(TEXT(YEAR(MICASH!K1583),\"00\"),2)","v":"010000"},{"$f":"UPPER(LEFT(MICASH!L1583,96))","v":""}]
["C",288,"00",{"$f":"TEXT(MICASH!D1584,\"0000000000\")","v":"0000000000"}," ",{"$f":"UPPER(MICASH!F1584)","v":""},{"$f":"UPPER(MICASH!G1584)","v":""}," ",{"$f":"TEXT(MICASH!I1584,\"0000000000\")","v":"0000000000"},{"$f":"TEXT(MICASH!J1584*100,\"0000000000\")","v":"0000000000"},{"$f":"TEXT(MONTH(MICASH!K1584),\"00\") & TEXT(DAY(MICASH!K1584),\"00\") & RIGHT(TEXT(YEAR(MICASH!K1584),\"00\"),2)","v":"010000"},{"$f":"UPPER(LEFT(MICASH!L1584,96))","v":""}]
["C",288,"00",{"$f":"TEXT(MICASH!D1585,\"0000000000\")","v":"0000000000"}," ",{"$f":"UPPER(MICASH!F1585)","v":""},{"$f":"UPPER(MICASH!G1585)","v":""}," ",{"$f":"TEXT(MICASH!I1585,\"0000000000\")","v":"0000000000"},{"$f":"TEXT(MICASH!J1585*100,\"0000000000\")","v":"0000000000"},{"$f":"TEXT(MONTH(MICASH!K1585),\"00\") & TEXT(DAY(MICASH!K1585),\"00\") & RIGHT(TEXT(YEAR(MICASH!K1585),\"00\"),2)","v":"010000"},{"$f":"UPPER(LEFT(MICASH!L1585,96))","v":""}]
["C",288,"00",{"$f":"TEXT(MICASH!D1586,\"0000000000\")","v":"0000000000"}," ",{"$f":"UPPER(MICASH!F1586)","v":""},{"$f":"UPPER(MICASH!G1586)","v":""}," ",{"$f":"TEXT(MICASH!I1586,\"0000000000\")","v":"0000000000"},{"$f":"TEXT(MICASH!J1586*100,\"0000000000\")","v":"0000000000"},{"$f":"TEXT(MONTH(MICASH!K1586),\"00\") & TEXT(DAY(MICASH!K1586),\"00\") & RIGHT(TEXT(YEAR(MICASH!K1586),\"00\"),2)","v":"010000"},{"$f":"UPPER(LEFT(MICASH!L1586,96))","v":""}]
["C",288,"00",{"$f":"TEXT(MICASH!D1587,\"0000000000\")","v":"0000000000"}," ",{"$f":"UPPER(MICASH!F1587)","v":""},{"$f":"UPPER(MICASH!G1587)","v":""}," ",{"$f":"TEXT(MICASH!I1587,\"0000000000\")","v":"0000000000"},{"$f":"TEXT(MICASH!J1587*100,\"0000000000\")","v":"0000000000"},{"$f":"TEXT(MONTH(MICASH!K1587),\"00\") & TEXT(DAY(MICASH!K1587),\"00\") & RIGHT(TEXT(YEAR(MICASH!K1587),\"00\"),2)","v":"010000"},{"$f":"UPPER(LEFT(MICASH!L1587,96))","v":""}]
["C",288,"00",{"$f":"TEXT(MICASH!D1588,\"0000000000\")","v":"0000000000"}," ",{"$f":"UPPER(MICASH!F1588)","v":""},{"$f":"UPPER(MICASH!G1588)","v":""}," ",{"$f":"TEXT(MICASH!I1588,\"0000000000\")","v":"0000000000"},{"$f":"TEXT(MICASH!J1588*100,\"0000000000\")","v":"0000000000"},{"$f":"TEXT(MONTH(MICASH!K1588),\"00\") & TEXT(DAY(MICASH!K1588),\"00\") & RIGHT(TEXT(YEAR(MICASH!K1588),\"00\"),2)","v":"010000"},{"$f":"UPPER(LEFT(MICASH!L1588,96))","v":""}]
["C",288,"00",{"$f":"TEXT(MICASH!D1589,\"0000000000\")","v":"0000000000"}," ",{"$f":"UPPER(MICASH!F1589)","v":""},{"$f":"UPPER(MICASH!G1589)","v":""}," ",{"$f":"TEXT(MICASH!I1589,\"0000000000\")","v":"0000000000"},{"$f":"TEXT(MICASH!J1589*100,\"0000000000\")","v":"0000000000"},{"$f":"TEXT(MONTH(MICASH!K1589),\"00\") & TEXT(DAY(MICASH!K1589),\"00\") & RIGHT(TEXT(YEAR(MICASH!K1589),\"00\"),2)","v":"010000"},{"$f":"UPPER(LEFT(MICASH!L1589,96))","v":""}]
["C",288,"00",{"$f":"TEXT(MICASH!D1590,\"0000000000\")","v":"0000000000"}," ",{"$f":"UPPER(MICASH!F1590)","v":""},{"$f":"UPPER(MICASH!G1590)","v":""}," ",{"$f":"TEXT(MICASH!I1590,\"0000000000\")","v":"0000000000"},{"$f":"TEXT(MICASH!J1590*100,\"0000000000\")","v":"0000000000"},{"$f":"TEXT(MONTH(MICASH!K1590),\"00\") & TEXT(DAY(MICASH!K1590),\"00\") & RIGHT(TEXT(YEAR(MICASH!K1590),\"00\"),2)","v":"010000"},{"$f":"UPPER(LEFT(MICASH!L1590,96))","v":""}]
["C",288,"00",{"$f":"TEXT(MICASH!D1591,\"0000000000\")","v":"0000000000"}," ",{"$f":"UPPER(MICASH!F1591)","v":""},{"$f":"UPPER(MICASH!G1591)","v":""}," ",{"$f":"TEXT(MICASH!I1591,\"0000000000\")","v":"0000000000"},{"$f":"TEXT(MICASH!J1591*100,\"0000000000\")","v":"0000000000"},{"$f":"TEXT(MONTH(MICASH!K1591),\"00\") & TEXT(DAY(MICASH!K1591),\"00\") & RIGHT(TEXT(YEAR(MICASH!K1591),\"00\"),2)","v":"010000"},{"$f":"UPPER(LEFT(MICASH!L1591,96))","v":""}]
["C",288,"00",{"$f":"TEXT(MICASH!D1592,\"0000000000\")","v":"0000000000"}," ",{"$f":"UPPER(MICASH!F1592)","v":""},{"$f":"UPPER(MICASH!G1592)","v":""}," ",{"$f":"TEXT(MICASH!I1592,\"0000000000\")","v":"0000000000"},{"$f":"TEXT(MICASH!J1592*100,\"0000000000\")","v":"0000000000"},{"$f":"TEXT(MONTH(MICASH!K1592),\"00\") & TEXT(DAY(MICASH!K1592),\"00\") & RIGHT(TEXT(YEAR(MICASH!K1592),\"00\"),2)","v":"010000"},{"$f":"UPPER(LEFT(MICASH!L1592,96))","v":""}]
["C",288,"00",{"$f":"TEXT(MICASH!D1593,\"0000000000\")","v":"0000000000"}," ",{"$f":"UPPER(MICASH!F1593)","v":""},{"$f":"UPPER(MICASH!G1593)","v":""}," ",{"$f":"TEXT(MICASH!I1593,\"0000000000\")","v":"0000000000"},{"$f":"TEXT(MICASH!J1593*100,\"0000000000\")","v":"0000000000"},{"$f":"TEXT(MONTH(MICASH!K1593),\"00\") & TEXT(DAY(MICASH!K1593),\"00\") & RIGHT(TEXT(YEAR(MICASH!K1593),\"00\"),2)","v":"010000"},{"$f":"UPPER(LEFT(MICASH!L1593,96))","v":""}]
["C",288,"00",{"$f":"TEXT(MICASH!D1594,\"0000000000\")","v":"0000000000"}," ",{"$f":"UPPER(MICASH!F1594)","v":""},{"$f":"UPPER(MICASH!G1594)","v":""}," ",{"$f":"TEXT(MICASH!I1594,\"0000000000\")","v":"0000000000"},{"$f":"TEXT(MICASH!J1594*100,\"0000000000\")","v":"0000000000"},{"$f":"TEXT(MONTH(MICASH!K1594),\"00\") & TEXT(DAY(MICASH!K1594),\"00\") & RIGHT(TEXT(YEAR(MICASH!K1594),\"00\"),2)","v":"010000"},{"$f":"UPPER(LEFT(MICASH!L1594,96))","v":""}]
["C",288,"00",{"$f":"TEXT(MICASH!D1595,\"0000000000\")","v":"0000000000"}," ",{"$f":"UPPER(MICASH!F1595)","v":""},{"$f":"UPPER(MICASH!G1595)","v":""}," ",{"$f":"TEXT(MICASH!I1595,\"0000000000\")","v":"0000000000"},{"$f":"TEXT(MICASH!J1595*100,\"0000000000\")","v":"0000000000"},{"$f":"TEXT(MONTH(MICASH!K1595),\"00\") & TEXT(DAY(MICASH!K1595),\"00\") & RIGHT(TEXT(YEAR(MICASH!K1595),\"00\"),2)","v":"010000"},{"$f":"UPPER(LEFT(MICASH!L1595,96))","v":""}]
["C",288,"00",{"$f":"TEXT(MICASH!D1596,\"0000000000\")","v":"0000000000"}," ",{"$f":"UPPER(MICASH!F1596)","v":""},{"$f":"UPPER(MICASH!G1596)","v":""}," ",{"$f":"TEXT(MICASH!I1596,\"0000000000\")","v":"0000000000"},{"$f":"TEXT(MICASH!J1596*100,\"0000000000\")","v":"0000000000"},{"$f":"TEXT(MONTH(MICASH!K1596),\"00\") & TEXT(DAY(MICASH!K1596),\"00\") & RIGHT(TEXT(YEAR(MICASH!K1596),\"00\"),2)","v":"010000"},{"$f":"UPPER(LEFT(MICASH!L1596,96))","v":""}]
["C",288,"00",{"$f":"TEXT(MICASH!D1597,\"0000000000\")","v":"0000000000"}," ",{"$f":"UPPER(MICASH!F1597)","v":""},{"$f":"UPPER(MICASH!G1597)","v":""}," ",{"$f":"TEXT(MICASH!I1597,\"0000000000\")","v":"0000000000"},{"$f":"TEXT(MICASH!J1597*100,\"0000000000\")","v":"0000000000"},{"$f":"TEXT(MONTH(MICASH!K1597),\"00\") & TEXT(DAY(MICASH!K1597),\"00\") & RIGHT(TEXT(YEAR(MICASH!K1597),\"00\"),2)","v":"010000"},{"$f":"UPPER(LEFT(MICASH!L1597,96))","v":""}]
["C",288,"00",{"$f":"TEXT(MICASH!D1598,\"0000000000\")","v":"0000000000"}," ",{"$f":"UPPER(MICASH!F1598)","v":""},{"$f":"UPPER(MICASH!G1598)","v":""}," ",{"$f":"TEXT(MICASH!I1598,\"0000000000\")","v":"0000000000"},{"$f":"TEXT(MICASH!J1598*100,\"0000000000\")","v":"0000000000"},{"$f":"TEXT(MONTH(MICASH!K1598),\"00\") & TEXT(DAY(MICASH!K1598),\"00\") & RIGHT(TEXT(YEAR(MICASH!K1598),\"00\"),2)","v":"010000"},{"$f":"UPPER(LEFT(MICASH!L1598,96))","v":""}]
["C",288,"00",{"$f":"TEXT(MICASH!D1599,\"0000000000\")","v":"0000000000"}," ",{"$f":"UPPER(MICASH!F1599)","v":""},{"$f":"UPPER(MICASH!G1599)","v":""}," ",{"$f":"TEXT(MICASH!I1599,\"0000000000\")","v":"0000000000"},{"$f":"TEXT(MICASH!J1599*100,\"0000000000\")","v":"0000000000"},{"$f":"TEXT(MONTH(MICASH!K1599),\"00\") & TEXT(DAY(MICASH!K1599),\"00\") & RIGHT(TEXT(YEAR(MICASH!K1599),\"00\"),2)","v":"010000"},{"$f":"UPPER(LEFT(MICASH!L1599,96))","v":""}]
["C",288,"00",{"$f":"TEXT(MICASH!D1600,\"0000000000\")","v":"0000000000"}," ",{"$f":"UPPER(MICASH!F1600)","v":""},{"$f":"UPPER(MICASH!G1600)","v":""}," ",{"$f":"TEXT(MICASH!I1600,\"0000000000\")","v":"0000000000"},{"$f":"TEXT(MICASH!J1600*100,\"0000000000\")","v":"0000000000"},{"$f":"TEXT(MONTH(MICASH!K1600),\"00\") & TEXT(DAY(MICASH!K1600),\"00\") & RIGHT(TEXT(YEAR(MICASH!K1600),\"00\"),2)","v":"010000"},{"$f":"UPPER(LEFT(MICASH!L1600,96))","v":""}]
["C",288,"00",{"$f":"TEXT(MICASH!D1601,\"0000000000\")","v":"0000000000"}," ",{"$f":"UPPER(MICASH!F1601)","v":""},{"$f":"UPPER(MICASH!G1601)","v":""}," ",{"$f":"TEXT(MICASH!I1601,\"0000000000\")","v":"0000000000"},{"$f":"TEXT(MICASH!J1601*100,\"0000000000\")","v":"0000000000"},{"$f":"TEXT(MONTH(MICASH!K1601),\"00\") & TEXT(DAY(MICASH!K1601),\"00\") & RIGHT(TEXT(YEAR(MICASH!K1601),\"00\"),2)","v":"010000"},{"$f":"UPPER(LEFT(MICASH!L1601,96))","v":""}]
["C",288,"00",{"$f":"TEXT(MICASH!D1602,\"0000000000\")","v":"0000000000"}," ",{"$f":"UPPER(MICASH!F1602)","v":""},{"$f":"UPPER(MICASH!G1602)","v":""}," ",{"$f":"TEXT(MICASH!I1602,\"0000000000\")","v":"0000000000"},{"$f":"TEXT(MICASH!J1602*100,\"0000000000\")","v":"0000000000"},{"$f":"TEXT(MONTH(MICASH!K1602),\"00\") & TEXT(DAY(MICASH!K1602),\"00\") & RIGHT(TEXT(YEAR(MICASH!K1602),\"00\"),2)","v":"010000"},{"$f":"UPPER(LEFT(MICASH!L1602,96))","v":""}]
["C",288,"00",{"$f":"TEXT(MICASH!D1603,\"0000000000\")","v":"0000000000"}," ",{"$f":"UPPER(MICASH!F1603)","v":""},{"$f":"UPPER(MICASH!G1603)","v":""}," ",{"$f":"TEXT(MICASH!I1603,\"0000000000\")","v":"0000000000"},{"$f":"TEXT(MICASH!J1603*100,\"0000000000\")","v":"0000000000"},{"$f":"TEXT(MONTH(MICASH!K1603),\"00\") & TEXT(DAY(MICASH!K1603),\"00\") & RIGHT(TEXT(YEAR(MICASH!K1603),\"00\"),2)","v":"010000"},{"$f":"UPPER(LEFT(MICASH!L1603,96))","v":""}]
["C",288,"00",{"$f":"TEXT(MICASH!D1604,\"0000000000\")","v":"0000000000"}," ",{"$f":"UPPER(MICASH!F1604)","v":""},{"$f":"UPPER(MICASH!G1604)","v":""}," ",{"$f":"TEXT(MICASH!I1604,\"0000000000\")","v":"0000000000"},{"$f":"TEXT(MICASH!J1604*100,\"0000000000\")","v":"0000000000"},{"$f":"TEXT(MONTH(MICASH!K1604),\"00\") & TEXT(DAY(MICASH!K1604),\"00\") & RIGHT(TEXT(YEAR(MICASH!K1604),\"00\"),2)","v":"010000"},{"$f":"UPPER(LEFT(MICASH!L1604,96))","v":""}]
["C",288,"00",{"$f":"TEXT(MICASH!D1605,\"0000000000\")","v":"0000000000"}," ",{"$f":"UPPER(MICASH!F1605)","v":""},{"$f":"UPPER(MICASH!G1605)","v":""}," ",{"$f":"TEXT(MICASH!I1605,\"0000000000\")","v":"0000000000"},{"$f":"TEXT(MICASH!J1605*100,\"0000000000\")","v":"0000000000"},{"$f":"TEXT(MONTH(MICASH!K1605),\"00\") & TEXT(DAY(MICASH!K1605),\"00\") & RIGHT(TEXT(YEAR(MICASH!K1605),\"00\"),2)","v":"010000"},{"$f":"UPPER(LEFT(MICASH!L1605,96))","v":""}]
["C",288,"00",{"$f":"TEXT(MICASH!D1606,\"0000000000\")","v":"0000000000"}," ",{"$f":"UPPER(MICASH!F1606)","v":""},{"$f":"UPPER(MICASH!G1606)","v":""}," ",{"$f":"TEXT(MICASH!I1606,\"0000000000\")","v":"0000000000"},{"$f":"TEXT(MICASH!J1606*100,\"0000000000\")","v":"0000000000"},{"$f":"TEXT(MONTH(MICASH!K1606),\"00\") & TEXT(DAY(MICASH!K1606),\"00\") & RIGHT(TEXT(YEAR(MICASH!K1606),\"00\"),2)","v":"010000"},{"$f":"UPPER(LEFT(MICASH!L1606,96))","v":""}]
["C",288,"00",{"$f":"TEXT(MICASH!D1607,\"0000000000\")","v":"0000000000"}," ",{"$f":"UPPER(MICASH!F1607)","v":""},{"$f":"UPPER(MICASH!G1607)","v":""}," ",{"$f":"TEXT(MICASH!I1607,\"0000000000\")","v":"0000000000"},{"$f":"TEXT(MICASH!J1607*100,\"0000000000\")","v":"0000000000"},{"$f":"TEXT(MONTH(MICASH!K1607),\"00\") & TEXT(DAY(MICASH!K1607),\"00\") & RIGHT(TEXT(YEAR(MICASH!K1607),\"00\"),2)","v":"010000"},{"$f":"UPPER(LEFT(MICASH!L1607,96))","v":""}]
["C",288,"00",{"$f":"TEXT(MICASH!D1608,\"0000000000\")","v":"0000000000"}," ",{"$f":"UPPER(MICASH!F1608)","v":""},{"$f":"UPPER(MICASH!G1608)","v":""}," ",{"$f":"TEXT(MICASH!I1608,\"0000000000\")","v":"0000000000"},{"$f":"TEXT(MICASH!J1608*100,\"0000000000\")","v":"0000000000"},{"$f":"TEXT(MONTH(MICASH!K1608),\"00\") & TEXT(DAY(MICASH!K1608),\"00\") & RIGHT(TEXT(YEAR(MICASH!K1608),\"00\"),2)","v":"010000"},{"$f":"UPPER(LEFT(MICASH!L1608,96))","v":""}]
["C",288,"00",{"$f":"TEXT(MICASH!D1609,\"0000000000\")","v":"0000000000"}," ",{"$f":"UPPER(MICASH!F1609)","v":""},{"$f":"UPPER(MICASH!G1609)","v":""}," ",{"$f":"TEXT(MICASH!I1609,\"0000000000\")","v":"0000000000"},{"$f":"TEXT(MICASH!J1609*100,\"0000000000\")","v":"0000000000"},{"$f":"TEXT(MONTH(MICASH!K1609),\"00\") & TEXT(DAY(MICASH!K1609),\"00\") & RIGHT(TEXT(YEAR(MICASH!K1609),\"00\"),2)","v":"010000"},{"$f":"UPPER(LEFT(MICASH!L1609,96))","v":""}]
["C",288,"00",{"$f":"TEXT(MICASH!D1610,\"0000000000\")","v":"0000000000"}," ",{"$f":"UPPER(MICASH!F1610)","v":""},{"$f":"UPPER(MICASH!G1610)","v":""}," ",{"$f":"TEXT(MICASH!I1610,\"0000000000\")","v":"0000000000"},{"$f":"TEXT(MICASH!J1610*100,\"0000000000\")","v":"0000000000"},{"$f":"TEXT(MONTH(MICASH!K1610),\"00\") & TEXT(DAY(MICASH!K1610),\"00\") & RIGHT(TEXT(YEAR(MICASH!K1610),\"00\"),2)","v":"010000"},{"$f":"UPPER(LEFT(MICASH!L1610,96))","v":""}]
["C",288,"00",{"$f":"TEXT(MICASH!D1611,\"0000000000\")","v":"0000000000"}," ",{"$f":"UPPER(MICASH!F1611)","v":""},{"$f":"UPPER(MICASH!G1611)","v":""}," ",{"$f":"TEXT(MICASH!I1611,\"0000000000\")","v":"0000000000"},{"$f":"TEXT(MICASH!J1611*100,\"0000000000\")","v":"0000000000"},{"$f":"TEXT(MONTH(MICASH!K1611),\"00\") & TEXT(DAY(MICASH!K1611),\"00\") & RIGHT(TEXT(YEAR(MICASH!K1611),\"00\"),2)","v":"010000"},{"$f":"UPPER(LEFT(MICASH!L1611,96))","v":""}]
["C",288,"00",{"$f":"TEXT(MICASH!D1612,\"0000000000\")","v":"0000000000"}," ",{"$f":"UPPER(MICASH!F1612)","v":""},{"$f":"UPPER(MICASH!G1612)","v":""}," ",{"$f":"TEXT(MICASH!I1612,\"0000000000\")","v":"0000000000"},{"$f":"TEXT(MICASH!J1612*100,\"0000000000\")","v":"0000000000"},{"$f":"TEXT(MONTH(MICASH!K1612),\"00\") & TEXT(DAY(MICASH!K1612),\"00\") & RIGHT(TEXT(YEAR(MICASH!K1612),\"00\"),2)","v":"010000"},{"$f":"UPPER(LEFT(MICASH!L1612,96))","v":""}]
["C",288,"00",{"$f":"TEXT(MICASH!D1613,\"0000000000\")","v":"0000000000"}," ",{"$f":"UPPER(MICASH!F1613)","v":""},{"$f":"UPPER(MICASH!G1613)","v":""}," ",{"$f":"TEXT(MICASH!I1613,\"0000000000\")","v":"0000000000"},{"$f":"TEXT(MICASH!J1613*100,\"0000000000\")","v":"0000000000"},{"$f":"TEXT(MONTH(MICASH!K1613),\"00\") & TEXT(DAY(MICASH!K1613),\"00\") & RIGHT(TEXT(YEAR(MICASH!K1613),\"00\"),2)","v":"010000"},{"$f":"UPPER(LEFT(MICASH!L1613,96))","v":""}]
["C",288,"00",{"$f":"TEXT(MICASH!D1614,\"0000000000\")","v":"0000000000"}," ",{"$f":"UPPER(MICASH!F1614)","v":""},{"$f":"UPPER(MICASH!G1614)","v":""}," ",{"$f":"TEXT(MICASH!I1614,\"0000000000\")","v":"0000000000"},{"$f":"TEXT(MICASH!J1614*100,\"0000000000\")","v":"0000000000"},{"$f":"TEXT(MONTH(MICASH!K1614),\"00\") & TEXT(DAY(MICASH!K1614),\"00\") & RIGHT(TEXT(YEAR(MICASH!K1614),\"00\"),2)","v":"010000"},{"$f":"UPPER(LEFT(MICASH!L1614,96))","v":""}]
["C",288,"00",{"$f":"TEXT(MICASH!D1615,\"0000000000\")","v":"0000000000"}," ",{"$f":"UPPER(MICASH!F1615)","v":""},{"$f":"UPPER(MICASH!G1615)","v":""}," ",{"$f":"TEXT(MICASH!I1615,\"0000000000\")","v":"0000000000"},{"$f":"TEXT(MICASH!J1615*100,\"0000000000\")","v":"0000000000"},{"$f":"TEXT(MONTH(MICASH!K1615),\"00\") & TEXT(DAY(MICASH!K1615),\"00\") & RIGHT(TEXT(YEAR(MICASH!K1615),\"00\"),2)","v":"010000"},{"$f":"UPPER(LEFT(MICASH!L1615,96))","v":""}]
["C",288,"00",{"$f":"TEXT(MICASH!D1616,\"0000000000\")","v":"0000000000"}," ",{"$f":"UPPER(MICASH!F1616)","v":""},{"$f":"UPPER(MICASH!G1616)","v":""}," ",{"$f":"TEXT(MICASH!I1616,\"0000000000\")","v":"0000000000"},{"$f":"TEXT(MICASH!J1616*100,\"0000000000\")","v":"0000000000"},{"$f":"TEXT(MONTH(MICASH!K1616),\"00\") & TEXT(DAY(MICASH!K1616),\"00\") & RIGHT(TEXT(YEAR(MICASH!K1616),\"00\"),2)","v":"010000"},{"$f":"UPPER(LEFT(MICASH!L1616,96))","v":""}]
["C",288,"00",{"$f":"TEXT(MICASH!D1617,\"0000000000\")","v":"0000000000"}," ",{"$f":"UPPER(MICASH!F1617)","v":""},{"$f":"UPPER(MICASH!G1617)","v":""}," ",{"$f":"TEXT(MICASH!I1617,\"0000000000\")","v":"0000000000"},{"$f":"TEXT(MICASH!J1617*100,\"0000000000\")","v":"0000000000"},{"$f":"TEXT(MONTH(MICASH!K1617),\"00\") & TEXT(DAY(MICASH!K1617),\"00\") & RIGHT(TEXT(YEAR(MICASH!K1617),\"00\"),2)","v":"010000"},{"$f":"UPPER(LEFT(MICASH!L1617,96))","v":""}]
["C",288,"00",{"$f":"TEXT(MICASH!D1618,\"0000000000\")","v":"0000000000"}," ",{"$f":"UPPER(MICASH!F1618)","v":""},{"$f":"UPPER(MICASH!G1618)","v":""}," ",{"$f":"TEXT(MICASH!I1618,\"0000000000\")","v":"0000000000"},{"$f":"TEXT(MICASH!J1618*100,\"0000000000\")","v":"0000000000"},{"$f":"TEXT(MONTH(MICASH!K1618),\"00\") & TEXT(DAY(MICASH!K1618),\"00\") & RIGHT(TEXT(YEAR(MICASH!K1618),\"00\"),2)","v":"010000"},{"$f":"UPPER(LEFT(MICASH!L1618,96))","v":""}]
["C",288,"00",{"$f":"TEXT(MICASH!D1619,\"0000000000\")","v":"0000000000"}," ",{"$f":"UPPER(MICASH!F1619)","v":""},{"$f":"UPPER(MICASH!G1619)","v":""}," ",{"$f":"TEXT(MICASH!I1619,\"0000000000\")","v":"0000000000"},{"$f":"TEXT(MICASH!J1619*100,\"0000000000\")","v":"0000000000"},{"$f":"TEXT(MONTH(MICASH!K1619),\"00\") & TEXT(DAY(MICASH!K1619),\"00\") & RIGHT(TEXT(YEAR(MICASH!K1619),\"00\"),2)","v":"010000"},{"$f":"UPPER(LEFT(MICASH!L1619,96))","v":""}]
["C",288,"00",{"$f":"TEXT(MICASH!D1620,\"0000000000\")","v":"0000000000"}," ",{"$f":"UPPER(MICASH!F1620)","v":""},{"$f":"UPPER(MICASH!G1620)","v":""}," ",{"$f":"TEXT(MICASH!I1620,\"0000000000\")","v":"0000000000"},{"$f":"TEXT(MICASH!J1620*100,\"0000000000\")","v":"0000000000"},{"$f":"TEXT(MONTH(MICASH!K1620),\"00\") & TEXT(DAY(MICASH!K1620),\"00\") & RIGHT(TEXT(YEAR(MICASH!K1620),\"00\"),2)","v":"010000"},{"$f":"UPPER(LEFT(MICASH!L1620,96))","v":""}]
["C",288,"00",{"$f":"TEXT(MICASH!D1621,\"0000000000\")","v":"0000000000"}," ",{"$f":"UPPER(MICASH!F1621)","v":""},{"$f":"UPPER(MICASH!G1621)","v":""}," ",{"$f":"TEXT(MICASH!I1621,\"0000000000\")","v":"0000000000"},{"$f":"TEXT(MICASH!J1621*100,\"0000000000\")","v":"0000000000"},{"$f":"TEXT(MONTH(MICASH!K1621),\"00\") & TEXT(DAY(MICASH!K1621),\"00\") & RIGHT(TEXT(YEAR(MICASH!K1621),\"00\"),2)","v":"010000"},{"$f":"UPPER(LEFT(MICASH!L1621,96))","v":""}]
["C",288,"00",{"$f":"TEXT(MICASH!D1622,\"0000000000\")","v":"0000000000"}," ",{"$f":"UPPER(MICASH!F1622)","v":""},{"$f":"UPPER(MICASH!G1622)","v":""}," ",{"$f":"TEXT(MICASH!I1622,\"0000000000\")","v":"0000000000"},{"$f":"TEXT(MICASH!J1622*100,\"0000000000\")","v":"0000000000"},{"$f":"TEXT(MONTH(MICASH!K1622),\"00\") & TEXT(DAY(MICASH!K1622),\"00\") & RIGHT(TEXT(YEAR(MICASH!K1622),\"00\"),2)","v":"010000"},{"$f":"UPPER(LEFT(MICASH!L1622,96))","v":""}]
["C",288,"00",{"$f":"TEXT(MICASH!D1623,\"0000000000\")","v":"0000000000"}," ",{"$f":"UPPER(MICASH!F1623)","v":""},{"$f":"UPPER(MICASH!G1623)","v":""}," ",{"$f":"TEXT(MICASH!I1623,\"0000000000\")","v":"0000000000"},{"$f":"TEXT(MICASH!J1623*100,\"0000000000\")","v":"0000000000"},{"$f":"TEXT(MONTH(MICASH!K1623),\"00\") & TEXT(DAY(MICASH!K1623),\"00\") & RIGHT(TEXT(YEAR(MICASH!K1623),\"00\"),2)","v":"010000"},{"$f":"UPPER(LEFT(MICASH!L1623,96))","v":""}]
["C",288,"00",{"$f":"TEXT(MICASH!D1624,\"0000000000\")","v":"0000000000"}," ",{"$f":"UPPER(MICASH!F1624)","v":""},{"$f":"UPPER(MICASH!G1624)","v":""}," ",{"$f":"TEXT(MICASH!I1624,\"0000000000\")","v":"0000000000"},{"$f":"TEXT(MICASH!J1624*100,\"0000000000\")","v":"0000000000"},{"$f":"TEXT(MONTH(MICASH!K1624),\"00\") & TEXT(DAY(MICASH!K1624),\"00\") & RIGHT(TEXT(YEAR(MICASH!K1624),\"00\"),2)","v":"010000"},{"$f":"UPPER(LEFT(MICASH!L1624,96))","v":""}]
["C",288,"00",{"$f":"TEXT(MICASH!D1625,\"0000000000\")","v":"0000000000"}," ",{"$f":"UPPER(MICASH!F1625)","v":""},{"$f":"UPPER(MICASH!G1625)","v":""}," ",{"$f":"TEXT(MICASH!I1625,\"0000000000\")","v":"0000000000"},{"$f":"TEXT(MICASH!J1625*100,\"0000000000\")","v":"0000000000"},{"$f":"TEXT(MONTH(MICASH!K1625),\"00\") & TEXT(DAY(MICASH!K1625),\"00\") & RIGHT(TEXT(YEAR(MICASH!K1625),\"00\"),2)","v":"010000"},{"$f":"UPPER(LEFT(MICASH!L1625,96))","v":""}]
["C",288,"00",{"$f":"TEXT(MICASH!D1626,\"0000000000\")","v":"0000000000"}," ",{"$f":"UPPER(MICASH!F1626)","v":""},{"$f":"UPPER(MICASH!G1626)","v":""}," ",{"$f":"TEXT(MICASH!I1626,\"0000000000\")","v":"0000000000"},{"$f":"TEXT(MICASH!J1626*100,\"0000000000\")","v":"0000000000"},{"$f":"TEXT(MONTH(MICASH!K1626),\"00\") & TEXT(DAY(MICASH!K1626),\"00\") & RIGHT(TEXT(YEAR(MICASH!K1626),\"00\"),2)","v":"010000"},{"$f":"UPPER(LEFT(MICASH!L1626,96))","v":""}]
["C",288,"00",{"$f":"TEXT(MICASH!D1627,\"0000000000\")","v":"0000000000"}," ",{"$f":"UPPER(MICASH!F1627)","v":""},{"$f":"UPPER(MICASH!G1627)","v":""}," ",{"$f":"TEXT(MICASH!I1627,\"0000000000\")","v":"0000000000"},{"$f":"TEXT(MICASH!J1627*100,\"0000000000\")","v":"0000000000"},{"$f":"TEXT(MONTH(MICASH!K1627),\"00\") & TEXT(DAY(MICASH!K1627),\"00\") & RIGHT(TEXT(YEAR(MICASH!K1627),\"00\"),2)","v":"010000"},{"$f":"UPPER(LEFT(MICASH!L1627,96))","v":""}]
["C",288,"00",{"$f":"TEXT(MICASH!D1628,\"0000000000\")","v":"0000000000"}," ",{"$f":"UPPER(MICASH!F1628)","v":""},{"$f":"UPPER(MICASH!G1628)","v":""}," ",{"$f":"TEXT(MICASH!I1628,\"0000000000\")","v":"0000000000"},{"$f":"TEXT(MICASH!J1628*100,\"0000000000\")","v":"0000000000"},{"$f":"TEXT(MONTH(MICASH!K1628),\"00\") & TEXT(DAY(MICASH!K1628),\"00\") & RIGHT(TEXT(YEAR(MICASH!K1628),\"00\"),2)","v":"010000"},{"$f":"UPPER(LEFT(MICASH!L1628,96))","v":""}]
["C",288,"00",{"$f":"TEXT(MICASH!D1629,\"0000000000\")","v":"0000000000"}," ",{"$f":"UPPER(MICASH!F1629)","v":""},{"$f":"UPPER(MICASH!G1629)","v":""}," ",{"$f":"TEXT(MICASH!I1629,\"0000000000\")","v":"0000000000"},{"$f":"TEXT(MICASH!J1629*100,\"0000000000\")","v":"0000000000"},{"$f":"TEXT(MONTH(MICASH!K1629),\"00\") & TEXT(DAY(MICASH!K1629),\"00\") & RIGHT(TEXT(YEAR(MICASH!K1629),\"00\"),2)","v":"010000"},{"$f":"UPPER(LEFT(MICASH!L1629,96))","v":""}]
["C",288,"00",{"$f":"TEXT(MICASH!D1630,\"0000000000\")","v":"0000000000"}," ",{"$f":"UPPER(MICASH!F1630)","v":""},{"$f":"UPPER(MICASH!G1630)","v":""}," ",{"$f":"TEXT(MICASH!I1630,\"0000000000\")","v":"0000000000"},{"$f":"TEXT(MICASH!J1630*100,\"0000000000\")","v":"0000000000"},{"$f":"TEXT(MONTH(MICASH!K1630),\"00\") & TEXT(DAY(MICASH!K1630),\"00\") & RIGHT(TEXT(YEAR(MICASH!K1630),\"00\"),2)","v":"010000"},{"$f":"UPPER(LEFT(MICASH!L1630,96))","v":""}]
["C",288,"00",{"$f":"TEXT(MICASH!D1631,\"0000000000\")","v":"0000000000"}," ",{"$f":"UPPER(MICASH!F1631)","v":""},{"$f":"UPPER(MICASH!G1631)","v":""}," ",{"$f":"TEXT(MICASH!I1631,\"0000000000\")","v":"0000000000"},{"$f":"TEXT(MICASH!J1631*100,\"0000000000\")","v":"0000000000"},{"$f":"TEXT(MONTH(MICASH!K1631),\"00\") & TEXT(DAY(MICASH!K1631),\"00\") & RIGHT(TEXT(YEAR(MICASH!K1631),\"00\"),2)","v":"010000"},{"$f":"UPPER(LEFT(MICASH!L1631,96))","v":""}]
["C",288,"00",{"$f":"TEXT(MICASH!D1632,\"0000000000\")","v":"0000000000"}," ",{"$f":"UPPER(MICASH!F1632)","v":""},{"$f":"UPPER(MICASH!G1632)","v":""}," ",{"$f":"TEXT(MICASH!I1632,\"0000000000\")","v":"0000000000"},{"$f":"TEXT(MICASH!J1632*100,\"0000000000\")","v":"0000000000"},{"$f":"TEXT(MONTH(MICASH!K1632),\"00\") & TEXT(DAY(MICASH!K1632),\"00\") & RIGHT(TEXT(YEAR(MICASH!K1632),\"00\"),2)","v":"010000"},{"$f":"UPPER(LEFT(MICASH!L1632,96))","v":""}]
["C",288,"00",{"$f":"TEXT(MICASH!D1633,\"0000000000\")","v":"0000000000"}," ",{"$f":"UPPER(MICASH!F1633)","v":""},{"$f":"UPPER(MICASH!G1633)","v":""}," ",{"$f":"TEXT(MICASH!I1633,\"0000000000\")","v":"0000000000"},{"$f":"TEXT(MICASH!J1633*100,\"0000000000\")","v":"0000000000"},{"$f":"TEXT(MONTH(MICASH!K1633),\"00\") & TEXT(DAY(MICASH!K1633),\"00\") & RIGHT(TEXT(YEAR(MICASH!K1633),\"00\"),2)","v":"010000"},{"$f":"UPPER(LEFT(MICASH!L1633,96))","v":""}]
["C",288,"00",{"$f":"TEXT(MICASH!D1634,\"0000000000\")","v":"0000000000"}," ",{"$f":"UPPER(MICASH!F1634)","v":""},{"$f":"UPPER(MICASH!G1634)","v":""}," ",{"$f":"TEXT(MICASH!I1634,\"0000000000\")","v":"0000000000"},{"$f":"TEXT(MICASH!J1634*100,\"0000000000\")","v":"0000000000"},{"$f":"TEXT(MONTH(MICASH!K1634),\"00\") & TEXT(DAY(MICASH!K1634),\"00\") & RIGHT(TEXT(YEAR(MICASH!K1634),\"00\"),2)","v":"010000"},{"$f":"UPPER(LEFT(MICASH!L1634,96))","v":""}]
["C",288,"00",{"$f":"TEXT(MICASH!D1635,\"0000000000\")","v":"0000000000"}," ",{"$f":"UPPER(MICASH!F1635)","v":""},{"$f":"UPPER(MICASH!G1635)","v":""}," ",{"$f":"TEXT(MICASH!I1635,\"0000000000\")","v":"0000000000"},{"$f":"TEXT(MICASH!J1635*100,\"0000000000\")","v":"0000000000"},{"$f":"TEXT(MONTH(MICASH!K1635),\"00\") & TEXT(DAY(MICASH!K1635),\"00\") & RIGHT(TEXT(YEAR(MICASH!K1635),\"00\"),2)","v":"010000"},{"$f":"UPPER(LEFT(MICASH!L1635,96))","v":""}]
["C",288,"00",{"$f":"TEXT(MICASH!D1636,\"0000000000\")","v":"0000000000"}," ",{"$f":"UPPER(MICASH!F1636)","v":""},{"$f":"UPPER(MICASH!G1636)","v":""}," ",{"$f":"TEXT(MICASH!I1636,\"0000000000\")","v":"0000000000"},{"$f":"TEXT(MICASH!J1636*100,\"0000000000\")","v":"0000000000"},{"$f":"TEXT(MONTH(MICASH!K1636),\"00\") & TEXT(DAY(MICASH!K1636),\"00\") & RIGHT(TEXT(YEAR(MICASH!K1636),\"00\"),2)","v":"010000"},{"$f":"UPPER(LEFT(MICASH!L1636,96))","v":""}]
["C",288,"00",{"$f":"TEXT(MICASH!D1637,\"0000000000\")","v":"0000000000"}," ",{"$f":"UPPER(MICASH!F1637)","v":""},{"$f":"UPPER(MICASH!G1637)","v":""}," ",{"$f":"TEXT(MICASH!I1637,\"0000000000\")","v":"0000000000"},{"$f":"TEXT(MICASH!J1637*100,\"0000000000\")","v":"0000000000"},{"$f":"TEXT(MONTH(MICASH!K1637),\"00\") & TEXT(DAY(MICASH!K1637),\"00\") & RIGHT(TEXT(YEAR(MICASH!K1637),\"00\"),2)","v":"010000"},{"$f":"UPPER(LEFT(MICASH!L1637,96))","v":""}]
["C",288,"00",{"$f":"TEXT(MICASH!D1638,\"0000000000\")","v":"0000000000"}," ",{"$f":"UPPER(MICASH!F1638)","v":""},{"$f":"UPPER(MICASH!G1638)","v":""}," ",{"$f":"TEXT(MICASH!I1638,\"0000000000\")","v":"0000000000"},{"$f":"TEXT(MICASH!J1638*100,\"0000000000\")","v":"0000000000"},{"$f":"TEXT(MONTH(MICASH!K1638),\"00\") & TEXT(DAY(MICASH!K1638),\"00\") & RIGHT(TEXT(YEAR(MICASH!K1638),\"00\"),2)","v":"010000"},{"$f":"UPPER(LEFT(MICASH!L1638,96))","v":""}]
["C",288,"00",{"$f":"TEXT(MICASH!D1639,\"0000000000\")","v":"0000000000"}," ",{"$f":"UPPER(MICASH!F1639)","v":""},{"$f":"UPPER(MICASH!G1639)","v":""}," ",{"$f":"TEXT(MICASH!I1639,\"0000000000\")","v":"0000000000"},{"$f":"TEXT(MICASH!J1639*100,\"0000000000\")","v":"0000000000"},{"$f":"TEXT(MONTH(MICASH!K1639),\"00\") & TEXT(DAY(MICASH!K1639),\"00\") & RIGHT(TEXT(YEAR(MICASH!K1639),\"00\"),2)","v":"010000"},{"$f":"UPPER(LEFT(MICASH!L1639,96))","v":""}]
["C",288,"00",{"$f":"TEXT(MICASH!D1640,\"0000000000\")","v":"0000000000"}," ",{"$f":"UPPER(MICASH!F1640)","v":""},{"$f":"UPPER(MICASH!G1640)","v":""}," ",{"$f":"TEXT(MICASH!I1640,\"0000000000\")","v":"0000000000"},{"$f":"TEXT(MICASH!J1640*100,\"0000000000\")","v":"0000000000"},{"$f":"TEXT(MONTH(MICASH!K1640),\"00\") & TEXT(DAY(MICASH!K1640),\"00\") & RIGHT(TEXT(YEAR(MICASH!K1640),\"00\"),2)","v":"010000"},{"$f":"UPPER(LEFT(MICASH!L1640,96))","v":""}]
["C",288,"00",{"$f":"TEXT(MICASH!D1641,\"0000000000\")","v":"0000000000"}," ",{"$f":"UPPER(MICASH!F1641)","v":""},{"$f":"UPPER(MICASH!G1641)","v":""}," ",{"$f":"TEXT(MICASH!I1641,\"0000000000\")","v":"0000000000"},{"$f":"TEXT(MICASH!J1641*100,\"0000000000\")","v":"0000000000"},{"$f":"TEXT(MONTH(MICASH!K1641),\"00\") & TEXT(DAY(MICASH!K1641),\"00\") & RIGHT(TEXT(YEAR(MICASH!K1641),\"00\"),2)","v":"010000"},{"$f":"UPPER(LEFT(MICASH!L1641,96))","v":""}]
["C",288,"00",{"$f":"TEXT(MICASH!D1642,\"0000000000\")","v":"0000000000"}," ",{"$f":"UPPER(MICASH!F1642)","v":""},{"$f":"UPPER(MICASH!G1642)","v":""}," ",{"$f":"TEXT(MICASH!I1642,\"0000000000\")","v":"0000000000"},{"$f":"TEXT(MICASH!J1642*100,\"0000000000\")","v":"0000000000"},{"$f":"TEXT(MONTH(MICASH!K1642),\"00\") & TEXT(DAY(MICASH!K1642),\"00\") & RIGHT(TEXT(YEAR(MICASH!K1642),\"00\"),2)","v":"010000"},{"$f":"UPPER(LEFT(MICASH!L1642,96))","v":""}]
["C",288,"00",{"$f":"TEXT(MICASH!D1643,\"0000000000\")","v":"0000000000"}," ",{"$f":"UPPER(MICASH!F1643)","v":""},{"$f":"UPPER(MICASH!G1643)","v":""}," ",{"$f":"TEXT(MICASH!I1643,\"0000000000\")","v":"0000000000"},{"$f":"TEXT(MICASH!J1643*100,\"0000000000\")","v":"0000000000"},{"$f":"TEXT(MONTH(MICASH!K1643),\"00\") & TEXT(DAY(MICASH!K1643),\"00\") & RIGHT(TEXT(YEAR(MICASH!K1643),\"00\"),2)","v":"010000"},{"$f":"UPPER(LEFT(MICASH!L1643,96))","v":""}]
["C",288,"00",{"$f":"TEXT(MICASH!D1644,\"0000000000\")","v":"0000000000"}," ",{"$f":"UPPER(MICASH!F1644)","v":""},{"$f":"UPPER(MICASH!G1644)","v":""}," ",{"$f":"TEXT(MICASH!I1644,\"0000000000\")","v":"0000000000"},{"$f":"TEXT(MICASH!J1644*100,\"0000000000\")","v":"0000000000"},{"$f":"TEXT(MONTH(MICASH!K1644),\"00\") & TEXT(DAY(MICASH!K1644),\"00\") & RIGHT(TEXT(YEAR(MICASH!K1644),\"00\"),2)","v":"010000"},{"$f":"UPPER(LEFT(MICASH!L1644,96))","v":""}]
["C",288,"00",{"$f":"TEXT(MICASH!D1645,\"0000000000\")","v":"0000000000"}," ",{"$f":"UPPER(MICASH!F1645)","v":""},{"$f":"UPPER(MICASH!G1645)","v":""}," ",{"$f":"TEXT(MICASH!I1645,\"0000000000\")","v":"0000000000"},{"$f":"TEXT(MICASH!J1645*100,\"0000000000\")","v":"0000000000"},{"$f":"TEXT(MONTH(MICASH!K1645),\"00\") & TEXT(DAY(MICASH!K1645),\"00\") & RIGHT(TEXT(YEAR(MICASH!K1645),\"00\"),2)","v":"010000"},{"$f":"UPPER(LEFT(MICASH!L1645,96))","v":""}]
["C",288,"00",{"$f":"TEXT(MICASH!D1646,\"0000000000\")","v":"0000000000"}," ",{"$f":"UPPER(MICASH!F1646)","v":""},{"$f":"UPPER(MICASH!G1646)","v":""}," ",{"$f":"TEXT(MICASH!I1646,\"0000000000\")","v":"0000000000"},{"$f":"TEXT(MICASH!J1646*100,\"0000000000\")","v":"0000000000"},{"$f":"TEXT(MONTH(MICASH!K1646),\"00\") & TEXT(DAY(MICASH!K1646),\"00\") & RIGHT(TEXT(YEAR(MICASH!K1646),\"00\"),2)","v":"010000"},{"$f":"UPPER(LEFT(MICASH!L1646,96))","v":""}]
["C",288,"00",{"$f":"TEXT(MICASH!D1647,\"0000000000\")","v":"0000000000"}," ",{"$f":"UPPER(MICASH!F1647)","v":""},{"$f":"UPPER(MICASH!G1647)","v":""}," ",{"$f":"TEXT(MICASH!I1647,\"0000000000\")","v":"0000000000"},{"$f":"TEXT(MICASH!J1647*100,\"0000000000\")","v":"0000000000"},{"$f":"TEXT(MONTH(MICASH!K1647),\"00\") & TEXT(DAY(MICASH!K1647),\"00\") & RIGHT(TEXT(YEAR(MICASH!K1647),\"00\"),2)","v":"010000"},{"$f":"UPPER(LEFT(MICASH!L1647,96))","v":""}]
["C",288,"00",{"$f":"TEXT(MICASH!D1648,\"0000000000\")","v":"0000000000"}," ",{"$f":"UPPER(MICASH!F1648)","v":""},{"$f":"UPPER(MICASH!G1648)","v":""}," ",{"$f":"TEXT(MICASH!I1648,\"0000000000\")","v":"0000000000"},{"$f":"TEXT(MICASH!J1648*100,\"0000000000\")","v":"0000000000"},{"$f":"TEXT(MONTH(MICASH!K1648),\"00\") & TEXT(DAY(MICASH!K1648),\"00\") & RIGHT(TEXT(YEAR(MICASH!K1648),\"00\"),2)","v":"010000"},{"$f":"UPPER(LEFT(MICASH!L1648,96))","v":""}]
["C",288,"00",{"$f":"TEXT(MICASH!D1649,\"0000000000\")","v":"0000000000"}," ",{"$f":"UPPER(MICASH!F1649)","v":""},{"$f":"UPPER(MICASH!G1649)","v":""}," ",{"$f":"TEXT(MICASH!I1649,\"0000000000\")","v":"0000000000"},{"$f":"TEXT(MICASH!J1649*100,\"0000000000\")","v":"0000000000"},{"$f":"TEXT(MONTH(MICASH!K1649),\"00\") & TEXT(DAY(MICASH!K1649),\"00\") & RIGHT(TEXT(YEAR(MICASH!K1649),\"00\"),2)","v":"010000"},{"$f":"UPPER(LEFT(MICASH!L1649,96))","v":""}]
["C",288,"00",{"$f":"TEXT(MICASH!D1650,\"0000000000\")","v":"0000000000"}," ",{"$f":"UPPER(MICASH!F1650)","v":""},{"$f":"UPPER(MICASH!G1650)","v":""}," ",{"$f":"TEXT(MICASH!I1650,\"0000000000\")","v":"0000000000"},{"$f":"TEXT(MICASH!J1650*100,\"0000000000\")","v":"0000000000"},{"$f":"TEXT(MONTH(MICASH!K1650),\"00\") & TEXT(DAY(MICASH!K1650),\"00\") & RIGHT(TEXT(YEAR(MICASH!K1650),\"00\"),2)","v":"010000"},{"$f":"UPPER(LEFT(MICASH!L1650,96))","v":""}]
["C",288,"00",{"$f":"TEXT(MICASH!D1651,\"0000000000\")","v":"0000000000"}," ",{"$f":"UPPER(MICASH!F1651)","v":""},{"$f":"UPPER(MICASH!G1651)","v":""}," ",{"$f":"TEXT(MICASH!I1651,\"0000000000\")","v":"0000000000"},{"$f":"TEXT(MICASH!J1651*100,\"0000000000\")","v":"0000000000"},{"$f":"TEXT(MONTH(MICASH!K1651),\"00\") & TEXT(DAY(MICASH!K1651),\"00\") & RIGHT(TEXT(YEAR(MICASH!K1651),\"00\"),2)","v":"010000"},{"$f":"UPPER(LEFT(MICASH!L1651,96))","v":""}]
["C",288,"00",{"$f":"TEXT(MICASH!D1652,\"0000000000\")","v":"0000000000"}," ",{"$f":"UPPER(MICASH!F1652)","v":""},{"$f":"UPPER(MICASH!G1652)","v":""}," ",{"$f":"TEXT(MICASH!I1652,\"0000000000\")","v":"0000000000"},{"$f":"TEXT(MICASH!J1652*100,\"0000000000\")","v":"0000000000"},{"$f":"TEXT(MONTH(MICASH!K1652),\"00\") & TEXT(DAY(MICASH!K1652),\"00\") & RIGHT(TEXT(YEAR(MICASH!K1652),\"00\"),2)","v":"010000"},{"$f":"UPPER(LEFT(MICASH!L1652,96))","v":""}]
["C",288,"00",{"$f":"TEXT(MICASH!D1653,\"0000000000\")","v":"0000000000"}," ",{"$f":"UPPER(MICASH!F1653)","v":""},{"$f":"UPPER(MICASH!G1653)","v":""}," ",{"$f":"TEXT(MICASH!I1653,\"0000000000\")","v":"0000000000"},{"$f":"TEXT(MICASH!J1653*100,\"0000000000\")","v":"0000000000"},{"$f":"TEXT(MONTH(MICASH!K1653),\"00\") & TEXT(DAY(MICASH!K1653),\"00\") & RIGHT(TEXT(YEAR(MICASH!K1653),\"00\"),2)","v":"010000"},{"$f":"UPPER(LEFT(MICASH!L1653,96))","v":""}]
["C",288,"00",{"$f":"TEXT(MICASH!D1654,\"0000000000\")","v":"0000000000"}," ",{"$f":"UPPER(MICASH!F1654)","v":""},{"$f":"UPPER(MICASH!G1654)","v":""}," ",{"$f":"TEXT(MICASH!I1654,\"0000000000\")","v":"0000000000"},{"$f":"TEXT(MICASH!J1654*100,\"0000000000\")","v":"0000000000"},{"$f":"TEXT(MONTH(MICASH!K1654),\"00\") & TEXT(DAY(MICASH!K1654),\"00\") & RIGHT(TEXT(YEAR(MICASH!K1654),\"00\"),2)","v":"010000"},{"$f":"UPPER(LEFT(MICASH!L1654,96))","v":""}]
["C",288,"00",{"$f":"TEXT(MICASH!D1655,\"0000000000\")","v":"0000000000"}," ",{"$f":"UPPER(MICASH!F1655)","v":""},{"$f":"UPPER(MICASH!G1655)","v":""}," ",{"$f":"TEXT(MICASH!I1655,\"0000000000\")","v":"0000000000"},{"$f":"TEXT(MICASH!J1655*100,\"0000000000\")","v":"0000000000"},{"$f":"TEXT(MONTH(MICASH!K1655),\"00\") & TEXT(DAY(MICASH!K1655),\"00\") & RIGHT(TEXT(YEAR(MICASH!K1655),\"00\"),2)","v":"010000"},{"$f":"UPPER(LEFT(MICASH!L1655,96))","v":""}]
["C",288,"00",{"$f":"TEXT(MICASH!D1656,\"0000000000\")","v":"0000000000"}," ",{"$f":"UPPER(MICASH!F1656)","v":""},{"$f":"UPPER(MICASH!G1656)","v":""}," ",{"$f":"TEXT(MICASH!I1656,\"0000000000\")","v":"0000000000"},{"$f":"TEXT(MICASH!J1656*100,\"0000000000\")","v":"0000000000"},{"$f":"TEXT(MONTH(MICASH!K1656),\"00\") & TEXT(DAY(MICASH!K1656),\"00\") & RIGHT(TEXT(YEAR(MICASH!K1656),\"00\"),2)","v":"010000"},{"$f":"UPPER(LEFT(MICASH!L1656,96))","v":""}]
["C",288,"00",{"$f":"TEXT(MICASH!D1657,\"0000000000\")","v":"0000000000"}," ",{"$f":"UPPER(MICASH!F1657)","v":""},{"$f":"UPPER(MICASH!G1657)","v":""}," ",{"$f":"TEXT(MICASH!I1657,\"0000000000\")","v":"0000000000"},{"$f":"TEXT(MICASH!J1657*100,\"0000000000\")","v":"0000000000"},{"$f":"TEXT(MONTH(MICASH!K1657),\"00\") & TEXT(DAY(MICASH!K1657),\"00\") & RIGHT(TEXT(YEAR(MICASH!K1657),\"00\"),2)","v":"010000"},{"$f":"UPPER(LEFT(MICASH!L1657,96))","v":""}]
["C",288,"00",{"$f":"TEXT(MICASH!D1658,\"0000000000\")","v":"0000000000"}," ",{"$f":"UPPER(MICASH!F1658)","v":""},{"$f":"UPPER(MICASH!G1658)","v":""}," ",{"$f":"TEXT(MICASH!I1658,\"0000000000\")","v":"0000000000"},{"$f":"TEXT(MICASH!J1658*100,\"0000000000\")","v":"0000000000"},{"$f":"TEXT(MONTH(MICASH!K1658),\"00\") & TEXT(DAY(MICASH!K1658),\"00\") & RIGHT(TEXT(YEAR(MICASH!K1658),\"00\"),2)","v":"010000"},{"$f":"UPPER(LEFT(MICASH!L1658,96))","v":""}]
["C",288,"00",{"$f":"TEXT(MICASH!D1659,\"0000000000\")","v":"0000000000"}," ",{"$f":"UPPER(MICASH!F1659)","v":""},{"$f":"UPPER(MICASH!G1659)","v":""}," ",{"$f":"TEXT(MICASH!I1659,\"0000000000\")","v":"0000000000"},{"$f":"TEXT(MICASH!J1659*100,\"0000000000\")","v":"0000000000"},{"$f":"TEXT(MONTH(MICASH!K1659),\"00\") & TEXT(DAY(MICASH!K1659),\"00\") & RIGHT(TEXT(YEAR(MICASH!K1659),\"00\"),2)","v":"010000"},{"$f":"UPPER(LEFT(MICASH!L1659,96))","v":""}]
["C",288,"00",{"$f":"TEXT(MICASH!D1660,\"0000000000\")","v":"0000000000"}," ",{"$f":"UPPER(MICASH!F1660)","v":""},{"$f":"UPPER(MICASH!G1660)","v":""}," ",{"$f":"TEXT(MICASH!I1660,\"0000000000\")","v":"0000000000"},{"$f":"TEXT(MICASH!J1660*100,\"0000000000\")","v":"0000000000"},{"$f":"TEXT(MONTH(MICASH!K1660),\"00\") & TEXT(DAY(MICASH!K1660),\"00\") & RIGHT(TEXT(YEAR(MICASH!K1660),\"00\"),2)","v":"010000"},{"$f":"UPPER(LEFT(MICASH!L1660,96))","v":""}]
["C",288,"00",{"$f":"TEXT(MICASH!D1661,\"0000000000\")","v":"0000000000"}," ",{"$f":"UPPER(MICASH!F1661)","v":""},{"$f":"UPPER(MICASH!G1661)","v":""}," ",{"$f":"TEXT(MICASH!I1661,\"0000000000\")","v":"0000000000"},{"$f":"TEXT(MICASH!J1661*100,\"0000000000\")","v":"0000000000"},{"$f":"TEXT(MONTH(MICASH!K1661),\"00\") & TEXT(DAY(MICASH!K1661),\"00\") & RIGHT(TEXT(YEAR(MICASH!K1661),\"00\"),2)","v":"010000"},{"$f":"UPPER(LEFT(MICASH!L1661,96))","v":""}]
["C",288,"00",{"$f":"TEXT(MICASH!D1662,\"0000000000\")","v":"0000000000"}," ",{"$f":"UPPER(MICASH!F1662)","v":""},{"$f":"UPPER(MICASH!G1662)","v":""}," ",{"$f":"TEXT(MICASH!I1662,\"0000000000\")","v":"0000000000"},{"$f":"TEXT(MICASH!J1662*100,\"0000000000\")","v":"0000000000"},{"$f":"TEXT(MONTH(MICASH!K1662),\"00\") & TEXT(DAY(MICASH!K1662),\"00\") & RIGHT(TEXT(YEAR(MICASH!K1662),\"00\"),2)","v":"010000"},{"$f":"UPPER(LEFT(MICASH!L1662,96))","v":""}]
["C",288,"00",{"$f":"TEXT(MICASH!D1663,\"0000000000\")","v":"0000000000"}," ",{"$f":"UPPER(MICASH!F1663)","v":""},{"$f":"UPPER(MICASH!G1663)","v":""}," ",{"$f":"TEXT(MICASH!I1663,\"0000000000\")","v":"0000000000"},{"$f":"TEXT(MICASH!J1663*100,\"0000000000\")","v":"0000000000"},{"$f":"TEXT(MONTH(MICASH!K1663),\"00\") & TEXT(DAY(MICASH!K1663),\"00\") & RIGHT(TEXT(YEAR(MICASH!K1663),\"00\"),2)","v":"010000"},{"$f":"UPPER(LEFT(MICASH!L1663,96))","v":""}]
["C",288,"00",{"$f":"TEXT(MICASH!D1664,\"0000000000\")","v":"0000000000"}," ",{"$f":"UPPER(MICASH!F1664)","v":""},{"$f":"UPPER(MICASH!G1664)","v":""}," ",{"$f":"TEXT(MICASH!I1664,\"0000000000\")","v":"0000000000"},{"$f":"TEXT(MICASH!J1664*100,\"0000000000\")","v":"0000000000"},{"$f":"TEXT(MONTH(MICASH!K1664),\"00\") & TEXT(DAY(MICASH!K1664),\"00\") & RIGHT(TEXT(YEAR(MICASH!K1664),\"00\"),2)","v":"010000"},{"$f":"UPPER(LEFT(MICASH!L1664,96))","v":""}]
["C",288,"00",{"$f":"TEXT(MICASH!D1665,\"0000000000\")","v":"0000000000"}," ",{"$f":"UPPER(MICASH!F1665)","v":""},{"$f":"UPPER(MICASH!G1665)","v":""}," ",{"$f":"TEXT(MICASH!I1665,\"0000000000\")","v":"0000000000"},{"$f":"TEXT(MICASH!J1665*100,\"0000000000\")","v":"0000000000"},{"$f":"TEXT(MONTH(MICASH!K1665),\"00\") & TEXT(DAY(MICASH!K1665),\"00\") & RIGHT(TEXT(YEAR(MICASH!K1665),\"00\"),2)","v":"010000"},{"$f":"UPPER(LEFT(MICASH!L1665,96))","v":""}]
["C",288,"00",{"$f":"TEXT(MICASH!D1666,\"0000000000\")","v":"0000000000"}," ",{"$f":"UPPER(MICASH!F1666)","v":""},{"$f":"UPPER(MICASH!G1666)","v":""}," ",{"$f":"TEXT(MICASH!I1666,\"0000000000\")","v":"0000000000"},{"$f":"TEXT(MICASH!J1666*100,\"0000000000\")","v":"0000000000"},{"$f":"TEXT(MONTH(MICASH!K1666),\"00\") & TEXT(DAY(MICASH!K1666),\"00\") & RIGHT(TEXT(YEAR(MICASH!K1666),\"00\"),2)","v":"010000"},{"$f":"UPPER(LEFT(MICASH!L1666,96))","v":""}]
["C",288,"00",{"$f":"TEXT(MICASH!D1667,\"0000000000\")","v":"0000000000"}," ",{"$f":"UPPER(MICASH!F1667)","v":""},{"$f":"UPPER(MICASH!G1667)","v":""}," ",{"$f":"TEXT(MICASH!I1667,\"0000000000\")","v":"0000000000"},{"$f":"TEXT(MICASH!J1667*100,\"0000000000\")","v":"0000000000"},{"$f":"TEXT(MONTH(MICASH!K1667),\"00\") & TEXT(DAY(MICASH!K1667),\"00\") & RIGHT(TEXT(YEAR(MICASH!K1667),\"00\"),2)","v":"010000"},{"$f":"UPPER(LEFT(MICASH!L1667,96))","v":""}]
["C",288,"00",{"$f":"TEXT(MICASH!D1668,\"0000000000\")","v":"0000000000"}," ",{"$f":"UPPER(MICASH!F1668)","v":""},{"$f":"UPPER(MICASH!G1668)","v":""}," ",{"$f":"TEXT(MICASH!I1668,\"0000000000\")","v":"0000000000"},{"$f":"TEXT(MICASH!J1668*100,\"0000000000\")","v":"0000000000"},{"$f":"TEXT(MONTH(MICASH!K1668),\"00\") & TEXT(DAY(MICASH!K1668),\"00\") & RIGHT(TEXT(YEAR(MICASH!K1668),\"00\"),2)","v":"010000"},{"$f":"UPPER(LEFT(MICASH!L1668,96))","v":""}]
["C",288,"00",{"$f":"TEXT(MICASH!D1669,\"0000000000\")","v":"0000000000"}," ",{"$f":"UPPER(MICASH!F1669)","v":""},{"$f":"UPPER(MICASH!G1669)","v":""}," ",{"$f":"TEXT(MICASH!I1669,\"0000000000\")","v":"0000000000"},{"$f":"TEXT(MICASH!J1669*100,\"0000000000\")","v":"0000000000"},{"$f":"TEXT(MONTH(MICASH!K1669),\"00\") & TEXT(DAY(MICASH!K1669),\"00\") & RIGHT(TEXT(YEAR(MICASH!K1669),\"00\"),2)","v":"010000"},{"$f":"UPPER(LEFT(MICASH!L1669,96))","v":""}]
["C",288,"00",{"$f":"TEXT(MICASH!D1670,\"0000000000\")","v":"0000000000"}," ",{"$f":"UPPER(MICASH!F1670)","v":""},{"$f":"UPPER(MICASH!G1670)","v":""}," ",{"$f":"TEXT(MICASH!I1670,\"0000000000\")","v":"0000000000"},{"$f":"TEXT(MICASH!J1670*100,\"0000000000\")","v":"0000000000"},{"$f":"TEXT(MONTH(MICASH!K1670),\"00\") & TEXT(DAY(MICASH!K1670),\"00\") & RIGHT(TEXT(YEAR(MICASH!K1670),\"00\"),2)","v":"010000"},{"$f":"UPPER(LEFT(MICASH!L1670,96))","v":""}]
["C",288,"00",{"$f":"TEXT(MICASH!D1671,\"0000000000\")","v":"0000000000"}," ",{"$f":"UPPER(MICASH!F1671)","v":""},{"$f":"UPPER(MICASH!G1671)","v":""}," ",{"$f":"TEXT(MICASH!I1671,\"0000000000\")","v":"0000000000"},{"$f":"TEXT(MICASH!J1671*100,\"0000000000\")","v":"0000000000"},{"$f":"TEXT(MONTH(MICASH!K1671),\"00\") & TEXT(DAY(MICASH!K1671),\"00\") & RIGHT(TEXT(YEAR(MICASH!K1671),\"00\"),2)","v":"010000"},{"$f":"UPPER(LEFT(MICASH!L1671,96))","v":""}]
["C",288,"00",{"$f":"TEXT(MICASH!D1672,\"0000000000\")","v":"0000000000"}," ",{"$f":"UPPER(MICASH!F1672)","v":""},{"$f":"UPPER(MICASH!G1672)","v":""}," ",{"$f":"TEXT(MICASH!I1672,\"0000000000\")","v":"0000000000"},{"$f":"TEXT(MICASH!J1672*100,\"0000000000\")","v":"0000000000"},{"$f":"TEXT(MONTH(MICASH!K1672),\"00\") & TEXT(DAY(MICASH!K1672),\"00\") & RIGHT(TEXT(YEAR(MICASH!K1672),\"00\"),2)","v":"010000"},{"$f":"UPPER(LEFT(MICASH!L1672,96))","v":""}]
["C",288,"00",{"$f":"TEXT(MICASH!D1673,\"0000000000\")","v":"0000000000"}," ",{"$f":"UPPER(MICASH!F1673)","v":""},{"$f":"UPPER(MICASH!G1673)","v":""}," ",{"$f":"TEXT(MICASH!I1673,\"0000000000\")","v":"0000000000"},{"$f":"TEXT(MICASH!J1673*100,\"0000000000\")","v":"0000000000"},{"$f":"TEXT(MONTH(MICASH!K1673),\"00\") & TEXT(DAY(MICASH!K1673),\"00\") & RIGHT(TEXT(YEAR(MICASH!K1673),\"00\"),2)","v":"010000"},{"$f":"UPPER(LEFT(MICASH!L1673,96))","v":""}]
["C",288,"00",{"$f":"TEXT(MICASH!D1674,\"0000000000\")","v":"0000000000"}," ",{"$f":"UPPER(MICASH!F1674)","v":""},{"$f":"UPPER(MICASH!G1674)","v":""}," ",{"$f":"TEXT(MICASH!I1674,\"0000000000\")","v":"0000000000"},{"$f":"TEXT(MICASH!J1674*100,\"0000000000\")","v":"0000000000"},{"$f":"TEXT(MONTH(MICASH!K1674),\"00\") & TEXT(DAY(MICASH!K1674),\"00\") & RIGHT(TEXT(YEAR(MICASH!K1674),\"00\"),2)","v":"010000"},{"$f":"UPPER(LEFT(MICASH!L1674,96))","v":""}]
["C",288,"00",{"$f":"TEXT(MICASH!D1675,\"0000000000\")","v":"0000000000"}," ",{"$f":"UPPER(MICASH!F1675)","v":""},{"$f":"UPPER(MICASH!G1675)","v":""}," ",{"$f":"TEXT(MICASH!I1675,\"0000000000\")","v":"0000000000"},{"$f":"TEXT(MICASH!J1675*100,\"0000000000\")","v":"0000000000"},{"$f":"TEXT(MONTH(MICASH!K1675),\"00\") & TEXT(DAY(MICASH!K1675),\"00\") & RIGHT(TEXT(YEAR(MICASH!K1675),\"00\"),2)","v":"010000"},{"$f":"UPPER(LEFT(MICASH!L1675,96))","v":""}]
["C",288,"00",{"$f":"TEXT(MICASH!D1676,\"0000000000\")","v":"0000000000"}," ",{"$f":"UPPER(MICASH!F1676)","v":""},{"$f":"UPPER(MICASH!G1676)","v":""}," ",{"$f":"TEXT(MICASH!I1676,\"0000000000\")","v":"0000000000"},{"$f":"TEXT(MICASH!J1676*100,\"0000000000\")","v":"0000000000"},{"$f":"TEXT(MONTH(MICASH!K1676),\"00\") & TEXT(DAY(MICASH!K1676),\"00\") & RIGHT(TEXT(YEAR(MICASH!K1676),\"00\"),2)","v":"010000"},{"$f":"UPPER(LEFT(MICASH!L1676,96))","v":""}]
["C",288,"00",{"$f":"TEXT(MICASH!D1677,\"0000000000\")","v":"0000000000"}," ",{"$f":"UPPER(MICASH!F1677)","v":""},{"$f":"UPPER(MICASH!G1677)","v":""}," ",{"$f":"TEXT(MICASH!I1677,\"0000000000\")","v":"0000000000"},{"$f":"TEXT(MICASH!J1677*100,\"0000000000\")","v":"0000000000"},{"$f":"TEXT(MONTH(MICASH!K1677),\"00\") & TEXT(DAY(MICASH!K1677),\"00\") & RIGHT(TEXT(YEAR(MICASH!K1677),\"00\"),2)","v":"010000"},{"$f":"UPPER(LEFT(MICASH!L1677,96))","v":""}]
["C",288,"00",{"$f":"TEXT(MICASH!D1678,\"0000000000\")","v":"0000000000"}," ",{"$f":"UPPER(MICASH!F1678)","v":""},{"$f":"UPPER(MICASH!G1678)","v":""}," ",{"$f":"TEXT(MICASH!I1678,\"0000000000\")","v":"0000000000"},{"$f":"TEXT(MICASH!J1678*100,\"0000000000\")","v":"0000000000"},{"$f":"TEXT(MONTH(MICASH!K1678),\"00\") & TEXT(DAY(MICASH!K1678),\"00\") & RIGHT(TEXT(YEAR(MICASH!K1678),\"00\"),2)","v":"010000"},{"$f":"UPPER(LEFT(MICASH!L1678,96))","v":""}]
["C",288,"00",{"$f":"TEXT(MICASH!D1679,\"0000000000\")","v":"0000000000"}," ",{"$f":"UPPER(MICASH!F1679)","v":""},{"$f":"UPPER(MICASH!G1679)","v":""}," ",{"$f":"TEXT(MICASH!I1679,\"0000000000\")","v":"0000000000"},{"$f":"TEXT(MICASH!J1679*100,\"0000000000\")","v":"0000000000"},{"$f":"TEXT(MONTH(MICASH!K1679),\"00\") & TEXT(DAY(MICASH!K1679),\"00\") & RIGHT(TEXT(YEAR(MICASH!K1679),\"00\"),2)","v":"010000"},{"$f":"UPPER(LEFT(MICASH!L1679,96))","v":""}]
["C",288,"00",{"$f":"TEXT(MICASH!D1680,\"0000000000\")","v":"0000000000"}," ",{"$f":"UPPER(MICASH!F1680)","v":""},{"$f":"UPPER(MICASH!G1680)","v":""}," ",{"$f":"TEXT(MICASH!I1680,\"0000000000\")","v":"0000000000"},{"$f":"TEXT(MICASH!J1680*100,\"0000000000\")","v":"0000000000"},{"$f":"TEXT(MONTH(MICASH!K1680),\"00\") & TEXT(DAY(MICASH!K1680),\"00\") & RIGHT(TEXT(YEAR(MICASH!K1680),\"00\"),2)","v":"010000"},{"$f":"UPPER(LEFT(MICASH!L1680,96))","v":""}]
["C",288,"00",{"$f":"TEXT(MICASH!D1681,\"0000000000\")","v":"0000000000"}," ",{"$f":"UPPER(MICASH!F1681)","v":""},{"$f":"UPPER(MICASH!G1681)","v":""}," ",{"$f":"TEXT(MICASH!I1681,\"0000000000\")","v":"0000000000"},{"$f":"TEXT(MICASH!J1681*100,\"0000000000\")","v":"0000000000"},{"$f":"TEXT(MONTH(MICASH!K1681),\"00\") & TEXT(DAY(MICASH!K1681),\"00\") & RIGHT(TEXT(YEAR(MICASH!K1681),\"00\"),2)","v":"010000"},{"$f":"UPPER(LEFT(MICASH!L1681,96))","v":""}]
["C",288,"00",{"$f":"TEXT(MICASH!D1682,\"0000000000\")","v":"0000000000"}," ",{"$f":"UPPER(MICASH!F1682)","v":""},{"$f":"UPPER(MICASH!G1682)","v":""}," ",{"$f":"TEXT(MICASH!I1682,\"0000000000\")","v":"0000000000"},{"$f":"TEXT(MICASH!J1682*100,\"0000000000\")","v":"0000000000"},{"$f":"TEXT(MONTH(MICASH!K1682),\"00\") & TEXT(DAY(MICASH!K1682),\"00\") & RIGHT(TEXT(YEAR(MICASH!K1682),\"00\"),2)","v":"010000"},{"$f":"UPPER(LEFT(MICASH!L1682,96))","v":""}]
["C",288,"00",{"$f":"TEXT(MICASH!D1683,\"0000000000\")","v":"0000000000"}," ",{"$f":"UPPER(MICASH!F1683)","v":""},{"$f":"UPPER(MICASH!G1683)","v":""}," ",{"$f":"TEXT(MICASH!I1683,\"0000000000\")","v":"0000000000"},{"$f":"TEXT(MICASH!J1683*100,\"0000000000\")","v":"0000000000"},{"$f":"TEXT(MONTH(MICASH!K1683),\"00\") & TEXT(DAY(MICASH!K1683),\"00\") & RIGHT(TEXT(YEAR(MICASH!K1683),\"00\"),2)","v":"010000"},{"$f":"UPPER(LEFT(MICASH!L1683,96))","v":""}]
["C",288,"00",{"$f":"TEXT(MICASH!D1684,\"0000000000\")","v":"0000000000"}," ",{"$f":"UPPER(MICASH!F1684)","v":""},{"$f":"UPPER(MICASH!G1684)","v":""}," ",{"$f":"TEXT(MICASH!I1684,\"0000000000\")","v":"0000000000"},{"$f":"TEXT(MICASH!J1684*100,\"0000000000\")","v":"0000000000"},{"$f":"TEXT(MONTH(MICASH!K1684),\"00\") & TEXT(DAY(MICASH!K1684),\"00\") & RIGHT(TEXT(YEAR(MICASH!K1684),\"00\"),2)","v":"010000"},{"$f":"UPPER(LEFT(MICASH!L1684,96))","v":""}]
["C",288,"00",{"$f":"TEXT(MICASH!D1685,\"0000000000\")","v":"0000000000"}," ",{"$f":"UPPER(MICASH!F1685)","v":""},{"$f":"UPPER(MICASH!G1685)","v":""}," ",{"$f":"TEXT(MICASH!I1685,\"0000000000\")","v":"0000000000"},{"$f":"TEXT(MICASH!J1685*100,\"0000000000\")","v":"0000000000"},{"$f":"TEXT(MONTH(MICASH!K1685),\"00\") & TEXT(DAY(MICASH!K1685),\"00\") & RIGHT(TEXT(YEAR(MICASH!K1685),\"00\"),2)","v":"010000"},{"$f":"UPPER(LEFT(MICASH!L1685,96))","v":""}]
["C",288,"00",{"$f":"TEXT(MICASH!D1686,\"0000000000\")","v":"0000000000"}," ",{"$f":"UPPER(MICASH!F1686)","v":""},{"$f":"UPPER(MICASH!G1686)","v":""}," ",{"$f":"TEXT(MICASH!I1686,\"0000000000\")","v":"0000000000"},{"$f":"TEXT(MICASH!J1686*100,\"0000000000\")","v":"0000000000"},{"$f":"TEXT(MONTH(MICASH!K1686),\"00\") & TEXT(DAY(MICASH!K1686),\"00\") & RIGHT(TEXT(YEAR(MICASH!K1686),\"00\"),2)","v":"010000"},{"$f":"UPPER(LEFT(MICASH!L1686,96))","v":""}]
["C",288,"00",{"$f":"TEXT(MICASH!D1687,\"0000000000\")","v":"0000000000"}," ",{"$f":"UPPER(MICASH!F1687)","v":""},{"$f":"UPPER(MICASH!G1687)","v":""}," ",{"$f":"TEXT(MICASH!I1687,\"0000000000\")","v":"0000000000"},{"$f":"TEXT(MICASH!J1687*100,\"0000000000\")","v":"0000000000"},{"$f":"TEXT(MONTH(MICASH!K1687),\"00\") & TEXT(DAY(MICASH!K1687),\"00\") & RIGHT(TEXT(YEAR(MICASH!K1687),\"00\"),2)","v":"010000"},{"$f":"UPPER(LEFT(MICASH!L1687,96))","v":""}]
["C",288,"00",{"$f":"TEXT(MICASH!D1688,\"0000000000\")","v":"0000000000"}," ",{"$f":"UPPER(MICASH!F1688)","v":""},{"$f":"UPPER(MICASH!G1688)","v":""}," ",{"$f":"TEXT(MICASH!I1688,\"0000000000\")","v":"0000000000"},{"$f":"TEXT(MICASH!J1688*100,\"0000000000\")","v":"0000000000"},{"$f":"TEXT(MONTH(MICASH!K1688),\"00\") & TEXT(DAY(MICASH!K1688),\"00\") & RIGHT(TEXT(YEAR(MICASH!K1688),\"00\"),2)","v":"010000"},{"$f":"UPPER(LEFT(MICASH!L1688,96))","v":""}]
["C",288,"00",{"$f":"TEXT(MICASH!D1689,\"0000000000\")","v":"0000000000"}," ",{"$f":"UPPER(MICASH!F1689)","v":""},{"$f":"UPPER(MICASH!G1689)","v":""}," ",{"$f":"TEXT(MICASH!I1689,\"0000000000\")","v":"0000000000"},{"$f":"TEXT(MICASH!J1689*100,\"0000000000\")","v":"0000000000"},{"$f":"TEXT(MONTH(MICASH!K1689),\"00\") & TEXT(DAY(MICASH!K1689),\"00\") & RIGHT(TEXT(YEAR(MICASH!K1689),\"00\"),2)","v":"010000"},{"$f":"UPPER(LEFT(MICASH!L1689,96))","v":""}]
["C",288,"00",{"$f":"TEXT(MICASH!D1690,\"0000000000\")","v":"0000000000"}," ",{"$f":"UPPER(MICASH!F1690)","v":""},{"$f":"UPPER(MICASH!G1690)","v":""}," ",{"$f":"TEXT(MICASH!I1690,\"0000000000\")","v":"0000000000"},{"$f":"TEXT(MICASH!J1690*100,\"0000000000\")","v":"0000000000"},{"$f":"TEXT(MONTH(MICASH!K1690),\"00\") & TEXT(DAY(MICASH!K1690),\"00\") & RIGHT(TEXT(YEAR(MICASH!K1690),\"00\"),2)","v":"010000"},{"$f":"UPPER(LEFT(MICASH!L1690,96))","v":""}]
["C",288,"00",{"$f":"TEXT(MICASH!D1691,\"0000000000\")","v":"0000000000"}," ",{"$f":"UPPER(MICASH!F1691)","v":""},{"$f":"UPPER(MICASH!G1691)","v":""}," ",{"$f":"TEXT(MICASH!I1691,\"0000000000\")","v":"0000000000"},{"$f":"TEXT(MICASH!J1691*100,\"0000000000\")","v":"0000000000"},{"$f":"TEXT(MONTH(MICASH!K1691),\"00\") & TEXT(DAY(MICASH!K1691),\"00\") & RIGHT(TEXT(YEAR(MICASH!K1691),\"00\"),2)","v":"010000"},{"$f":"UPPER(LEFT(MICASH!L1691,96))","v":""}]
["C",288,"00",{"$f":"TEXT(MICASH!D1692,\"0000000000\")","v":"0000000000"}," ",{"$f":"UPPER(MICASH!F1692)","v":""},{"$f":"UPPER(MICASH!G1692)","v":""}," ",{"$f":"TEXT(MICASH!I1692,\"0000000000\")","v":"0000000000"},{"$f":"TEXT(MICASH!J1692*100,\"0000000000\")","v":"0000000000"},{"$f":"TEXT(MONTH(MICASH!K1692),\"00\") & TEXT(DAY(MICASH!K1692),\"00\") & RIGHT(TEXT(YEAR(MICASH!K1692),\"00\"),2)","v":"010000"},{"$f":"UPPER(LEFT(MICASH!L1692,96))","v":""}]
["C",288,"00",{"$f":"TEXT(MICASH!D1693,\"0000000000\")","v":"0000000000"}," ",{"$f":"UPPER(MICASH!F1693)","v":""},{"$f":"UPPER(MICASH!G1693)","v":""}," ",{"$f":"TEXT(MICASH!I1693,\"0000000000\")","v":"0000000000"},{"$f":"TEXT(MICASH!J1693*100,\"0000000000\")","v":"0000000000"},{"$f":"TEXT(MONTH(MICASH!K1693),\"00\") & TEXT(DAY(MICASH!K1693),\"00\") & RIGHT(TEXT(YEAR(MICASH!K1693),\"00\"),2)","v":"010000"},{"$f":"UPPER(LEFT(MICASH!L1693,96))","v":""}]
["C",288,"00",{"$f":"TEXT(MICASH!D1694,\"0000000000\")","v":"0000000000"}," ",{"$f":"UPPER(MICASH!F1694)","v":""},{"$f":"UPPER(MICASH!G1694)","v":""}," ",{"$f":"TEXT(MICASH!I1694,\"0000000000\")","v":"0000000000"},{"$f":"TEXT(MICASH!J1694*100,\"0000000000\")","v":"0000000000"},{"$f":"TEXT(MONTH(MICASH!K1694),\"00\") & TEXT(DAY(MICASH!K1694),\"00\") & RIGHT(TEXT(YEAR(MICASH!K1694),\"00\"),2)","v":"010000"},{"$f":"UPPER(LEFT(MICASH!L1694,96))","v":""}]
["C",288,"00",{"$f":"TEXT(MICASH!D1695,\"0000000000\")","v":"0000000000"}," ",{"$f":"UPPER(MICASH!F1695)","v":""},{"$f":"UPPER(MICASH!G1695)","v":""}," ",{"$f":"TEXT(MICASH!I1695,\"0000000000\")","v":"0000000000"},{"$f":"TEXT(MICASH!J1695*100,\"0000000000\")","v":"0000000000"},{"$f":"TEXT(MONTH(MICASH!K1695),\"00\") & TEXT(DAY(MICASH!K1695),\"00\") & RIGHT(TEXT(YEAR(MICASH!K1695),\"00\"),2)","v":"010000"},{"$f":"UPPER(LEFT(MICASH!L1695,96))","v":""}]
["C",288,"00",{"$f":"TEXT(MICASH!D1696,\"0000000000\")","v":"0000000000"}," ",{"$f":"UPPER(MICASH!F1696)","v":""},{"$f":"UPPER(MICASH!G1696)","v":""}," ",{"$f":"TEXT(MICASH!I1696,\"0000000000\")","v":"0000000000"},{"$f":"TEXT(MICASH!J1696*100,\"0000000000\")","v":"0000000000"},{"$f":"TEXT(MONTH(MICASH!K1696),\"00\") & TEXT(DAY(MICASH!K1696),\"00\") & RIGHT(TEXT(YEAR(MICASH!K1696),\"00\"),2)","v":"010000"},{"$f":"UPPER(LEFT(MICASH!L1696,96))","v":""}]
["C",288,"00",{"$f":"TEXT(MICASH!D1697,\"0000000000\")","v":"0000000000"}," ",{"$f":"UPPER(MICASH!F1697)","v":""},{"$f":"UPPER(MICASH!G1697)","v":""}," ",{"$f":"TEXT(MICASH!I1697,\"0000000000\")","v":"0000000000"},{"$f":"TEXT(MICASH!J1697*100,\"0000000000\")","v":"0000000000"},{"$f":"TEXT(MONTH(MICASH!K1697),\"00\") & TEXT(DAY(MICASH!K1697),\"00\") & RIGHT(TEXT(YEAR(MICASH!K1697),\"00\"),2)","v":"010000"},{"$f":"UPPER(LEFT(MICASH!L1697,96))","v":""}]
["C",288,"00",{"$f":"TEXT(MICASH!D1698,\"0000000000\")","v":"0000000000"}," ",{"$f":"UPPER(MICASH!F1698)","v":""},{"$f":"UPPER(MICASH!G1698)","v":""}," ",{"$f":"TEXT(MICASH!I1698,\"0000000000\")","v":"0000000000"},{"$f":"TEXT(MICASH!J1698*100,\"0000000000\")","v":"0000000000"},{"$f":"TEXT(MONTH(MICASH!K1698),\"00\") & TEXT(DAY(MICASH!K1698),\"00\") & RIGHT(TEXT(YEAR(MICASH!K1698),\"00\"),2)","v":"010000"},{"$f":"UPPER(LEFT(MICASH!L1698,96))","v":""}]
["C",288,"00",{"$f":"TEXT(MICASH!D1699,\"0000000000\")","v":"0000000000"}," ",{"$f":"UPPER(MICASH!F1699)","v":""},{"$f":"UPPER(MICASH!G1699)","v":""}," ",{"$f":"TEXT(MICASH!I1699,\"0000000000\")","v":"0000000000"},{"$f":"TEXT(MICASH!J1699*100,\"0000000000\")","v":"0000000000"},{"$f":"TEXT(MONTH(MICASH!K1699),\"00\") & TEXT(DAY(MICASH!K1699),\"00\") & RIGHT(TEXT(YEAR(MICASH!K1699),\"00\"),2)","v":"010000"},{"$f":"UPPER(LEFT(MICASH!L1699,96))","v":""}]
["C",288,"00",{"$f":"TEXT(MICASH!D1700,\"0000000000\")","v":"0000000000"}," ",{"$f":"UPPER(MICASH!F1700)","v":""},{"$f":"UPPER(MICASH!G1700)","v":""}," ",{"$f":"TEXT(MICASH!I1700,\"0000000000\")","v":"0000000000"},{"$f":"TEXT(MICASH!J1700*100,\"0000000000\")","v":"0000000000"},{"$f":"TEXT(MONTH(MICASH!K1700),\"00\") & TEXT(DAY(MICASH!K1700),\"00\") & RIGHT(TEXT(YEAR(MICASH!K1700),\"00\"),2)","v":"010000"},{"$f":"UPPER(LEFT(MICASH!L1700,96))","v":""}]
["C",288,"00",{"$f":"TEXT(MICASH!D1701,\"0000000000\")","v":"0000000000"}," ",{"$f":"UPPER(MICASH!F1701)","v":""},{"$f":"UPPER(MICASH!G1701)","v":""}," ",{"$f":"TEXT(MICASH!I1701,\"0000000000\")","v":"0000000000"},{"$f":"TEXT(MICASH!J1701*100,\"0000000000\")","v":"0000000000"},{"$f":"TEXT(MONTH(MICASH!K1701),\"00\") & TEXT(DAY(MICASH!K1701),\"00\") & RIGHT(TEXT(YEAR(MICASH!K1701),\"00\"),2)","v":"010000"},{"$f":"UPPER(LEFT(MICASH!L1701,96))","v":""}]
["C",288,"00",{"$f":"TEXT(MICASH!D1702,\"0000000000\")","v":"0000000000"}," ",{"$f":"UPPER(MICASH!F1702)","v":""},{"$f":"UPPER(MICASH!G1702)","v":""}," ",{"$f":"TEXT(MICASH!I1702,\"0000000000\")","v":"0000000000"},{"$f":"TEXT(MICASH!J1702*100,\"0000000000\")","v":"0000000000"},{"$f":"TEXT(MONTH(MICASH!K1702),\"00\") & TEXT(DAY(MICASH!K1702),\"00\") & RIGHT(TEXT(YEAR(MICASH!K1702),\"00\"),2)","v":"010000"},{"$f":"UPPER(LEFT(MICASH!L1702,96))","v":""}]
["C",288,"00",{"$f":"TEXT(MICASH!D1703,\"0000000000\")","v":"0000000000"}," ",{"$f":"UPPER(MICASH!F1703)","v":""},{"$f":"UPPER(MICASH!G1703)","v":""}," ",{"$f":"TEXT(MICASH!I1703,\"0000000000\")","v":"0000000000"},{"$f":"TEXT(MICASH!J1703*100,\"0000000000\")","v":"0000000000"},{"$f":"TEXT(MONTH(MICASH!K1703),\"00\") & TEXT(DAY(MICASH!K1703),\"00\") & RIGHT(TEXT(YEAR(MICASH!K1703),\"00\"),2)","v":"010000"},{"$f":"UPPER(LEFT(MICASH!L1703,96))","v":""}]
["C",288,"00",{"$f":"TEXT(MICASH!D1704,\"0000000000\")","v":"0000000000"}," ",{"$f":"UPPER(MICASH!F1704)","v":""},{"$f":"UPPER(MICASH!G1704)","v":""}," ",{"$f":"TEXT(MICASH!I1704,\"0000000000\")","v":"0000000000"},{"$f":"TEXT(MICASH!J1704*100,\"0000000000\")","v":"0000000000"},{"$f":"TEXT(MONTH(MICASH!K1704),\"00\") & TEXT(DAY(MICASH!K1704),\"00\") & RIGHT(TEXT(YEAR(MICASH!K1704),\"00\"),2)","v":"010000"},{"$f":"UPPER(LEFT(MICASH!L1704,96))","v":""}]
["C",288,"00",{"$f":"TEXT(MICASH!D1705,\"0000000000\")","v":"0000000000"}," ",{"$f":"UPPER(MICASH!F1705)","v":""},{"$f":"UPPER(MICASH!G1705)","v":""}," ",{"$f":"TEXT(MICASH!I1705,\"0000000000\")","v":"0000000000"},{"$f":"TEXT(MICASH!J1705*100,\"0000000000\")","v":"0000000000"},{"$f":"TEXT(MONTH(MICASH!K1705),\"00\") & TEXT(DAY(MICASH!K1705),\"00\") & RIGHT(TEXT(YEAR(MICASH!K1705),\"00\"),2)","v":"010000"},{"$f":"UPPER(LEFT(MICASH!L1705,96))","v":""}]
["C",288,"00",{"$f":"TEXT(MICASH!D1706,\"0000000000\")","v":"0000000000"}," ",{"$f":"UPPER(MICASH!F1706)","v":""},{"$f":"UPPER(MICASH!G1706)","v":""}," ",{"$f":"TEXT(MICASH!I1706,\"0000000000\")","v":"0000000000"},{"$f":"TEXT(MICASH!J1706*100,\"0000000000\")","v":"0000000000"},{"$f":"TEXT(MONTH(MICASH!K1706),\"00\") & TEXT(DAY(MICASH!K1706),\"00\") & RIGHT(TEXT(YEAR(MICASH!K1706),\"00\"),2)","v":"010000"},{"$f":"UPPER(LEFT(MICASH!L1706,96))","v":""}]
["C",288,"00",{"$f":"TEXT(MICASH!D1707,\"0000000000\")","v":"0000000000"}," ",{"$f":"UPPER(MICASH!F1707)","v":""},{"$f":"UPPER(MICASH!G1707)","v":""}," ",{"$f":"TEXT(MICASH!I1707,\"0000000000\")","v":"0000000000"},{"$f":"TEXT(MICASH!J1707*100,\"0000000000\")","v":"0000000000"},{"$f":"TEXT(MONTH(MICASH!K1707),\"00\") & TEXT(DAY(MICASH!K1707),\"00\") & RIGHT(TEXT(YEAR(MICASH!K1707),\"00\"),2)","v":"010000"},{"$f":"UPPER(LEFT(MICASH!L1707,96))","v":""}]
["C",288,"00",{"$f":"TEXT(MICASH!D1708,\"0000000000\")","v":"0000000000"}," ",{"$f":"UPPER(MICASH!F1708)","v":""},{"$f":"UPPER(MICASH!G1708)","v":""}," ",{"$f":"TEXT(MICASH!I1708,\"0000000000\")","v":"0000000000"},{"$f":"TEXT(MICASH!J1708*100,\"0000000000\")","v":"0000000000"},{"$f":"TEXT(MONTH(MICASH!K1708),\"00\") & TEXT(DAY(MICASH!K1708),\"00\") & RIGHT(TEXT(YEAR(MICASH!K1708),\"00\"),2)","v":"010000"},{"$f":"UPPER(LEFT(MICASH!L1708,96))","v":""}]
["C",288,"00",{"$f":"TEXT(MICASH!D1709,\"0000000000\")","v":"0000000000"}," ",{"$f":"UPPER(MICASH!F1709)","v":""},{"$f":"UPPER(MICASH!G1709)","v":""}," ",{"$f":"TEXT(MICASH!I1709,\"0000000000\")","v":"0000000000"},{"$f":"TEXT(MICASH!J1709*100,\"0000000000\")","v":"0000000000"},{"$f":"TEXT(MONTH(MICASH!K1709),\"00\") & TEXT(DAY(MICASH!K1709),\"00\") & RIGHT(TEXT(YEAR(MICASH!K1709),\"00\"),2)","v":"010000"},{"$f":"UPPER(LEFT(MICASH!L1709,96))","v":""}]
["C",288,"00",{"$f":"TEXT(MICASH!D1710,\"0000000000\")","v":"0000000000"}," ",{"$f":"UPPER(MICASH!F1710)","v":""},{"$f":"UPPER(MICASH!G1710)","v":""}," ",{"$f":"TEXT(MICASH!I1710,\"0000000000\")","v":"0000000000"},{"$f":"TEXT(MICASH!J1710*100,\"0000000000\")","v":"0000000000"},{"$f":"TEXT(MONTH(MICASH!K1710),\"00\") & TEXT(DAY(MICASH!K1710),\"00\") & RIGHT(TEXT(YEAR(MICASH!K1710),\"00\"),2)","v":"010000"},{"$f":"UPPER(LEFT(MICASH!L1710,96))","v":""}]
["C",288,"00",{"$f":"TEXT(MICASH!D1711,\"0000000000\")","v":"0000000000"}," ",{"$f":"UPPER(MICASH!F1711)","v":""},{"$f":"UPPER(MICASH!G1711)","v":""}," ",{"$f":"TEXT(MICASH!I1711,\"0000000000\")","v":"0000000000"},{"$f":"TEXT(MICASH!J1711*100,\"0000000000\")","v":"0000000000"},{"$f":"TEXT(MONTH(MICASH!K1711),\"00\") & TEXT(DAY(MICASH!K1711),\"00\") & RIGHT(TEXT(YEAR(MICASH!K1711),\"00\"),2)","v":"010000"},{"$f":"UPPER(LEFT(MICASH!L1711,96))","v":""}]
["C",288,"00",{"$f":"TEXT(MICASH!D1712,\"0000000000\")","v":"0000000000"}," ",{"$f":"UPPER(MICASH!F1712)","v":""},{"$f":"UPPER(MICASH!G1712)","v":""}," ",{"$f":"TEXT(MICASH!I1712,\"0000000000\")","v":"0000000000"},{"$f":"TEXT(MICASH!J1712*100,\"0000000000\")","v":"0000000000"},{"$f":"TEXT(MONTH(MICASH!K1712),\"00\") & TEXT(DAY(MICASH!K1712),\"00\") & RIGHT(TEXT(YEAR(MICASH!K1712),\"00\"),2)","v":"010000"},{"$f":"UPPER(LEFT(MICASH!L1712,96))","v":""}]
["C",288,"00",{"$f":"TEXT(MICASH!D1713,\"0000000000\")","v":"0000000000"}," ",{"$f":"UPPER(MICASH!F1713)","v":""},{"$f":"UPPER(MICASH!G1713)","v":""}," ",{"$f":"TEXT(MICASH!I1713,\"0000000000\")","v":"0000000000"},{"$f":"TEXT(MICASH!J1713*100,\"0000000000\")","v":"0000000000"},{"$f":"TEXT(MONTH(MICASH!K1713),\"00\") & TEXT(DAY(MICASH!K1713),\"00\") & RIGHT(TEXT(YEAR(MICASH!K1713),\"00\"),2)","v":"010000"},{"$f":"UPPER(LEFT(MICASH!L1713,96))","v":""}]
["C",288,"00",{"$f":"TEXT(MICASH!D1714,\"0000000000\")","v":"0000000000"}," ",{"$f":"UPPER(MICASH!F1714)","v":""},{"$f":"UPPER(MICASH!G1714)","v":""}," ",{"$f":"TEXT(MICASH!I1714,\"0000000000\")","v":"0000000000"},{"$f":"TEXT(MICASH!J1714*100,\"0000000000\")","v":"0000000000"},{"$f":"TEXT(MONTH(MICASH!K1714),\"00\") & TEXT(DAY(MICASH!K1714),\"00\") & RIGHT(TEXT(YEAR(MICASH!K1714),\"00\"),2)","v":"010000"},{"$f":"UPPER(LEFT(MICASH!L1714,96))","v":""}]
["C",288,"00",{"$f":"TEXT(MICASH!D1715,\"0000000000\")","v":"0000000000"}," ",{"$f":"UPPER(MICASH!F1715)","v":""},{"$f":"UPPER(MICASH!G1715)","v":""}," ",{"$f":"TEXT(MICASH!I1715,\"0000000000\")","v":"0000000000"},{"$f":"TEXT(MICASH!J1715*100,\"0000000000\")","v":"0000000000"},{"$f":"TEXT(MONTH(MICASH!K1715),\"00\") & TEXT(DAY(MICASH!K1715),\"00\") & RIGHT(TEXT(YEAR(MICASH!K1715),\"00\"),2)","v":"010000"},{"$f":"UPPER(LEFT(MICASH!L1715,96))","v":""}]
["C",288,"00",{"$f":"TEXT(MICASH!D1716,\"0000000000\")","v":"0000000000"}," ",{"$f":"UPPER(MICASH!F1716)","v":""},{"$f":"UPPER(MICASH!G1716)","v":""}," ",{"$f":"TEXT(MICASH!I1716,\"0000000000\")","v":"0000000000"},{"$f":"TEXT(MICASH!J1716*100,\"0000000000\")","v":"0000000000"},{"$f":"TEXT(MONTH(MICASH!K1716),\"00\") & TEXT(DAY(MICASH!K1716),\"00\") & RIGHT(TEXT(YEAR(MICASH!K1716),\"00\"),2)","v":"010000"},{"$f":"UPPER(LEFT(MICASH!L1716,96))","v":""}]
["C",288,"00",{"$f":"TEXT(MICASH!D1717,\"0000000000\")","v":"0000000000"}," ",{"$f":"UPPER(MICASH!F1717)","v":""},{"$f":"UPPER(MICASH!G1717)","v":""}," ",{"$f":"TEXT(MICASH!I1717,\"0000000000\")","v":"0000000000"},{"$f":"TEXT(MICASH!J1717*100,\"0000000000\")","v":"0000000000"},{"$f":"TEXT(MONTH(MICASH!K1717),\"00\") & TEXT(DAY(MICASH!K1717),\"00\") & RIGHT(TEXT(YEAR(MICASH!K1717),\"00\"),2)","v":"010000"},{"$f":"UPPER(LEFT(MICASH!L1717,96))","v":""}]
["C",288,"00",{"$f":"TEXT(MICASH!D1718,\"0000000000\")","v":"0000000000"}," ",{"$f":"UPPER(MICASH!F1718)","v":""},{"$f":"UPPER(MICASH!G1718)","v":""}," ",{"$f":"TEXT(MICASH!I1718,\"0000000000\")","v":"0000000000"},{"$f":"TEXT(MICASH!J1718*100,\"0000000000\")","v":"0000000000"},{"$f":"TEXT(MONTH(MICASH!K1718),\"00\") & TEXT(DAY(MICASH!K1718),\"00\") & RIGHT(TEXT(YEAR(MICASH!K1718),\"00\"),2)","v":"010000"},{"$f":"UPPER(LEFT(MICASH!L1718,96))","v":""}]
["C",288,"00",{"$f":"TEXT(MICASH!D1719,\"0000000000\")","v":"0000000000"}," ",{"$f":"UPPER(MICASH!F1719)","v":""},{"$f":"UPPER(MICASH!G1719)","v":""}," ",{"$f":"TEXT(MICASH!I1719,\"0000000000\")","v":"0000000000"},{"$f":"TEXT(MICASH!J1719*100,\"0000000000\")","v":"0000000000"},{"$f":"TEXT(MONTH(MICASH!K1719),\"00\") & TEXT(DAY(MICASH!K1719),\"00\") & RIGHT(TEXT(YEAR(MICASH!K1719),\"00\"),2)","v":"010000"},{"$f":"UPPER(LEFT(MICASH!L1719,96))","v":""}]
["C",288,"00",{"$f":"TEXT(MICASH!D1720,\"0000000000\")","v":"0000000000"}," ",{"$f":"UPPER(MICASH!F1720)","v":""},{"$f":"UPPER(MICASH!G1720)","v":""}," ",{"$f":"TEXT(MICASH!I1720,\"0000000000\")","v":"0000000000"},{"$f":"TEXT(MICASH!J1720*100,\"0000000000\")","v":"0000000000"},{"$f":"TEXT(MONTH(MICASH!K1720),\"00\") & TEXT(DAY(MICASH!K1720),\"00\") & RIGHT(TEXT(YEAR(MICASH!K1720),\"00\"),2)","v":"010000"},{"$f":"UPPER(LEFT(MICASH!L1720,96))","v":""}]
["C",288,"00",{"$f":"TEXT(MICASH!D1721,\"0000000000\")","v":"0000000000"}," ",{"$f":"UPPER(MICASH!F1721)","v":""},{"$f":"UPPER(MICASH!G1721)","v":""}," ",{"$f":"TEXT(MICASH!I1721,\"0000000000\")","v":"0000000000"},{"$f":"TEXT(MICASH!J1721*100,\"0000000000\")","v":"0000000000"},{"$f":"TEXT(MONTH(MICASH!K1721),\"00\") & TEXT(DAY(MICASH!K1721),\"00\") & RIGHT(TEXT(YEAR(MICASH!K1721),\"00\"),2)","v":"010000"},{"$f":"UPPER(LEFT(MICASH!L1721,96))","v":""}]
["C",288,"00",{"$f":"TEXT(MICASH!D1722,\"0000000000\")","v":"0000000000"}," ",{"$f":"UPPER(MICASH!F1722)","v":""},{"$f":"UPPER(MICASH!G1722)","v":""}," ",{"$f":"TEXT(MICASH!I1722,\"0000000000\")","v":"0000000000"},{"$f":"TEXT(MICASH!J1722*100,\"0000000000\")","v":"0000000000"},{"$f":"TEXT(MONTH(MICASH!K1722),\"00\") & TEXT(DAY(MICASH!K1722),\"00\") & RIGHT(TEXT(YEAR(MICASH!K1722),\"00\"),2)","v":"010000"},{"$f":"UPPER(LEFT(MICASH!L1722,96))","v":""}]
["C",288,"00",{"$f":"TEXT(MICASH!D1723,\"0000000000\")","v":"0000000000"}," ",{"$f":"UPPER(MICASH!F1723)","v":""},{"$f":"UPPER(MICASH!G1723)","v":""}," ",{"$f":"TEXT(MICASH!I1723,\"0000000000\")","v":"0000000000"},{"$f":"TEXT(MICASH!J1723*100,\"0000000000\")","v":"0000000000"},{"$f":"TEXT(MONTH(MICASH!K1723),\"00\") & TEXT(DAY(MICASH!K1723),\"00\") & RIGHT(TEXT(YEAR(MICASH!K1723),\"00\"),2)","v":"010000"},{"$f":"UPPER(LEFT(MICASH!L1723,96))","v":""}]
["C",288,"00",{"$f":"TEXT(MICASH!D1724,\"0000000000\")","v":"0000000000"}," ",{"$f":"UPPER(MICASH!F1724)","v":""},{"$f":"UPPER(MICASH!G1724)","v":""}," ",{"$f":"TEXT(MICASH!I1724,\"0000000000\")","v":"0000000000"},{"$f":"TEXT(MICASH!J1724*100,\"0000000000\")","v":"0000000000"},{"$f":"TEXT(MONTH(MICASH!K1724),\"00\") & TEXT(DAY(MICASH!K1724),\"00\") & RIGHT(TEXT(YEAR(MICASH!K1724),\"00\"),2)","v":"010000"},{"$f":"UPPER(LEFT(MICASH!L1724,96))","v":""}]
["C",288,"00",{"$f":"TEXT(MICASH!D1725,\"0000000000\")","v":"0000000000"}," ",{"$f":"UPPER(MICASH!F1725)","v":""},{"$f":"UPPER(MICASH!G1725)","v":""}," ",{"$f":"TEXT(MICASH!I1725,\"0000000000\")","v":"0000000000"},{"$f":"TEXT(MICASH!J1725*100,\"0000000000\")","v":"0000000000"},{"$f":"TEXT(MONTH(MICASH!K1725),\"00\") & TEXT(DAY(MICASH!K1725),\"00\") & RIGHT(TEXT(YEAR(MICASH!K1725),\"00\"),2)","v":"010000"},{"$f":"UPPER(LEFT(MICASH!L1725,96))","v":""}]
["C",288,"00",{"$f":"TEXT(MICASH!D1726,\"0000000000\")","v":"0000000000"}," ",{"$f":"UPPER(MICASH!F1726)","v":""},{"$f":"UPPER(MICASH!G1726)","v":""}," ",{"$f":"TEXT(MICASH!I1726,\"0000000000\")","v":"0000000000"},{"$f":"TEXT(MICASH!J1726*100,\"0000000000\")","v":"0000000000"},{"$f":"TEXT(MONTH(MICASH!K1726),\"00\") & TEXT(DAY(MICASH!K1726),\"00\") & RIGHT(TEXT(YEAR(MICASH!K1726),\"00\"),2)","v":"010000"},{"$f":"UPPER(LEFT(MICASH!L1726,96))","v":""}]
["C",288,"00",{"$f":"TEXT(MICASH!D1727,\"0000000000\")","v":"0000000000"}," ",{"$f":"UPPER(MICASH!F1727)","v":""},{"$f":"UPPER(MICASH!G1727)","v":""}," ",{"$f":"TEXT(MICASH!I1727,\"0000000000\")","v":"0000000000"},{"$f":"TEXT(MICASH!J1727*100,\"0000000000\")","v":"0000000000"},{"$f":"TEXT(MONTH(MICASH!K1727),\"00\") & TEXT(DAY(MICASH!K1727),\"00\") & RIGHT(TEXT(YEAR(MICASH!K1727),\"00\"),2)","v":"010000"},{"$f":"UPPER(LEFT(MICASH!L1727,96))","v":""}]
["C",288,"00",{"$f":"TEXT(MICASH!D1728,\"0000000000\")","v":"0000000000"}," ",{"$f":"UPPER(MICASH!F1728)","v":""},{"$f":"UPPER(MICASH!G1728)","v":""}," ",{"$f":"TEXT(MICASH!I1728,\"0000000000\")","v":"0000000000"},{"$f":"TEXT(MICASH!J1728*100,\"0000000000\")","v":"0000000000"},{"$f":"TEXT(MONTH(MICASH!K1728),\"00\") & TEXT(DAY(MICASH!K1728),\"00\") & RIGHT(TEXT(YEAR(MICASH!K1728),\"00\"),2)","v":"010000"},{"$f":"UPPER(LEFT(MICASH!L1728,96))","v":""}]
["C",288,"00",{"$f":"TEXT(MICASH!D1729,\"0000000000\")","v":"0000000000"}," ",{"$f":"UPPER(MICASH!F1729)","v":""},{"$f":"UPPER(MICASH!G1729)","v":""}," ",{"$f":"TEXT(MICASH!I1729,\"0000000000\")","v":"0000000000"},{"$f":"TEXT(MICASH!J1729*100,\"0000000000\")","v":"0000000000"},{"$f":"TEXT(MONTH(MICASH!K1729),\"00\") & TEXT(DAY(MICASH!K1729),\"00\") & RIGHT(TEXT(YEAR(MICASH!K1729),\"00\"),2)","v":"010000"},{"$f":"UPPER(LEFT(MICASH!L1729,96))","v":""}]
["C",288,"00",{"$f":"TEXT(MICASH!D1730,\"0000000000\")","v":"0000000000"}," ",{"$f":"UPPER(MICASH!F1730)","v":""},{"$f":"UPPER(MICASH!G1730)","v":""}," ",{"$f":"TEXT(MICASH!I1730,\"0000000000\")","v":"0000000000"},{"$f":"TEXT(MICASH!J1730*100,\"0000000000\")","v":"0000000000"},{"$f":"TEXT(MONTH(MICASH!K1730),\"00\") & TEXT(DAY(MICASH!K1730),\"00\") & RIGHT(TEXT(YEAR(MICASH!K1730),\"00\"),2)","v":"010000"},{"$f":"UPPER(LEFT(MICASH!L1730,96))","v":""}]
["C",288,"00",{"$f":"TEXT(MICASH!D1731,\"0000000000\")","v":"0000000000"}," ",{"$f":"UPPER(MICASH!F1731)","v":""},{"$f":"UPPER(MICASH!G1731)","v":""}," ",{"$f":"TEXT(MICASH!I1731,\"0000000000\")","v":"0000000000"},{"$f":"TEXT(MICASH!J1731*100,\"0000000000\")","v":"0000000000"},{"$f":"TEXT(MONTH(MICASH!K1731),\"00\") & TEXT(DAY(MICASH!K1731),\"00\") & RIGHT(TEXT(YEAR(MICASH!K1731),\"00\"),2)","v":"010000"},{"$f":"UPPER(LEFT(MICASH!L1731,96))","v":""}]
["C",288,"00",{"$f":"TEXT(MICASH!D1732,\"0000000000\")","v":"0000000000"}," ",{"$f":"UPPER(MICASH!F1732)","v":""},{"$f":"UPPER(MICASH!G1732)","v":""}," ",{"$f":"TEXT(MICASH!I1732,\"0000000000\")","v":"0000000000"},{"$f":"TEXT(MICASH!J1732*100,\"0000000000\")","v":"0000000000"},{"$f":"TEXT(MONTH(MICASH!K1732),\"00\") & TEXT(DAY(MICASH!K1732),\"00\") & RIGHT(TEXT(YEAR(MICASH!K1732),\"00\"),2)","v":"010000"},{"$f":"UPPER(LEFT(MICASH!L1732,96))","v":""}]
["C",288,"00",{"$f":"TEXT(MICASH!D1733,\"0000000000\")","v":"0000000000"}," ",{"$f":"UPPER(MICASH!F1733)","v":""},{"$f":"UPPER(MICASH!G1733)","v":""}," ",{"$f":"TEXT(MICASH!I1733,\"0000000000\")","v":"0000000000"},{"$f":"TEXT(MICASH!J1733*100,\"0000000000\")","v":"0000000000"},{"$f":"TEXT(MONTH(MICASH!K1733),\"00\") & TEXT(DAY(MICASH!K1733),\"00\") & RIGHT(TEXT(YEAR(MICASH!K1733),\"00\"),2)","v":"010000"},{"$f":"UPPER(LEFT(MICASH!L1733,96))","v":""}]
["C",288,"00",{"$f":"TEXT(MICASH!D1734,\"0000000000\")","v":"0000000000"}," ",{"$f":"UPPER(MICASH!F1734)","v":""},{"$f":"UPPER(MICASH!G1734)","v":""}," ",{"$f":"TEXT(MICASH!I1734,\"0000000000\")","v":"0000000000"},{"$f":"TEXT(MICASH!J1734*100,\"0000000000\")","v":"0000000000"},{"$f":"TEXT(MONTH(MICASH!K1734),\"00\") & TEXT(DAY(MICASH!K1734),\"00\") & RIGHT(TEXT(YEAR(MICASH!K1734),\"00\"),2)","v":"010000"},{"$f":"UPPER(LEFT(MICASH!L1734,96))","v":""}]
["C",288,"00",{"$f":"TEXT(MICASH!D1735,\"0000000000\")","v":"0000000000"}," ",{"$f":"UPPER(MICASH!F1735)","v":""},{"$f":"UPPER(MICASH!G1735)","v":""}," ",{"$f":"TEXT(MICASH!I1735,\"0000000000\")","v":"0000000000"},{"$f":"TEXT(MICASH!J1735*100,\"0000000000\")","v":"0000000000"},{"$f":"TEXT(MONTH(MICASH!K1735),\"00\") & TEXT(DAY(MICASH!K1735),\"00\") & RIGHT(TEXT(YEAR(MICASH!K1735),\"00\"),2)","v":"010000"},{"$f":"UPPER(LEFT(MICASH!L1735,96))","v":""}]
["C",288,"00",{"$f":"TEXT(MICASH!D1736,\"0000000000\")","v":"0000000000"}," ",{"$f":"UPPER(MICASH!F1736)","v":""},{"$f":"UPPER(MICASH!G1736)","v":""}," ",{"$f":"TEXT(MICASH!I1736,\"0000000000\")","v":"0000000000"},{"$f":"TEXT(MICASH!J1736*100,\"0000000000\")","v":"0000000000"},{"$f":"TEXT(MONTH(MICASH!K1736),\"00\") & TEXT(DAY(MICASH!K1736),\"00\") & RIGHT(TEXT(YEAR(MICASH!K1736),\"00\"),2)","v":"010000"},{"$f":"UPPER(LEFT(MICASH!L1736,96))","v":""}]
["C",288,"00",{"$f":"TEXT(MICASH!D1737,\"0000000000\")","v":"0000000000"}," ",{"$f":"UPPER(MICASH!F1737)","v":""},{"$f":"UPPER(MICASH!G1737)","v":""}," ",{"$f":"TEXT(MICASH!I1737,\"0000000000\")","v":"0000000000"},{"$f":"TEXT(MICASH!J1737*100,\"0000000000\")","v":"0000000000"},{"$f":"TEXT(MONTH(MICASH!K1737),\"00\") & TEXT(DAY(MICASH!K1737),\"00\") & RIGHT(TEXT(YEAR(MICASH!K1737),\"00\"),2)","v":"010000"},{"$f":"UPPER(LEFT(MICASH!L1737,96))","v":""}]
["C",288,"00",{"$f":"TEXT(MICASH!D1738,\"0000000000\")","v":"0000000000"}," ",{"$f":"UPPER(MICASH!F1738)","v":""},{"$f":"UPPER(MICASH!G1738)","v":""}," ",{"$f":"TEXT(MICASH!I1738,\"0000000000\")","v":"0000000000"},{"$f":"TEXT(MICASH!J1738*100,\"0000000000\")","v":"0000000000"},{"$f":"TEXT(MONTH(MICASH!K1738),\"00\") & TEXT(DAY(MICASH!K1738),\"00\") & RIGHT(TEXT(YEAR(MICASH!K1738),\"00\"),2)","v":"010000"},{"$f":"UPPER(LEFT(MICASH!L1738,96))","v":""}]
["C",288,"00",{"$f":"TEXT(MICASH!D1739,\"0000000000\")","v":"0000000000"}," ",{"$f":"UPPER(MICASH!F1739)","v":""},{"$f":"UPPER(MICASH!G1739)","v":""}," ",{"$f":"TEXT(MICASH!I1739,\"0000000000\")","v":"0000000000"},{"$f":"TEXT(MICASH!J1739*100,\"0000000000\")","v":"0000000000"},{"$f":"TEXT(MONTH(MICASH!K1739),\"00\") & TEXT(DAY(MICASH!K1739),\"00\") & RIGHT(TEXT(YEAR(MICASH!K1739),\"00\"),2)","v":"010000"},{"$f":"UPPER(LEFT(MICASH!L1739,96))","v":""}]
["C",288,"00",{"$f":"TEXT(MICASH!D1740,\"0000000000\")","v":"0000000000"}," ",{"$f":"UPPER(MICASH!F1740)","v":""},{"$f":"UPPER(MICASH!G1740)","v":""}," ",{"$f":"TEXT(MICASH!I1740,\"0000000000\")","v":"0000000000"},{"$f":"TEXT(MICASH!J1740*100,\"0000000000\")","v":"0000000000"},{"$f":"TEXT(MONTH(MICASH!K1740),\"00\") & TEXT(DAY(MICASH!K1740),\"00\") & RIGHT(TEXT(YEAR(MICASH!K1740),\"00\"),2)","v":"010000"},{"$f":"UPPER(LEFT(MICASH!L1740,96))","v":""}]
["C",288,"00",{"$f":"TEXT(MICASH!D1741,\"0000000000\")","v":"0000000000"}," ",{"$f":"UPPER(MICASH!F1741)","v":""},{"$f":"UPPER(MICASH!G1741)","v":""}," ",{"$f":"TEXT(MICASH!I1741,\"0000000000\")","v":"0000000000"},{"$f":"TEXT(MICASH!J1741*100,\"0000000000\")","v":"0000000000"},{"$f":"TEXT(MONTH(MICASH!K1741),\"00\") & TEXT(DAY(MICASH!K1741),\"00\") & RIGHT(TEXT(YEAR(MICASH!K1741),\"00\"),2)","v":"010000"},{"$f":"UPPER(LEFT(MICASH!L1741,96))","v":""}]
["C",288,"00",{"$f":"TEXT(MICASH!D1742,\"0000000000\")","v":"0000000000"}," ",{"$f":"UPPER(MICASH!F1742)","v":""},{"$f":"UPPER(MICASH!G1742)","v":""}," ",{"$f":"TEXT(MICASH!I1742,\"0000000000\")","v":"0000000000"},{"$f":"TEXT(MICASH!J1742*100,\"0000000000\")","v":"0000000000"},{"$f":"TEXT(MONTH(MICASH!K1742),\"00\") & TEXT(DAY(MICASH!K1742),\"00\") & RIGHT(TEXT(YEAR(MICASH!K1742),\"00\"),2)","v":"010000"},{"$f":"UPPER(LEFT(MICASH!L1742,96))","v":""}]
["C",288,"00",{"$f":"TEXT(MICASH!D1743,\"0000000000\")","v":"0000000000"}," ",{"$f":"UPPER(MICASH!F1743)","v":""},{"$f":"UPPER(MICASH!G1743)","v":""}," ",{"$f":"TEXT(MICASH!I1743,\"0000000000\")","v":"0000000000"},{"$f":"TEXT(MICASH!J1743*100,\"0000000000\")","v":"0000000000"},{"$f":"TEXT(MONTH(MICASH!K1743),\"00\") & TEXT(DAY(MICASH!K1743),\"00\") & RIGHT(TEXT(YEAR(MICASH!K1743),\"00\"),2)","v":"010000"},{"$f":"UPPER(LEFT(MICASH!L1743,96))","v":""}]
["C",288,"00",{"$f":"TEXT(MICASH!D1744,\"0000000000\")","v":"0000000000"}," ",{"$f":"UPPER(MICASH!F1744)","v":""},{"$f":"UPPER(MICASH!G1744)","v":""}," ",{"$f":"TEXT(MICASH!I1744,\"0000000000\")","v":"0000000000"},{"$f":"TEXT(MICASH!J1744*100,\"0000000000\")","v":"0000000000"},{"$f":"TEXT(MONTH(MICASH!K1744),\"00\") & TEXT(DAY(MICASH!K1744),\"00\") & RIGHT(TEXT(YEAR(MICASH!K1744),\"00\"),2)","v":"010000"},{"$f":"UPPER(LEFT(MICASH!L1744,96))","v":""}]
["C",288,"00",{"$f":"TEXT(MICASH!D1745,\"0000000000\")","v":"0000000000"}," ",{"$f":"UPPER(MICASH!F1745)","v":""},{"$f":"UPPER(MICASH!G1745)","v":""}," ",{"$f":"TEXT(MICASH!I1745,\"0000000000\")","v":"0000000000"},{"$f":"TEXT(MICASH!J1745*100,\"0000000000\")","v":"0000000000"},{"$f":"TEXT(MONTH(MICASH!K1745),\"00\") & TEXT(DAY(MICASH!K1745),\"00\") & RIGHT(TEXT(YEAR(MICASH!K1745),\"00\"),2)","v":"010000"},{"$f":"UPPER(LEFT(MICASH!L1745,96))","v":""}]
["C",288,"00",{"$f":"TEXT(MICASH!D1746,\"0000000000\")","v":"0000000000"}," ",{"$f":"UPPER(MICASH!F1746)","v":""},{"$f":"UPPER(MICASH!G1746)","v":""}," ",{"$f":"TEXT(MICASH!I1746,\"0000000000\")","v":"0000000000"},{"$f":"TEXT(MICASH!J1746*100,\"0000000000\")","v":"0000000000"},{"$f":"TEXT(MONTH(MICASH!K1746),\"00\") & TEXT(DAY(MICASH!K1746),\"00\") & RIGHT(TEXT(YEAR(MICASH!K1746),\"00\"),2)","v":"010000"},{"$f":"UPPER(LEFT(MICASH!L1746,96))","v":""}]
["C",288,"00",{"$f":"TEXT(MICASH!D1747,\"0000000000\")","v":"0000000000"}," ",{"$f":"UPPER(MICASH!F1747)","v":""},{"$f":"UPPER(MICASH!G1747)","v":""}," ",{"$f":"TEXT(MICASH!I1747,\"0000000000\")","v":"0000000000"},{"$f":"TEXT(MICASH!J1747*100,\"0000000000\")","v":"0000000000"},{"$f":"TEXT(MONTH(MICASH!K1747),\"00\") & TEXT(DAY(MICASH!K1747),\"00\") & RIGHT(TEXT(YEAR(MICASH!K1747),\"00\"),2)","v":"010000"},{"$f":"UPPER(LEFT(MICASH!L1747,96))","v":""}]
["C",288,"00",{"$f":"TEXT(MICASH!D1748,\"0000000000\")","v":"0000000000"}," ",{"$f":"UPPER(MICASH!F1748)","v":""},{"$f":"UPPER(MICASH!G1748)","v":""}," ",{"$f":"TEXT(MICASH!I1748,\"0000000000\")","v":"0000000000"},{"$f":"TEXT(MICASH!J1748*100,\"0000000000\")","v":"0000000000"},{"$f":"TEXT(MONTH(MICASH!K1748),\"00\") & TEXT(DAY(MICASH!K1748),\"00\") & RIGHT(TEXT(YEAR(MICASH!K1748),\"00\"),2)","v":"010000"},{"$f":"UPPER(LEFT(MICASH!L1748,96))","v":""}]
["C",288,"00",{"$f":"TEXT(MICASH!D1749,\"0000000000\")","v":"0000000000"}," ",{"$f":"UPPER(MICASH!F1749)","v":""},{"$f":"UPPER(MICASH!G1749)","v":""}," ",{"$f":"TEXT(MICASH!I1749,\"0000000000\")","v":"0000000000"},{"$f":"TEXT(MICASH!J1749*100,\"0000000000\")","v":"0000000000"},{"$f":"TEXT(MONTH(MICASH!K1749),\"00\") & TEXT(DAY(MICASH!K1749),\"00\") & RIGHT(TEXT(YEAR(MICASH!K1749),\"00\"),2)","v":"010000"},{"$f":"UPPER(LEFT(MICASH!L1749,96))","v":""}]
["C",288,"00",{"$f":"TEXT(MICASH!D1750,\"0000000000\")","v":"0000000000"}," ",{"$f":"UPPER(MICASH!F1750)","v":""},{"$f":"UPPER(MICASH!G1750)","v":""}," ",{"$f":"TEXT(MICASH!I1750,\"0000000000\")","v":"0000000000"},{"$f":"TEXT(MICASH!J1750*100,\"0000000000\")","v":"0000000000"},{"$f":"TEXT(MONTH(MICASH!K1750),\"00\") & TEXT(DAY(MICASH!K1750),\"00\") & RIGHT(TEXT(YEAR(MICASH!K1750),\"00\"),2)","v":"010000"},{"$f":"UPPER(LEFT(MICASH!L1750,96))","v":""}]
["C",288,"00",{"$f":"TEXT(MICASH!D1751,\"0000000000\")","v":"0000000000"}," ",{"$f":"UPPER(MICASH!F1751)","v":""},{"$f":"UPPER(MICASH!G1751)","v":""}," ",{"$f":"TEXT(MICASH!I1751,\"0000000000\")","v":"0000000000"},{"$f":"TEXT(MICASH!J1751*100,\"0000000000\")","v":"0000000000"},{"$f":"TEXT(MONTH(MICASH!K1751),\"00\") & TEXT(DAY(MICASH!K1751),\"00\") & RIGHT(TEXT(YEAR(MICASH!K1751),\"00\"),2)","v":"010000"},{"$f":"UPPER(LEFT(MICASH!L1751,96))","v":""}]
["C",288,"00",{"$f":"TEXT(MICASH!D1752,\"0000000000\")","v":"0000000000"}," ",{"$f":"UPPER(MICASH!F1752)","v":""},{"$f":"UPPER(MICASH!G1752)","v":""}," ",{"$f":"TEXT(MICASH!I1752,\"0000000000\")","v":"0000000000"},{"$f":"TEXT(MICASH!J1752*100,\"0000000000\")","v":"0000000000"},{"$f":"TEXT(MONTH(MICASH!K1752),\"00\") & TEXT(DAY(MICASH!K1752),\"00\") & RIGHT(TEXT(YEAR(MICASH!K1752),\"00\"),2)","v":"010000"},{"$f":"UPPER(LEFT(MICASH!L1752,96))","v":""}]
["C",288,"00",{"$f":"TEXT(MICASH!D1753,\"0000000000\")","v":"0000000000"}," ",{"$f":"UPPER(MICASH!F1753)","v":""},{"$f":"UPPER(MICASH!G1753)","v":""}," ",{"$f":"TEXT(MICASH!I1753,\"0000000000\")","v":"0000000000"},{"$f":"TEXT(MICASH!J1753*100,\"0000000000\")","v":"0000000000"},{"$f":"TEXT(MONTH(MICASH!K1753),\"00\") & TEXT(DAY(MICASH!K1753),\"00\") & RIGHT(TEXT(YEAR(MICASH!K1753),\"00\"),2)","v":"010000"},{"$f":"UPPER(LEFT(MICASH!L1753,96))","v":""}]
["C",288,"00",{"$f":"TEXT(MICASH!D1754,\"0000000000\")","v":"0000000000"}," ",{"$f":"UPPER(MICASH!F1754)","v":""},{"$f":"UPPER(MICASH!G1754)","v":""}," ",{"$f":"TEXT(MICASH!I1754,\"0000000000\")","v":"0000000000"},{"$f":"TEXT(MICASH!J1754*100,\"0000000000\")","v":"0000000000"},{"$f":"TEXT(MONTH(MICASH!K1754),\"00\") & TEXT(DAY(MICASH!K1754),\"00\") & RIGHT(TEXT(YEAR(MICASH!K1754),\"00\"),2)","v":"010000"},{"$f":"UPPER(LEFT(MICASH!L1754,96))","v":""}]
["C",288,"00",{"$f":"TEXT(MICASH!D1755,\"0000000000\")","v":"0000000000"}," ",{"$f":"UPPER(MICASH!F1755)","v":""},{"$f":"UPPER(MICASH!G1755)","v":""}," ",{"$f":"TEXT(MICASH!I1755,\"0000000000\")","v":"0000000000"},{"$f":"TEXT(MICASH!J1755*100,\"0000000000\")","v":"0000000000"},{"$f":"TEXT(MONTH(MICASH!K1755),\"00\") & TEXT(DAY(MICASH!K1755),\"00\") & RIGHT(TEXT(YEAR(MICASH!K1755),\"00\"),2)","v":"010000"},{"$f":"UPPER(LEFT(MICASH!L1755,96))","v":""}]
["C",288,"00",{"$f":"TEXT(MICASH!D1756,\"0000000000\")","v":"0000000000"}," ",{"$f":"UPPER(MICASH!F1756)","v":""},{"$f":"UPPER(MICASH!G1756)","v":""}," ",{"$f":"TEXT(MICASH!I1756,\"0000000000\")","v":"0000000000"},{"$f":"TEXT(MICASH!J1756*100,\"0000000000\")","v":"0000000000"},{"$f":"TEXT(MONTH(MICASH!K1756),\"00\") & TEXT(DAY(MICASH!K1756),\"00\") & RIGHT(TEXT(YEAR(MICASH!K1756),\"00\"),2)","v":"010000"},{"$f":"UPPER(LEFT(MICASH!L1756,96))","v":""}]
["C",288,"00",{"$f":"TEXT(MICASH!D1757,\"0000000000\")","v":"0000000000"}," ",{"$f":"UPPER(MICASH!F1757)","v":""},{"$f":"UPPER(MICASH!G1757)","v":""}," ",{"$f":"TEXT(MICASH!I1757,\"0000000000\")","v":"0000000000"},{"$f":"TEXT(MICASH!J1757*100,\"0000000000\")","v":"0000000000"},{"$f":"TEXT(MONTH(MICASH!K1757),\"00\") & TEXT(DAY(MICASH!K1757),\"00\") & RIGHT(TEXT(YEAR(MICASH!K1757),\"00\"),2)","v":"010000"},{"$f":"UPPER(LEFT(MICASH!L1757,96))","v":""}]
["C",288,"00",{"$f":"TEXT(MICASH!D1758,\"0000000000\")","v":"0000000000"}," ",{"$f":"UPPER(MICASH!F1758)","v":""},{"$f":"UPPER(MICASH!G1758)","v":""}," ",{"$f":"TEXT(MICASH!I1758,\"0000000000\")","v":"0000000000"},{"$f":"TEXT(MICASH!J1758*100,\"0000000000\")","v":"0000000000"},{"$f":"TEXT(MONTH(MICASH!K1758),\"00\") & TEXT(DAY(MICASH!K1758),\"00\") & RIGHT(TEXT(YEAR(MICASH!K1758),\"00\"),2)","v":"010000"},{"$f":"UPPER(LEFT(MICASH!L1758,96))","v":""}]
["C",288,"00",{"$f":"TEXT(MICASH!D1759,\"0000000000\")","v":"0000000000"}," ",{"$f":"UPPER(MICASH!F1759)","v":""},{"$f":"UPPER(MICASH!G1759)","v":""}," ",{"$f":"TEXT(MICASH!I1759,\"0000000000\")","v":"0000000000"},{"$f":"TEXT(MICASH!J1759*100,\"0000000000\")","v":"0000000000"},{"$f":"TEXT(MONTH(MICASH!K1759),\"00\") & TEXT(DAY(MICASH!K1759),\"00\") & RIGHT(TEXT(YEAR(MICASH!K1759),\"00\"),2)","v":"010000"},{"$f":"UPPER(LEFT(MICASH!L1759,96))","v":""}]
["C",288,"00",{"$f":"TEXT(MICASH!D1760,\"0000000000\")","v":"0000000000"}," ",{"$f":"UPPER(MICASH!F1760)","v":""},{"$f":"UPPER(MICASH!G1760)","v":""}," ",{"$f":"TEXT(MICASH!I1760,\"0000000000\")","v":"0000000000"},{"$f":"TEXT(MICASH!J1760*100,\"0000000000\")","v":"0000000000"},{"$f":"TEXT(MONTH(MICASH!K1760),\"00\") & TEXT(DAY(MICASH!K1760),\"00\") & RIGHT(TEXT(YEAR(MICASH!K1760),\"00\"),2)","v":"010000"},{"$f":"UPPER(LEFT(MICASH!L1760,96))","v":""}]
["C",288,"00",{"$f":"TEXT(MICASH!D1761,\"0000000000\")","v":"0000000000"}," ",{"$f":"UPPER(MICASH!F1761)","v":""},{"$f":"UPPER(MICASH!G1761)","v":""}," ",{"$f":"TEXT(MICASH!I1761,\"0000000000\")","v":"0000000000"},{"$f":"TEXT(MICASH!J1761*100,\"0000000000\")","v":"0000000000"},{"$f":"TEXT(MONTH(MICASH!K1761),\"00\") & TEXT(DAY(MICASH!K1761),\"00\") & RIGHT(TEXT(YEAR(MICASH!K1761),\"00\"),2)","v":"010000"},{"$f":"UPPER(LEFT(MICASH!L1761,96))","v":""}]
["C",288,"00",{"$f":"TEXT(MICASH!D1762,\"0000000000\")","v":"0000000000"}," ",{"$f":"UPPER(MICASH!F1762)","v":""},{"$f":"UPPER(MICASH!G1762)","v":""}," ",{"$f":"TEXT(MICASH!I1762,\"0000000000\")","v":"0000000000"},{"$f":"TEXT(MICASH!J1762*100,\"0000000000\")","v":"0000000000"},{"$f":"TEXT(MONTH(MICASH!K1762),\"00\") & TEXT(DAY(MICASH!K1762),\"00\") & RIGHT(TEXT(YEAR(MICASH!K1762),\"00\"),2)","v":"010000"},{"$f":"UPPER(LEFT(MICASH!L1762,96))","v":""}]
["C",288,"00",{"$f":"TEXT(MICASH!D1763,\"0000000000\")","v":"0000000000"}," ",{"$f":"UPPER(MICASH!F1763)","v":""},{"$f":"UPPER(MICASH!G1763)","v":""}," ",{"$f":"TEXT(MICASH!I1763,\"0000000000\")","v":"0000000000"},{"$f":"TEXT(MICASH!J1763*100,\"0000000000\")","v":"0000000000"},{"$f":"TEXT(MONTH(MICASH!K1763),\"00\") & TEXT(DAY(MICASH!K1763),\"00\") & RIGHT(TEXT(YEAR(MICASH!K1763),\"00\"),2)","v":"010000"},{"$f":"UPPER(LEFT(MICASH!L1763,96))","v":""}]
["C",288,"00",{"$f":"TEXT(MICASH!D1764,\"0000000000\")","v":"0000000000"}," ",{"$f":"UPPER(MICASH!F1764)","v":""},{"$f":"UPPER(MICASH!G1764)","v":""}," ",{"$f":"TEXT(MICASH!I1764,\"0000000000\")","v":"0000000000"},{"$f":"TEXT(MICASH!J1764*100,\"0000000000\")","v":"0000000000"},{"$f":"TEXT(MONTH(MICASH!K1764),\"00\") & TEXT(DAY(MICASH!K1764),\"00\") & RIGHT(TEXT(YEAR(MICASH!K1764),\"00\"),2)","v":"010000"},{"$f":"UPPER(LEFT(MICASH!L1764,96))","v":""}]
["C",288,"00",{"$f":"TEXT(MICASH!D1765,\"0000000000\")","v":"0000000000"}," ",{"$f":"UPPER(MICASH!F1765)","v":""},{"$f":"UPPER(MICASH!G1765)","v":""}," ",{"$f":"TEXT(MICASH!I1765,\"0000000000\")","v":"0000000000"},{"$f":"TEXT(MICASH!J1765*100,\"0000000000\")","v":"0000000000"},{"$f":"TEXT(MONTH(MICASH!K1765),\"00\") & TEXT(DAY(MICASH!K1765),\"00\") & RIGHT(TEXT(YEAR(MICASH!K1765),\"00\"),2)","v":"010000"},{"$f":"UPPER(LEFT(MICASH!L1765,96))","v":""}]
["C",288,"00",{"$f":"TEXT(MICASH!D1766,\"0000000000\")","v":"0000000000"}," ",{"$f":"UPPER(MICASH!F1766)","v":""},{"$f":"UPPER(MICASH!G1766)","v":""}," ",{"$f":"TEXT(MICASH!I1766,\"0000000000\")","v":"0000000000"},{"$f":"TEXT(MICASH!J1766*100,\"0000000000\")","v":"0000000000"},{"$f":"TEXT(MONTH(MICASH!K1766),\"00\") & TEXT(DAY(MICASH!K1766),\"00\") & RIGHT(TEXT(YEAR(MICASH!K1766),\"00\"),2)","v":"010000"},{"$f":"UPPER(LEFT(MICASH!L1766,96))","v":""}]
["C",288,"00",{"$f":"TEXT(MICASH!D1767,\"0000000000\")","v":"0000000000"}," ",{"$f":"UPPER(MICASH!F1767)","v":""},{"$f":"UPPER(MICASH!G1767)","v":""}," ",{"$f":"TEXT(MICASH!I1767,\"0000000000\")","v":"0000000000"},{"$f":"TEXT(MICASH!J1767*100,\"0000000000\")","v":"0000000000"},{"$f":"TEXT(MONTH(MICASH!K1767),\"00\") & TEXT(DAY(MICASH!K1767),\"00\") & RIGHT(TEXT(YEAR(MICASH!K1767),\"00\"),2)","v":"010000"},{"$f":"UPPER(LEFT(MICASH!L1767,96))","v":""}]
["C",288,"00",{"$f":"TEXT(MICASH!D1768,\"0000000000\")","v":"0000000000"}," ",{"$f":"UPPER(MICASH!F1768)","v":""},{"$f":"UPPER(MICASH!G1768)","v":""}," ",{"$f":"TEXT(MICASH!I1768,\"0000000000\")","v":"0000000000"},{"$f":"TEXT(MICASH!J1768*100,\"0000000000\")","v":"0000000000"},{"$f":"TEXT(MONTH(MICASH!K1768),\"00\") & TEXT(DAY(MICASH!K1768),\"00\") & RIGHT(TEXT(YEAR(MICASH!K1768),\"00\"),2)","v":"010000"},{"$f":"UPPER(LEFT(MICASH!L1768,96))","v":""}]
["C",288,"00",{"$f":"TEXT(MICASH!D1769,\"0000000000\")","v":"0000000000"}," ",{"$f":"UPPER(MICASH!F1769)","v":""},{"$f":"UPPER(MICASH!G1769)","v":""}," ",{"$f":"TEXT(MICASH!I1769,\"0000000000\")","v":"0000000000"},{"$f":"TEXT(MICASH!J1769*100,\"0000000000\")","v":"0000000000"},{"$f":"TEXT(MONTH(MICASH!K1769),\"00\") & TEXT(DAY(MICASH!K1769),\"00\") & RIGHT(TEXT(YEAR(MICASH!K1769),\"00\"),2)","v":"010000"},{"$f":"UPPER(LEFT(MICASH!L1769,96))","v":""}]
["C",288,"00",{"$f":"TEXT(MICASH!D1770,\"0000000000\")","v":"0000000000"}," ",{"$f":"UPPER(MICASH!F1770)","v":""},{"$f":"UPPER(MICASH!G1770)","v":""}," ",{"$f":"TEXT(MICASH!I1770,\"0000000000\")","v":"0000000000"},{"$f":"TEXT(MICASH!J1770*100,\"0000000000\")","v":"0000000000"},{"$f":"TEXT(MONTH(MICASH!K1770),\"00\") & TEXT(DAY(MICASH!K1770),\"00\") & RIGHT(TEXT(YEAR(MICASH!K1770),\"00\"),2)","v":"010000"},{"$f":"UPPER(LEFT(MICASH!L1770,96))","v":""}]
["C",288,"00",{"$f":"TEXT(MICASH!D1771,\"0000000000\")","v":"0000000000"}," ",{"$f":"UPPER(MICASH!F1771)","v":""},{"$f":"UPPER(MICASH!G1771)","v":""}," ",{"$f":"TEXT(MICASH!I1771,\"0000000000\")","v":"0000000000"},{"$f":"TEXT(MICASH!J1771*100,\"0000000000\")","v":"0000000000"},{"$f":"TEXT(MONTH(MICASH!K1771),\"00\") & TEXT(DAY(MICASH!K1771),\"00\") & RIGHT(TEXT(YEAR(MICASH!K1771),\"00\"),2)","v":"010000"},{"$f":"UPPER(LEFT(MICASH!L1771,96))","v":""}]
["C",288,"00",{"$f":"TEXT(MICASH!D1772,\"0000000000\")","v":"0000000000"}," ",{"$f":"UPPER(MICASH!F1772)","v":""},{"$f":"UPPER(MICASH!G1772)","v":""}," ",{"$f":"TEXT(MICASH!I1772,\"0000000000\")","v":"0000000000"},{"$f":"TEXT(MICASH!J1772*100,\"0000000000\")","v":"0000000000"},{"$f":"TEXT(MONTH(MICASH!K1772),\"00\") & TEXT(DAY(MICASH!K1772),\"00\") & RIGHT(TEXT(YEAR(MICASH!K1772),\"00\"),2)","v":"010000"},{"$f":"UPPER(LEFT(MICASH!L1772,96))","v":""}]
["C",288,"00",{"$f":"TEXT(MICASH!D1773,\"0000000000\")","v":"0000000000"}," ",{"$f":"UPPER(MICASH!F1773)","v":""},{"$f":"UPPER(MICASH!G1773)","v":""}," ",{"$f":"TEXT(MICASH!I1773,\"0000000000\")","v":"0000000000"},{"$f":"TEXT(MICASH!J1773*100,\"0000000000\")","v":"0000000000"},{"$f":"TEXT(MONTH(MICASH!K1773),\"00\") & TEXT(DAY(MICASH!K1773),\"00\") & RIGHT(TEXT(YEAR(MICASH!K1773),\"00\"),2)","v":"010000"},{"$f":"UPPER(LEFT(MICASH!L1773,96))","v":""}]
["C",288,"00",{"$f":"TEXT(MICASH!D1774,\"0000000000\")","v":"0000000000"}," ",{"$f":"UPPER(MICASH!F1774)","v":""},{"$f":"UPPER(MICASH!G1774)","v":""}," ",{"$f":"TEXT(MICASH!I1774,\"0000000000\")","v":"0000000000"},{"$f":"TEXT(MICASH!J1774*100,\"0000000000\")","v":"0000000000"},{"$f":"TEXT(MONTH(MICASH!K1774),\"00\") & TEXT(DAY(MICASH!K1774),\"00\") & RIGHT(TEXT(YEAR(MICASH!K1774),\"00\"),2)","v":"010000"},{"$f":"UPPER(LEFT(MICASH!L1774,96))","v":""}]
["C",288,"00",{"$f":"TEXT(MICASH!D1775,\"0000000000\")","v":"0000000000"}," ",{"$f":"UPPER(MICASH!F1775)","v":""},{"$f":"UPPER(MICASH!G1775)","v":""}," ",{"$f":"TEXT(MICASH!I1775,\"0000000000\")","v":"0000000000"},{"$f":"TEXT(MICASH!J1775*100,\"0000000000\")","v":"0000000000"},{"$f":"TEXT(MONTH(MICASH!K1775),\"00\") & TEXT(DAY(MICASH!K1775),\"00\") & RIGHT(TEXT(YEAR(MICASH!K1775),\"00\"),2)","v":"010000"},{"$f":"UPPER(LEFT(MICASH!L1775,96))","v":""}]
["C",288,"00",{"$f":"TEXT(MICASH!D1776,\"0000000000\")","v":"0000000000"}," ",{"$f":"UPPER(MICASH!F1776)","v":""},{"$f":"UPPER(MICASH!G1776)","v":""}," ",{"$f":"TEXT(MICASH!I1776,\"0000000000\")","v":"0000000000"},{"$f":"TEXT(MICASH!J1776*100,\"0000000000\")","v":"0000000000"},{"$f":"TEXT(MONTH(MICASH!K1776),\"00\") & TEXT(DAY(MICASH!K1776),\"00\") & RIGHT(TEXT(YEAR(MICASH!K1776),\"00\"),2)","v":"010000"},{"$f":"UPPER(LEFT(MICASH!L1776,96))","v":""}]
["C",288,"00",{"$f":"TEXT(MICASH!D1777,\"0000000000\")","v":"0000000000"}," ",{"$f":"UPPER(MICASH!F1777)","v":""},{"$f":"UPPER(MICASH!G1777)","v":""}," ",{"$f":"TEXT(MICASH!I1777,\"0000000000\")","v":"0000000000"},{"$f":"TEXT(MICASH!J1777*100,\"0000000000\")","v":"0000000000"},{"$f":"TEXT(MONTH(MICASH!K1777),\"00\") & TEXT(DAY(MICASH!K1777),\"00\") & RIGHT(TEXT(YEAR(MICASH!K1777),\"00\"),2)","v":"010000"},{"$f":"UPPER(LEFT(MICASH!L1777,96))","v":""}]
["C",288,"00",{"$f":"TEXT(MICASH!D1778,\"0000000000\")","v":"0000000000"}," ",{"$f":"UPPER(MICASH!F1778)","v":""},{"$f":"UPPER(MICASH!G1778)","v":""}," ",{"$f":"TEXT(MICASH!I1778,\"0000000000\")","v":"0000000000"},{"$f":"TEXT(MICASH!J1778*100,\"0000000000\")","v":"0000000000"},{"$f":"TEXT(MONTH(MICASH!K1778),\"00\") & TEXT(DAY(MICASH!K1778),\"00\") & RIGHT(TEXT(YEAR(MICASH!K1778),\"00\"),2)","v":"010000"},{"$f":"UPPER(LEFT(MICASH!L1778,96))","v":""}]
["C",288,"00",{"$f":"TEXT(MICASH!D1779,\"0000000000\")","v":"0000000000"}," ",{"$f":"UPPER(MICASH!F1779)","v":""},{"$f":"UPPER(MICASH!G1779)","v":""}," ",{"$f":"TEXT(MICASH!I1779,\"0000000000\")","v":"0000000000"},{"$f":"TEXT(MICASH!J1779*100,\"0000000000\")","v":"0000000000"},{"$f":"TEXT(MONTH(MICASH!K1779),\"00\") & TEXT(DAY(MICASH!K1779),\"00\") & RIGHT(TEXT(YEAR(MICASH!K1779),\"00\"),2)","v":"010000"},{"$f":"UPPER(LEFT(MICASH!L1779,96))","v":""}]
["C",288,"00",{"$f":"TEXT(MICASH!D1780,\"0000000000\")","v":"0000000000"}," ",{"$f":"UPPER(MICASH!F1780)","v":""},{"$f":"UPPER(MICASH!G1780)","v":""}," ",{"$f":"TEXT(MICASH!I1780,\"0000000000\")","v":"0000000000"},{"$f":"TEXT(MICASH!J1780*100,\"0000000000\")","v":"0000000000"},{"$f":"TEXT(MONTH(MICASH!K1780),\"00\") & TEXT(DAY(MICASH!K1780),\"00\") & RIGHT(TEXT(YEAR(MICASH!K1780),\"00\"),2)","v":"010000"},{"$f":"UPPER(LEFT(MICASH!L1780,96))","v":""}]
["C",288,"00",{"$f":"TEXT(MICASH!D1781,\"0000000000\")","v":"0000000000"}," ",{"$f":"UPPER(MICASH!F1781)","v":""},{"$f":"UPPER(MICASH!G1781)","v":""}," ",{"$f":"TEXT(MICASH!I1781,\"0000000000\")","v":"0000000000"},{"$f":"TEXT(MICASH!J1781*100,\"0000000000\")","v":"0000000000"},{"$f":"TEXT(MONTH(MICASH!K1781),\"00\") & TEXT(DAY(MICASH!K1781),\"00\") & RIGHT(TEXT(YEAR(MICASH!K1781),\"00\"),2)","v":"010000"},{"$f":"UPPER(LEFT(MICASH!L1781,96))","v":""}]
["C",288,"00",{"$f":"TEXT(MICASH!D1782,\"0000000000\")","v":"0000000000"}," ",{"$f":"UPPER(MICASH!F1782)","v":""},{"$f":"UPPER(MICASH!G1782)","v":""}," ",{"$f":"TEXT(MICASH!I1782,\"0000000000\")","v":"0000000000"},{"$f":"TEXT(MICASH!J1782*100,\"0000000000\")","v":"0000000000"},{"$f":"TEXT(MONTH(MICASH!K1782),\"00\") & TEXT(DAY(MICASH!K1782),\"00\") & RIGHT(TEXT(YEAR(MICASH!K1782),\"00\"),2)","v":"010000"},{"$f":"UPPER(LEFT(MICASH!L1782,96))","v":""}]
["C",288,"00",{"$f":"TEXT(MICASH!D1783,\"0000000000\")","v":"0000000000"}," ",{"$f":"UPPER(MICASH!F1783)","v":""},{"$f":"UPPER(MICASH!G1783)","v":""}," ",{"$f":"TEXT(MICASH!I1783,\"0000000000\")","v":"0000000000"},{"$f":"TEXT(MICASH!J1783*100,\"0000000000\")","v":"0000000000"},{"$f":"TEXT(MONTH(MICASH!K1783),\"00\") & TEXT(DAY(MICASH!K1783),\"00\") & RIGHT(TEXT(YEAR(MICASH!K1783),\"00\"),2)","v":"010000"},{"$f":"UPPER(LEFT(MICASH!L1783,96))","v":""}]
["C",288,"00",{"$f":"TEXT(MICASH!D1784,\"0000000000\")","v":"0000000000"}," ",{"$f":"UPPER(MICASH!F1784)","v":""},{"$f":"UPPER(MICASH!G1784)","v":""}," ",{"$f":"TEXT(MICASH!I1784,\"0000000000\")","v":"0000000000"},{"$f":"TEXT(MICASH!J1784*100,\"0000000000\")","v":"0000000000"},{"$f":"TEXT(MONTH(MICASH!K1784),\"00\") & TEXT(DAY(MICASH!K1784),\"00\") & RIGHT(TEXT(YEAR(MICASH!K1784),\"00\"),2)","v":"010000"},{"$f":"UPPER(LEFT(MICASH!L1784,96))","v":""}]
["C",288,"00",{"$f":"TEXT(MICASH!D1785,\"0000000000\")","v":"0000000000"}," ",{"$f":"UPPER(MICASH!F1785)","v":""},{"$f":"UPPER(MICASH!G1785)","v":""}," ",{"$f":"TEXT(MICASH!I1785,\"0000000000\")","v":"0000000000"},{"$f":"TEXT(MICASH!J1785*100,\"0000000000\")","v":"0000000000"},{"$f":"TEXT(MONTH(MICASH!K1785),\"00\") & TEXT(DAY(MICASH!K1785),\"00\") & RIGHT(TEXT(YEAR(MICASH!K1785),\"00\"),2)","v":"010000"},{"$f":"UPPER(LEFT(MICASH!L1785,96))","v":""}]
["C",288,"00",{"$f":"TEXT(MICASH!D1786,\"0000000000\")","v":"0000000000"}," ",{"$f":"UPPER(MICASH!F1786)","v":""},{"$f":"UPPER(MICASH!G1786)","v":""}," ",{"$f":"TEXT(MICASH!I1786,\"0000000000\")","v":"0000000000"},{"$f":"TEXT(MICASH!J1786*100,\"0000000000\")","v":"0000000000"},{"$f":"TEXT(MONTH(MICASH!K1786),\"00\") & TEXT(DAY(MICASH!K1786),\"00\") & RIGHT(TEXT(YEAR(MICASH!K1786),\"00\"),2)","v":"010000"},{"$f":"UPPER(LEFT(MICASH!L1786,96))","v":""}]
["C",288,"00",{"$f":"TEXT(MICASH!D1787,\"0000000000\")","v":"0000000000"}," ",{"$f":"UPPER(MICASH!F1787)","v":""},{"$f":"UPPER(MICASH!G1787)","v":""}," ",{"$f":"TEXT(MICASH!I1787,\"0000000000\")","v":"0000000000"},{"$f":"TEXT(MICASH!J1787*100,\"0000000000\")","v":"0000000000"},{"$f":"TEXT(MONTH(MICASH!K1787),\"00\") & TEXT(DAY(MICASH!K1787),\"00\") & RIGHT(TEXT(YEAR(MICASH!K1787),\"00\"),2)","v":"010000"},{"$f":"UPPER(LEFT(MICASH!L1787,96))","v":""}]
["C",288,"00",{"$f":"TEXT(MICASH!D1788,\"0000000000\")","v":"0000000000"}," ",{"$f":"UPPER(MICASH!F1788)","v":""},{"$f":"UPPER(MICASH!G1788)","v":""}," ",{"$f":"TEXT(MICASH!I1788,\"0000000000\")","v":"0000000000"},{"$f":"TEXT(MICASH!J1788*100,\"0000000000\")","v":"0000000000"},{"$f":"TEXT(MONTH(MICASH!K1788),\"00\") & TEXT(DAY(MICASH!K1788),\"00\") & RIGHT(TEXT(YEAR(MICASH!K1788),\"00\"),2)","v":"010000"},{"$f":"UPPER(LEFT(MICASH!L1788,96))","v":""}]
["C",288,"00",{"$f":"TEXT(MICASH!D1789,\"0000000000\")","v":"0000000000"}," ",{"$f":"UPPER(MICASH!F1789)","v":""},{"$f":"UPPER(MICASH!G1789)","v":""}," ",{"$f":"TEXT(MICASH!I1789,\"0000000000\")","v":"0000000000"},{"$f":"TEXT(MICASH!J1789*100,\"0000000000\")","v":"0000000000"},{"$f":"TEXT(MONTH(MICASH!K1789),\"00\") & TEXT(DAY(MICASH!K1789),\"00\") & RIGHT(TEXT(YEAR(MICASH!K1789),\"00\"),2)","v":"010000"},{"$f":"UPPER(LEFT(MICASH!L1789,96))","v":""}]
["C",288,"00",{"$f":"TEXT(MICASH!D1790,\"0000000000\")","v":"0000000000"}," ",{"$f":"UPPER(MICASH!F1790)","v":""},{"$f":"UPPER(MICASH!G1790)","v":""}," ",{"$f":"TEXT(MICASH!I1790,\"0000000000\")","v":"0000000000"},{"$f":"TEXT(MICASH!J1790*100,\"0000000000\")","v":"0000000000"},{"$f":"TEXT(MONTH(MICASH!K1790),\"00\") & TEXT(DAY(MICASH!K1790),\"00\") & RIGHT(TEXT(YEAR(MICASH!K1790),\"00\"),2)","v":"010000"},{"$f":"UPPER(LEFT(MICASH!L1790,96))","v":""}]
["C",288,"00",{"$f":"TEXT(MICASH!D1791,\"0000000000\")","v":"0000000000"}," ",{"$f":"UPPER(MICASH!F1791)","v":""},{"$f":"UPPER(MICASH!G1791)","v":""}," ",{"$f":"TEXT(MICASH!I1791,\"0000000000\")","v":"0000000000"},{"$f":"TEXT(MICASH!J1791*100,\"0000000000\")","v":"0000000000"},{"$f":"TEXT(MONTH(MICASH!K1791),\"00\") & TEXT(DAY(MICASH!K1791),\"00\") & RIGHT(TEXT(YEAR(MICASH!K1791),\"00\"),2)","v":"010000"},{"$f":"UPPER(LEFT(MICASH!L1791,96))","v":""}]
["C",288,"00",{"$f":"TEXT(MICASH!D1792,\"0000000000\")","v":"0000000000"}," ",{"$f":"UPPER(MICASH!F1792)","v":""},{"$f":"UPPER(MICASH!G1792)","v":""}," ",{"$f":"TEXT(MICASH!I1792,\"0000000000\")","v":"0000000000"},{"$f":"TEXT(MICASH!J1792*100,\"0000000000\")","v":"0000000000"},{"$f":"TEXT(MONTH(MICASH!K1792),\"00\") & TEXT(DAY(MICASH!K1792),\"00\") & RIGHT(TEXT(YEAR(MICASH!K1792),\"00\"),2)","v":"010000"},{"$f":"UPPER(LEFT(MICASH!L1792,96))","v":""}]
["C",288,"00",{"$f":"TEXT(MICASH!D1793,\"0000000000\")","v":"0000000000"}," ",{"$f":"UPPER(MICASH!F1793)","v":""},{"$f":"UPPER(MICASH!G1793)","v":""}," ",{"$f":"TEXT(MICASH!I1793,\"0000000000\")","v":"0000000000"},{"$f":"TEXT(MICASH!J1793*100,\"0000000000\")","v":"0000000000"},{"$f":"TEXT(MONTH(MICASH!K1793),\"00\") & TEXT(DAY(MICASH!K1793),\"00\") & RIGHT(TEXT(YEAR(MICASH!K1793),\"00\"),2)","v":"010000"},{"$f":"UPPER(LEFT(MICASH!L1793,96))","v":""}]
["C",288,"00",{"$f":"TEXT(MICASH!D1794,\"0000000000\")","v":"0000000000"}," ",{"$f":"UPPER(MICASH!F1794)","v":""},{"$f":"UPPER(MICASH!G1794)","v":""}," ",{"$f":"TEXT(MICASH!I1794,\"0000000000\")","v":"0000000000"},{"$f":"TEXT(MICASH!J1794*100,\"0000000000\")","v":"0000000000"},{"$f":"TEXT(MONTH(MICASH!K1794),\"00\") & TEXT(DAY(MICASH!K1794),\"00\") & RIGHT(TEXT(YEAR(MICASH!K1794),\"00\"),2)","v":"010000"},{"$f":"UPPER(LEFT(MICASH!L1794,96))","v":""}]
["C",288,"00",{"$f":"TEXT(MICASH!D1795,\"0000000000\")","v":"0000000000"}," ",{"$f":"UPPER(MICASH!F1795)","v":""},{"$f":"UPPER(MICASH!G1795)","v":""}," ",{"$f":"TEXT(MICASH!I1795,\"0000000000\")","v":"0000000000"},{"$f":"TEXT(MICASH!J1795*100,\"0000000000\")","v":"0000000000"},{"$f":"TEXT(MONTH(MICASH!K1795),\"00\") & TEXT(DAY(MICASH!K1795),\"00\") & RIGHT(TEXT(YEAR(MICASH!K1795),\"00\"),2)","v":"010000"},{"$f":"UPPER(LEFT(MICASH!L1795,96))","v":""}]
["C",288,"00",{"$f":"TEXT(MICASH!D1796,\"0000000000\")","v":"0000000000"}," ",{"$f":"UPPER(MICASH!F1796)","v":""},{"$f":"UPPER(MICASH!G1796)","v":""}," ",{"$f":"TEXT(MICASH!I1796,\"0000000000\")","v":"0000000000"},{"$f":"TEXT(MICASH!J1796*100,\"0000000000\")","v":"0000000000"},{"$f":"TEXT(MONTH(MICASH!K1796),\"00\") & TEXT(DAY(MICASH!K1796),\"00\") & RIGHT(TEXT(YEAR(MICASH!K1796),\"00\"),2)","v":"010000"},{"$f":"UPPER(LEFT(MICASH!L1796,96))","v":""}]
["C",288,"00",{"$f":"TEXT(MICASH!D1797,\"0000000000\")","v":"0000000000"}," ",{"$f":"UPPER(MICASH!F1797)","v":""},{"$f":"UPPER(MICASH!G1797)","v":""}," ",{"$f":"TEXT(MICASH!I1797,\"0000000000\")","v":"0000000000"},{"$f":"TEXT(MICASH!J1797*100,\"0000000000\")","v":"0000000000"},{"$f":"TEXT(MONTH(MICASH!K1797),\"00\") & TEXT(DAY(MICASH!K1797),\"00\") & RIGHT(TEXT(YEAR(MICASH!K1797),\"00\"),2)","v":"010000"},{"$f":"UPPER(LEFT(MICASH!L1797,96))","v":""}]
["C",288,"00",{"$f":"TEXT(MICASH!D1798,\"0000000000\")","v":"0000000000"}," ",{"$f":"UPPER(MICASH!F1798)","v":""},{"$f":"UPPER(MICASH!G1798)","v":""}," ",{"$f":"TEXT(MICASH!I1798,\"0000000000\")","v":"0000000000"},{"$f":"TEXT(MICASH!J1798*100,\"0000000000\")","v":"0000000000"},{"$f":"TEXT(MONTH(MICASH!K1798),\"00\") & TEXT(DAY(MICASH!K1798),\"00\") & RIGHT(TEXT(YEAR(MICASH!K1798),\"00\"),2)","v":"010000"},{"$f":"UPPER(LEFT(MICASH!L1798,96))","v":""}]
["C",288,"00",{"$f":"TEXT(MICASH!D1799,\"0000000000\")","v":"0000000000"}," ",{"$f":"UPPER(MICASH!F1799)","v":""},{"$f":"UPPER(MICASH!G1799)","v":""}," ",{"$f":"TEXT(MICASH!I1799,\"0000000000\")","v":"0000000000"},{"$f":"TEXT(MICASH!J1799*100,\"0000000000\")","v":"0000000000"},{"$f":"TEXT(MONTH(MICASH!K1799),\"00\") & TEXT(DAY(MICASH!K1799),\"00\") & RIGHT(TEXT(YEAR(MICASH!K1799),\"00\"),2)","v":"010000"},{"$f":"UPPER(LEFT(MICASH!L1799,96))","v":""}]
["C",288,"00",{"$f":"TEXT(MICASH!D1800,\"0000000000\")","v":"0000000000"}," ",{"$f":"UPPER(MICASH!F1800)","v":""},{"$f":"UPPER(MICASH!G1800)","v":""}," ",{"$f":"TEXT(MICASH!I1800,\"0000000000\")","v":"0000000000"},{"$f":"TEXT(MICASH!J1800*100,\"0000000000\")","v":"0000000000"},{"$f":"TEXT(MONTH(MICASH!K1800),\"00\") & TEXT(DAY(MICASH!K1800),\"00\") & RIGHT(TEXT(YEAR(MICASH!K1800),\"00\"),2)","v":"010000"},{"$f":"UPPER(LEFT(MICASH!L1800,96))","v":""}]
["C",288,"00",{"$f":"TEXT(MICASH!D1801,\"0000000000\")","v":"0000000000"}," ",{"$f":"UPPER(MICASH!F1801)","v":""},{"$f":"UPPER(MICASH!G1801)","v":""}," ",{"$f":"TEXT(MICASH!I1801,\"0000000000\")","v":"0000000000"},{"$f":"TEXT(MICASH!J1801*100,\"0000000000\")","v":"0000000000"},{"$f":"TEXT(MONTH(MICASH!K1801),\"00\") & TEXT(DAY(MICASH!K1801),\"00\") & RIGHT(TEXT(YEAR(MICASH!K1801),\"00\"),2)","v":"010000"},{"$f":"UPPER(LEFT(MICASH!L1801,96))","v":""}]
["C",288,"00",{"$f":"TEXT(MICASH!D1802,\"0000000000\")","v":"0000000000"}," ",{"$f":"UPPER(MICASH!F1802)","v":""},{"$f":"UPPER(MICASH!G1802)","v":""}," ",{"$f":"TEXT(MICASH!I1802,\"0000000000\")","v":"0000000000"},{"$f":"TEXT(MICASH!J1802*100,\"0000000000\")","v":"0000000000"},{"$f":"TEXT(MONTH(MICASH!K1802),\"00\") & TEXT(DAY(MICASH!K1802),\"00\") & RIGHT(TEXT(YEAR(MICASH!K1802),\"00\"),2)","v":"010000"},{"$f":"UPPER(LEFT(MICASH!L1802,96))","v":""}]
["C",288,"00",{"$f":"TEXT(MICASH!D1803,\"0000000000\")","v":"0000000000"}," ",{"$f":"UPPER(MICASH!F1803)","v":""},{"$f":"UPPER(MICASH!G1803)","v":""}," ",{"$f":"TEXT(MICASH!I1803,\"0000000000\")","v":"0000000000"},{"$f":"TEXT(MICASH!J1803*100,\"0000000000\")","v":"0000000000"},{"$f":"TEXT(MONTH(MICASH!K1803),\"00\") & TEXT(DAY(MICASH!K1803),\"00\") & RIGHT(TEXT(YEAR(MICASH!K1803),\"00\"),2)","v":"010000"},{"$f":"UPPER(LEFT(MICASH!L1803,96))","v":""}]
["C",288,"00",{"$f":"TEXT(MICASH!D1804,\"0000000000\")","v":"0000000000"}," ",{"$f":"UPPER(MICASH!F1804)","v":""},{"$f":"UPPER(MICASH!G1804)","v":""}," ",{"$f":"TEXT(MICASH!I1804,\"0000000000\")","v":"0000000000"},{"$f":"TEXT(MICASH!J1804*100,\"0000000000\")","v":"0000000000"},{"$f":"TEXT(MONTH(MICASH!K1804),\"00\") & TEXT(DAY(MICASH!K1804),\"00\") & RIGHT(TEXT(YEAR(MICASH!K1804),\"00\"),2)","v":"010000"},{"$f":"UPPER(LEFT(MICASH!L1804,96))","v":""}]
["C",288,"00",{"$f":"TEXT(MICASH!D1805,\"0000000000\")","v":"0000000000"}," ",{"$f":"UPPER(MICASH!F1805)","v":""},{"$f":"UPPER(MICASH!G1805)","v":""}," ",{"$f":"TEXT(MICASH!I1805,\"0000000000\")","v":"0000000000"},{"$f":"TEXT(MICASH!J1805*100,\"0000000000\")","v":"0000000000"},{"$f":"TEXT(MONTH(MICASH!K1805),\"00\") & TEXT(DAY(MICASH!K1805),\"00\") & RIGHT(TEXT(YEAR(MICASH!K1805),\"00\"),2)","v":"010000"},{"$f":"UPPER(LEFT(MICASH!L1805,96))","v":""}]
["C",288,"00",{"$f":"TEXT(MICASH!D1806,\"0000000000\")","v":"0000000000"}," ",{"$f":"UPPER(MICASH!F1806)","v":""},{"$f":"UPPER(MICASH!G1806)","v":""}," ",{"$f":"TEXT(MICASH!I1806,\"0000000000\")","v":"0000000000"},{"$f":"TEXT(MICASH!J1806*100,\"0000000000\")","v":"0000000000"},{"$f":"TEXT(MONTH(MICASH!K1806),\"00\") & TEXT(DAY(MICASH!K1806),\"00\") & RIGHT(TEXT(YEAR(MICASH!K1806),\"00\"),2)","v":"010000"},{"$f":"UPPER(LEFT(MICASH!L1806,96))","v":""}]
["C",288,"00",{"$f":"TEXT(MICASH!D1807,\"0000000000\")","v":"0000000000"}," ",{"$f":"UPPER(MICASH!F1807)","v":""},{"$f":"UPPER(MICASH!G1807)","v":""}," ",{"$f":"TEXT(MICASH!I1807,\"0000000000\")","v":"0000000000"},{"$f":"TEXT(MICASH!J1807*100,\"0000000000\")","v":"0000000000"},{"$f":"TEXT(MONTH(MICASH!K1807),\"00\") & TEXT(DAY(MICASH!K1807),\"00\") & RIGHT(TEXT(YEAR(MICASH!K1807),\"00\"),2)","v":"010000"},{"$f":"UPPER(LEFT(MICASH!L1807,96))","v":""}]
["C",288,"00",{"$f":"TEXT(MICASH!D1808,\"0000000000\")","v":"0000000000"}," ",{"$f":"UPPER(MICASH!F1808)","v":""},{"$f":"UPPER(MICASH!G1808)","v":""}," ",{"$f":"TEXT(MICASH!I1808,\"0000000000\")","v":"0000000000"},{"$f":"TEXT(MICASH!J1808*100,\"0000000000\")","v":"0000000000"},{"$f":"TEXT(MONTH(MICASH!K1808),\"00\") & TEXT(DAY(MICASH!K1808),\"00\") & RIGHT(TEXT(YEAR(MICASH!K1808),\"00\"),2)","v":"010000"},{"$f":"UPPER(LEFT(MICASH!L1808,96))","v":""}]
["C",288,"00",{"$f":"TEXT(MICASH!D1809,\"0000000000\")","v":"0000000000"}," ",{"$f":"UPPER(MICASH!F1809)","v":""},{"$f":"UPPER(MICASH!G1809)","v":""}," ",{"$f":"TEXT(MICASH!I1809,\"0000000000\")","v":"0000000000"},{"$f":"TEXT(MICASH!J1809*100,\"0000000000\")","v":"0000000000"},{"$f":"TEXT(MONTH(MICASH!K1809),\"00\") & TEXT(DAY(MICASH!K1809),\"00\") & RIGHT(TEXT(YEAR(MICASH!K1809),\"00\"),2)","v":"010000"},{"$f":"UPPER(LEFT(MICASH!L1809,96))","v":""}]
["C",288,"00",{"$f":"TEXT(MICASH!D1810,\"0000000000\")","v":"0000000000"}," ",{"$f":"UPPER(MICASH!F1810)","v":""},{"$f":"UPPER(MICASH!G1810)","v":""}," ",{"$f":"TEXT(MICASH!I1810,\"0000000000\")","v":"0000000000"},{"$f":"TEXT(MICASH!J1810*100,\"0000000000\")","v":"0000000000"},{"$f":"TEXT(MONTH(MICASH!K1810),\"00\") & TEXT(DAY(MICASH!K1810),\"00\") & RIGHT(TEXT(YEAR(MICASH!K1810),\"00\"),2)","v":"010000"},{"$f":"UPPER(LEFT(MICASH!L1810,96))","v":""}]
["C",288,"00",{"$f":"TEXT(MICASH!D1811,\"0000000000\")","v":"0000000000"}," ",{"$f":"UPPER(MICASH!F1811)","v":""},{"$f":"UPPER(MICASH!G1811)","v":""}," ",{"$f":"TEXT(MICASH!I1811,\"0000000000\")","v":"0000000000"},{"$f":"TEXT(MICASH!J1811*100,\"0000000000\")","v":"0000000000"},{"$f":"TEXT(MONTH(MICASH!K1811),\"00\") & TEXT(DAY(MICASH!K1811),\"00\") & RIGHT(TEXT(YEAR(MICASH!K1811),\"00\"),2)","v":"010000"},{"$f":"UPPER(LEFT(MICASH!L1811,96))","v":""}]
["C",288,"00",{"$f":"TEXT(MICASH!D1812,\"0000000000\")","v":"0000000000"}," ",{"$f":"UPPER(MICASH!F1812)","v":""},{"$f":"UPPER(MICASH!G1812)","v":""}," ",{"$f":"TEXT(MICASH!I1812,\"0000000000\")","v":"0000000000"},{"$f":"TEXT(MICASH!J1812*100,\"0000000000\")","v":"0000000000"},{"$f":"TEXT(MONTH(MICASH!K1812),\"00\") & TEXT(DAY(MICASH!K1812),\"00\") & RIGHT(TEXT(YEAR(MICASH!K1812),\"00\"),2)","v":"010000"},{"$f":"UPPER(LEFT(MICASH!L1812,96))","v":""}]
["C",288,"00",{"$f":"TEXT(MICASH!D1813,\"0000000000\")","v":"0000000000"}," ",{"$f":"UPPER(MICASH!F1813)","v":""},{"$f":"UPPER(MICASH!G1813)","v":""}," ",{"$f":"TEXT(MICASH!I1813,\"0000000000\")","v":"0000000000"},{"$f":"TEXT(MICASH!J1813*100,\"0000000000\")","v":"0000000000"},{"$f":"TEXT(MONTH(MICASH!K1813),\"00\") & TEXT(DAY(MICASH!K1813),\"00\") & RIGHT(TEXT(YEAR(MICASH!K1813),\"00\"),2)","v":"010000"},{"$f":"UPPER(LEFT(MICASH!L1813,96))","v":""}]
["C",288,"00",{"$f":"TEXT(MICASH!D1814,\"0000000000\")","v":"0000000000"}," ",{"$f":"UPPER(MICASH!F1814)","v":""},{"$f":"UPPER(MICASH!G1814)","v":""}," ",{"$f":"TEXT(MICASH!I1814,\"0000000000\")","v":"0000000000"},{"$f":"TEXT(MICASH!J1814*100,\"0000000000\")","v":"0000000000"},{"$f":"TEXT(MONTH(MICASH!K1814),\"00\") & TEXT(DAY(MICASH!K1814),\"00\") & RIGHT(TEXT(YEAR(MICASH!K1814),\"00\"),2)","v":"010000"},{"$f":"UPPER(LEFT(MICASH!L1814,96))","v":""}]
["C",288,"00",{"$f":"TEXT(MICASH!D1815,\"0000000000\")","v":"0000000000"}," ",{"$f":"UPPER(MICASH!F1815)","v":""},{"$f":"UPPER(MICASH!G1815)","v":""}," ",{"$f":"TEXT(MICASH!I1815,\"0000000000\")","v":"0000000000"},{"$f":"TEXT(MICASH!J1815*100,\"0000000000\")","v":"0000000000"},{"$f":"TEXT(MONTH(MICASH!K1815),\"00\") & TEXT(DAY(MICASH!K1815),\"00\") & RIGHT(TEXT(YEAR(MICASH!K1815),\"00\"),2)","v":"010000"},{"$f":"UPPER(LEFT(MICASH!L1815,96))","v":""}]
["C",288,"00",{"$f":"TEXT(MICASH!D1816,\"0000000000\")","v":"0000000000"}," ",{"$f":"UPPER(MICASH!F1816)","v":""},{"$f":"UPPER(MICASH!G1816)","v":""}," ",{"$f":"TEXT(MICASH!I1816,\"0000000000\")","v":"0000000000"},{"$f":"TEXT(MICASH!J1816*100,\"0000000000\")","v":"0000000000"},{"$f":"TEXT(MONTH(MICASH!K1816),\"00\") & TEXT(DAY(MICASH!K1816),\"00\") & RIGHT(TEXT(YEAR(MICASH!K1816),\"00\"),2)","v":"010000"},{"$f":"UPPER(LEFT(MICASH!L1816,96))","v":""}]
["C",288,"00",{"$f":"TEXT(MICASH!D1817,\"0000000000\")","v":"0000000000"}," ",{"$f":"UPPER(MICASH!F1817)","v":""},{"$f":"UPPER(MICASH!G1817)","v":""}," ",{"$f":"TEXT(MICASH!I1817,\"0000000000\")","v":"0000000000"},{"$f":"TEXT(MICASH!J1817*100,\"0000000000\")","v":"0000000000"},{"$f":"TEXT(MONTH(MICASH!K1817),\"00\") & TEXT(DAY(MICASH!K1817),\"00\") & RIGHT(TEXT(YEAR(MICASH!K1817),\"00\"),2)","v":"010000"},{"$f":"UPPER(LEFT(MICASH!L1817,96))","v":""}]
["C",288,"00",{"$f":"TEXT(MICASH!D1818,\"0000000000\")","v":"0000000000"}," ",{"$f":"UPPER(MICASH!F1818)","v":""},{"$f":"UPPER(MICASH!G1818)","v":""}," ",{"$f":"TEXT(MICASH!I1818,\"0000000000\")","v":"0000000000"},{"$f":"TEXT(MICASH!J1818*100,\"0000000000\")","v":"0000000000"},{"$f":"TEXT(MONTH(MICASH!K1818),\"00\") & TEXT(DAY(MICASH!K1818),\"00\") & RIGHT(TEXT(YEAR(MICASH!K1818),\"00\"),2)","v":"010000"},{"$f":"UPPER(LEFT(MICASH!L1818,96))","v":""}]
["C",288,"00",{"$f":"TEXT(MICASH!D1819,\"0000000000\")","v":"0000000000"}," ",{"$f":"UPPER(MICASH!F1819)","v":""},{"$f":"UPPER(MICASH!G1819)","v":""}," ",{"$f":"TEXT(MICASH!I1819,\"0000000000\")","v":"0000000000"},{"$f":"TEXT(MICASH!J1819*100,\"0000000000\")","v":"0000000000"},{"$f":"TEXT(MONTH(MICASH!K1819),\"00\") & TEXT(DAY(MICASH!K1819),\"00\") & RIGHT(TEXT(YEAR(MICASH!K1819),\"00\"),2)","v":"010000"},{"$f":"UPPER(LEFT(MICASH!L1819,96))","v":""}]
["C",288,"00",{"$f":"TEXT(MICASH!D1820,\"0000000000\")","v":"0000000000"}," ",{"$f":"UPPER(MICASH!F1820)","v":""},{"$f":"UPPER(MICASH!G1820)","v":""}," ",{"$f":"TEXT(MICASH!I1820,\"0000000000\")","v":"0000000000"},{"$f":"TEXT(MICASH!J1820*100,\"0000000000\")","v":"0000000000"},{"$f":"TEXT(MONTH(MICASH!K1820),\"00\") & TEXT(DAY(MICASH!K1820),\"00\") & RIGHT(TEXT(YEAR(MICASH!K1820),\"00\"),2)","v":"010000"},{"$f":"UPPER(LEFT(MICASH!L1820,96))","v":""}]
["C",288,"00",{"$f":"TEXT(MICASH!D1821,\"0000000000\")","v":"0000000000"}," ",{"$f":"UPPER(MICASH!F1821)","v":""},{"$f":"UPPER(MICASH!G1821)","v":""}," ",{"$f":"TEXT(MICASH!I1821,\"0000000000\")","v":"0000000000"},{"$f":"TEXT(MICASH!J1821*100,\"0000000000\")","v":"0000000000"},{"$f":"TEXT(MONTH(MICASH!K1821),\"00\") & TEXT(DAY(MICASH!K1821),\"00\") & RIGHT(TEXT(YEAR(MICASH!K1821),\"00\"),2)","v":"010000"},{"$f":"UPPER(LEFT(MICASH!L1821,96))","v":""}]
["C",288,"00",{"$f":"TEXT(MICASH!D1822,\"0000000000\")","v":"0000000000"}," ",{"$f":"UPPER(MICASH!F1822)","v":""},{"$f":"UPPER(MICASH!G1822)","v":""}," ",{"$f":"TEXT(MICASH!I1822,\"0000000000\")","v":"0000000000"},{"$f":"TEXT(MICASH!J1822*100,\"0000000000\")","v":"0000000000"},{"$f":"TEXT(MONTH(MICASH!K1822),\"00\") & TEXT(DAY(MICASH!K1822),\"00\") & RIGHT(TEXT(YEAR(MICASH!K1822),\"00\"),2)","v":"010000"},{"$f":"UPPER(LEFT(MICASH!L1822,96))","v":""}]
["C",288,"00",{"$f":"TEXT(MICASH!D1823,\"0000000000\")","v":"0000000000"}," ",{"$f":"UPPER(MICASH!F1823)","v":""},{"$f":"UPPER(MICASH!G1823)","v":""}," ",{"$f":"TEXT(MICASH!I1823,\"0000000000\")","v":"0000000000"},{"$f":"TEXT(MICASH!J1823*100,\"0000000000\")","v":"0000000000"},{"$f":"TEXT(MONTH(MICASH!K1823),\"00\") & TEXT(DAY(MICASH!K1823),\"00\") & RIGHT(TEXT(YEAR(MICASH!K1823),\"00\"),2)","v":"010000"},{"$f":"UPPER(LEFT(MICASH!L1823,96))","v":""}]
["C",288,"00",{"$f":"TEXT(MICASH!D1824,\"0000000000\")","v":"0000000000"}," ",{"$f":"UPPER(MICASH!F1824)","v":""},{"$f":"UPPER(MICASH!G1824)","v":""}," ",{"$f":"TEXT(MICASH!I1824,\"0000000000\")","v":"0000000000"},{"$f":"TEXT(MICASH!J1824*100,\"0000000000\")","v":"0000000000"},{"$f":"TEXT(MONTH(MICASH!K1824),\"00\") & TEXT(DAY(MICASH!K1824),\"00\") & RIGHT(TEXT(YEAR(MICASH!K1824),\"00\"),2)","v":"010000"},{"$f":"UPPER(LEFT(MICASH!L1824,96))","v":""}]
["C",288,"00",{"$f":"TEXT(MICASH!D1825,\"0000000000\")","v":"0000000000"}," ",{"$f":"UPPER(MICASH!F1825)","v":""},{"$f":"UPPER(MICASH!G1825)","v":""}," ",{"$f":"TEXT(MICASH!I1825,\"0000000000\")","v":"0000000000"},{"$f":"TEXT(MICASH!J1825*100,\"0000000000\")","v":"0000000000"},{"$f":"TEXT(MONTH(MICASH!K1825),\"00\") & TEXT(DAY(MICASH!K1825),\"00\") & RIGHT(TEXT(YEAR(MICASH!K1825),\"00\"),2)","v":"010000"},{"$f":"UPPER(LEFT(MICASH!L1825,96))","v":""}]
["C",288,"00",{"$f":"TEXT(MICASH!D1826,\"0000000000\")","v":"0000000000"}," ",{"$f":"UPPER(MICASH!F1826)","v":""},{"$f":"UPPER(MICASH!G1826)","v":""}," ",{"$f":"TEXT(MICASH!I1826,\"0000000000\")","v":"0000000000"},{"$f":"TEXT(MICASH!J1826*100,\"0000000000\")","v":"0000000000"},{"$f":"TEXT(MONTH(MICASH!K1826),\"00\") & TEXT(DAY(MICASH!K1826),\"00\") & RIGHT(TEXT(YEAR(MICASH!K1826),\"00\"),2)","v":"010000"},{"$f":"UPPER(LEFT(MICASH!L1826,96))","v":""}]
["C",288,"00",{"$f":"TEXT(MICASH!D1827,\"0000000000\")","v":"0000000000"}," ",{"$f":"UPPER(MICASH!F1827)","v":""},{"$f":"UPPER(MICASH!G1827)","v":""}," ",{"$f":"TEXT(MICASH!I1827,\"0000000000\")","v":"0000000000"},{"$f":"TEXT(MICASH!J1827*100,\"0000000000\")","v":"0000000000"},{"$f":"TEXT(MONTH(MICASH!K1827),\"00\") & TEXT(DAY(MICASH!K1827),\"00\") & RIGHT(TEXT(YEAR(MICASH!K1827),\"00\"),2)","v":"010000"},{"$f":"UPPER(LEFT(MICASH!L1827,96))","v":""}]
["C",288,"00",{"$f":"TEXT(MICASH!D1828,\"0000000000\")","v":"0000000000"}," ",{"$f":"UPPER(MICASH!F1828)","v":""},{"$f":"UPPER(MICASH!G1828)","v":""}," ",{"$f":"TEXT(MICASH!I1828,\"0000000000\")","v":"0000000000"},{"$f":"TEXT(MICASH!J1828*100,\"0000000000\")","v":"0000000000"},{"$f":"TEXT(MONTH(MICASH!K1828),\"00\") & TEXT(DAY(MICASH!K1828),\"00\") & RIGHT(TEXT(YEAR(MICASH!K1828),\"00\"),2)","v":"010000"},{"$f":"UPPER(LEFT(MICASH!L1828,96))","v":""}]
["C",288,"00",{"$f":"TEXT(MICASH!D1829,\"0000000000\")","v":"0000000000"}," ",{"$f":"UPPER(MICASH!F1829)","v":""},{"$f":"UPPER(MICASH!G1829)","v":""}," ",{"$f":"TEXT(MICASH!I1829,\"0000000000\")","v":"0000000000"},{"$f":"TEXT(MICASH!J1829*100,\"0000000000\")","v":"0000000000"},{"$f":"TEXT(MONTH(MICASH!K1829),\"00\") & TEXT(DAY(MICASH!K1829),\"00\") & RIGHT(TEXT(YEAR(MICASH!K1829),\"00\"),2)","v":"010000"},{"$f":"UPPER(LEFT(MICASH!L1829,96))","v":""}]
["C",288,"00",{"$f":"TEXT(MICASH!D1830,\"0000000000\")","v":"0000000000"}," ",{"$f":"UPPER(MICASH!F1830)","v":""},{"$f":"UPPER(MICASH!G1830)","v":""}," ",{"$f":"TEXT(MICASH!I1830,\"0000000000\")","v":"0000000000"},{"$f":"TEXT(MICASH!J1830*100,\"0000000000\")","v":"0000000000"},{"$f":"TEXT(MONTH(MICASH!K1830),\"00\") & TEXT(DAY(MICASH!K1830),\"00\") & RIGHT(TEXT(YEAR(MICASH!K1830),\"00\"),2)","v":"010000"},{"$f":"UPPER(LEFT(MICASH!L1830,96))","v":""}]
["C",288,"00",{"$f":"TEXT(MICASH!D1831,\"0000000000\")","v":"0000000000"}," ",{"$f":"UPPER(MICASH!F1831)","v":""},{"$f":"UPPER(MICASH!G1831)","v":""}," ",{"$f":"TEXT(MICASH!I1831,\"0000000000\")","v":"0000000000"},{"$f":"TEXT(MICASH!J1831*100,\"0000000000\")","v":"0000000000"},{"$f":"TEXT(MONTH(MICASH!K1831),\"00\") & TEXT(DAY(MICASH!K1831),\"00\") & RIGHT(TEXT(YEAR(MICASH!K1831),\"00\"),2)","v":"010000"},{"$f":"UPPER(LEFT(MICASH!L1831,96))","v":""}]
["C",288,"00",{"$f":"TEXT(MICASH!D1832,\"0000000000\")","v":"0000000000"}," ",{"$f":"UPPER(MICASH!F1832)","v":""},{"$f":"UPPER(MICASH!G1832)","v":""}," ",{"$f":"TEXT(MICASH!I1832,\"0000000000\")","v":"0000000000"},{"$f":"TEXT(MICASH!J1832*100,\"0000000000\")","v":"0000000000"},{"$f":"TEXT(MONTH(MICASH!K1832),\"00\") & TEXT(DAY(MICASH!K1832),\"00\") & RIGHT(TEXT(YEAR(MICASH!K1832),\"00\"),2)","v":"010000"},{"$f":"UPPER(LEFT(MICASH!L1832,96))","v":""}]
["C",288,"00",{"$f":"TEXT(MICASH!D1833,\"0000000000\")","v":"0000000000"}," ",{"$f":"UPPER(MICASH!F1833)","v":""},{"$f":"UPPER(MICASH!G1833)","v":""}," ",{"$f":"TEXT(MICASH!I1833,\"0000000000\")","v":"0000000000"},{"$f":"TEXT(MICASH!J1833*100,\"0000000000\")","v":"0000000000"},{"$f":"TEXT(MONTH(MICASH!K1833),\"00\") & TEXT(DAY(MICASH!K1833),\"00\") & RIGHT(TEXT(YEAR(MICASH!K1833),\"00\"),2)","v":"010000"},{"$f":"UPPER(LEFT(MICASH!L1833,96))","v":""}]
["C",288,"00",{"$f":"TEXT(MICASH!D1834,\"0000000000\")","v":"0000000000"}," ",{"$f":"UPPER(MICASH!F1834)","v":""},{"$f":"UPPER(MICASH!G1834)","v":""}," ",{"$f":"TEXT(MICASH!I1834,\"0000000000\")","v":"0000000000"},{"$f":"TEXT(MICASH!J1834*100,\"0000000000\")","v":"0000000000"},{"$f":"TEXT(MONTH(MICASH!K1834),\"00\") & TEXT(DAY(MICASH!K1834),\"00\") & RIGHT(TEXT(YEAR(MICASH!K1834),\"00\"),2)","v":"010000"},{"$f":"UPPER(LEFT(MICASH!L1834,96))","v":""}]
["C",288,"00",{"$f":"TEXT(MICASH!D1835,\"0000000000\")","v":"0000000000"}," ",{"$f":"UPPER(MICASH!F1835)","v":""},{"$f":"UPPER(MICASH!G1835)","v":""}," ",{"$f":"TEXT(MICASH!I1835,\"0000000000\")","v":"0000000000"},{"$f":"TEXT(MICASH!J1835*100,\"0000000000\")","v":"0000000000"},{"$f":"TEXT(MONTH(MICASH!K1835),\"00\") & TEXT(DAY(MICASH!K1835),\"00\") & RIGHT(TEXT(YEAR(MICASH!K1835),\"00\"),2)","v":"010000"},{"$f":"UPPER(LEFT(MICASH!L1835,96))","v":""}]
["C",288,"00",{"$f":"TEXT(MICASH!D1836,\"0000000000\")","v":"0000000000"}," ",{"$f":"UPPER(MICASH!F1836)","v":""},{"$f":"UPPER(MICASH!G1836)","v":""}," ",{"$f":"TEXT(MICASH!I1836,\"0000000000\")","v":"0000000000"},{"$f":"TEXT(MICASH!J1836*100,\"0000000000\")","v":"0000000000"},{"$f":"TEXT(MONTH(MICASH!K1836),\"00\") & TEXT(DAY(MICASH!K1836),\"00\") & RIGHT(TEXT(YEAR(MICASH!K1836),\"00\"),2)","v":"010000"},{"$f":"UPPER(LEFT(MICASH!L1836,96))","v":""}]
["C",288,"00",{"$f":"TEXT(MICASH!D1837,\"0000000000\")","v":"0000000000"}," ",{"$f":"UPPER(MICASH!F1837)","v":""},{"$f":"UPPER(MICASH!G1837)","v":""}," ",{"$f":"TEXT(MICASH!I1837,\"0000000000\")","v":"0000000000"},{"$f":"TEXT(MICASH!J1837*100,\"0000000000\")","v":"0000000000"},{"$f":"TEXT(MONTH(MICASH!K1837),\"00\") & TEXT(DAY(MICASH!K1837),\"00\") & RIGHT(TEXT(YEAR(MICASH!K1837),\"00\"),2)","v":"010000"},{"$f":"UPPER(LEFT(MICASH!L1837,96))","v":""}]
["C",288,"00",{"$f":"TEXT(MICASH!D1838,\"0000000000\")","v":"0000000000"}," ",{"$f":"UPPER(MICASH!F1838)","v":""},{"$f":"UPPER(MICASH!G1838)","v":""}," ",{"$f":"TEXT(MICASH!I1838,\"0000000000\")","v":"0000000000"},{"$f":"TEXT(MICASH!J1838*100,\"0000000000\")","v":"0000000000"},{"$f":"TEXT(MONTH(MICASH!K1838),\"00\") & TEXT(DAY(MICASH!K1838),\"00\") & RIGHT(TEXT(YEAR(MICASH!K1838),\"00\"),2)","v":"010000"},{"$f":"UPPER(LEFT(MICASH!L1838,96))","v":""}]
["C",288,"00",{"$f":"TEXT(MICASH!D1839,\"0000000000\")","v":"0000000000"}," ",{"$f":"UPPER(MICASH!F1839)","v":""},{"$f":"UPPER(MICASH!G1839)","v":""}," ",{"$f":"TEXT(MICASH!I1839,\"0000000000\")","v":"0000000000"},{"$f":"TEXT(MICASH!J1839*100,\"0000000000\")","v":"0000000000"},{"$f":"TEXT(MONTH(MICASH!K1839),\"00\") & TEXT(DAY(MICASH!K1839),\"00\") & RIGHT(TEXT(YEAR(MICASH!K1839),\"00\"),2)","v":"010000"},{"$f":"UPPER(LEFT(MICASH!L1839,96))","v":""}]
["C",288,"00",{"$f":"TEXT(MICASH!D1840,\"0000000000\")","v":"0000000000"}," ",{"$f":"UPPER(MICASH!F1840)","v":""},{"$f":"UPPER(MICASH!G1840)","v":""}," ",{"$f":"TEXT(MICASH!I1840,\"0000000000\")","v":"0000000000"},{"$f":"TEXT(MICASH!J1840*100,\"0000000000\")","v":"0000000000"},{"$f":"TEXT(MONTH(MICASH!K1840),\"00\") & TEXT(DAY(MICASH!K1840),\"00\") & RIGHT(TEXT(YEAR(MICASH!K1840),\"00\"),2)","v":"010000"},{"$f":"UPPER(LEFT(MICASH!L1840,96))","v":""}]
["C",288,"00",{"$f":"TEXT(MICASH!D1841,\"0000000000\")","v":"0000000000"}," ",{"$f":"UPPER(MICASH!F1841)","v":""},{"$f":"UPPER(MICASH!G1841)","v":""}," ",{"$f":"TEXT(MICASH!I1841,\"0000000000\")","v":"0000000000"},{"$f":"TEXT(MICASH!J1841*100,\"0000000000\")","v":"0000000000"},{"$f":"TEXT(MONTH(MICASH!K1841),\"00\") & TEXT(DAY(MICASH!K1841),\"00\") & RIGHT(TEXT(YEAR(MICASH!K1841),\"00\"),2)","v":"010000"},{"$f":"UPPER(LEFT(MICASH!L1841,96))","v":""}]
["C",288,"00",{"$f":"TEXT(MICASH!D1842,\"0000000000\")","v":"0000000000"}," ",{"$f":"UPPER(MICASH!F1842)","v":""},{"$f":"UPPER(MICASH!G1842)","v":""}," ",{"$f":"TEXT(MICASH!I1842,\"0000000000\")","v":"0000000000"},{"$f":"TEXT(MICASH!J1842*100,\"0000000000\")","v":"0000000000"},{"$f":"TEXT(MONTH(MICASH!K1842),\"00\") & TEXT(DAY(MICASH!K1842),\"00\") & RIGHT(TEXT(YEAR(MICASH!K1842),\"00\"),2)","v":"010000"},{"$f":"UPPER(LEFT(MICASH!L1842,96))","v":""}]
["C",288,"00",{"$f":"TEXT(MICASH!D1843,\"0000000000\")","v":"0000000000"}," ",{"$f":"UPPER(MICASH!F1843)","v":""},{"$f":"UPPER(MICASH!G1843)","v":""}," ",{"$f":"TEXT(MICASH!I1843,\"0000000000\")","v":"0000000000"},{"$f":"TEXT(MICASH!J1843*100,\"0000000000\")","v":"0000000000"},{"$f":"TEXT(MONTH(MICASH!K1843),\"00\") & TEXT(DAY(MICASH!K1843),\"00\") & RIGHT(TEXT(YEAR(MICASH!K1843),\"00\"),2)","v":"010000"},{"$f":"UPPER(LEFT(MICASH!L1843,96))","v":""}]
["C",288,"00",{"$f":"TEXT(MICASH!D1844,\"0000000000\")","v":"0000000000"}," ",{"$f":"UPPER(MICASH!F1844)","v":""},{"$f":"UPPER(MICASH!G1844)","v":""}," ",{"$f":"TEXT(MICASH!I1844,\"0000000000\")","v":"0000000000"},{"$f":"TEXT(MICASH!J1844*100,\"0000000000\")","v":"0000000000"},{"$f":"TEXT(MONTH(MICASH!K1844),\"00\") & TEXT(DAY(MICASH!K1844),\"00\") & RIGHT(TEXT(YEAR(MICASH!K1844),\"00\"),2)","v":"010000"},{"$f":"UPPER(LEFT(MICASH!L1844,96))","v":""}]
["C",288,"00",{"$f":"TEXT(MICASH!D1845,\"0000000000\")","v":"0000000000"}," ",{"$f":"UPPER(MICASH!F1845)","v":""},{"$f":"UPPER(MICASH!G1845)","v":""}," ",{"$f":"TEXT(MICASH!I1845,\"0000000000\")","v":"0000000000"},{"$f":"TEXT(MICASH!J1845*100,\"0000000000\")","v":"0000000000"},{"$f":"TEXT(MONTH(MICASH!K1845),\"00\") & TEXT(DAY(MICASH!K1845),\"00\") & RIGHT(TEXT(YEAR(MICASH!K1845),\"00\"),2)","v":"010000"},{"$f":"UPPER(LEFT(MICASH!L1845,96))","v":""}]
["C",288,"00",{"$f":"TEXT(MICASH!D1846,\"0000000000\")","v":"0000000000"}," ",{"$f":"UPPER(MICASH!F1846)","v":""},{"$f":"UPPER(MICASH!G1846)","v":""}," ",{"$f":"TEXT(MICASH!I1846,\"0000000000\")","v":"0000000000"},{"$f":"TEXT(MICASH!J1846*100,\"0000000000\")","v":"0000000000"},{"$f":"TEXT(MONTH(MICASH!K1846),\"00\") & TEXT(DAY(MICASH!K1846),\"00\") & RIGHT(TEXT(YEAR(MICASH!K1846),\"00\"),2)","v":"010000"},{"$f":"UPPER(LEFT(MICASH!L1846,96))","v":""}]
["C",288,"00",{"$f":"TEXT(MICASH!D1847,\"0000000000\")","v":"0000000000"}," ",{"$f":"UPPER(MICASH!F1847)","v":""},{"$f":"UPPER(MICASH!G1847)","v":""}," ",{"$f":"TEXT(MICASH!I1847,\"0000000000\")","v":"0000000000"},{"$f":"TEXT(MICASH!J1847*100,\"0000000000\")","v":"0000000000"},{"$f":"TEXT(MONTH(MICASH!K1847),\"00\") & TEXT(DAY(MICASH!K1847),\"00\") & RIGHT(TEXT(YEAR(MICASH!K1847),\"00\"),2)","v":"010000"},{"$f":"UPPER(LEFT(MICASH!L1847,96))","v":""}]
["C",288,"00",{"$f":"TEXT(MICASH!D1848,\"0000000000\")","v":"0000000000"}," ",{"$f":"UPPER(MICASH!F1848)","v":""},{"$f":"UPPER(MICASH!G1848)","v":""}," ",{"$f":"TEXT(MICASH!I1848,\"0000000000\")","v":"0000000000"},{"$f":"TEXT(MICASH!J1848*100,\"0000000000\")","v":"0000000000"},{"$f":"TEXT(MONTH(MICASH!K1848),\"00\") & TEXT(DAY(MICASH!K1848),\"00\") & RIGHT(TEXT(YEAR(MICASH!K1848),\"00\"),2)","v":"010000"},{"$f":"UPPER(LEFT(MICASH!L1848,96))","v":""}]
["C",288,"00",{"$f":"TEXT(MICASH!D1849,\"0000000000\")","v":"0000000000"}," ",{"$f":"UPPER(MICASH!F1849)","v":""},{"$f":"UPPER(MICASH!G1849)","v":""}," ",{"$f":"TEXT(MICASH!I1849,\"0000000000\")","v":"0000000000"},{"$f":"TEXT(MICASH!J1849*100,\"0000000000\")","v":"0000000000"},{"$f":"TEXT(MONTH(MICASH!K1849),\"00\") & TEXT(DAY(MICASH!K1849),\"00\") & RIGHT(TEXT(YEAR(MICASH!K1849),\"00\"),2)","v":"010000"},{"$f":"UPPER(LEFT(MICASH!L1849,96))","v":""}]
["C",288,"00",{"$f":"TEXT(MICASH!D1850,\"0000000000\")","v":"0000000000"}," ",{"$f":"UPPER(MICASH!F1850)","v":""},{"$f":"UPPER(MICASH!G1850)","v":""}," ",{"$f":"TEXT(MICASH!I1850,\"0000000000\")","v":"0000000000"},{"$f":"TEXT(MICASH!J1850*100,\"0000000000\")","v":"0000000000"},{"$f":"TEXT(MONTH(MICASH!K1850),\"00\") & TEXT(DAY(MICASH!K1850),\"00\") & RIGHT(TEXT(YEAR(MICASH!K1850),\"00\"),2)","v":"010000"},{"$f":"UPPER(LEFT(MICASH!L1850,96))","v":""}]
["C",288,"00",{"$f":"TEXT(MICASH!D1851,\"0000000000\")","v":"0000000000"}," ",{"$f":"UPPER(MICASH!F1851)","v":""},{"$f":"UPPER(MICASH!G1851)","v":""}," ",{"$f":"TEXT(MICASH!I1851,\"0000000000\")","v":"0000000000"},{"$f":"TEXT(MICASH!J1851*100,\"0000000000\")","v":"0000000000"},{"$f":"TEXT(MONTH(MICASH!K1851),\"00\") & TEXT(DAY(MICASH!K1851),\"00\") & RIGHT(TEXT(YEAR(MICASH!K1851),\"00\"),2)","v":"010000"},{"$f":"UPPER(LEFT(MICASH!L1851,96))","v":""}]
["C",288,"00",{"$f":"TEXT(MICASH!D1852,\"0000000000\")","v":"0000000000"}," ",{"$f":"UPPER(MICASH!F1852)","v":""},{"$f":"UPPER(MICASH!G1852)","v":""}," ",{"$f":"TEXT(MICASH!I1852,\"0000000000\")","v":"0000000000"},{"$f":"TEXT(MICASH!J1852*100,\"0000000000\")","v":"0000000000"},{"$f":"TEXT(MONTH(MICASH!K1852),\"00\") & TEXT(DAY(MICASH!K1852),\"00\") & RIGHT(TEXT(YEAR(MICASH!K1852),\"00\"),2)","v":"010000"},{"$f":"UPPER(LEFT(MICASH!L1852,96))","v":""}]
["C",288,"00",{"$f":"TEXT(MICASH!D1853,\"0000000000\")","v":"0000000000"}," ",{"$f":"UPPER(MICASH!F1853)","v":""},{"$f":"UPPER(MICASH!G1853)","v":""}," ",{"$f":"TEXT(MICASH!I1853,\"0000000000\")","v":"0000000000"},{"$f":"TEXT(MICASH!J1853*100,\"0000000000\")","v":"0000000000"},{"$f":"TEXT(MONTH(MICASH!K1853),\"00\") & TEXT(DAY(MICASH!K1853),\"00\") & RIGHT(TEXT(YEAR(MICASH!K1853),\"00\"),2)","v":"010000"},{"$f":"UPPER(LEFT(MICASH!L1853,96))","v":""}]
["C",288,"00",{"$f":"TEXT(MICASH!D1854,\"0000000000\")","v":"0000000000"}," ",{"$f":"UPPER(MICASH!F1854)","v":""},{"$f":"UPPER(MICASH!G1854)","v":""}," ",{"$f":"TEXT(MICASH!I1854,\"0000000000\")","v":"0000000000"},{"$f":"TEXT(MICASH!J1854*100,\"0000000000\")","v":"0000000000"},{"$f":"TEXT(MONTH(MICASH!K1854),\"00\") & TEXT(DAY(MICASH!K1854),\"00\") & RIGHT(TEXT(YEAR(MICASH!K1854),\"00\"),2)","v":"010000"},{"$f":"UPPER(LEFT(MICASH!L1854,96))","v":""}]
["C",288,"00",{"$f":"TEXT(MICASH!D1855,\"0000000000\")","v":"0000000000"}," ",{"$f":"UPPER(MICASH!F1855)","v":""},{"$f":"UPPER(MICASH!G1855)","v":""}," ",{"$f":"TEXT(MICASH!I1855,\"0000000000\")","v":"0000000000"},{"$f":"TEXT(MICASH!J1855*100,\"0000000000\")","v":"0000000000"},{"$f":"TEXT(MONTH(MICASH!K1855),\"00\") & TEXT(DAY(MICASH!K1855),\"00\") & RIGHT(TEXT(YEAR(MICASH!K1855),\"00\"),2)","v":"010000"},{"$f":"UPPER(LEFT(MICASH!L1855,96))","v":""}]
["C",288,"00",{"$f":"TEXT(MICASH!D1856,\"0000000000\")","v":"0000000000"}," ",{"$f":"UPPER(MICASH!F1856)","v":""},{"$f":"UPPER(MICASH!G1856)","v":""}," ",{"$f":"TEXT(MICASH!I1856,\"0000000000\")","v":"0000000000"},{"$f":"TEXT(MICASH!J1856*100,\"0000000000\")","v":"0000000000"},{"$f":"TEXT(MONTH(MICASH!K1856),\"00\") & TEXT(DAY(MICASH!K1856),\"00\") & RIGHT(TEXT(YEAR(MICASH!K1856),\"00\"),2)","v":"010000"},{"$f":"UPPER(LEFT(MICASH!L1856,96))","v":""}]
["C",288,"00",{"$f":"TEXT(MICASH!D1857,\"0000000000\")","v":"0000000000"}," ",{"$f":"UPPER(MICASH!F1857)","v":""},{"$f":"UPPER(MICASH!G1857)","v":""}," ",{"$f":"TEXT(MICASH!I1857,\"0000000000\")","v":"0000000000"},{"$f":"TEXT(MICASH!J1857*100,\"0000000000\")","v":"0000000000"},{"$f":"TEXT(MONTH(MICASH!K1857),\"00\") & TEXT(DAY(MICASH!K1857),\"00\") & RIGHT(TEXT(YEAR(MICASH!K1857),\"00\"),2)","v":"010000"},{"$f":"UPPER(LEFT(MICASH!L1857,96))","v":""}]
["C",288,"00",{"$f":"TEXT(MICASH!D1858,\"0000000000\")","v":"0000000000"}," ",{"$f":"UPPER(MICASH!F1858)","v":""},{"$f":"UPPER(MICASH!G1858)","v":""}," ",{"$f":"TEXT(MICASH!I1858,\"0000000000\")","v":"0000000000"},{"$f":"TEXT(MICASH!J1858*100,\"0000000000\")","v":"0000000000"},{"$f":"TEXT(MONTH(MICASH!K1858),\"00\") & TEXT(DAY(MICASH!K1858),\"00\") & RIGHT(TEXT(YEAR(MICASH!K1858),\"00\"),2)","v":"010000"},{"$f":"UPPER(LEFT(MICASH!L1858,96))","v":""}]
["C",288,"00",{"$f":"TEXT(MICASH!D1859,\"0000000000\")","v":"0000000000"}," ",{"$f":"UPPER(MICASH!F1859)","v":""},{"$f":"UPPER(MICASH!G1859)","v":""}," ",{"$f":"TEXT(MICASH!I1859,\"0000000000\")","v":"0000000000"},{"$f":"TEXT(MICASH!J1859*100,\"0000000000\")","v":"0000000000"},{"$f":"TEXT(MONTH(MICASH!K1859),\"00\") & TEXT(DAY(MICASH!K1859),\"00\") & RIGHT(TEXT(YEAR(MICASH!K1859),\"00\"),2)","v":"010000"},{"$f":"UPPER(LEFT(MICASH!L1859,96))","v":""}]
["C",288,"00",{"$f":"TEXT(MICASH!D1860,\"0000000000\")","v":"0000000000"}," ",{"$f":"UPPER(MICASH!F1860)","v":""},{"$f":"UPPER(MICASH!G1860)","v":""}," ",{"$f":"TEXT(MICASH!I1860,\"0000000000\")","v":"0000000000"},{"$f":"TEXT(MICASH!J1860*100,\"0000000000\")","v":"0000000000"},{"$f":"TEXT(MONTH(MICASH!K1860),\"00\") & TEXT(DAY(MICASH!K1860),\"00\") & RIGHT(TEXT(YEAR(MICASH!K1860),\"00\"),2)","v":"010000"},{"$f":"UPPER(LEFT(MICASH!L1860,96))","v":""}]
["C",288,"00",{"$f":"TEXT(MICASH!D1861,\"0000000000\")","v":"0000000000"}," ",{"$f":"UPPER(MICASH!F1861)","v":""},{"$f":"UPPER(MICASH!G1861)","v":""}," ",{"$f":"TEXT(MICASH!I1861,\"0000000000\")","v":"0000000000"},{"$f":"TEXT(MICASH!J1861*100,\"0000000000\")","v":"0000000000"},{"$f":"TEXT(MONTH(MICASH!K1861),\"00\") & TEXT(DAY(MICASH!K1861),\"00\") & RIGHT(TEXT(YEAR(MICASH!K1861),\"00\"),2)","v":"010000"},{"$f":"UPPER(LEFT(MICASH!L1861,96))","v":""}]
["C",288,"00",{"$f":"TEXT(MICASH!D1862,\"0000000000\")","v":"0000000000"}," ",{"$f":"UPPER(MICASH!F1862)","v":""},{"$f":"UPPER(MICASH!G1862)","v":""}," ",{"$f":"TEXT(MICASH!I1862,\"0000000000\")","v":"0000000000"},{"$f":"TEXT(MICASH!J1862*100,\"0000000000\")","v":"0000000000"},{"$f":"TEXT(MONTH(MICASH!K1862),\"00\") & TEXT(DAY(MICASH!K1862),\"00\") & RIGHT(TEXT(YEAR(MICASH!K1862),\"00\"),2)","v":"010000"},{"$f":"UPPER(LEFT(MICASH!L1862,96))","v":""}]
["C",288,"00",{"$f":"TEXT(MICASH!D1863,\"0000000000\")","v":"0000000000"}," ",{"$f":"UPPER(MICASH!F1863)","v":""},{"$f":"UPPER(MICASH!G1863)","v":""}," ",{"$f":"TEXT(MICASH!I1863,\"0000000000\")","v":"0000000000"},{"$f":"TEXT(MICASH!J1863*100,\"0000000000\")","v":"0000000000"},{"$f":"TEXT(MONTH(MICASH!K1863),\"00\") & TEXT(DAY(MICASH!K1863),\"00\") & RIGHT(TEXT(YEAR(MICASH!K1863),\"00\"),2)","v":"010000"},{"$f":"UPPER(LEFT(MICASH!L1863,96))","v":""}]
["C",288,"00",{"$f":"TEXT(MICASH!D1864,\"0000000000\")","v":"0000000000"}," ",{"$f":"UPPER(MICASH!F1864)","v":""},{"$f":"UPPER(MICASH!G1864)","v":""}," ",{"$f":"TEXT(MICASH!I1864,\"0000000000\")","v":"0000000000"},{"$f":"TEXT(MICASH!J1864*100,\"0000000000\")","v":"0000000000"},{"$f":"TEXT(MONTH(MICASH!K1864),\"00\") & TEXT(DAY(MICASH!K1864),\"00\") & RIGHT(TEXT(YEAR(MICASH!K1864),\"00\"),2)","v":"010000"},{"$f":"UPPER(LEFT(MICASH!L1864,96))","v":""}]
["C",288,"00",{"$f":"TEXT(MICASH!D1865,\"0000000000\")","v":"0000000000"}," ",{"$f":"UPPER(MICASH!F1865)","v":""},{"$f":"UPPER(MICASH!G1865)","v":""}," ",{"$f":"TEXT(MICASH!I1865,\"0000000000\")","v":"0000000000"},{"$f":"TEXT(MICASH!J1865*100,\"0000000000\")","v":"0000000000"},{"$f":"TEXT(MONTH(MICASH!K1865),\"00\") & TEXT(DAY(MICASH!K1865),\"00\") & RIGHT(TEXT(YEAR(MICASH!K1865),\"00\"),2)","v":"010000"},{"$f":"UPPER(LEFT(MICASH!L1865,96))","v":""}]
["C",288,"00",{"$f":"TEXT(MICASH!D1866,\"0000000000\")","v":"0000000000"}," ",{"$f":"UPPER(MICASH!F1866)","v":""},{"$f":"UPPER(MICASH!G1866)","v":""}," ",{"$f":"TEXT(MICASH!I1866,\"0000000000\")","v":"0000000000"},{"$f":"TEXT(MICASH!J1866*100,\"0000000000\")","v":"0000000000"},{"$f":"TEXT(MONTH(MICASH!K1866),\"00\") & TEXT(DAY(MICASH!K1866),\"00\") & RIGHT(TEXT(YEAR(MICASH!K1866),\"00\"),2)","v":"010000"},{"$f":"UPPER(LEFT(MICASH!L1866,96))","v":""}]
["C",288,"00",{"$f":"TEXT(MICASH!D1867,\"0000000000\")","v":"0000000000"}," ",{"$f":"UPPER(MICASH!F1867)","v":""},{"$f":"UPPER(MICASH!G1867)","v":""}," ",{"$f":"TEXT(MICASH!I1867,\"0000000000\")","v":"0000000000"},{"$f":"TEXT(MICASH!J1867*100,\"0000000000\")","v":"0000000000"},{"$f":"TEXT(MONTH(MICASH!K1867),\"00\") & TEXT(DAY(MICASH!K1867),\"00\") & RIGHT(TEXT(YEAR(MICASH!K1867),\"00\"),2)","v":"010000"},{"$f":"UPPER(LEFT(MICASH!L1867,96))","v":""}]
["C",288,"00",{"$f":"TEXT(MICASH!D1868,\"0000000000\")","v":"0000000000"}," ",{"$f":"UPPER(MICASH!F1868)","v":""},{"$f":"UPPER(MICASH!G1868)","v":""}," ",{"$f":"TEXT(MICASH!I1868,\"0000000000\")","v":"0000000000"},{"$f":"TEXT(MICASH!J1868*100,\"0000000000\")","v":"0000000000"},{"$f":"TEXT(MONTH(MICASH!K1868),\"00\") & TEXT(DAY(MICASH!K1868),\"00\") & RIGHT(TEXT(YEAR(MICASH!K1868),\"00\"),2)","v":"010000"},{"$f":"UPPER(LEFT(MICASH!L1868,96))","v":""}]
["C",288,"00",{"$f":"TEXT(MICASH!D1869,\"0000000000\")","v":"0000000000"}," ",{"$f":"UPPER(MICASH!F1869)","v":""},{"$f":"UPPER(MICASH!G1869)","v":""}," ",{"$f":"TEXT(MICASH!I1869,\"0000000000\")","v":"0000000000"},{"$f":"TEXT(MICASH!J1869*100,\"0000000000\")","v":"0000000000"},{"$f":"TEXT(MONTH(MICASH!K1869),\"00\") & TEXT(DAY(MICASH!K1869),\"00\") & RIGHT(TEXT(YEAR(MICASH!K1869),\"00\"),2)","v":"010000"},{"$f":"UPPER(LEFT(MICASH!L1869,96))","v":""}]
["C",288,"00",{"$f":"TEXT(MICASH!D1870,\"0000000000\")","v":"0000000000"}," ",{"$f":"UPPER(MICASH!F1870)","v":""},{"$f":"UPPER(MICASH!G1870)","v":""}," ",{"$f":"TEXT(MICASH!I1870,\"0000000000\")","v":"0000000000"},{"$f":"TEXT(MICASH!J1870*100,\"0000000000\")","v":"0000000000"},{"$f":"TEXT(MONTH(MICASH!K1870),\"00\") & TEXT(DAY(MICASH!K1870),\"00\") & RIGHT(TEXT(YEAR(MICASH!K1870),\"00\"),2)","v":"010000"},{"$f":"UPPER(LEFT(MICASH!L1870,96))","v":""}]
["C",288,"00",{"$f":"TEXT(MICASH!D1871,\"0000000000\")","v":"0000000000"}," ",{"$f":"UPPER(MICASH!F1871)","v":""},{"$f":"UPPER(MICASH!G1871)","v":""}," ",{"$f":"TEXT(MICASH!I1871,\"0000000000\")","v":"0000000000"},{"$f":"TEXT(MICASH!J1871*100,\"0000000000\")","v":"0000000000"},{"$f":"TEXT(MONTH(MICASH!K1871),\"00\") & TEXT(DAY(MICASH!K1871),\"00\") & RIGHT(TEXT(YEAR(MICASH!K1871),\"00\"),2)","v":"010000"},{"$f":"UPPER(LEFT(MICASH!L1871,96))","v":""}]
["C",288,"00",{"$f":"TEXT(MICASH!D1872,\"0000000000\")","v":"0000000000"}," ",{"$f":"UPPER(MICASH!F1872)","v":""},{"$f":"UPPER(MICASH!G1872)","v":""}," ",{"$f":"TEXT(MICASH!I1872,\"0000000000\")","v":"0000000000"},{"$f":"TEXT(MICASH!J1872*100,\"0000000000\")","v":"0000000000"},{"$f":"TEXT(MONTH(MICASH!K1872),\"00\") & TEXT(DAY(MICASH!K1872),\"00\") & RIGHT(TEXT(YEAR(MICASH!K1872),\"00\"),2)","v":"010000"},{"$f":"UPPER(LEFT(MICASH!L1872,96))","v":""}]
["C",288,"00",{"$f":"TEXT(MICASH!D1873,\"0000000000\")","v":"0000000000"}," ",{"$f":"UPPER(MICASH!F1873)","v":""},{"$f":"UPPER(MICASH!G1873)","v":""}," ",{"$f":"TEXT(MICASH!I1873,\"0000000000\")","v":"0000000000"},{"$f":"TEXT(MICASH!J1873*100,\"0000000000\")","v":"0000000000"},{"$f":"TEXT(MONTH(MICASH!K1873),\"00\") & TEXT(DAY(MICASH!K1873),\"00\") & RIGHT(TEXT(YEAR(MICASH!K1873),\"00\"),2)","v":"010000"},{"$f":"UPPER(LEFT(MICASH!L1873,96))","v":""}]
["C",288,"00",{"$f":"TEXT(MICASH!D1874,\"0000000000\")","v":"0000000000"}," ",{"$f":"UPPER(MICASH!F1874)","v":""},{"$f":"UPPER(MICASH!G1874)","v":""}," ",{"$f":"TEXT(MICASH!I1874,\"0000000000\")","v":"0000000000"},{"$f":"TEXT(MICASH!J1874*100,\"0000000000\")","v":"0000000000"},{"$f":"TEXT(MONTH(MICASH!K1874),\"00\") & TEXT(DAY(MICASH!K1874),\"00\") & RIGHT(TEXT(YEAR(MICASH!K1874),\"00\"),2)","v":"010000"},{"$f":"UPPER(LEFT(MICASH!L1874,96))","v":""}]
["C",288,"00",{"$f":"TEXT(MICASH!D1875,\"0000000000\")","v":"0000000000"}," ",{"$f":"UPPER(MICASH!F1875)","v":""},{"$f":"UPPER(MICASH!G1875)","v":""}," ",{"$f":"TEXT(MICASH!I1875,\"0000000000\")","v":"0000000000"},{"$f":"TEXT(MICASH!J1875*100,\"0000000000\")","v":"0000000000"},{"$f":"TEXT(MONTH(MICASH!K1875),\"00\") & TEXT(DAY(MICASH!K1875),\"00\") & RIGHT(TEXT(YEAR(MICASH!K1875),\"00\"),2)","v":"010000"},{"$f":"UPPER(LEFT(MICASH!L1875,96))","v":""}]
["C",288,"00",{"$f":"TEXT(MICASH!D1876,\"0000000000\")","v":"0000000000"}," ",{"$f":"UPPER(MICASH!F1876)","v":""},{"$f":"UPPER(MICASH!G1876)","v":""}," ",{"$f":"TEXT(MICASH!I1876,\"0000000000\")","v":"0000000000"},{"$f":"TEXT(MICASH!J1876*100,\"0000000000\")","v":"0000000000"},{"$f":"TEXT(MONTH(MICASH!K1876),\"00\") & TEXT(DAY(MICASH!K1876),\"00\") & RIGHT(TEXT(YEAR(MICASH!K1876),\"00\"),2)","v":"010000"},{"$f":"UPPER(LEFT(MICASH!L1876,96))","v":""}]
["C",288,"00",{"$f":"TEXT(MICASH!D1877,\"0000000000\")","v":"0000000000"}," ",{"$f":"UPPER(MICASH!F1877)","v":""},{"$f":"UPPER(MICASH!G1877)","v":""}," ",{"$f":"TEXT(MICASH!I1877,\"0000000000\")","v":"0000000000"},{"$f":"TEXT(MICASH!J1877*100,\"0000000000\")","v":"0000000000"},{"$f":"TEXT(MONTH(MICASH!K1877),\"00\") & TEXT(DAY(MICASH!K1877),\"00\") & RIGHT(TEXT(YEAR(MICASH!K1877),\"00\"),2)","v":"010000"},{"$f":"UPPER(LEFT(MICASH!L1877,96))","v":""}]
["C",288,"00",{"$f":"TEXT(MICASH!D1878,\"0000000000\")","v":"0000000000"}," ",{"$f":"UPPER(MICASH!F1878)","v":""},{"$f":"UPPER(MICASH!G1878)","v":""}," ",{"$f":"TEXT(MICASH!I1878,\"0000000000\")","v":"0000000000"},{"$f":"TEXT(MICASH!J1878*100,\"0000000000\")","v":"0000000000"},{"$f":"TEXT(MONTH(MICASH!K1878),\"00\") & TEXT(DAY(MICASH!K1878),\"00\") & RIGHT(TEXT(YEAR(MICASH!K1878),\"00\"),2)","v":"010000"},{"$f":"UPPER(LEFT(MICASH!L1878,96))","v":""}]
["C",288,"00",{"$f":"TEXT(MICASH!D1879,\"0000000000\")","v":"0000000000"}," ",{"$f":"UPPER(MICASH!F1879)","v":""},{"$f":"UPPER(MICASH!G1879)","v":""}," ",{"$f":"TEXT(MICASH!I1879,\"0000000000\")","v":"0000000000"},{"$f":"TEXT(MICASH!J1879*100,\"0000000000\")","v":"0000000000"},{"$f":"TEXT(MONTH(MICASH!K1879),\"00\") & TEXT(DAY(MICASH!K1879),\"00\") & RIGHT(TEXT(YEAR(MICASH!K1879),\"00\"),2)","v":"010000"},{"$f":"UPPER(LEFT(MICASH!L1879,96))","v":""}]
["C",288,"00",{"$f":"TEXT(MICASH!D1880,\"0000000000\")","v":"0000000000"}," ",{"$f":"UPPER(MICASH!F1880)","v":""},{"$f":"UPPER(MICASH!G1880)","v":""}," ",{"$f":"TEXT(MICASH!I1880,\"0000000000\")","v":"0000000000"},{"$f":"TEXT(MICASH!J1880*100,\"0000000000\")","v":"0000000000"},{"$f":"TEXT(MONTH(MICASH!K1880),\"00\") & TEXT(DAY(MICASH!K1880),\"00\") & RIGHT(TEXT(YEAR(MICASH!K1880),\"00\"),2)","v":"010000"},{"$f":"UPPER(LEFT(MICASH!L1880,96))","v":""}]
["C",288,"00",{"$f":"TEXT(MICASH!D1881,\"0000000000\")","v":"0000000000"}," ",{"$f":"UPPER(MICASH!F1881)","v":""},{"$f":"UPPER(MICASH!G1881)","v":""}," ",{"$f":"TEXT(MICASH!I1881,\"0000000000\")","v":"0000000000"},{"$f":"TEXT(MICASH!J1881*100,\"0000000000\")","v":"0000000000"},{"$f":"TEXT(MONTH(MICASH!K1881),\"00\") & TEXT(DAY(MICASH!K1881),\"00\") & RIGHT(TEXT(YEAR(MICASH!K1881),\"00\"),2)","v":"010000"},{"$f":"UPPER(LEFT(MICASH!L1881,96))","v":""}]
["C",288,"00",{"$f":"TEXT(MICASH!D1882,\"0000000000\")","v":"0000000000"}," ",{"$f":"UPPER(MICASH!F1882)","v":""},{"$f":"UPPER(MICASH!G1882)","v":""}," ",{"$f":"TEXT(MICASH!I1882,\"0000000000\")","v":"0000000000"},{"$f":"TEXT(MICASH!J1882*100,\"0000000000\")","v":"0000000000"},{"$f":"TEXT(MONTH(MICASH!K1882),\"00\") & TEXT(DAY(MICASH!K1882),\"00\") & RIGHT(TEXT(YEAR(MICASH!K1882),\"00\"),2)","v":"010000"},{"$f":"UPPER(LEFT(MICASH!L1882,96))","v":""}]
["C",288,"00",{"$f":"TEXT(MICASH!D1883,\"0000000000\")","v":"0000000000"}," ",{"$f":"UPPER(MICASH!F1883)","v":""},{"$f":"UPPER(MICASH!G1883)","v":""}," ",{"$f":"TEXT(MICASH!I1883,\"0000000000\")","v":"0000000000"},{"$f":"TEXT(MICASH!J1883*100,\"0000000000\")","v":"0000000000"},{"$f":"TEXT(MONTH(MICASH!K1883),\"00\") & TEXT(DAY(MICASH!K1883),\"00\") & RIGHT(TEXT(YEAR(MICASH!K1883),\"00\"),2)","v":"010000"},{"$f":"UPPER(LEFT(MICASH!L1883,96))","v":""}]
["C",288,"00",{"$f":"TEXT(MICASH!D1884,\"0000000000\")","v":"0000000000"}," ",{"$f":"UPPER(MICASH!F1884)","v":""},{"$f":"UPPER(MICASH!G1884)","v":""}," ",{"$f":"TEXT(MICASH!I1884,\"0000000000\")","v":"0000000000"},{"$f":"TEXT(MICASH!J1884*100,\"0000000000\")","v":"0000000000"},{"$f":"TEXT(MONTH(MICASH!K1884),\"00\") & TEXT(DAY(MICASH!K1884),\"00\") & RIGHT(TEXT(YEAR(MICASH!K1884),\"00\"),2)","v":"010000"},{"$f":"UPPER(LEFT(MICASH!L1884,96))","v":""}]
["C",288,"00",{"$f":"TEXT(MICASH!D1885,\"0000000000\")","v":"0000000000"}," ",{"$f":"UPPER(MICASH!F1885)","v":""},{"$f":"UPPER(MICASH!G1885)","v":""}," ",{"$f":"TEXT(MICASH!I1885,\"0000000000\")","v":"0000000000"},{"$f":"TEXT(MICASH!J1885*100,\"0000000000\")","v":"0000000000"},{"$f":"TEXT(MONTH(MICASH!K1885),\"00\") & TEXT(DAY(MICASH!K1885),\"00\") & RIGHT(TEXT(YEAR(MICASH!K1885),\"00\"),2)","v":"010000"},{"$f":"UPPER(LEFT(MICASH!L1885,96))","v":""}]
["C",288,"00",{"$f":"TEXT(MICASH!D1886,\"0000000000\")","v":"0000000000"}," ",{"$f":"UPPER(MICASH!F1886)","v":""},{"$f":"UPPER(MICASH!G1886)","v":""}," ",{"$f":"TEXT(MICASH!I1886,\"0000000000\")","v":"0000000000"},{"$f":"TEXT(MICASH!J1886*100,\"0000000000\")","v":"0000000000"},{"$f":"TEXT(MONTH(MICASH!K1886),\"00\") & TEXT(DAY(MICASH!K1886),\"00\") & RIGHT(TEXT(YEAR(MICASH!K1886),\"00\"),2)","v":"010000"},{"$f":"UPPER(LEFT(MICASH!L1886,96))","v":""}]
["C",288,"00",{"$f":"TEXT(MICASH!D1887,\"0000000000\")","v":"0000000000"}," ",{"$f":"UPPER(MICASH!F1887)","v":""},{"$f":"UPPER(MICASH!G1887)","v":""}," ",{"$f":"TEXT(MICASH!I1887,\"0000000000\")","v":"0000000000"},{"$f":"TEXT(MICASH!J1887*100,\"0000000000\")","v":"0000000000"},{"$f":"TEXT(MONTH(MICASH!K1887),\"00\") & TEXT(DAY(MICASH!K1887),\"00\") & RIGHT(TEXT(YEAR(MICASH!K1887),\"00\"),2)","v":"010000"},{"$f":"UPPER(LEFT(MICASH!L1887,96))","v":""}]
["C",288,"00",{"$f":"TEXT(MICASH!D1888,\"0000000000\")","v":"0000000000"}," ",{"$f":"UPPER(MICASH!F1888)","v":""},{"$f":"UPPER(MICASH!G1888)","v":""}," ",{"$f":"TEXT(MICASH!I1888,\"0000000000\")","v":"0000000000"},{"$f":"TEXT(MICASH!J1888*100,\"0000000000\")","v":"0000000000"},{"$f":"TEXT(MONTH(MICASH!K1888),\"00\") & TEXT(DAY(MICASH!K1888),\"00\") & RIGHT(TEXT(YEAR(MICASH!K1888),\"00\"),2)","v":"010000"},{"$f":"UPPER(LEFT(MICASH!L1888,96))","v":""}]
["C",288,"00",{"$f":"TEXT(MICASH!D1889,\"0000000000\")","v":"0000000000"}," ",{"$f":"UPPER(MICASH!F1889)","v":""},{"$f":"UPPER(MICASH!G1889)","v":""}," ",{"$f":"TEXT(MICASH!I1889,\"0000000000\")","v":"0000000000"},{"$f":"TEXT(MICASH!J1889*100,\"0000000000\")","v":"0000000000"},{"$f":"TEXT(MONTH(MICASH!K1889),\"00\") & TEXT(DAY(MICASH!K1889),\"00\") & RIGHT(TEXT(YEAR(MICASH!K1889),\"00\"),2)","v":"010000"},{"$f":"UPPER(LEFT(MICASH!L1889,96))","v":""}]
["C",288,"00",{"$f":"TEXT(MICASH!D1890,\"0000000000\")","v":"0000000000"}," ",{"$f":"UPPER(MICASH!F1890)","v":""},{"$f":"UPPER(MICASH!G1890)","v":""}," ",{"$f":"TEXT(MICASH!I1890,\"0000000000\")","v":"0000000000"},{"$f":"TEXT(MICASH!J1890*100,\"0000000000\")","v":"0000000000"},{"$f":"TEXT(MONTH(MICASH!K1890),\"00\") & TEXT(DAY(MICASH!K1890),\"00\") & RIGHT(TEXT(YEAR(MICASH!K1890),\"00\"),2)","v":"010000"},{"$f":"UPPER(LEFT(MICASH!L1890,96))","v":""}]
["C",288,"00",{"$f":"TEXT(MICASH!D1891,\"0000000000\")","v":"0000000000"}," ",{"$f":"UPPER(MICASH!F1891)","v":""},{"$f":"UPPER(MICASH!G1891)","v":""}," ",{"$f":"TEXT(MICASH!I1891,\"0000000000\")","v":"0000000000"},{"$f":"TEXT(MICASH!J1891*100,\"0000000000\")","v":"0000000000"},{"$f":"TEXT(MONTH(MICASH!K1891),\"00\") & TEXT(DAY(MICASH!K1891),\"00\") & RIGHT(TEXT(YEAR(MICASH!K1891),\"00\"),2)","v":"010000"},{"$f":"UPPER(LEFT(MICASH!L1891,96))","v":""}]
["C",288,"00",{"$f":"TEXT(MICASH!D1892,\"0000000000\")","v":"0000000000"}," ",{"$f":"UPPER(MICASH!F1892)","v":""},{"$f":"UPPER(MICASH!G1892)","v":""}," ",{"$f":"TEXT(MICASH!I1892,\"0000000000\")","v":"0000000000"},{"$f":"TEXT(MICASH!J1892*100,\"0000000000\")","v":"0000000000"},{"$f":"TEXT(MONTH(MICASH!K1892),\"00\") & TEXT(DAY(MICASH!K1892),\"00\") & RIGHT(TEXT(YEAR(MICASH!K1892),\"00\"),2)","v":"010000"},{"$f":"UPPER(LEFT(MICASH!L1892,96))","v":""}]
["C",288,"00",{"$f":"TEXT(MICASH!D1893,\"0000000000\")","v":"0000000000"}," ",{"$f":"UPPER(MICASH!F1893)","v":""},{"$f":"UPPER(MICASH!G1893)","v":""}," ",{"$f":"TEXT(MICASH!I1893,\"0000000000\")","v":"0000000000"},{"$f":"TEXT(MICASH!J1893*100,\"0000000000\")","v":"0000000000"},{"$f":"TEXT(MONTH(MICASH!K1893),\"00\") & TEXT(DAY(MICASH!K1893),\"00\") & RIGHT(TEXT(YEAR(MICASH!K1893),\"00\"),2)","v":"010000"},{"$f":"UPPER(LEFT(MICASH!L1893,96))","v":""}]
["C",288,"00",{"$f":"TEXT(MICASH!D1894,\"0000000000\")","v":"0000000000"}," ",{"$f":"UPPER(MICASH!F1894)","v":""},{"$f":"UPPER(MICASH!G1894)","v":""}," ",{"$f":"TEXT(MICASH!I1894,\"0000000000\")","v":"0000000000"},{"$f":"TEXT(MICASH!J1894*100,\"0000000000\")","v":"0000000000"},{"$f":"TEXT(MONTH(MICASH!K1894),\"00\") & TEXT(DAY(MICASH!K1894),\"00\") & RIGHT(TEXT(YEAR(MICASH!K1894),\"00\"),2)","v":"010000"},{"$f":"UPPER(LEFT(MICASH!L1894,96))","v":""}]
["C",288,"00",{"$f":"TEXT(MICASH!D1895,\"0000000000\")","v":"0000000000"}," ",{"$f":"UPPER(MICASH!F1895)","v":""},{"$f":"UPPER(MICASH!G1895)","v":""}," ",{"$f":"TEXT(MICASH!I1895,\"0000000000\")","v":"0000000000"},{"$f":"TEXT(MICASH!J1895*100,\"0000000000\")","v":"0000000000"},{"$f":"TEXT(MONTH(MICASH!K1895),\"00\") & TEXT(DAY(MICASH!K1895),\"00\") & RIGHT(TEXT(YEAR(MICASH!K1895),\"00\"),2)","v":"010000"},{"$f":"UPPER(LEFT(MICASH!L1895,96))","v":""}]
["C",288,"00",{"$f":"TEXT(MICASH!D1896,\"0000000000\")","v":"0000000000"}," ",{"$f":"UPPER(MICASH!F1896)","v":""},{"$f":"UPPER(MICASH!G1896)","v":""}," ",{"$f":"TEXT(MICASH!I1896,\"0000000000\")","v":"0000000000"},{"$f":"TEXT(MICASH!J1896*100,\"0000000000\")","v":"0000000000"},{"$f":"TEXT(MONTH(MICASH!K1896),\"00\") & TEXT(DAY(MICASH!K1896),\"00\") & RIGHT(TEXT(YEAR(MICASH!K1896),\"00\"),2)","v":"010000"},{"$f":"UPPER(LEFT(MICASH!L1896,96))","v":""}]
["C",288,"00",{"$f":"TEXT(MICASH!D1897,\"0000000000\")","v":"0000000000"}," ",{"$f":"UPPER(MICASH!F1897)","v":""},{"$f":"UPPER(MICASH!G1897)","v":""}," ",{"$f":"TEXT(MICASH!I1897,\"0000000000\")","v":"0000000000"},{"$f":"TEXT(MICASH!J1897*100,\"0000000000\")","v":"0000000000"},{"$f":"TEXT(MONTH(MICASH!K1897),\"00\") & TEXT(DAY(MICASH!K1897),\"00\") & RIGHT(TEXT(YEAR(MICASH!K1897),\"00\"),2)","v":"010000"},{"$f":"UPPER(LEFT(MICASH!L1897,96))","v":""}]
["C",288,"00",{"$f":"TEXT(MICASH!D1898,\"0000000000\")","v":"0000000000"}," ",{"$f":"UPPER(MICASH!F1898)","v":""},{"$f":"UPPER(MICASH!G1898)","v":""}," ",{"$f":"TEXT(MICASH!I1898,\"0000000000\")","v":"0000000000"},{"$f":"TEXT(MICASH!J1898*100,\"0000000000\")","v":"0000000000"},{"$f":"TEXT(MONTH(MICASH!K1898),\"00\") & TEXT(DAY(MICASH!K1898),\"00\") & RIGHT(TEXT(YEAR(MICASH!K1898),\"00\"),2)","v":"010000"},{"$f":"UPPER(LEFT(MICASH!L1898,96))","v":""}]
["C",288,"00",{"$f":"TEXT(MICASH!D1899,\"0000000000\")","v":"0000000000"}," ",{"$f":"UPPER(MICASH!F1899)","v":""},{"$f":"UPPER(MICASH!G1899)","v":""}," ",{"$f":"TEXT(MICASH!I1899,\"0000000000\")","v":"0000000000"},{"$f":"TEXT(MICASH!J1899*100,\"0000000000\")","v":"0000000000"},{"$f":"TEXT(MONTH(MICASH!K1899),\"00\") & TEXT(DAY(MICASH!K1899),\"00\") & RIGHT(TEXT(YEAR(MICASH!K1899),\"00\"),2)","v":"010000"},{"$f":"UPPER(LEFT(MICASH!L1899,96))","v":""}]
["C",288,"00",{"$f":"TEXT(MICASH!D1900,\"0000000000\")","v":"0000000000"}," ",{"$f":"UPPER(MICASH!F1900)","v":""},{"$f":"UPPER(MICASH!G1900)","v":""}," ",{"$f":"TEXT(MICASH!I1900,\"0000000000\")","v":"0000000000"},{"$f":"TEXT(MICASH!J1900*100,\"0000000000\")","v":"0000000000"},{"$f":"TEXT(MONTH(MICASH!K1900),\"00\") & TEXT(DAY(MICASH!K1900),\"00\") & RIGHT(TEXT(YEAR(MICASH!K1900),\"00\"),2)","v":"010000"},{"$f":"UPPER(LEFT(MICASH!L1900,96))","v":""}]
["C",288,"00",{"$f":"TEXT(MICASH!D1901,\"0000000000\")","v":"0000000000"}," ",{"$f":"UPPER(MICASH!F1901)","v":""},{"$f":"UPPER(MICASH!G1901)","v":""}," ",{"$f":"TEXT(MICASH!I1901,\"0000000000\")","v":"0000000000"},{"$f":"TEXT(MICASH!J1901*100,\"0000000000\")","v":"0000000000"},{"$f":"TEXT(MONTH(MICASH!K1901),\"00\") & TEXT(DAY(MICASH!K1901),\"00\") & RIGHT(TEXT(YEAR(MICASH!K1901),\"00\"),2)","v":"010000"},{"$f":"UPPER(LEFT(MICASH!L1901,96))","v":""}]
["C",288,"00",{"$f":"TEXT(MICASH!D1902,\"0000000000\")","v":"0000000000"}," ",{"$f":"UPPER(MICASH!F1902)","v":""},{"$f":"UPPER(MICASH!G1902)","v":""}," ",{"$f":"TEXT(MICASH!I1902,\"0000000000\")","v":"0000000000"},{"$f":"TEXT(MICASH!J1902*100,\"0000000000\")","v":"0000000000"},{"$f":"TEXT(MONTH(MICASH!K1902),\"00\") & TEXT(DAY(MICASH!K1902),\"00\") & RIGHT(TEXT(YEAR(MICASH!K1902),\"00\"),2)","v":"010000"},{"$f":"UPPER(LEFT(MICASH!L1902,96))","v":""}]
["C",288,"00",{"$f":"TEXT(MICASH!D1903,\"0000000000\")","v":"0000000000"}," ",{"$f":"UPPER(MICASH!F1903)","v":""},{"$f":"UPPER(MICASH!G1903)","v":""}," ",{"$f":"TEXT(MICASH!I1903,\"0000000000\")","v":"0000000000"},{"$f":"TEXT(MICASH!J1903*100,\"0000000000\")","v":"0000000000"},{"$f":"TEXT(MONTH(MICASH!K1903),\"00\") & TEXT(DAY(MICASH!K1903),\"00\") & RIGHT(TEXT(YEAR(MICASH!K1903),\"00\"),2)","v":"010000"},{"$f":"UPPER(LEFT(MICASH!L1903,96))","v":""}]
["C",288,"00",{"$f":"TEXT(MICASH!D1904,\"0000000000\")","v":"0000000000"}," ",{"$f":"UPPER(MICASH!F1904)","v":""},{"$f":"UPPER(MICASH!G1904)","v":""}," ",{"$f":"TEXT(MICASH!I1904,\"0000000000\")","v":"0000000000"},{"$f":"TEXT(MICASH!J1904*100,\"0000000000\")","v":"0000000000"},{"$f":"TEXT(MONTH(MICASH!K1904),\"00\") & TEXT(DAY(MICASH!K1904),\"00\") & RIGHT(TEXT(YEAR(MICASH!K1904),\"00\"),2)","v":"010000"},{"$f":"UPPER(LEFT(MICASH!L1904,96))","v":""}]
["C",288,"00",{"$f":"TEXT(MICASH!D1905,\"0000000000\")","v":"0000000000"}," ",{"$f":"UPPER(MICASH!F1905)","v":""},{"$f":"UPPER(MICASH!G1905)","v":""}," ",{"$f":"TEXT(MICASH!I1905,\"0000000000\")","v":"0000000000"},{"$f":"TEXT(MICASH!J1905*100,\"0000000000\")","v":"0000000000"},{"$f":"TEXT(MONTH(MICASH!K1905),\"00\") & TEXT(DAY(MICASH!K1905),\"00\") & RIGHT(TEXT(YEAR(MICASH!K1905),\"00\"),2)","v":"010000"},{"$f":"UPPER(LEFT(MICASH!L1905,96))","v":""}]
["C",288,"00",{"$f":"TEXT(MICASH!D1906,\"0000000000\")","v":"0000000000"}," ",{"$f":"UPPER(MICASH!F1906)","v":""},{"$f":"UPPER(MICASH!G1906)","v":""}," ",{"$f":"TEXT(MICASH!I1906,\"0000000000\")","v":"0000000000"},{"$f":"TEXT(MICASH!J1906*100,\"0000000000\")","v":"0000000000"},{"$f":"TEXT(MONTH(MICASH!K1906),\"00\") & TEXT(DAY(MICASH!K1906),\"00\") & RIGHT(TEXT(YEAR(MICASH!K1906),\"00\"),2)","v":"010000"},{"$f":"UPPER(LEFT(MICASH!L1906,96))","v":""}]
["C",288,"00",{"$f":"TEXT(MICASH!D1907,\"0000000000\")","v":"0000000000"}," ",{"$f":"UPPER(MICASH!F1907)","v":""},{"$f":"UPPER(MICASH!G1907)","v":""}," ",{"$f":"TEXT(MICASH!I1907,\"0000000000\")","v":"0000000000"},{"$f":"TEXT(MICASH!J1907*100,\"0000000000\")","v":"0000000000"},{"$f":"TEXT(MONTH(MICASH!K1907),\"00\") & TEXT(DAY(MICASH!K1907),\"00\") & RIGHT(TEXT(YEAR(MICASH!K1907),\"00\"),2)","v":"010000"},{"$f":"UPPER(LEFT(MICASH!L1907,96))","v":""}]
["C",288,"00",{"$f":"TEXT(MICASH!D1908,\"0000000000\")","v":"0000000000"}," ",{"$f":"UPPER(MICASH!F1908)","v":""},{"$f":"UPPER(MICASH!G1908)","v":""}," ",{"$f":"TEXT(MICASH!I1908,\"0000000000\")","v":"0000000000"},{"$f":"TEXT(MICASH!J1908*100,\"0000000000\")","v":"0000000000"},{"$f":"TEXT(MONTH(MICASH!K1908),\"00\") & TEXT(DAY(MICASH!K1908),\"00\") & RIGHT(TEXT(YEAR(MICASH!K1908),\"00\"),2)","v":"010000"},{"$f":"UPPER(LEFT(MICASH!L1908,96))","v":""}]
["C",288,"00",{"$f":"TEXT(MICASH!D1909,\"0000000000\")","v":"0000000000"}," ",{"$f":"UPPER(MICASH!F1909)","v":""},{"$f":"UPPER(MICASH!G1909)","v":""}," ",{"$f":"TEXT(MICASH!I1909,\"0000000000\")","v":"0000000000"},{"$f":"TEXT(MICASH!J1909*100,\"0000000000\")","v":"0000000000"},{"$f":"TEXT(MONTH(MICASH!K1909),\"00\") & TEXT(DAY(MICASH!K1909),\"00\") & RIGHT(TEXT(YEAR(MICASH!K1909),\"00\"),2)","v":"010000"},{"$f":"UPPER(LEFT(MICASH!L1909,96))","v":""}]
["C",288,"00",{"$f":"TEXT(MICASH!D1910,\"0000000000\")","v":"0000000000"}," ",{"$f":"UPPER(MICASH!F1910)","v":""},{"$f":"UPPER(MICASH!G1910)","v":""}," ",{"$f":"TEXT(MICASH!I1910,\"0000000000\")","v":"0000000000"},{"$f":"TEXT(MICASH!J1910*100,\"0000000000\")","v":"0000000000"},{"$f":"TEXT(MONTH(MICASH!K1910),\"00\") & TEXT(DAY(MICASH!K1910),\"00\") & RIGHT(TEXT(YEAR(MICASH!K1910),\"00\"),2)","v":"010000"},{"$f":"UPPER(LEFT(MICASH!L1910,96))","v":""}]
["C",288,"00",{"$f":"TEXT(MICASH!D1911,\"0000000000\")","v":"0000000000"}," ",{"$f":"UPPER(MICASH!F1911)","v":""},{"$f":"UPPER(MICASH!G1911)","v":""}," ",{"$f":"TEXT(MICASH!I1911,\"0000000000\")","v":"0000000000"},{"$f":"TEXT(MICASH!J1911*100,\"0000000000\")","v":"0000000000"},{"$f":"TEXT(MONTH(MICASH!K1911),\"00\") & TEXT(DAY(MICASH!K1911),\"00\") & RIGHT(TEXT(YEAR(MICASH!K1911),\"00\"),2)","v":"010000"},{"$f":"UPPER(LEFT(MICASH!L1911,96))","v":""}]
["C",288,"00",{"$f":"TEXT(MICASH!D1912,\"0000000000\")","v":"0000000000"}," ",{"$f":"UPPER(MICASH!F1912)","v":""},{"$f":"UPPER(MICASH!G1912)","v":""}," ",{"$f":"TEXT(MICASH!I1912,\"0000000000\")","v":"0000000000"},{"$f":"TEXT(MICASH!J1912*100,\"0000000000\")","v":"0000000000"},{"$f":"TEXT(MONTH(MICASH!K1912),\"00\") & TEXT(DAY(MICASH!K1912),\"00\") & RIGHT(TEXT(YEAR(MICASH!K1912),\"00\"),2)","v":"010000"},{"$f":"UPPER(LEFT(MICASH!L1912,96))","v":""}]
["C",288,"00",{"$f":"TEXT(MICASH!D1913,\"0000000000\")","v":"0000000000"}," ",{"$f":"UPPER(MICASH!F1913)","v":""},{"$f":"UPPER(MICASH!G1913)","v":""}," ",{"$f":"TEXT(MICASH!I1913,\"0000000000\")","v":"0000000000"},{"$f":"TEXT(MICASH!J1913*100,\"0000000000\")","v":"0000000000"},{"$f":"TEXT(MONTH(MICASH!K1913),\"00\") & TEXT(DAY(MICASH!K1913),\"00\") & RIGHT(TEXT(YEAR(MICASH!K1913),\"00\"),2)","v":"010000"},{"$f":"UPPER(LEFT(MICASH!L1913,96))","v":""}]
["C",288,"00",{"$f":"TEXT(MICASH!D1914,\"0000000000\")","v":"0000000000"}," ",{"$f":"UPPER(MICASH!F1914)","v":""},{"$f":"UPPER(MICASH!G1914)","v":""}," ",{"$f":"TEXT(MICASH!I1914,\"0000000000\")","v":"0000000000"},{"$f":"TEXT(MICASH!J1914*100,\"0000000000\")","v":"0000000000"},{"$f":"TEXT(MONTH(MICASH!K1914),\"00\") & TEXT(DAY(MICASH!K1914),\"00\") & RIGHT(TEXT(YEAR(MICASH!K1914),\"00\"),2)","v":"010000"},{"$f":"UPPER(LEFT(MICASH!L1914,96))","v":""}]
["C",288,"00",{"$f":"TEXT(MICASH!D1915,\"0000000000\")","v":"0000000000"}," ",{"$f":"UPPER(MICASH!F1915)","v":""},{"$f":"UPPER(MICASH!G1915)","v":""}," ",{"$f":"TEXT(MICASH!I1915,\"0000000000\")","v":"0000000000"},{"$f":"TEXT(MICASH!J1915*100,\"0000000000\")","v":"0000000000"},{"$f":"TEXT(MONTH(MICASH!K1915),\"00\") & TEXT(DAY(MICASH!K1915),\"00\") & RIGHT(TEXT(YEAR(MICASH!K1915),\"00\"),2)","v":"010000"},{"$f":"UPPER(LEFT(MICASH!L1915,96))","v":""}]
["C",288,"00",{"$f":"TEXT(MICASH!D1916,\"0000000000\")","v":"0000000000"}," ",{"$f":"UPPER(MICASH!F1916)","v":""},{"$f":"UPPER(MICASH!G1916)","v":""}," ",{"$f":"TEXT(MICASH!I1916,\"0000000000\")","v":"0000000000"},{"$f":"TEXT(MICASH!J1916*100,\"0000000000\")","v":"0000000000"},{"$f":"TEXT(MONTH(MICASH!K1916),\"00\") & TEXT(DAY(MICASH!K1916),\"00\") & RIGHT(TEXT(YEAR(MICASH!K1916),\"00\"),2)","v":"010000"},{"$f":"UPPER(LEFT(MICASH!L1916,96))","v":""}]
["C",288,"00",{"$f":"TEXT(MICASH!D1917,\"0000000000\")","v":"0000000000"}," ",{"$f":"UPPER(MICASH!F1917)","v":""},{"$f":"UPPER(MICASH!G1917)","v":""}," ",{"$f":"TEXT(MICASH!I1917,\"0000000000\")","v":"0000000000"},{"$f":"TEXT(MICASH!J1917*100,\"0000000000\")","v":"0000000000"},{"$f":"TEXT(MONTH(MICASH!K1917),\"00\") & TEXT(DAY(MICASH!K1917),\"00\") & RIGHT(TEXT(YEAR(MICASH!K1917),\"00\"),2)","v":"010000"},{"$f":"UPPER(LEFT(MICASH!L1917,96))","v":""}]
["C",288,"00",{"$f":"TEXT(MICASH!D1918,\"0000000000\")","v":"0000000000"}," ",{"$f":"UPPER(MICASH!F1918)","v":""},{"$f":"UPPER(MICASH!G1918)","v":""}," ",{"$f":"TEXT(MICASH!I1918,\"0000000000\")","v":"0000000000"},{"$f":"TEXT(MICASH!J1918*100,\"0000000000\")","v":"0000000000"},{"$f":"TEXT(MONTH(MICASH!K1918),\"00\") & TEXT(DAY(MICASH!K1918),\"00\") & RIGHT(TEXT(YEAR(MICASH!K1918),\"00\"),2)","v":"010000"},{"$f":"UPPER(LEFT(MICASH!L1918,96))","v":""}]
["C",288,"00",{"$f":"TEXT(MICASH!D1919,\"0000000000\")","v":"0000000000"}," ",{"$f":"UPPER(MICASH!F1919)","v":""},{"$f":"UPPER(MICASH!G1919)","v":""}," ",{"$f":"TEXT(MICASH!I1919,\"0000000000\")","v":"0000000000"},{"$f":"TEXT(MICASH!J1919*100,\"0000000000\")","v":"0000000000"},{"$f":"TEXT(MONTH(MICASH!K1919),\"00\") & TEXT(DAY(MICASH!K1919),\"00\") & RIGHT(TEXT(YEAR(MICASH!K1919),\"00\"),2)","v":"010000"},{"$f":"UPPER(LEFT(MICASH!L1919,96))","v":""}]
["C",288,"00",{"$f":"TEXT(MICASH!D1920,\"0000000000\")","v":"0000000000"}," ",{"$f":"UPPER(MICASH!F1920)","v":""},{"$f":"UPPER(MICASH!G1920)","v":""}," ",{"$f":"TEXT(MICASH!I1920,\"0000000000\")","v":"0000000000"},{"$f":"TEXT(MICASH!J1920*100,\"0000000000\")","v":"0000000000"},{"$f":"TEXT(MONTH(MICASH!K1920),\"00\") & TEXT(DAY(MICASH!K1920),\"00\") & RIGHT(TEXT(YEAR(MICASH!K1920),\"00\"),2)","v":"010000"},{"$f":"UPPER(LEFT(MICASH!L1920,96))","v":""}]
["C",288,"00",{"$f":"TEXT(MICASH!D1921,\"0000000000\")","v":"0000000000"}," ",{"$f":"UPPER(MICASH!F1921)","v":""},{"$f":"UPPER(MICASH!G1921)","v":""}," ",{"$f":"TEXT(MICASH!I1921,\"0000000000\")","v":"0000000000"},{"$f":"TEXT(MICASH!J1921*100,\"0000000000\")","v":"0000000000"},{"$f":"TEXT(MONTH(MICASH!K1921),\"00\") & TEXT(DAY(MICASH!K1921),\"00\") & RIGHT(TEXT(YEAR(MICASH!K1921),\"00\"),2)","v":"010000"},{"$f":"UPPER(LEFT(MICASH!L1921,96))","v":""}]
["C",288,"00",{"$f":"TEXT(MICASH!D1922,\"0000000000\")","v":"0000000000"}," ",{"$f":"UPPER(MICASH!F1922)","v":""},{"$f":"UPPER(MICASH!G1922)","v":""}," ",{"$f":"TEXT(MICASH!I1922,\"0000000000\")","v":"0000000000"},{"$f":"TEXT(MICASH!J1922*100,\"0000000000\")","v":"0000000000"},{"$f":"TEXT(MONTH(MICASH!K1922),\"00\") & TEXT(DAY(MICASH!K1922),\"00\") & RIGHT(TEXT(YEAR(MICASH!K1922),\"00\"),2)","v":"010000"},{"$f":"UPPER(LEFT(MICASH!L1922,96))","v":""}]
["C",288,"00",{"$f":"TEXT(MICASH!D1923,\"0000000000\")","v":"0000000000"}," ",{"$f":"UPPER(MICASH!F1923)","v":""},{"$f":"UPPER(MICASH!G1923)","v":""}," ",{"$f":"TEXT(MICASH!I1923,\"0000000000\")","v":"0000000000"},{"$f":"TEXT(MICASH!J1923*100,\"0000000000\")","v":"0000000000"},{"$f":"TEXT(MONTH(MICASH!K1923),\"00\") & TEXT(DAY(MICASH!K1923),\"00\") & RIGHT(TEXT(YEAR(MICASH!K1923),\"00\"),2)","v":"010000"},{"$f":"UPPER(LEFT(MICASH!L1923,96))","v":""}]
["C",288,"00",{"$f":"TEXT(MICASH!D1924,\"0000000000\")","v":"0000000000"}," ",{"$f":"UPPER(MICASH!F1924)","v":""},{"$f":"UPPER(MICASH!G1924)","v":""}," ",{"$f":"TEXT(MICASH!I1924,\"0000000000\")","v":"0000000000"},{"$f":"TEXT(MICASH!J1924*100,\"0000000000\")","v":"0000000000"},{"$f":"TEXT(MONTH(MICASH!K1924),\"00\") & TEXT(DAY(MICASH!K1924),\"00\") & RIGHT(TEXT(YEAR(MICASH!K1924),\"00\"),2)","v":"010000"},{"$f":"UPPER(LEFT(MICASH!L1924,96))","v":""}]
["C",288,"00",{"$f":"TEXT(MICASH!D1925,\"0000000000\")","v":"0000000000"}," ",{"$f":"UPPER(MICASH!F1925)","v":""},{"$f":"UPPER(MICASH!G1925)","v":""}," ",{"$f":"TEXT(MICASH!I1925,\"0000000000\")","v":"0000000000"},{"$f":"TEXT(MICASH!J1925*100,\"0000000000\")","v":"0000000000"},{"$f":"TEXT(MONTH(MICASH!K1925),\"00\") & TEXT(DAY(MICASH!K1925),\"00\") & RIGHT(TEXT(YEAR(MICASH!K1925),\"00\"),2)","v":"010000"},{"$f":"UPPER(LEFT(MICASH!L1925,96))","v":""}]
["C",288,"00",{"$f":"TEXT(MICASH!D1926,\"0000000000\")","v":"0000000000"}," ",{"$f":"UPPER(MICASH!F1926)","v":""},{"$f":"UPPER(MICASH!G1926)","v":""}," ",{"$f":"TEXT(MICASH!I1926,\"0000000000\")","v":"0000000000"},{"$f":"TEXT(MICASH!J1926*100,\"0000000000\")","v":"0000000000"},{"$f":"TEXT(MONTH(MICASH!K1926),\"00\") & TEXT(DAY(MICASH!K1926),\"00\") & RIGHT(TEXT(YEAR(MICASH!K1926),\"00\"),2)","v":"010000"},{"$f":"UPPER(LEFT(MICASH!L1926,96))","v":""}]
["C",288,"00",{"$f":"TEXT(MICASH!D1927,\"0000000000\")","v":"0000000000"}," ",{"$f":"UPPER(MICASH!F1927)","v":""},{"$f":"UPPER(MICASH!G1927)","v":""}," ",{"$f":"TEXT(MICASH!I1927,\"0000000000\")","v":"0000000000"},{"$f":"TEXT(MICASH!J1927*100,\"0000000000\")","v":"0000000000"},{"$f":"TEXT(MONTH(MICASH!K1927),\"00\") & TEXT(DAY(MICASH!K1927),\"00\") & RIGHT(TEXT(YEAR(MICASH!K1927),\"00\"),2)","v":"010000"},{"$f":"UPPER(LEFT(MICASH!L1927,96))","v":""}]
["C",288,"00",{"$f":"TEXT(MICASH!D1928,\"0000000000\")","v":"0000000000"}," ",{"$f":"UPPER(MICASH!F1928)","v":""},{"$f":"UPPER(MICASH!G1928)","v":""}," ",{"$f":"TEXT(MICASH!I1928,\"0000000000\")","v":"0000000000"},{"$f":"TEXT(MICASH!J1928*100,\"0000000000\")","v":"0000000000"},{"$f":"TEXT(MONTH(MICASH!K1928),\"00\") & TEXT(DAY(MICASH!K1928),\"00\") & RIGHT(TEXT(YEAR(MICASH!K1928),\"00\"),2)","v":"010000"},{"$f":"UPPER(LEFT(MICASH!L1928,96))","v":""}]
["C",288,"00",{"$f":"TEXT(MICASH!D1929,\"0000000000\")","v":"0000000000"}," ",{"$f":"UPPER(MICASH!F1929)","v":""},{"$f":"UPPER(MICASH!G1929)","v":""}," ",{"$f":"TEXT(MICASH!I1929,\"0000000000\")","v":"0000000000"},{"$f":"TEXT(MICASH!J1929*100,\"0000000000\")","v":"0000000000"},{"$f":"TEXT(MONTH(MICASH!K1929),\"00\") & TEXT(DAY(MICASH!K1929),\"00\") & RIGHT(TEXT(YEAR(MICASH!K1929),\"00\"),2)","v":"010000"},{"$f":"UPPER(LEFT(MICASH!L1929,96))","v":""}]
["C",288,"00",{"$f":"TEXT(MICASH!D1930,\"0000000000\")","v":"0000000000"}," ",{"$f":"UPPER(MICASH!F1930)","v":""},{"$f":"UPPER(MICASH!G1930)","v":""}," ",{"$f":"TEXT(MICASH!I1930,\"0000000000\")","v":"0000000000"},{"$f":"TEXT(MICASH!J1930*100,\"0000000000\")","v":"0000000000"},{"$f":"TEXT(MONTH(MICASH!K1930),\"00\") & TEXT(DAY(MICASH!K1930),\"00\") & RIGHT(TEXT(YEAR(MICASH!K1930),\"00\"),2)","v":"010000"},{"$f":"UPPER(LEFT(MICASH!L1930,96))","v":""}]
["C",288,"00",{"$f":"TEXT(MICASH!D1931,\"0000000000\")","v":"0000000000"}," ",{"$f":"UPPER(MICASH!F1931)","v":""},{"$f":"UPPER(MICASH!G1931)","v":""}," ",{"$f":"TEXT(MICASH!I1931,\"0000000000\")","v":"0000000000"},{"$f":"TEXT(MICASH!J1931*100,\"0000000000\")","v":"0000000000"},{"$f":"TEXT(MONTH(MICASH!K1931),\"00\") & TEXT(DAY(MICASH!K1931),\"00\") & RIGHT(TEXT(YEAR(MICASH!K1931),\"00\"),2)","v":"010000"},{"$f":"UPPER(LEFT(MICASH!L1931,96))","v":""}]
["C",288,"00",{"$f":"TEXT(MICASH!D1932,\"0000000000\")","v":"0000000000"}," ",{"$f":"UPPER(MICASH!F1932)","v":""},{"$f":"UPPER(MICASH!G1932)","v":""}," ",{"$f":"TEXT(MICASH!I1932,\"0000000000\")","v":"0000000000"},{"$f":"TEXT(MICASH!J1932*100,\"0000000000\")","v":"0000000000"},{"$f":"TEXT(MONTH(MICASH!K1932),\"00\") & TEXT(DAY(MICASH!K1932),\"00\") & RIGHT(TEXT(YEAR(MICASH!K1932),\"00\"),2)","v":"010000"},{"$f":"UPPER(LEFT(MICASH!L1932,96))","v":""}]
["C",288,"00",{"$f":"TEXT(MICASH!D1933,\"0000000000\")","v":"0000000000"}," ",{"$f":"UPPER(MICASH!F1933)","v":""},{"$f":"UPPER(MICASH!G1933)","v":""}," ",{"$f":"TEXT(MICASH!I1933,\"0000000000\")","v":"0000000000"},{"$f":"TEXT(MICASH!J1933*100,\"0000000000\")","v":"0000000000"},{"$f":"TEXT(MONTH(MICASH!K1933),\"00\") & TEXT(DAY(MICASH!K1933),\"00\") & RIGHT(TEXT(YEAR(MICASH!K1933),\"00\"),2)","v":"010000"},{"$f":"UPPER(LEFT(MICASH!L1933,96))","v":""}]
["C",288,"00",{"$f":"TEXT(MICASH!D1934,\"0000000000\")","v":"0000000000"}," ",{"$f":"UPPER(MICASH!F1934)","v":""},{"$f":"UPPER(MICASH!G1934)","v":""}," ",{"$f":"TEXT(MICASH!I1934,\"0000000000\")","v":"0000000000"},{"$f":"TEXT(MICASH!J1934*100,\"0000000000\")","v":"0000000000"},{"$f":"TEXT(MONTH(MICASH!K1934),\"00\") & TEXT(DAY(MICASH!K1934),\"00\") & RIGHT(TEXT(YEAR(MICASH!K1934),\"00\"),2)","v":"010000"},{"$f":"UPPER(LEFT(MICASH!L1934,96))","v":""}]
["C",288,"00",{"$f":"TEXT(MICASH!D1935,\"0000000000\")","v":"0000000000"}," ",{"$f":"UPPER(MICASH!F1935)","v":""},{"$f":"UPPER(MICASH!G1935)","v":""}," ",{"$f":"TEXT(MICASH!I1935,\"0000000000\")","v":"0000000000"},{"$f":"TEXT(MICASH!J1935*100,\"0000000000\")","v":"0000000000"},{"$f":"TEXT(MONTH(MICASH!K1935),\"00\") & TEXT(DAY(MICASH!K1935),\"00\") & RIGHT(TEXT(YEAR(MICASH!K1935),\"00\"),2)","v":"010000"},{"$f":"UPPER(LEFT(MICASH!L1935,96))","v":""}]
["C",288,"00",{"$f":"TEXT(MICASH!D1936,\"0000000000\")","v":"0000000000"}," ",{"$f":"UPPER(MICASH!F1936)","v":""},{"$f":"UPPER(MICASH!G1936)","v":""}," ",{"$f":"TEXT(MICASH!I1936,\"0000000000\")","v":"0000000000"},{"$f":"TEXT(MICASH!J1936*100,\"0000000000\")","v":"0000000000"},{"$f":"TEXT(MONTH(MICASH!K1936),\"00\") & TEXT(DAY(MICASH!K1936),\"00\") & RIGHT(TEXT(YEAR(MICASH!K1936),\"00\"),2)","v":"010000"},{"$f":"UPPER(LEFT(MICASH!L1936,96))","v":""}]
["C",288,"00",{"$f":"TEXT(MICASH!D1937,\"0000000000\")","v":"0000000000"}," ",{"$f":"UPPER(MICASH!F1937)","v":""},{"$f":"UPPER(MICASH!G1937)","v":""}," ",{"$f":"TEXT(MICASH!I1937,\"0000000000\")","v":"0000000000"},{"$f":"TEXT(MICASH!J1937*100,\"0000000000\")","v":"0000000000"},{"$f":"TEXT(MONTH(MICASH!K1937),\"00\") & TEXT(DAY(MICASH!K1937),\"00\") & RIGHT(TEXT(YEAR(MICASH!K1937),\"00\"),2)","v":"010000"},{"$f":"UPPER(LEFT(MICASH!L1937,96))","v":""}]
["C",288,"00",{"$f":"TEXT(MICASH!D1938,\"0000000000\")","v":"0000000000"}," ",{"$f":"UPPER(MICASH!F1938)","v":""},{"$f":"UPPER(MICASH!G1938)","v":""}," ",{"$f":"TEXT(MICASH!I1938,\"0000000000\")","v":"0000000000"},{"$f":"TEXT(MICASH!J1938*100,\"0000000000\")","v":"0000000000"},{"$f":"TEXT(MONTH(MICASH!K1938),\"00\") & TEXT(DAY(MICASH!K1938),\"00\") & RIGHT(TEXT(YEAR(MICASH!K1938),\"00\"),2)","v":"010000"},{"$f":"UPPER(LEFT(MICASH!L1938,96))","v":""}]
["C",288,"00",{"$f":"TEXT(MICASH!D1939,\"0000000000\")","v":"0000000000"}," ",{"$f":"UPPER(MICASH!F1939)","v":""},{"$f":"UPPER(MICASH!G1939)","v":""}," ",{"$f":"TEXT(MICASH!I1939,\"0000000000\")","v":"0000000000"},{"$f":"TEXT(MICASH!J1939*100,\"0000000000\")","v":"0000000000"},{"$f":"TEXT(MONTH(MICASH!K1939),\"00\") & TEXT(DAY(MICASH!K1939),\"00\") & RIGHT(TEXT(YEAR(MICASH!K1939),\"00\"),2)","v":"010000"},{"$f":"UPPER(LEFT(MICASH!L1939,96))","v":""}]
["C",288,"00",{"$f":"TEXT(MICASH!D1940,\"0000000000\")","v":"0000000000"}," ",{"$f":"UPPER(MICASH!F1940)","v":""},{"$f":"UPPER(MICASH!G1940)","v":""}," ",{"$f":"TEXT(MICASH!I1940,\"0000000000\")","v":"0000000000"},{"$f":"TEXT(MICASH!J1940*100,\"0000000000\")","v":"0000000000"},{"$f":"TEXT(MONTH(MICASH!K1940),\"00\") & TEXT(DAY(MICASH!K1940),\"00\") & RIGHT(TEXT(YEAR(MICASH!K1940),\"00\"),2)","v":"010000"},{"$f":"UPPER(LEFT(MICASH!L1940,96))","v":""}]
["C",288,"00",{"$f":"TEXT(MICASH!D1941,\"0000000000\")","v":"0000000000"}," ",{"$f":"UPPER(MICASH!F1941)","v":""},{"$f":"UPPER(MICASH!G1941)","v":""}," ",{"$f":"TEXT(MICASH!I1941,\"0000000000\")","v":"0000000000"},{"$f":"TEXT(MICASH!J1941*100,\"0000000000\")","v":"0000000000"},{"$f":"TEXT(MONTH(MICASH!K1941),\"00\") & TEXT(DAY(MICASH!K1941),\"00\") & RIGHT(TEXT(YEAR(MICASH!K1941),\"00\"),2)","v":"010000"},{"$f":"UPPER(LEFT(MICASH!L1941,96))","v":""}]
["C",288,"00",{"$f":"TEXT(MICASH!D1942,\"0000000000\")","v":"0000000000"}," ",{"$f":"UPPER(MICASH!F1942)","v":""},{"$f":"UPPER(MICASH!G1942)","v":""}," ",{"$f":"TEXT(MICASH!I1942,\"0000000000\")","v":"0000000000"},{"$f":"TEXT(MICASH!J1942*100,\"0000000000\")","v":"0000000000"},{"$f":"TEXT(MONTH(MICASH!K1942),\"00\") & TEXT(DAY(MICASH!K1942),\"00\") & RIGHT(TEXT(YEAR(MICASH!K1942),\"00\"),2)","v":"010000"},{"$f":"UPPER(LEFT(MICASH!L1942,96))","v":""}]
["C",288,"00",{"$f":"TEXT(MICASH!D1943,\"0000000000\")","v":"0000000000"}," ",{"$f":"UPPER(MICASH!F1943)","v":""},{"$f":"UPPER(MICASH!G1943)","v":""}," ",{"$f":"TEXT(MICASH!I1943,\"0000000000\")","v":"0000000000"},{"$f":"TEXT(MICASH!J1943*100,\"0000000000\")","v":"0000000000"},{"$f":"TEXT(MONTH(MICASH!K1943),\"00\") & TEXT(DAY(MICASH!K1943),\"00\") & RIGHT(TEXT(YEAR(MICASH!K1943),\"00\"),2)","v":"010000"},{"$f":"UPPER(LEFT(MICASH!L1943,96))","v":""}]
["C",288,"00",{"$f":"TEXT(MICASH!D1944,\"0000000000\")","v":"0000000000"}," ",{"$f":"UPPER(MICASH!F1944)","v":""},{"$f":"UPPER(MICASH!G1944)","v":""}," ",{"$f":"TEXT(MICASH!I1944,\"0000000000\")","v":"0000000000"},{"$f":"TEXT(MICASH!J1944*100,\"0000000000\")","v":"0000000000"},{"$f":"TEXT(MONTH(MICASH!K1944),\"00\") & TEXT(DAY(MICASH!K1944),\"00\") & RIGHT(TEXT(YEAR(MICASH!K1944),\"00\"),2)","v":"010000"},{"$f":"UPPER(LEFT(MICASH!L1944,96))","v":""}]
["C",288,"00",{"$f":"TEXT(MICASH!D1945,\"0000000000\")","v":"0000000000"}," ",{"$f":"UPPER(MICASH!F1945)","v":""},{"$f":"UPPER(MICASH!G1945)","v":""}," ",{"$f":"TEXT(MICASH!I1945,\"0000000000\")","v":"0000000000"},{"$f":"TEXT(MICASH!J1945*100,\"0000000000\")","v":"0000000000"},{"$f":"TEXT(MONTH(MICASH!K1945),\"00\") & TEXT(DAY(MICASH!K1945),\"00\") & RIGHT(TEXT(YEAR(MICASH!K1945),\"00\"),2)","v":"010000"},{"$f":"UPPER(LEFT(MICASH!L1945,96))","v":""}]
["C",288,"00",{"$f":"TEXT(MICASH!D1946,\"0000000000\")","v":"0000000000"}," ",{"$f":"UPPER(MICASH!F1946)","v":""},{"$f":"UPPER(MICASH!G1946)","v":""}," ",{"$f":"TEXT(MICASH!I1946,\"0000000000\")","v":"0000000000"},{"$f":"TEXT(MICASH!J1946*100,\"0000000000\")","v":"0000000000"},{"$f":"TEXT(MONTH(MICASH!K1946),\"00\") & TEXT(DAY(MICASH!K1946),\"00\") & RIGHT(TEXT(YEAR(MICASH!K1946),\"00\"),2)","v":"010000"},{"$f":"UPPER(LEFT(MICASH!L1946,96))","v":""}]
["C",288,"00",{"$f":"TEXT(MICASH!D1947,\"0000000000\")","v":"0000000000"}," ",{"$f":"UPPER(MICASH!F1947)","v":""},{"$f":"UPPER(MICASH!G1947)","v":""}," ",{"$f":"TEXT(MICASH!I1947,\"0000000000\")","v":"0000000000"},{"$f":"TEXT(MICASH!J1947*100,\"0000000000\")","v":"0000000000"},{"$f":"TEXT(MONTH(MICASH!K1947),\"00\") & TEXT(DAY(MICASH!K1947),\"00\") & RIGHT(TEXT(YEAR(MICASH!K1947),\"00\"),2)","v":"010000"},{"$f":"UPPER(LEFT(MICASH!L1947,96))","v":""}]
["C",288,"00",{"$f":"TEXT(MICASH!D1948,\"0000000000\")","v":"0000000000"}," ",{"$f":"UPPER(MICASH!F1948)","v":""},{"$f":"UPPER(MICASH!G1948)","v":""}," ",{"$f":"TEXT(MICASH!I1948,\"0000000000\")","v":"0000000000"},{"$f":"TEXT(MICASH!J1948*100,\"0000000000\")","v":"0000000000"},{"$f":"TEXT(MONTH(MICASH!K1948),\"00\") & TEXT(DAY(MICASH!K1948),\"00\") & RIGHT(TEXT(YEAR(MICASH!K1948),\"00\"),2)","v":"010000"},{"$f":"UPPER(LEFT(MICASH!L1948,96))","v":""}]
["C",288,"00",{"$f":"TEXT(MICASH!D1949,\"0000000000\")","v":"0000000000"}," ",{"$f":"UPPER(MICASH!F1949)","v":""},{"$f":"UPPER(MICASH!G1949)","v":""}," ",{"$f":"TEXT(MICASH!I1949,\"0000000000\")","v":"0000000000"},{"$f":"TEXT(MICASH!J1949*100,\"0000000000\")","v":"0000000000"},{"$f":"TEXT(MONTH(MICASH!K1949),\"00\") & TEXT(DAY(MICASH!K1949),\"00\") & RIGHT(TEXT(YEAR(MICASH!K1949),\"00\"),2)","v":"010000"},{"$f":"UPPER(LEFT(MICASH!L1949,96))","v":""}]
["C",288,"00",{"$f":"TEXT(MICASH!D1950,\"0000000000\")","v":"0000000000"}," ",{"$f":"UPPER(MICASH!F1950)","v":""},{"$f":"UPPER(MICASH!G1950)","v":""}," ",{"$f":"TEXT(MICASH!I1950,\"0000000000\")","v":"0000000000"},{"$f":"TEXT(MICASH!J1950*100,\"0000000000\")","v":"0000000000"},{"$f":"TEXT(MONTH(MICASH!K1950),\"00\") & TEXT(DAY(MICASH!K1950),\"00\") & RIGHT(TEXT(YEAR(MICASH!K1950),\"00\"),2)","v":"010000"},{"$f":"UPPER(LEFT(MICASH!L1950,96))","v":""}]
["C",288,"00",{"$f":"TEXT(MICASH!D1951,\"0000000000\")","v":"0000000000"}," ",{"$f":"UPPER(MICASH!F1951)","v":""},{"$f":"UPPER(MICASH!G1951)","v":""}," ",{"$f":"TEXT(MICASH!I1951,\"0000000000\")","v":"0000000000"},{"$f":"TEXT(MICASH!J1951*100,\"0000000000\")","v":"0000000000"},{"$f":"TEXT(MONTH(MICASH!K1951),\"00\") & TEXT(DAY(MICASH!K1951),\"00\") & RIGHT(TEXT(YEAR(MICASH!K1951),\"00\"),2)","v":"010000"},{"$f":"UPPER(LEFT(MICASH!L1951,96))","v":""}]
["C",288,"00",{"$f":"TEXT(MICASH!D1952,\"0000000000\")","v":"0000000000"}," ",{"$f":"UPPER(MICASH!F1952)","v":""},{"$f":"UPPER(MICASH!G1952)","v":""}," ",{"$f":"TEXT(MICASH!I1952,\"0000000000\")","v":"0000000000"},{"$f":"TEXT(MICASH!J1952*100,\"0000000000\")","v":"0000000000"},{"$f":"TEXT(MONTH(MICASH!K1952),\"00\") & TEXT(DAY(MICASH!K1952),\"00\") & RIGHT(TEXT(YEAR(MICASH!K1952),\"00\"),2)","v":"010000"},{"$f":"UPPER(LEFT(MICASH!L1952,96))","v":""}]
["C",288,"00",{"$f":"TEXT(MICASH!D1953,\"0000000000\")","v":"0000000000"}," ",{"$f":"UPPER(MICASH!F1953)","v":""},{"$f":"UPPER(MICASH!G1953)","v":""}," ",{"$f":"TEXT(MICASH!I1953,\"0000000000\")","v":"0000000000"},{"$f":"TEXT(MICASH!J1953*100,\"0000000000\")","v":"0000000000"},{"$f":"TEXT(MONTH(MICASH!K1953),\"00\") & TEXT(DAY(MICASH!K1953),\"00\") & RIGHT(TEXT(YEAR(MICASH!K1953),\"00\"),2)","v":"010000"},{"$f":"UPPER(LEFT(MICASH!L1953,96))","v":""}]
["C",288,"00",{"$f":"TEXT(MICASH!D1954,\"0000000000\")","v":"0000000000"}," ",{"$f":"UPPER(MICASH!F1954)","v":""},{"$f":"UPPER(MICASH!G1954)","v":""}," ",{"$f":"TEXT(MICASH!I1954,\"0000000000\")","v":"0000000000"},{"$f":"TEXT(MICASH!J1954*100,\"0000000000\")","v":"0000000000"},{"$f":"TEXT(MONTH(MICASH!K1954),\"00\") & TEXT(DAY(MICASH!K1954),\"00\") & RIGHT(TEXT(YEAR(MICASH!K1954),\"00\"),2)","v":"010000"},{"$f":"UPPER(LEFT(MICASH!L1954,96))","v":""}]
["C",288,"00",{"$f":"TEXT(MICASH!D1955,\"0000000000\")","v":"0000000000"}," ",{"$f":"UPPER(MICASH!F1955)","v":""},{"$f":"UPPER(MICASH!G1955)","v":""}," ",{"$f":"TEXT(MICASH!I1955,\"0000000000\")","v":"0000000000"},{"$f":"TEXT(MICASH!J1955*100,\"0000000000\")","v":"0000000000"},{"$f":"TEXT(MONTH(MICASH!K1955),\"00\") & TEXT(DAY(MICASH!K1955),\"00\") & RIGHT(TEXT(YEAR(MICASH!K1955),\"00\"),2)","v":"010000"},{"$f":"UPPER(LEFT(MICASH!L1955,96))","v":""}]
["C",288,"00",{"$f":"TEXT(MICASH!D1956,\"0000000000\")","v":"0000000000"}," ",{"$f":"UPPER(MICASH!F1956)","v":""},{"$f":"UPPER(MICASH!G1956)","v":""}," ",{"$f":"TEXT(MICASH!I1956,\"0000000000\")","v":"0000000000"},{"$f":"TEXT(MICASH!J1956*100,\"0000000000\")","v":"0000000000"},{"$f":"TEXT(MONTH(MICASH!K1956),\"00\") & TEXT(DAY(MICASH!K1956),\"00\") & RIGHT(TEXT(YEAR(MICASH!K1956),\"00\"),2)","v":"010000"},{"$f":"UPPER(LEFT(MICASH!L1956,96))","v":""}]
["C",288,"00",{"$f":"TEXT(MICASH!D1957,\"0000000000\")","v":"0000000000"}," ",{"$f":"UPPER(MICASH!F1957)","v":""},{"$f":"UPPER(MICASH!G1957)","v":""}," ",{"$f":"TEXT(MICASH!I1957,\"0000000000\")","v":"0000000000"},{"$f":"TEXT(MICASH!J1957*100,\"0000000000\")","v":"0000000000"},{"$f":"TEXT(MONTH(MICASH!K1957),\"00\") & TEXT(DAY(MICASH!K1957),\"00\") & RIGHT(TEXT(YEAR(MICASH!K1957),\"00\"),2)","v":"010000"},{"$f":"UPPER(LEFT(MICASH!L1957,96))","v":""}]
["C",288,"00",{"$f":"TEXT(MICASH!D1958,\"0000000000\")","v":"0000000000"}," ",{"$f":"UPPER(MICASH!F1958)","v":""},{"$f":"UPPER(MICASH!G1958)","v":""}," ",{"$f":"TEXT(MICASH!I1958,\"0000000000\")","v":"0000000000"},{"$f":"TEXT(MICASH!J1958*100,\"0000000000\")","v":"0000000000"},{"$f":"TEXT(MONTH(MICASH!K1958),\"00\") & TEXT(DAY(MICASH!K1958),\"00\") & RIGHT(TEXT(YEAR(MICASH!K1958),\"00\"),2)","v":"010000"},{"$f":"UPPER(LEFT(MICASH!L1958,96))","v":""}]
["C",288,"00",{"$f":"TEXT(MICASH!D1959,\"0000000000\")","v":"0000000000"}," ",{"$f":"UPPER(MICASH!F1959)","v":""},{"$f":"UPPER(MICASH!G1959)","v":""}," ",{"$f":"TEXT(MICASH!I1959,\"0000000000\")","v":"0000000000"},{"$f":"TEXT(MICASH!J1959*100,\"0000000000\")","v":"0000000000"},{"$f":"TEXT(MONTH(MICASH!K1959),\"00\") & TEXT(DAY(MICASH!K1959),\"00\") & RIGHT(TEXT(YEAR(MICASH!K1959),\"00\"),2)","v":"010000"},{"$f":"UPPER(LEFT(MICASH!L1959,96))","v":""}]
["C",288,"00",{"$f":"TEXT(MICASH!D1960,\"0000000000\")","v":"0000000000"}," ",{"$f":"UPPER(MICASH!F1960)","v":""},{"$f":"UPPER(MICASH!G1960)","v":""}," ",{"$f":"TEXT(MICASH!I1960,\"0000000000\")","v":"0000000000"},{"$f":"TEXT(MICASH!J1960*100,\"0000000000\")","v":"0000000000"},{"$f":"TEXT(MONTH(MICASH!K1960),\"00\") & TEXT(DAY(MICASH!K1960),\"00\") & RIGHT(TEXT(YEAR(MICASH!K1960),\"00\"),2)","v":"010000"},{"$f":"UPPER(LEFT(MICASH!L1960,96))","v":""}]
["C",288,"00",{"$f":"TEXT(MICASH!D1961,\"0000000000\")","v":"0000000000"}," ",{"$f":"UPPER(MICASH!F1961)","v":""},{"$f":"UPPER(MICASH!G1961)","v":""}," ",{"$f":"TEXT(MICASH!I1961,\"0000000000\")","v":"0000000000"},{"$f":"TEXT(MICASH!J1961*100,\"0000000000\")","v":"0000000000"},{"$f":"TEXT(MONTH(MICASH!K1961),\"00\") & TEXT(DAY(MICASH!K1961),\"00\") & RIGHT(TEXT(YEAR(MICASH!K1961),\"00\"),2)","v":"010000"},{"$f":"UPPER(LEFT(MICASH!L1961,96))","v":""}]
["C",288,"00",{"$f":"TEXT(MICASH!D1962,\"0000000000\")","v":"0000000000"}," ",{"$f":"UPPER(MICASH!F1962)","v":""},{"$f":"UPPER(MICASH!G1962)","v":""}," ",{"$f":"TEXT(MICASH!I1962,\"0000000000\")","v":"0000000000"},{"$f":"TEXT(MICASH!J1962*100,\"0000000000\")","v":"0000000000"},{"$f":"TEXT(MONTH(MICASH!K1962),\"00\") & TEXT(DAY(MICASH!K1962),\"00\") & RIGHT(TEXT(YEAR(MICASH!K1962),\"00\"),2)","v":"010000"},{"$f":"UPPER(LEFT(MICASH!L1962,96))","v":""}]
["C",288,"00",{"$f":"TEXT(MICASH!D1963,\"0000000000\")","v":"0000000000"}," ",{"$f":"UPPER(MICASH!F1963)","v":""},{"$f":"UPPER(MICASH!G1963)","v":""}," ",{"$f":"TEXT(MICASH!I1963,\"0000000000\")","v":"0000000000"},{"$f":"TEXT(MICASH!J1963*100,\"0000000000\")","v":"0000000000"},{"$f":"TEXT(MONTH(MICASH!K1963),\"00\") & TEXT(DAY(MICASH!K1963),\"00\") & RIGHT(TEXT(YEAR(MICASH!K1963),\"00\"),2)","v":"010000"},{"$f":"UPPER(LEFT(MICASH!L1963,96))","v":""}]
["C",288,"00",{"$f":"TEXT(MICASH!D1964,\"0000000000\")","v":"0000000000"}," ",{"$f":"UPPER(MICASH!F1964)","v":""},{"$f":"UPPER(MICASH!G1964)","v":""}," ",{"$f":"TEXT(MICASH!I1964,\"0000000000\")","v":"0000000000"},{"$f":"TEXT(MICASH!J1964*100,\"0000000000\")","v":"0000000000"},{"$f":"TEXT(MONTH(MICASH!K1964),\"00\") & TEXT(DAY(MICASH!K1964),\"00\") & RIGHT(TEXT(YEAR(MICASH!K1964),\"00\"),2)","v":"010000"},{"$f":"UPPER(LEFT(MICASH!L1964,96))","v":""}]
["C",288,"00",{"$f":"TEXT(MICASH!D1965,\"0000000000\")","v":"0000000000"}," ",{"$f":"UPPER(MICASH!F1965)","v":""},{"$f":"UPPER(MICASH!G1965)","v":""}," ",{"$f":"TEXT(MICASH!I1965,\"0000000000\")","v":"0000000000"},{"$f":"TEXT(MICASH!J1965*100,\"0000000000\")","v":"0000000000"},{"$f":"TEXT(MONTH(MICASH!K1965),\"00\") & TEXT(DAY(MICASH!K1965),\"00\") & RIGHT(TEXT(YEAR(MICASH!K1965),\"00\"),2)","v":"010000"},{"$f":"UPPER(LEFT(MICASH!L1965,96))","v":""}]
["C",288,"00",{"$f":"TEXT(MICASH!D1966,\"0000000000\")","v":"0000000000"}," ",{"$f":"UPPER(MICASH!F1966)","v":""},{"$f":"UPPER(MICASH!G1966)","v":""}," ",{"$f":"TEXT(MICASH!I1966,\"0000000000\")","v":"0000000000"},{"$f":"TEXT(MICASH!J1966*100,\"0000000000\")","v":"0000000000"},{"$f":"TEXT(MONTH(MICASH!K1966),\"00\") & TEXT(DAY(MICASH!K1966),\"00\") & RIGHT(TEXT(YEAR(MICASH!K1966),\"00\"),2)","v":"010000"},{"$f":"UPPER(LEFT(MICASH!L1966,96))","v":""}]
["C",288,"00",{"$f":"TEXT(MICASH!D1967,\"0000000000\")","v":"0000000000"}," ",{"$f":"UPPER(MICASH!F1967)","v":""},{"$f":"UPPER(MICASH!G1967)","v":""}," ",{"$f":"TEXT(MICASH!I1967,\"0000000000\")","v":"0000000000"},{"$f":"TEXT(MICASH!J1967*100,\"0000000000\")","v":"0000000000"},{"$f":"TEXT(MONTH(MICASH!K1967),\"00\") & TEXT(DAY(MICASH!K1967),\"00\") & RIGHT(TEXT(YEAR(MICASH!K1967),\"00\"),2)","v":"010000"},{"$f":"UPPER(LEFT(MICASH!L1967,96))","v":""}]
["C",288,"00",{"$f":"TEXT(MICASH!D1968,\"0000000000\")","v":"0000000000"}," ",{"$f":"UPPER(MICASH!F1968)","v":""},{"$f":"UPPER(MICASH!G1968)","v":""}," ",{"$f":"TEXT(MICASH!I1968,\"0000000000\")","v":"0000000000"},{"$f":"TEXT(MICASH!J1968*100,\"0000000000\")","v":"0000000000"},{"$f":"TEXT(MONTH(MICASH!K1968),\"00\") & TEXT(DAY(MICASH!K1968),\"00\") & RIGHT(TEXT(YEAR(MICASH!K1968),\"00\"),2)","v":"010000"},{"$f":"UPPER(LEFT(MICASH!L1968,96))","v":""}]
["C",288,"00",{"$f":"TEXT(MICASH!D1969,\"0000000000\")","v":"0000000000"}," ",{"$f":"UPPER(MICASH!F1969)","v":""},{"$f":"UPPER(MICASH!G1969)","v":""}," ",{"$f":"TEXT(MICASH!I1969,\"0000000000\")","v":"0000000000"},{"$f":"TEXT(MICASH!J1969*100,\"0000000000\")","v":"0000000000"},{"$f":"TEXT(MONTH(MICASH!K1969),\"00\") & TEXT(DAY(MICASH!K1969),\"00\") & RIGHT(TEXT(YEAR(MICASH!K1969),\"00\"),2)","v":"010000"},{"$f":"UPPER(LEFT(MICASH!L1969,96))","v":""}]
["C",288,"00",{"$f":"TEXT(MICASH!D1970,\"0000000000\")","v":"0000000000"}," ",{"$f":"UPPER(MICASH!F1970)","v":""},{"$f":"UPPER(MICASH!G1970)","v":""}," ",{"$f":"TEXT(MICASH!I1970,\"0000000000\")","v":"0000000000"},{"$f":"TEXT(MICASH!J1970*100,\"0000000000\")","v":"0000000000"},{"$f":"TEXT(MONTH(MICASH!K1970),\"00\") & TEXT(DAY(MICASH!K1970),\"00\") & RIGHT(TEXT(YEAR(MICASH!K1970),\"00\"),2)","v":"010000"},{"$f":"UPPER(LEFT(MICASH!L1970,96))","v":""}]
["C",288,"00",{"$f":"TEXT(MICASH!D1971,\"0000000000\")","v":"0000000000"}," ",{"$f":"UPPER(MICASH!F1971)","v":""},{"$f":"UPPER(MICASH!G1971)","v":""}," ",{"$f":"TEXT(MICASH!I1971,\"0000000000\")","v":"0000000000"},{"$f":"TEXT(MICASH!J1971*100,\"0000000000\")","v":"0000000000"},{"$f":"TEXT(MONTH(MICASH!K1971),\"00\") & TEXT(DAY(MICASH!K1971),\"00\") & RIGHT(TEXT(YEAR(MICASH!K1971),\"00\"),2)","v":"010000"},{"$f":"UPPER(LEFT(MICASH!L1971,96))","v":""}]
["C",288,"00",{"$f":"TEXT(MICASH!D1972,\"0000000000\")","v":"0000000000"}," ",{"$f":"UPPER(MICASH!F1972)","v":""},{"$f":"UPPER(MICASH!G1972)","v":""}," ",{"$f":"TEXT(MICASH!I1972,\"0000000000\")","v":"0000000000"},{"$f":"TEXT(MICASH!J1972*100,\"0000000000\")","v":"0000000000"},{"$f":"TEXT(MONTH(MICASH!K1972),\"00\") & TEXT(DAY(MICASH!K1972),\"00\") & RIGHT(TEXT(YEAR(MICASH!K1972),\"00\"),2)","v":"010000"},{"$f":"UPPER(LEFT(MICASH!L1972,96))","v":""}]
["C",288,"00",{"$f":"TEXT(MICASH!D1973,\"0000000000\")","v":"0000000000"}," ",{"$f":"UPPER(MICASH!F1973)","v":""},{"$f":"UPPER(MICASH!G1973)","v":""}," ",{"$f":"TEXT(MICASH!I1973,\"0000000000\")","v":"0000000000"},{"$f":"TEXT(MICASH!J1973*100,\"0000000000\")","v":"0000000000"},{"$f":"TEXT(MONTH(MICASH!K1973),\"00\") & TEXT(DAY(MICASH!K1973),\"00\") & RIGHT(TEXT(YEAR(MICASH!K1973),\"00\"),2)","v":"010000"},{"$f":"UPPER(LEFT(MICASH!L1973,96))","v":""}]
["C",288,"00",{"$f":"TEXT(MICASH!D1974,\"0000000000\")","v":"0000000000"}," ",{"$f":"UPPER(MICASH!F1974)","v":""},{"$f":"UPPER(MICASH!G1974)","v":""}," ",{"$f":"TEXT(MICASH!I1974,\"0000000000\")","v":"0000000000"},{"$f":"TEXT(MICASH!J1974*100,\"0000000000\")","v":"0000000000"},{"$f":"TEXT(MONTH(MICASH!K1974),\"00\") & TEXT(DAY(MICASH!K1974),\"00\") & RIGHT(TEXT(YEAR(MICASH!K1974),\"00\"),2)","v":"010000"},{"$f":"UPPER(LEFT(MICASH!L1974,96))","v":""}]
["C",288,"00",{"$f":"TEXT(MICASH!D1975,\"0000000000\")","v":"0000000000"}," ",{"$f":"UPPER(MICASH!F1975)","v":""},{"$f":"UPPER(MICASH!G1975)","v":""}," ",{"$f":"TEXT(MICASH!I1975,\"0000000000\")","v":"0000000000"},{"$f":"TEXT(MICASH!J1975*100,\"0000000000\")","v":"0000000000"},{"$f":"TEXT(MONTH(MICASH!K1975),\"00\") & TEXT(DAY(MICASH!K1975),\"00\") & RIGHT(TEXT(YEAR(MICASH!K1975),\"00\"),2)","v":"010000"},{"$f":"UPPER(LEFT(MICASH!L1975,96))","v":""}]
["C",288,"00",{"$f":"TEXT(MICASH!D1976,\"0000000000\")","v":"0000000000"}," ",{"$f":"UPPER(MICASH!F1976)","v":""},{"$f":"UPPER(MICASH!G1976)","v":""}," ",{"$f":"TEXT(MICASH!I1976,\"0000000000\")","v":"0000000000"},{"$f":"TEXT(MICASH!J1976*100,\"0000000000\")","v":"0000000000"},{"$f":"TEXT(MONTH(MICASH!K1976),\"00\") & TEXT(DAY(MICASH!K1976),\"00\") & RIGHT(TEXT(YEAR(MICASH!K1976),\"00\"),2)","v":"010000"},{"$f":"UPPER(LEFT(MICASH!L1976,96))","v":""}]
["C",288,"00",{"$f":"TEXT(MICASH!D1977,\"0000000000\")","v":"0000000000"}," ",{"$f":"UPPER(MICASH!F1977)","v":""},{"$f":"UPPER(MICASH!G1977)","v":""}," ",{"$f":"TEXT(MICASH!I1977,\"0000000000\")","v":"0000000000"},{"$f":"TEXT(MICASH!J1977*100,\"0000000000\")","v":"0000000000"},{"$f":"TEXT(MONTH(MICASH!K1977),\"00\") & TEXT(DAY(MICASH!K1977),\"00\") & RIGHT(TEXT(YEAR(MICASH!K1977),\"00\"),2)","v":"010000"},{"$f":"UPPER(LEFT(MICASH!L1977,96))","v":""}]
["C",288,"00",{"$f":"TEXT(MICASH!D1978,\"0000000000\")","v":"0000000000"}," ",{"$f":"UPPER(MICASH!F1978)","v":""},{"$f":"UPPER(MICASH!G1978)","v":""}," ",{"$f":"TEXT(MICASH!I1978,\"0000000000\")","v":"0000000000"},{"$f":"TEXT(MICASH!J1978*100,\"0000000000\")","v":"0000000000"},{"$f":"TEXT(MONTH(MICASH!K1978),\"00\") & TEXT(DAY(MICASH!K1978),\"00\") & RIGHT(TEXT(YEAR(MICASH!K1978),\"00\"),2)","v":"010000"},{"$f":"UPPER(LEFT(MICASH!L1978,96))","v":""}]
["C",288,"00",{"$f":"TEXT(MICASH!D1979,\"0000000000\")","v":"0000000000"}," ",{"$f":"UPPER(MICASH!F1979)","v":""},{"$f":"UPPER(MICASH!G1979)","v":""}," ",{"$f":"TEXT(MICASH!I1979,\"0000000000\")","v":"0000000000"},{"$f":"TEXT(MICASH!J1979*100,\"0000000000\")","v":"0000000000"},{"$f":"TEXT(MONTH(MICASH!K1979),\"00\") & TEXT(DAY(MICASH!K1979),\"00\") & RIGHT(TEXT(YEAR(MICASH!K1979),\"00\"),2)","v":"010000"},{"$f":"UPPER(LEFT(MICASH!L1979,96))","v":""}]
["C",288,"00",{"$f":"TEXT(MICASH!D1980,\"0000000000\")","v":"0000000000"}," ",{"$f":"UPPER(MICASH!F1980)","v":""},{"$f":"UPPER(MICASH!G1980)","v":""}," ",{"$f":"TEXT(MICASH!I1980,\"0000000000\")","v":"0000000000"},{"$f":"TEXT(MICASH!J1980*100,\"0000000000\")","v":"0000000000"},{"$f":"TEXT(MONTH(MICASH!K1980),\"00\") & TEXT(DAY(MICASH!K1980),\"00\") & RIGHT(TEXT(YEAR(MICASH!K1980),\"00\"),2)","v":"010000"},{"$f":"UPPER(LEFT(MICASH!L1980,96))","v":""}]
["C",288,"00",{"$f":"TEXT(MICASH!D1981,\"0000000000\")","v":"0000000000"}," ",{"$f":"UPPER(MICASH!F1981)","v":""},{"$f":"UPPER(MICASH!G1981)","v":""}," ",{"$f":"TEXT(MICASH!I1981,\"0000000000\")","v":"0000000000"},{"$f":"TEXT(MICASH!J1981*100,\"0000000000\")","v":"0000000000"},{"$f":"TEXT(MONTH(MICASH!K1981),\"00\") & TEXT(DAY(MICASH!K1981),\"00\") & RIGHT(TEXT(YEAR(MICASH!K1981),\"00\"),2)","v":"010000"},{"$f":"UPPER(LEFT(MICASH!L1981,96))","v":""}]
["C",288,"00",{"$f":"TEXT(MICASH!D1982,\"0000000000\")","v":"0000000000"}," ",{"$f":"UPPER(MICASH!F1982)","v":""},{"$f":"UPPER(MICASH!G1982)","v":""}," ",{"$f":"TEXT(MICASH!I1982,\"0000000000\")","v":"0000000000"},{"$f":"TEXT(MICASH!J1982*100,\"0000000000\")","v":"0000000000"},{"$f":"TEXT(MONTH(MICASH!K1982),\"00\") & TEXT(DAY(MICASH!K1982),\"00\") & RIGHT(TEXT(YEAR(MICASH!K1982),\"00\"),2)","v":"010000"},{"$f":"UPPER(LEFT(MICASH!L1982,96))","v":""}]
["C",288,"00",{"$f":"TEXT(MICASH!D1983,\"0000000000\")","v":"0000000000"}," ",{"$f":"UPPER(MICASH!F1983)","v":""},{"$f":"UPPER(MICASH!G1983)","v":""}," ",{"$f":"TEXT(MICASH!I1983,\"0000000000\")","v":"0000000000"},{"$f":"TEXT(MICASH!J1983*100,\"0000000000\")","v":"0000000000"},{"$f":"TEXT(MONTH(MICASH!K1983),\"00\") & TEXT(DAY(MICASH!K1983),\"00\") & RIGHT(TEXT(YEAR(MICASH!K1983),\"00\"),2)","v":"010000"},{"$f":"UPPER(LEFT(MICASH!L1983,96))","v":""}]
["C",288,"00",{"$f":"TEXT(MICASH!D1984,\"0000000000\")","v":"0000000000"}," ",{"$f":"UPPER(MICASH!F1984)","v":""},{"$f":"UPPER(MICASH!G1984)","v":""}," ",{"$f":"TEXT(MICASH!I1984,\"0000000000\")","v":"0000000000"},{"$f":"TEXT(MICASH!J1984*100,\"0000000000\")","v":"0000000000"},{"$f":"TEXT(MONTH(MICASH!K1984),\"00\") & TEXT(DAY(MICASH!K1984),\"00\") & RIGHT(TEXT(YEAR(MICASH!K1984),\"00\"),2)","v":"010000"},{"$f":"UPPER(LEFT(MICASH!L1984,96))","v":""}]
["C",288,"00",{"$f":"TEXT(MICASH!D1985,\"0000000000\")","v":"0000000000"}," ",{"$f":"UPPER(MICASH!F1985)","v":""},{"$f":"UPPER(MICASH!G1985)","v":""}," ",{"$f":"TEXT(MICASH!I1985,\"0000000000\")","v":"0000000000"},{"$f":"TEXT(MICASH!J1985*100,\"0000000000\")","v":"0000000000"},{"$f":"TEXT(MONTH(MICASH!K1985),\"00\") & TEXT(DAY(MICASH!K1985),\"00\") & RIGHT(TEXT(YEAR(MICASH!K1985),\"00\"),2)","v":"010000"},{"$f":"UPPER(LEFT(MICASH!L1985,96))","v":""}]
["C",288,"00",{"$f":"TEXT(MICASH!D1986,\"0000000000\")","v":"0000000000"}," ",{"$f":"UPPER(MICASH!F1986)","v":""},{"$f":"UPPER(MICASH!G1986)","v":""}," ",{"$f":"TEXT(MICASH!I1986,\"0000000000\")","v":"0000000000"},{"$f":"TEXT(MICASH!J1986*100,\"0000000000\")","v":"0000000000"},{"$f":"TEXT(MONTH(MICASH!K1986),\"00\") & TEXT(DAY(MICASH!K1986),\"00\") & RIGHT(TEXT(YEAR(MICASH!K1986),\"00\"),2)","v":"010000"},{"$f":"UPPER(LEFT(MICASH!L1986,96))","v":""}]
["C",288,"00",{"$f":"TEXT(MICASH!D1987,\"0000000000\")","v":"0000000000"}," ",{"$f":"UPPER(MICASH!F1987)","v":""},{"$f":"UPPER(MICASH!G1987)","v":""}," ",{"$f":"TEXT(MICASH!I1987,\"0000000000\")","v":"0000000000"},{"$f":"TEXT(MICASH!J1987*100,\"0000000000\")","v":"0000000000"},{"$f":"TEXT(MONTH(MICASH!K1987),\"00\") & TEXT(DAY(MICASH!K1987),\"00\") & RIGHT(TEXT(YEAR(MICASH!K1987),\"00\"),2)","v":"010000"},{"$f":"UPPER(LEFT(MICASH!L1987,96))","v":""}]
["C",288,"00",{"$f":"TEXT(MICASH!D1988,\"0000000000\")","v":"0000000000"}," ",{"$f":"UPPER(MICASH!F1988)","v":""},{"$f":"UPPER(MICASH!G1988)","v":""}," ",{"$f":"TEXT(MICASH!I1988,\"0000000000\")","v":"0000000000"},{"$f":"TEXT(MICASH!J1988*100,\"0000000000\")","v":"0000000000"},{"$f":"TEXT(MONTH(MICASH!K1988),\"00\") & TEXT(DAY(MICASH!K1988),\"00\") & RIGHT(TEXT(YEAR(MICASH!K1988),\"00\"),2)","v":"010000"},{"$f":"UPPER(LEFT(MICASH!L1988,96))","v":""}]
["C",288,"00",{"$f":"TEXT(MICASH!D1989,\"0000000000\")","v":"0000000000"}," ",{"$f":"UPPER(MICASH!F1989)","v":""},{"$f":"UPPER(MICASH!G1989)","v":""}," ",{"$f":"TEXT(MICASH!I1989,\"0000000000\")","v":"0000000000"},{"$f":"TEXT(MICASH!J1989*100,\"0000000000\")","v":"0000000000"},{"$f":"TEXT(MONTH(MICASH!K1989),\"00\") & TEXT(DAY(MICASH!K1989),\"00\") & RIGHT(TEXT(YEAR(MICASH!K1989),\"00\"),2)","v":"010000"},{"$f":"UPPER(LEFT(MICASH!L1989,96))","v":""}]
["C",288,"00",{"$f":"TEXT(MICASH!D1990,\"0000000000\")","v":"0000000000"}," ",{"$f":"UPPER(MICASH!F1990)","v":""},{"$f":"UPPER(MICASH!G1990)","v":""}," ",{"$f":"TEXT(MICASH!I1990,\"0000000000\")","v":"0000000000"},{"$f":"TEXT(MICASH!J1990*100,\"0000000000\")","v":"0000000000"},{"$f":"TEXT(MONTH(MICASH!K1990),\"00\") & TEXT(DAY(MICASH!K1990),\"00\") & RIGHT(TEXT(YEAR(MICASH!K1990),\"00\"),2)","v":"010000"},{"$f":"UPPER(LEFT(MICASH!L1990,96))","v":""}]
["C",288,"00",{"$f":"TEXT(MICASH!D1991,\"0000000000\")","v":"0000000000"}," ",{"$f":"UPPER(MICASH!F1991)","v":""},{"$f":"UPPER(MICASH!G1991)","v":""}," ",{"$f":"TEXT(MICASH!I1991,\"0000000000\")","v":"0000000000"},{"$f":"TEXT(MICASH!J1991*100,\"0000000000\")","v":"0000000000"},{"$f":"TEXT(MONTH(MICASH!K1991),\"00\") & TEXT(DAY(MICASH!K1991),\"00\") & RIGHT(TEXT(YEAR(MICASH!K1991),\"00\"),2)","v":"010000"},{"$f":"UPPER(LEFT(MICASH!L1991,96))","v":""}]
["C",288,"00",{"$f":"TEXT(MICASH!D1992,\"0000000000\")","v":"0000000000"}," ",{"$f":"UPPER(MICASH!F1992)","v":""},{"$f":"UPPER(MICASH!G1992)","v":""}," ",{"$f":"TEXT(MICASH!I1992,\"0000000000\")","v":"0000000000"},{"$f":"TEXT(MICASH!J1992*100,\"0000000000\")","v":"0000000000"},{"$f":"TEXT(MONTH(MICASH!K1992),\"00\") & TEXT(DAY(MICASH!K1992),\"00\") & RIGHT(TEXT(YEAR(MICASH!K1992),\"00\"),2)","v":"010000"},{"$f":"UPPER(LEFT(MICASH!L1992,96))","v":""}]
["C",288,"00",{"$f":"TEXT(MICASH!D1993,\"0000000000\")","v":"0000000000"}," ",{"$f":"UPPER(MICASH!F1993)","v":""},{"$f":"UPPER(MICASH!G1993)","v":""}," ",{"$f":"TEXT(MICASH!I1993,\"0000000000\")","v":"0000000000"},{"$f":"TEXT(MICASH!J1993*100,\"0000000000\")","v":"0000000000"},{"$f":"TEXT(MONTH(MICASH!K1993),\"00\") & TEXT(DAY(MICASH!K1993),\"00\") & RIGHT(TEXT(YEAR(MICASH!K1993),\"00\"),2)","v":"010000"},{"$f":"UPPER(LEFT(MICASH!L1993,96))","v":""}]
["C",288,"00",{"$f":"TEXT(MICASH!D1994,\"0000000000\")","v":"0000000000"}," ",{"$f":"UPPER(MICASH!F1994)","v":""},{"$f":"UPPER(MICASH!G1994)","v":""}," ",{"$f":"TEXT(MICASH!I1994,\"0000000000\")","v":"0000000000"},{"$f":"TEXT(MICASH!J1994*100,\"0000000000\")","v":"0000000000"},{"$f":"TEXT(MONTH(MICASH!K1994),\"00\") & TEXT(DAY(MICASH!K1994),\"00\") & RIGHT(TEXT(YEAR(MICASH!K1994),\"00\"),2)","v":"010000"},{"$f":"UPPER(LEFT(MICASH!L1994,96))","v":""}]
["C",288,"00",{"$f":"TEXT(MICASH!D1995,\"0000000000\")","v":"0000000000"}," ",{"$f":"UPPER(MICASH!F1995)","v":""},{"$f":"UPPER(MICASH!G1995)","v":""}," ",{"$f":"TEXT(MICASH!I1995,\"0000000000\")","v":"0000000000"},{"$f":"TEXT(MICASH!J1995*100,\"0000000000\")","v":"0000000000"},{"$f":"TEXT(MONTH(MICASH!K1995),\"00\") & TEXT(DAY(MICASH!K1995),\"00\") & RIGHT(TEXT(YEAR(MICASH!K1995),\"00\"),2)","v":"010000"},{"$f":"UPPER(LEFT(MICASH!L1995,96))","v":""}]
["C",288,"00",{"$f":"TEXT(MICASH!D1996,\"0000000000\")","v":"0000000000"}," ",{"$f":"UPPER(MICASH!F1996)","v":""},{"$f":"UPPER(MICASH!G1996)","v":""}," ",{"$f":"TEXT(MICASH!I1996,\"0000000000\")","v":"0000000000"},{"$f":"TEXT(MICASH!J1996*100,\"0000000000\")","v":"0000000000"},{"$f":"TEXT(MONTH(MICASH!K1996),\"00\") & TEXT(DAY(MICASH!K1996),\"00\") & RIGHT(TEXT(YEAR(MICASH!K1996),\"00\"),2)","v":"010000"},{"$f":"UPPER(LEFT(MICASH!L1996,96))","v":""}]
["C",288,"00",{"$f":"TEXT(MICASH!D1997,\"0000000000\")","v":"0000000000"}," ",{"$f":"UPPER(MICASH!F1997)","v":""},{"$f":"UPPER(MICASH!G1997)","v":""}," ",{"$f":"TEXT(MICASH!I1997,\"0000000000\")","v":"0000000000"},{"$f":"TEXT(MICASH!J1997*100,\"0000000000\")","v":"0000000000"},{"$f":"TEXT(MONTH(MICASH!K1997),\"00\") & TEXT(DAY(MICASH!K1997),\"00\") & RIGHT(TEXT(YEAR(MICASH!K1997),\"00\"),2)","v":"010000"},{"$f":"UPPER(LEFT(MICASH!L1997,96))","v":""}]
["C",288,"00",{"$f":"TEXT(MICASH!D1998,\"0000000000\")","v":"0000000000"}," ",{"$f":"UPPER(MICASH!F1998)","v":""},{"$f":"UPPER(MICASH!G1998)","v":""}," ",{"$f":"TEXT(MICASH!I1998,\"0000000000\")","v":"0000000000"},{"$f":"TEXT(MICASH!J1998*100,\"0000000000\")","v":"0000000000"},{"$f":"TEXT(MONTH(MICASH!K1998),\"00\") & TEXT(DAY(MICASH!K1998),\"00\") & RIGHT(TEXT(YEAR(MICASH!K1998),\"00\"),2)","v":"010000"},{"$f":"UPPER(LEFT(MICASH!L1998,96))","v":""}]
["C",288,"00",{"$f":"TEXT(MICASH!D1999,\"0000000000\")","v":"0000000000"}," ",{"$f":"UPPER(MICASH!F1999)","v":""},{"$f":"UPPER(MICASH!G1999)","v":""}," ",{"$f":"TEXT(MICASH!I1999,\"0000000000\")","v":"0000000000"},{"$f":"TEXT(MICASH!J1999*100,\"0000000000\")","v":"0000000000"},{"$f":"TEXT(MONTH(MICASH!K1999),\"00\") & TEXT(DAY(MICASH!K1999),\"00\") & RIGHT(TEXT(YEAR(MICASH!K1999),\"00\"),2)","v":"010000"},{"$f":"UPPER(LEFT(MICASH!L1999,96))","v":""}]
["C",288,"00",{"$f":"TEXT(MICASH!D2000,\"0000000000\")","v":"0000000000"}," ",{"$f":"UPPER(MICASH!F2000)","v":""},{"$f":"UPPER(MICASH!G2000)","v":""}," ",{"$f":"TEXT(MICASH!I2000,\"0000000000\")","v":"0000000000"},{"$f":"TEXT(MICASH!J2000*100,\"0000000000\")","v":"0000000000"},{"$f":"TEXT(MONTH(MICASH!K2000),\"00\") & TEXT(DAY(MICASH!K2000),\"00\") & RIGHT(TEXT(YEAR(MICASH!K2000),\"00\"),2)","v":"010000"},{"$f":"UPPER(LEFT(MICASH!L2000,96))","v":""}]

{"sheet":"ColumnWidths","index":2,"n_rows":1,"n_cols":13,"rows_kept":1,"cut":false,"hidden":true,"merged":[]}
[1,3,2,10,1,1,1,1,10,10,6,96,14]

{"sheet":"Export","index":3,"n_rows":0,"n_cols":0,"rows_kept":0,"cut":false,"hidden":false,"merged":[]}